{"text_format":"1","workbook":"xlsx","n_sheets":11,"sheets":["Clasament","SL","LA","LB","LC","01","DivA","DivB","DivC","Tragere","Stats"],"not_rendered":{"charts":0,"images":0,"macros":1,"external_links":0,"defined_names":0,"comments":2,"pivot_tables":0},"unopened":[],"bounds":{"document_bytes":16777216,"sheet_cells":100000,"rows_first":2000,"rows_last":500,"rows_between":2000,"halvings":0,"cell_chars":16384,"cell_head_chars":4096},"cells_cut":0,"cells_raw":0,"read":"whole","date_system":"1900"}

{"sheet":"Clasament","index":0,"n_rows":77,"n_cols":60,"rows_kept":77,"cut":false,"hidden":false,"merged":[]}
["RV","Răspunsuri",{"$f":"C77","v":0},{"$f":"D77","v":0},0,0,0,0,0,0,0,0,{"$f":"M77","v":0},{"$f":"N77","v":0},0,0,0,0,0,0,0,0,0,0,0,0,0,0,0,0,0,0,0,0,0,0,0,0,0,0,0,0,0,0,0,0,0,0,0,0,0,0,0,0,0,0,0,{"$f":"M1+X1+AI1+AT1+BE1","v":0}]
["No","Team",1,2,3,4,5,6,7,8,9,10,"R1",11,12,13,14,15,16,17,18,19,20,"R2",21,22,23,24,25,26,27,28,29,30,"R3",31,32,33,34,35,36,37,38,39,40,"R4",41,42,43,44,45,46,47,48,49,50,"R5","TOTAL"]
[1,{"$f":"SL!A10&\" \"&BF3","v":"Asachi 0"},null,null,null,null,null,null,null,null,null,null,{"$f":"'01'!M2","v":0},null,null,null,null,null,null,null,null,null,null,{"$f":"'01'!X2","v":0},null,null,null,null,null,null,null,null,null,null,{"$f":"'01'!AI2","v":0},null,null,null,null,null,null,null,null,null,null,{"$f":"'01'!AT2","v":0},null,null,null,null,null,null,null,null,null,null,{"$f":"'01'!BE2","v":0},{"$f":"SUM(M3,X3,AI3,AT3,BE3)","v":0},null,{"$f":"SL!A10","v":"Asachi"}]
[2,{"$f":"SL!E10&\" \"&BF4","v":"Maktub 0"},null,null,null,null,null,null,null,null,null,null,{"$f":"'01'!M3","v":0},null,null,null,null,null,null,null,null,null,null,{"$f":"'01'!X3","v":0},null,null,null,null,null,null,null,null,null,null,{"$f":"'01'!AI3","v":0},null,null,null,null,null,null,null,null,null,null,{"$f":"'01'!AT3","v":0},null,null,null,null,null,null,null,null,null,null,{"$f":"'01'!BE3","v":0},0,null,{"$f":"SL!E10","v":"Maktub"}]
[3,{"$f":"SL!I10&\" \"&BF5","v":"Acord 0"},null,null,null,null,null,null,null,null,null,null,{"$f":"'01'!M4","v":0},null,null,null,null,null,null,null,null,null,null,{"$f":"'01'!X4","v":0},null,null,null,null,null,null,null,null,null,null,{"$f":"'01'!AI4","v":0},null,null,null,null,null,null,null,null,null,null,{"$f":"'01'!AT4","v":0},null,null,null,null,null,null,null,null,null,null,{"$f":"'01'!BE4","v":0},0,null,{"$f":"SL!I10","v":"Acord"}]
[4,{"$f":"SL!A17&\" \"&BF6","v":"O 0"},null,null,null,null,null,null,null,null,null,null,{"$f":"'01'!M5","v":0},null,null,null,null,null,null,null,null,null,null,{"$f":"'01'!X5","v":0},null,null,null,null,null,null,null,null,null,null,{"$f":"'01'!AI5","v":0},null,null,null,null,null,null,null,null,null,null,{"$f":"'01'!AT5","v":0},null,null,null,null,null,null,null,null,null,null,{"$f":"'01'!BE5","v":0},0,null,{"$f":"SL!A17","v":"O"}]
[5,{"$f":"SL!E17&\" \"&BF7","v":"10 Lei 0"},null,null,null,null,null,null,null,null,null,null,{"$f":"'01'!M6","v":0},null,null,null,null,null,null,null,null,null,null,{"$f":"'01'!X6","v":0},null,null,null,null,null,null,null,null,null,null,{"$f":"'01'!AI6","v":0},null,null,null,null,null,null,null,null,null,null,{"$f":"'01'!AT6","v":0},null,null,null,null,null,null,null,null,null,null,{"$f":"'01'!BE6","v":0},0,null,{"$f":"SL!E17","v":"10 Lei"}]
[6,{"$f":"SL!I17&\" \"&BF8","v":"GM 0"},null,null,null,null,null,null,null,null,null,null,{"$f":"'01'!M7","v":0},null,null,null,null,null,null,null,null,null,null,{"$f":"'01'!X7","v":0},null,null,null,null,null,null,null,null,null,null,{"$f":"'01'!AI7","v":0},null,null,null,null,null,null,null,null,null,null,{"$f":"'01'!AT7","v":0},null,null,null,null,null,null,null,null,null,null,{"$f":"'01'!BE7","v":0},0,null,{"$f":"SL!I17","v":"GM"}]
[7,{"$f":"LA!A10&\" \"&BF9","v":"Wrigley's S. 0"},null,null,null,null,null,null,null,null,null,null,{"$f":"'01'!M8","v":0},null,null,null,null,null,null,null,null,null,null,{"$f":"'01'!X8","v":0},null,null,null,null,null,null,null,null,null,null,{"$f":"'01'!AI8","v":0},null,null,null,null,null,null,null,null,null,null,{"$f":"'01'!AT8","v":0},null,null,null,null,null,null,null,null,null,null,{"$f":"'01'!BE8","v":0},0,null,{"$f":"LA!A10","v":"Wrigley's S."}]
[8,{"$f":"LA!E10&\" \"&BF10","v":"Kernel Panic 0"},null,null,null,null,null,null,null,null,null,null,{"$f":"'01'!M9","v":0},null,null,null,null,null,null,null,null,null,null,{"$f":"'01'!X9","v":0},null,null,null,null,null,null,null,null,null,null,{"$f":"'01'!AI9","v":0},null,null,null,null,null,null,null,null,null,null,{"$f":"'01'!AT9","v":0},null,null,null,null,null,null,null,null,null,null,{"$f":"'01'!BE9","v":0},0,null,{"$f":"LA!E10","v":"Kernel Panic"}]
[9,{"$f":"LA!I10&\" \"&BF11","v":"A-Team 0"},null,null,null,null,null,null,null,null,null,null,{"$f":"'01'!M10","v":0},null,null,null,null,null,null,null,null,null,null,{"$f":"'01'!X10","v":0},null,null,null,null,null,null,null,null,null,null,{"$f":"'01'!AI10","v":0},null,null,null,null,null,null,null,null,null,null,{"$f":"'01'!AT10","v":0},null,null,null,null,null,null,null,null,null,null,{"$f":"'01'!BE10","v":0},0,null,{"$f":"LA!I10","v":"A-Team"}]
[10,{"$f":"LA!A17&\" \"&BF12","v":"CLCT 0"},null,null,null,null,null,null,null,null,null,null,{"$f":"'01'!M11","v":0},null,null,null,null,null,null,null,null,null,null,{"$f":"'01'!X11","v":0},null,null,null,null,null,null,null,null,null,null,{"$f":"'01'!AI11","v":0},null,null,null,null,null,null,null,null,null,null,{"$f":"'01'!AT11","v":0},null,null,null,null,null,null,null,null,null,null,{"$f":"'01'!BE11","v":0},0,null,{"$f":"LA!A17","v":"CLCT"}]
[11,{"$f":"LA!E17&\" \"&BF13","v":"Busuioc 0"},null,null,null,null,null,null,null,null,null,null,{"$f":"'01'!M12","v":0},null,null,null,null,null,null,null,null,null,null,{"$f":"'01'!X12","v":0},null,null,null,null,null,null,null,null,null,null,{"$f":"'01'!AI12","v":0},null,null,null,null,null,null,null,null,null,null,{"$f":"'01'!AT12","v":0},null,null,null,null,null,null,null,null,null,null,{"$f":"'01'!BE12","v":0},0,null,{"$f":"LA!E17","v":"Busuioc"}]
[12,{"$f":"LA!I17&\" \"&BF14","v":"Moon Power 0"},null,null,null,null,null,null,null,null,null,null,{"$f":"'01'!M13","v":0},null,null,null,null,null,null,null,null,null,null,{"$f":"'01'!X13","v":0},null,null,null,null,null,null,null,null,null,null,{"$f":"'01'!AI13","v":0},null,null,null,null,null,null,null,null,null,null,{"$f":"'01'!AT13","v":0},null,null,null,null,null,null,null,null,null,null,{"$f":"'01'!BE13","v":0},0,null,{"$f":"LA!I17","v":"Moon Power"}]
[13,{"$f":"LB!A10&\" \"&BF15","v":"Punctul pe H 0"},null,null,null,null,null,null,null,null,null,null,{"$f":"'01'!M14","v":0},null,null,null,null,null,null,null,null,null,null,{"$f":"'01'!X14","v":0},null,null,null,null,null,null,null,null,null,null,{"$f":"'01'!AI14","v":0},null,null,null,null,null,null,null,null,null,null,{"$f":"'01'!AT14","v":0},null,null,null,null,null,null,null,null,null,null,{"$f":"'01'!BE14","v":0},0,null,{"$f":"LB!A26","v":"Punctul pe H"}]
[14,{"$f":"LB!E10&\" \"&BF16","v":"SER 0"},null,null,null,null,null,null,null,null,null,null,{"$f":"'01'!M15","v":0},null,null,null,null,null,null,null,null,null,null,{"$f":"'01'!X15","v":0},null,null,null,null,null,null,null,null,null,null,{"$f":"'01'!AI15","v":0},null,null,null,null,null,null,null,null,null,null,{"$f":"'01'!AT15","v":0},null,null,null,null,null,null,null,null,null,null,{"$f":"'01'!BE15","v":0},0,null,{"$f":"LB!A27","v":"SER"}]
[15,{"$f":"LB!I10&\" \"&BF17","v":"Afrodiziac 0"},null,null,null,null,null,null,null,null,null,null,{"$f":"'01'!M16","v":0},null,null,null,null,null,null,null,null,null,null,{"$f":"'01'!X16","v":0},null,null,null,null,null,null,null,null,null,null,{"$f":"'01'!AI16","v":0},null,null,null,null,null,null,null,null,null,null,{"$f":"'01'!AT16","v":0},null,null,null,null,null,null,null,null,null,null,{"$f":"'01'!BE16","v":0},0,null,{"$f":"LB!A28","v":"Afrodiziac"}]
[16,{"$f":"LB!A17&\" \"&BF18","v":"#hashtag 0"},null,null,null,null,null,null,null,null,null,null,{"$f":"'01'!M17","v":0},null,null,null,null,null,null,null,null,null,null,{"$f":"'01'!X17","v":0},null,null,null,null,null,null,null,null,null,null,{"$f":"'01'!AI17","v":0},null,null,null,null,null,null,null,null,null,null,{"$f":"'01'!AT17","v":0},null,null,null,null,null,null,null,null,null,null,{"$f":"'01'!BE17","v":0},0,null,{"$f":"LB!A29","v":"#hashtag"}]
[17,{"$f":"LB!E17&\" \"&BF19","v":"Zebra 0"},null,null,null,null,null,null,null,null,null,null,{"$f":"'01'!M18","v":0},null,null,null,null,null,null,null,null,null,null,{"$f":"'01'!X18","v":0},null,null,null,null,null,null,null,null,null,null,{"$f":"'01'!AI18","v":0},null,null,null,null,null,null,null,null,null,null,{"$f":"'01'!AT18","v":0},null,null,null,null,null,null,null,null,null,null,{"$f":"'01'!BE18","v":0},0,null,{"$f":"LB!A30","v":"Zebra"}]
[18,{"$f":"LB!I17&\" \"&BF20","v":"Turnul Alb 0"},null,null,null,null,null,null,null,null,null,null,{"$f":"'01'!M19","v":0},null,null,null,null,null,null,null,null,null,null,{"$f":"'01'!X19","v":0},null,null,null,null,null,null,null,null,null,null,{"$f":"'01'!AI19","v":0},null,null,null,null,null,null,null,null,null,null,{"$f":"'01'!AT19","v":0},null,null,null,null,null,null,null,null,null,null,{"$f":"'01'!BE19","v":0},0,null,{"$f":"LB!A31","v":"Turnul Alb"}]
[19,{"$f":"LC!A10&\" \"&BF21","v":"H5N1 0"},null,null,null,null,null,null,null,null,null,null,{"$f":"'01'!M20","v":0},null,null,null,null,null,null,null,null,null,null,{"$f":"'01'!X20","v":0},null,null,null,null,null,null,null,null,null,null,{"$f":"'01'!AI20","v":0},null,null,null,null,null,null,null,null,null,null,{"$f":"'01'!AT20","v":0},null,null,null,null,null,null,null,null,null,null,{"$f":"'01'!BE20","v":0},0,null,{"$f":"LC!A26","v":"H5N1"}]
[20,{"$f":"LC!E10&\" \"&BF22","v":"Pokerface 0"},null,null,null,null,null,null,null,null,null,null,{"$f":"'01'!M21","v":0},null,null,null,null,null,null,null,null,null,null,{"$f":"'01'!X21","v":0},null,null,null,null,null,null,null,null,null,null,{"$f":"'01'!AI21","v":0},null,null,null,null,null,null,null,null,null,null,{"$f":"'01'!AT21","v":0},null,null,null,null,null,null,null,null,null,null,{"$f":"'01'!BE21","v":0},0,null,{"$f":"LC!A27","v":"Pokerface"}]
[21,{"$f":"LC!I10&\" \"&BF23","v":"Phi 0"},null,null,null,null,null,null,null,null,null,null,{"$f":"'01'!M22","v":0},null,null,null,null,null,null,null,null,null,null,{"$f":"'01'!X22","v":0},null,null,null,null,null,null,null,null,null,null,{"$f":"'01'!AI22","v":0},null,null,null,null,null,null,null,null,null,null,{"$f":"'01'!AT22","v":0},null,null,null,null,null,null,null,null,null,null,{"$f":"'01'!BE22","v":0},0,null,{"$f":"LC!A28","v":"Phi"}]
[22,{"$f":"LC!A17&\" \"&BF24","v":"Beleizis 0"},null,null,null,null,null,null,null,null,null,null,{"$f":"'01'!M23","v":0},null,null,null,null,null,null,null,null,null,null,{"$f":"'01'!X23","v":0},null,null,null,null,null,null,null,null,null,null,{"$f":"'01'!AI23","v":0},null,null,null,null,null,null,null,null,null,null,{"$f":"'01'!AT23","v":0},null,null,null,null,null,null,null,null,null,null,{"$f":"'01'!BE23","v":0},0,null,{"$f":"LC!A29","v":"Beleizis"}]
[23,{"$f":"LC!E17&\" \"&BF25","v":"Alunecarea F. 0"},null,null,null,null,null,null,null,null,null,null,{"$f":"'01'!M24","v":0},null,null,null,null,null,null,null,null,null,null,{"$f":"'01'!X24","v":0},null,null,null,null,null,null,null,null,null,null,{"$f":"'01'!AI24","v":0},null,null,null,null,null,null,null,null,null,null,{"$f":"'01'!AT24","v":0},null,null,null,null,null,null,null,null,null,null,{"$f":"'01'!BE24","v":0},0,null,{"$f":"LC!A30","v":"Alunecarea F."}]
[24,{"$f":"LC!I17&\" \"&BF26","v":"WTH 0"},null,null,null,null,null,null,null,null,null,null,{"$f":"'01'!M25","v":0},null,null,null,null,null,null,null,null,null,null,{"$f":"'01'!X25","v":0},null,null,null,null,null,null,null,null,null,null,{"$f":"'01'!AI25","v":0},null,null,null,null,null,null,null,null,null,null,{"$f":"'01'!AT25","v":0},null,null,null,null,null,null,null,null,null,null,{"$f":"'01'!BE25","v":0},0,null,{"$f":"LC!A31","v":"WTH"}]
[25,"KO",null,null,null,null,null,null,null,null,null,null,{"$f":"'01'!M26","v":0},null,null,null,null,null,null,null,null,null,null,{"$f":"'01'!X26","v":0},null,null,null,null,null,null,null,null,null,null,{"$f":"'01'!AI26","v":0},null,null,null,null,null,null,null,null,null,null,{"$f":"'01'!AT26","v":0},null,null,null,null,null,null,null,null,null,null,{"$f":"'01'!BE26","v":0},{"$f":"SUM(M27,X27,AI27,AT27,BE27)","v":0}]
[26,"Printese si S.",null,null,null,null,null,null,null,null,null,null,{"$f":"'01'!M27","v":0},null,null,null,null,null,null,null,null,null,null,{"$f":"'01'!X27","v":0},null,null,null,null,null,null,null,null,null,null,{"$f":"'01'!AI27","v":0},null,null,null,null,null,null,null,null,null,null,{"$f":"'01'!AT27","v":0},null,null,null,null,null,null,null,null,null,null,{"$f":"'01'!BE27","v":0},0]
[27,"Zeii cucului",null,null,null,null,null,null,null,null,null,null,{"$f":"'01'!M28","v":0},null,null,null,null,null,null,null,null,null,null,{"$f":"'01'!X28","v":0},null,null,null,null,null,null,null,null,null,null,{"$f":"'01'!AI28","v":0},null,null,null,null,null,null,null,null,null,null,{"$f":"'01'!AT28","v":0},null,null,null,null,null,null,null,null,null,null,{"$f":"'01'!BE28","v":0},0]
[28,"Ruby",null,null,null,null,null,null,null,null,null,null,{"$f":"'01'!M29","v":0},null,null,null,null,null,null,null,null,null,null,{"$f":"'01'!X29","v":0},null,null,null,null,null,null,null,null,null,null,{"$f":"'01'!AI29","v":0},null,null,null,null,null,null,null,null,null,null,{"$f":"'01'!AT29","v":0},null,null,null,null,null,null,null,null,null,null,{"$f":"'01'!BE29","v":0},0]
[29,"Ananas",null,null,null,null,null,null,null,null,null,null,{"$f":"'01'!M30","v":0},null,null,null,null,null,null,null,null,null,null,{"$f":"'01'!X30","v":0},null,null,null,null,null,null,null,null,null,null,{"$f":"'01'!AI30","v":0},null,null,null,null,null,null,null,null,null,null,{"$f":"'01'!AT30","v":0},null,null,null,null,null,null,null,null,null,null,{"$f":"'01'!BE30","v":0},0]
[30,"Intel",null,null,null,null,null,null,null,null,null,null,{"$f":"'01'!M31","v":0},null,null,null,null,null,null,null,null,null,null,{"$f":"'01'!X31","v":0},null,null,null,null,null,null,null,null,null,null,{"$f":"'01'!AI31","v":0},null,null,null,null,null,null,null,null,null,null,{"$f":"'01'!AT31","v":0},null,null,null,null,null,null,null,null,null,null,{"$f":"'01'!BE31","v":0},0]
[31,"Vegas",null,null,null,null,null,null,null,null,null,null,{"$f":"'01'!M32","v":0},null,null,null,null,null,null,null,null,null,null,{"$f":"'01'!X32","v":0},null,null,null,null,null,null,null,null,null,null,{"$f":"'01'!AI32","v":0},null,null,null,null,null,null,null,null,null,null,{"$f":"'01'!AT32","v":0},null,null,null,null,null,null,null,null,null,null,{"$f":"'01'!BE32","v":0},0]
[32,"Flomaster Y.",null,null,null,null,null,null,null,null,null,null,{"$f":"'01'!M33","v":0},null,null,null,null,null,null,null,null,null,null,{"$f":"'01'!X33","v":0},null,null,null,null,null,null,null,null,null,null,{"$f":"'01'!AI33","v":0},null,null,null,null,null,null,null,null,null,null,{"$f":"'01'!AT33","v":0},null,null,null,null,null,null,null,null,null,null,{"$f":"'01'!BE33","v":0},0]
[33,"Chimkadze",null,null,null,null,null,null,null,null,null,null,{"$f":"'01'!M34","v":0},null,null,null,null,null,null,null,null,null,null,{"$f":"'01'!X34","v":0},null,null,null,null,null,null,null,null,null,null,{"$f":"'01'!AI34","v":0},null,null,null,null,null,null,null,null,null,null,{"$f":"'01'!AT34","v":0},null,null,null,null,null,null,null,null,null,null,{"$f":"'01'!BE34","v":0},0]
[34,"Luftwafe",null,null,null,null,null,null,null,null,null,null,{"$f":"'01'!M35","v":0},null,null,null,null,null,null,null,null,null,null,{"$f":"'01'!X35","v":0},null,null,null,null,null,null,null,null,null,null,{"$f":"'01'!AI35","v":0},null,null,null,null,null,null,null,null,null,null,{"$f":"'01'!AT35","v":0},null,null,null,null,null,null,null,null,null,null,{"$f":"'01'!BE35","v":0},0]
[35,"Hertz",null,null,null,null,null,null,null,null,null,null,{"$f":"'01'!M36","v":0},null,null,null,null,null,null,null,null,null,null,{"$f":"'01'!X36","v":0},null,null,null,null,null,null,null,null,null,null,{"$f":"'01'!AI36","v":0},null,null,null,null,null,null,null,null,null,null,{"$f":"'01'!AT36","v":0},null,null,null,null,null,null,null,null,null,null,{"$f":"'01'!BE36","v":0},0]
[36,"Type mism.",null,null,null,null,null,null,null,null,null,null,{"$f":"'01'!M37","v":0},null,null,null,null,null,null,null,null,null,null,{"$f":"'01'!X37","v":0},null,null,null,null,null,null,null,null,null,null,{"$f":"'01'!AI37","v":0},null,null,null,null,null,null,null,null,null,null,{"$f":"'01'!AT37","v":0},null,null,null,null,null,null,null,null,null,null,{"$f":"'01'!BE37","v":0},0]
[37,"Legiuitorii",null,null,null,null,null,null,null,null,null,null,{"$f":"'01'!M38","v":0},null,null,null,null,null,null,null,null,null,null,{"$f":"'01'!X38","v":0},null,null,null,null,null,null,null,null,null,null,{"$f":"'01'!AI38","v":0},null,null,null,null,null,null,null,null,null,null,{"$f":"'01'!AT38","v":0},null,null,null,null,null,null,null,null,null,null,{"$f":"'01'!BE38","v":0},0]
[38,"Decebal",null,null,null,null,null,null,null,null,null,null,{"$f":"'01'!M39","v":0},null,null,null,null,null,null,null,null,null,null,{"$f":"'01'!X39","v":0},null,null,null,null,null,null,null,null,null,null,{"$f":"'01'!AI39","v":0},null,null,null,null,null,null,null,null,null,null,{"$f":"'01'!AT39","v":0},null,null,null,null,null,null,null,null,null,null,{"$f":"'01'!BE39","v":0},0]
[39,"4Fun",null,null,null,null,null,null,null,null,null,null,{"$f":"'01'!M40","v":0},null,null,null,null,null,null,null,null,null,null,{"$f":"'01'!X40","v":0},null,null,null,null,null,null,null,null,null,null,{"$f":"'01'!AI40","v":0},null,null,null,null,null,null,null,null,null,null,{"$f":"'01'!AT40","v":0},null,null,null,null,null,null,null,null,null,null,{"$f":"'01'!BE40","v":0},0]
[40,"Brainstorm",null,null,null,null,null,null,null,null,null,null,{"$f":"'01'!M41","v":0},null,null,null,null,null,null,null,null,null,null,{"$f":"'01'!X41","v":0},null,null,null,null,null,null,null,null,null,null,{"$f":"'01'!AI41","v":0},null,null,null,null,null,null,null,null,null,null,{"$f":"'01'!AT41","v":0},null,null,null,null,null,null,null,null,null,null,{"$f":"'01'!BE41","v":0},0]
[41,"Nautilus",null,null,null,null,null,null,null,null,null,null,{"$f":"'01'!M42","v":0},null,null,null,null,null,null,null,null,null,null,{"$f":"'01'!X42","v":0},null,null,null,null,null,null,null,null,null,null,{"$f":"'01'!AI42","v":0},null,null,null,null,null,null,null,null,null,null,{"$f":"'01'!AT42","v":0},null,null,null,null,null,null,null,null,null,null,{"$f":"'01'!BE42","v":0},0]
[42,"Voodoo",null,null,null,null,null,null,null,null,null,null,{"$f":"'01'!M43","v":0},null,null,null,null,null,null,null,null,null,null,{"$f":"'01'!X43","v":0},null,null,null,null,null,null,null,null,null,null,{"$f":"'01'!AI43","v":0},null,null,null,null,null,null,null,null,null,null,{"$f":"'01'!AT43","v":0},null,null,null,null,null,null,null,null,null,null,{"$f":"'01'!BE43","v":0},0]
[43,null,null,null,null,null,null,null,null,null,null,null,{"$f":"'01'!M44","v":0},null,null,null,null,null,null,null,null,null,null,{"$f":"'01'!X44","v":0},null,null,null,null,null,null,null,null,null,null,{"$f":"'01'!AI44","v":0},null,null,null,null,null,null,null,null,null,null,{"$f":"'01'!AT44","v":0},null,null,null,null,null,null,null,null,null,null,{"$f":"'01'!BE44","v":0},0]
[44,null,null,null,null,null,null,null,null,null,null,null,{"$f":"'01'!M45","v":0},null,null,null,null,null,null,null,null,null,null,{"$f":"'01'!X45","v":0},null,null,null,null,null,null,null,null,null,null,{"$f":"'01'!AI45","v":0},null,null,null,null,null,null,null,null,null,null,{"$f":"'01'!AT45","v":0},null,null,null,null,null,null,null,null,null,null,{"$f":"'01'!BE45","v":0},0]
[45,null,null,null,null,null,null,null,null,null,null,null,{"$f":"'01'!M46","v":0},null,null,null,null,null,null,null,null,null,null,{"$f":"'01'!X46","v":0},null,null,null,null,null,null,null,null,null,null,{"$f":"'01'!AI46","v":0},null,null,null,null,null,null,null,null,null,null,{"$f":"'01'!AT46","v":0},null,null,null,null,null,null,null,null,null,null,{"$f":"'01'!BE46","v":0},0]
[46,null,null,null,null,null,null,null,null,null,null,null,{"$f":"'01'!M47","v":0},null,null,null,null,null,null,null,null,null,null,{"$f":"'01'!X47","v":0},null,null,null,null,null,null,null,null,null,null,{"$f":"'01'!AI47","v":0},null,null,null,null,null,null,null,null,null,null,{"$f":"'01'!AT47","v":0},null,null,null,null,null,null,null,null,null,null,{"$f":"'01'!BE47","v":0},0]
[47,null,null,null,null,null,null,null,null,null,null,null,{"$f":"'01'!M48","v":0},null,null,null,null,null,null,null,null,null,null,{"$f":"'01'!X48","v":0},null,null,null,null,null,null,null,null,null,null,{"$f":"'01'!AI48","v":0},null,null,null,null,null,null,null,null,null,null,{"$f":"'01'!AT48","v":0},null,null,null,null,null,null,null,null,null,null,{"$f":"'01'!BE48","v":0},0]
[48,null,null,null,null,null,null,null,null,null,null,null,{"$f":"'01'!M49","v":0},null,null,null,null,null,null,null,null,null,null,{"$f":"'01'!X49","v":0},null,null,null,null,null,null,null,null,null,null,{"$f":"'01'!AI49","v":0},null,null,null,null,null,null,null,null,null,null,{"$f":"'01'!AT49","v":0},null,null,null,null,null,null,null,null,null,null,{"$f":"'01'!BE49","v":0},0]
[49,null,null,null,null,null,null,null,null,null,null,null,{"$f":"'01'!M50","v":0},null,null,null,null,null,null,null,null,null,null,{"$f":"'01'!X50","v":0},null,null,null,null,null,null,null,null,null,null,{"$f":"'01'!AI50","v":0},null,null,null,null,null,null,null,null,null,null,{"$f":"'01'!AT50","v":0},null,null,null,null,null,null,null,null,null,null,{"$f":"'01'!BE50","v":0},0]
[50,null,null,null,null,null,null,null,null,null,null,null,{"$f":"'01'!M51","v":0},null,null,null,null,null,null,null,null,null,null,{"$f":"'01'!X51","v":0},null,null,null,null,null,null,null,null,null,null,{"$f":"'01'!AI51","v":0},null,null,null,null,null,null,null,null,null,null,{"$f":"'01'!AT51","v":0},null,null,null,null,null,null,null,null,null,null,{"$f":"'01'!BE51","v":0},0]
[51,null,null,null,null,null,null,null,null,null,null,null,{"$f":"'01'!M52","v":0},null,null,null,null,null,null,null,null,null,null,{"$f":"'01'!X52","v":0},null,null,null,null,null,null,null,null,null,null,{"$f":"'01'!AI52","v":0},null,null,null,null,null,null,null,null,null,null,{"$f":"'01'!AT52","v":0},null,null,null,null,null,null,null,null,null,null,{"$f":"'01'!BE52","v":0},0]
[52,null,null,null,null,null,null,null,null,null,null,null,{"$f":"'01'!M53","v":0},null,null,null,null,null,null,null,null,null,null,{"$f":"'01'!X53","v":0},null,null,null,null,null,null,null,null,null,null,{"$f":"'01'!AI53","v":0},null,null,null,null,null,null,null,null,null,null,{"$f":"'01'!AT53","v":0},null,null,null,null,null,null,null,null,null,null,{"$f":"'01'!BE53","v":0},0]
[53,null,null,null,null,null,null,null,null,null,null,null,{"$f":"'01'!M54","v":0},null,null,null,null,null,null,null,null,null,null,{"$f":"'01'!X54","v":0},null,null,null,null,null,null,null,null,null,null,{"$f":"'01'!AI54","v":0},null,null,null,null,null,null,null,null,null,null,{"$f":"'01'!AT54","v":0},null,null,null,null,null,null,null,null,null,null,{"$f":"'01'!BE54","v":0},0]
[54,null,null,null,null,null,null,null,null,null,null,null,{"$f":"'01'!M55","v":0},null,null,null,null,null,null,null,null,null,null,{"$f":"'01'!X55","v":0},null,null,null,null,null,null,null,null,null,null,{"$f":"'01'!AI55","v":0},null,null,null,null,null,null,null,null,null,null,{"$f":"'01'!AT55","v":0},null,null,null,null,null,null,null,null,null,null,{"$f":"'01'!BE55","v":0},0]
[55,null,null,null,null,null,null,null,null,null,null,null,{"$f":"'01'!M56","v":0},null,null,null,null,null,null,null,null,null,null,{"$f":"'01'!X56","v":0},null,null,null,null,null,null,null,null,null,null,{"$f":"'01'!AI56","v":0},null,null,null,null,null,null,null,null,null,null,{"$f":"'01'!AT56","v":0},null,null,null,null,null,null,null,null,null,null,{"$f":"'01'!BE56","v":0},0]
[56,null,null,null,null,null,null,null,null,null,null,null,{"$f":"'01'!M57","v":0},null,null,null,null,null,null,null,null,null,null,{"$f":"'01'!X57","v":0},null,null,null,null,null,null,null,null,null,null,{"$f":"'01'!AI57","v":0},null,null,null,null,null,null,null,null,null,null,{"$f":"'01'!AT57","v":0},null,null,null,null,null,null,null,null,null,null,{"$f":"'01'!BE57","v":0},0]
[57,null,null,null,null,null,null,null,null,null,null,null,{"$f":"'01'!M58","v":0},null,null,null,null,null,null,null,null,null,null,{"$f":"'01'!X58","v":0},null,null,null,null,null,null,null,null,null,null,{"$f":"'01'!AI58","v":0},null,null,null,null,null,null,null,null,null,null,{"$f":"'01'!AT58","v":0},null,null,null,null,null,null,null,null,null,null,{"$f":"'01'!BE58","v":0},{"$f":"SUM(M59,X59,AI59,AT59,BE59)","v":0}]
[58,null,null,null,null,null,null,null,null,null,null,null,{"$f":"'01'!M59","v":0},null,null,null,null,null,null,null,null,null,null,{"$f":"'01'!X59","v":0},null,null,null,null,null,null,null,null,null,null,{"$f":"'01'!AI59","v":0},null,null,null,null,null,null,null,null,null,null,{"$f":"'01'!AT59","v":0},null,null,null,null,null,null,null,null,null,null,{"$f":"'01'!BE59","v":0},0]
[59,null,null,null,null,null,null,null,null,null,null,null,{"$f":"'01'!M60","v":0},null,null,null,null,null,null,null,null,null,null,{"$f":"'01'!X60","v":0},null,null,null,null,null,null,null,null,null,null,{"$f":"'01'!AI60","v":0},null,null,null,null,null,null,null,null,null,null,{"$f":"'01'!AT60","v":0},null,null,null,null,null,null,null,null,null,null,{"$f":"'01'!BE60","v":0},0]
[60,null,null,null,null,null,null,null,null,null,null,null,{"$f":"'01'!M61","v":0},null,null,null,null,null,null,null,null,null,null,{"$f":"'01'!X61","v":0},null,null,null,null,null,null,null,null,null,null,{"$f":"'01'!AI61","v":0},null,null,null,null,null,null,null,null,null,null,{"$f":"'01'!AT61","v":0},null,null,null,null,null,null,null,null,null,null,{"$f":"'01'!BE61","v":0},0]
[61,null,null,null,null,null,null,null,null,null,null,null,{"$f":"'01'!M62","v":0},null,null,null,null,null,null,null,null,null,null,{"$f":"'01'!X62","v":0},null,null,null,null,null,null,null,null,null,null,{"$f":"'01'!AI62","v":0},null,null,null,null,null,null,null,null,null,null,{"$f":"'01'!AT62","v":0},null,null,null,null,null,null,null,null,null,null,{"$f":"'01'!BE62","v":0},0]
[62,null,null,null,null,null,null,null,null,null,null,null,{"$f":"'01'!M63","v":0},null,null,null,null,null,null,null,null,null,null,{"$f":"'01'!X63","v":0},null,null,null,null,null,null,null,null,null,null,{"$f":"'01'!AI63","v":0},null,null,null,null,null,null,null,null,null,null,{"$f":"'01'!AT63","v":0},null,null,null,null,null,null,null,null,null,null,{"$f":"'01'!BE63","v":0},0]
[63,null,null,null,null,null,null,null,null,null,null,null,{"$f":"'01'!M64","v":0},null,null,null,null,null,null,null,null,null,null,{"$f":"'01'!X64","v":0},null,null,null,null,null,null,null,null,null,null,{"$f":"'01'!AI64","v":0},null,null,null,null,null,null,null,null,null,null,{"$f":"'01'!AT64","v":0},null,null,null,null,null,null,null,null,null,null,{"$f":"'01'!BE64","v":0},0]
[64,null,null,null,null,null,null,null,null,null,null,null,{"$f":"'01'!M65","v":0},null,null,null,null,null,null,null,null,null,null,{"$f":"'01'!X65","v":0},null,null,null,null,null,null,null,null,null,null,{"$f":"'01'!AI65","v":0},null,null,null,null,null,null,null,null,null,null,{"$f":"'01'!AT65","v":0},null,null,null,null,null,null,null,null,null,null,{"$f":"'01'!BE65","v":0},0]
[65,null,null,null,null,null,null,null,null,null,null,null,{"$f":"'01'!M66","v":0},null,null,null,null,null,null,null,null,null,null,{"$f":"'01'!X66","v":0},null,null,null,null,null,null,null,null,null,null,{"$f":"'01'!AI66","v":0},null,null,null,null,null,null,null,null,null,null,{"$f":"'01'!AT66","v":0},null,null,null,null,null,null,null,null,null,null,{"$f":"'01'!BE66","v":0},0]
[66,null,null,null,null,null,null,null,null,null,null,null,{"$f":"'01'!M67","v":0},null,null,null,null,null,null,null,null,null,null,{"$f":"'01'!X67","v":0},null,null,null,null,null,null,null,null,null,null,{"$f":"'01'!AI67","v":0},null,null,null,null,null,null,null,null,null,null,{"$f":"'01'!AT67","v":0},null,null,null,null,null,null,null,null,null,null,{"$f":"'01'!BE67","v":0},0]
[67,null,null,null,null,null,null,null,null,null,null,null,{"$f":"'01'!M68","v":0},null,null,null,null,null,null,null,null,null,null,{"$f":"'01'!X68","v":0},null,null,null,null,null,null,null,null,null,null,{"$f":"'01'!AI68","v":0},null,null,null,null,null,null,null,null,null,null,{"$f":"'01'!AT68","v":0},null,null,null,null,null,null,null,null,null,null,{"$f":"'01'!BE68","v":0},0]
[68,null,null,null,null,null,null,null,null,null,null,null,{"$f":"'01'!M69","v":0},null,null,null,null,null,null,null,null,null,null,{"$f":"'01'!X69","v":0},null,null,null,null,null,null,null,null,null,null,{"$f":"'01'!AI69","v":0},null,null,null,null,null,null,null,null,null,null,{"$f":"'01'!AT69","v":0},null,null,null,null,null,null,null,null,null,null,{"$f":"'01'!BE69","v":0},0]
[69,null,null,null,null,null,null,null,null,null,null,null,{"$f":"'01'!M70","v":0},null,null,null,null,null,null,null,null,null,null,{"$f":"'01'!X70","v":0},null,null,null,null,null,null,null,null,null,null,{"$f":"'01'!AI70","v":0},null,null,null,null,null,null,null,null,null,null,{"$f":"'01'!AT70","v":0},null,null,null,null,null,null,null,null,null,null,{"$f":"'01'!BE70","v":0},0]
[70,null,null,null,null,null,null,null,null,null,null,null,{"$f":"'01'!M71","v":0},null,null,null,null,null,null,null,null,null,null,{"$f":"'01'!X71","v":0},null,null,null,null,null,null,null,null,null,null,{"$f":"'01'!AI71","v":0},null,null,null,null,null,null,null,null,null,null,{"$f":"'01'!AT71","v":0},null,null,null,null,null,null,null,null,null,null,{"$f":"'01'!BE71","v":0},0]
[71,null,null,null,null,null,null,null,null,null,null,null,{"$f":"'01'!M72","v":0},null,null,null,null,null,null,null,null,null,null,{"$f":"'01'!X72","v":0},null,null,null,null,null,null,null,null,null,null,{"$f":"'01'!AI72","v":0},null,null,null,null,null,null,null,null,null,null,{"$f":"'01'!AT72","v":0},null,null,null,null,null,null,null,null,null,null,{"$f":"'01'!BE72","v":0},0]
[72,null,null,null,null,null,null,null,null,null,null,null,{"$f":"'01'!M73","v":0},null,null,null,null,null,null,null,null,null,null,{"$f":"'01'!X73","v":0},null,null,null,null,null,null,null,null,null,null,{"$f":"'01'!AI73","v":0},null,null,null,null,null,null,null,null,null,null,{"$f":"'01'!AT73","v":0},null,null,null,null,null,null,null,null,null,null,{"$f":"'01'!BE73","v":0},0]
[73,null,null,null,null,null,null,null,null,null,null,null,{"$f":"'01'!M74","v":0},null,null,null,null,null,null,null,null,null,null,{"$f":"'01'!X74","v":0},null,null,null,null,null,null,null,null,null,null,{"$f":"'01'!AI74","v":0},null,null,null,null,null,null,null,null,null,null,{"$f":"'01'!AT74","v":0},null,null,null,null,null,null,null,null,null,null,{"$f":"'01'!BE74","v":0},0]
[74,null,null,null,null,null,null,null,null,null,null,null,{"$f":"'01'!M75","v":0},null,null,null,null,null,null,null,null,null,null,{"$f":"'01'!X75","v":0},null,null,null,null,null,null,null,null,null,null,{"$f":"'01'!AI75","v":0},null,null,null,null,null,null,null,null,null,null,{"$f":"'01'!AT75","v":0},null,null,null,null,null,null,null,null,null,null,{"$f":"'01'!BE75","v":0},0]
[null,null,{"$f":"'01'!C72","v":0},{"$f":"'01'!D72","v":0},{"$f":"'01'!E72","v":0},{"$f":"'01'!F72","v":0},{"$f":"'01'!G72","v":0},{"$f":"'01'!H72","v":0},{"$f":"'01'!I72","v":0},{"$f":"'01'!J72","v":0},{"$f":"'01'!K72","v":0},{"$f":"'01'!L72","v":0},{"$f":"'01'!M72","v":0},{"$f":"'01'!N72","v":0},{"$f":"'01'!O72","v":0},{"$f":"'01'!P72","v":0},{"$f":"'01'!Q72","v":0},{"$f":"'01'!R72","v":0},{"$f":"'01'!S72","v":0},{"$f":"'01'!T72","v":0},{"$f":"'01'!U72","v":0},{"$f":"'01'!V72","v":0},{"$f":"'01'!W72","v":0},{"$f":"'01'!X72","v":0},{"$f":"'01'!Y72","v":0},{"$f":"'01'!Z72","v":0},{"$f":"'01'!AA72","v":0},{"$f":"'01'!AB72","v":0},{"$f":"'01'!AC72","v":0},{"$f":"'01'!AD72","v":0},{"$f":"'01'!AE72","v":0},{"$f":"'01'!AF72","v":0},{"$f":"'01'!AG72","v":0},{"$f":"'01'!AH72","v":0},{"$f":"'01'!AI72","v":0},{"$f":"'01'!AJ72","v":0},{"$f":"'01'!AK72","v":0},{"$f":"'01'!AL72","v":0},{"$f":"'01'!AM72","v":0},{"$f":"'01'!AN72","v":0},{"$f":"'01'!AO72","v":0},{"$f":"'01'!AP72","v":0},{"$f":"'01'!AQ72","v":0},{"$f":"'01'!AR72","v":0},{"$f":"'01'!AS72","v":0},{"$f":"'01'!AT72","v":0},{"$f":"'01'!AU72","v":0},{"$f":"'01'!AV72","v":0},{"$f":"'01'!AW72","v":0},{"$f":"'01'!AX72","v":0},{"$f":"'01'!AY72","v":0},{"$f":"'01'!AZ72","v":0},{"$f":"'01'!BA72","v":0},{"$f":"'01'!BB72","v":0},{"$f":"'01'!BC72","v":0},{"$f":"'01'!BD72","v":0},{"$f":"'01'!BE72","v":0},{"$f":"'01'!BF72","v":0}]

{"sheet":"SL","index":1,"n_rows":40,"n_cols":31,"rows_kept":40,"cut":false,"hidden":false,"merged":[[37,0,37,3],[37,7,37,8],[37,9,37,11],[38,0,38,3],[38,7,38,8],[38,9,38,11],[35,0,35,3],[35,7,35,8],[35,9,35,11],[36,0,36,3],[36,7,36,8],[36,9,36,11],[32,9,32,11],[33,0,33,3],[33,7,33,8],[33,9,33,11],[34,0,34,3],[34,7,34,8],[34,9,34,11],[16,0,16,3],[16,4,16,7],[16,8,16,11],[25,0,25,3],[26,0,26,3],[27,0,27,3],[28,0,28,3],[29,0,29,3],[30,0,30,3],[32,7,32,8],[0,0,0,9],[1,0,1,9],[2,4,2,9],[3,4,3,9],[4,4,4,9],[5,4,5,9],[6,4,6,9],[9,0,9,3],[9,4,9,7],[9,8,9,11]]}
["FISA ORGANIZATORICA - Campionatul CUC",null,null,null,null,null,null,null,null,null,null,null,null,null,"Runda 1",1,2,3,4,5,6,7,8,9,10,"R","P"]
[{"$f":"\"Editia \" & Tragere!B1","v":"Editia XXVI"},null,null,null,null,null,null,null,null,null,null,null,null,null,{"$f":"A10","v":"Asachi"},{"$f":"IF($O$1=\"Runda 1\",'01'!C2,IF($O$1=\"Runda 2\",'01'!N2,IF($O$1=\"Runda 3\",'01'!Y2,IF($O$1=\"Runda 4\",'01'!AJ2,IF($O$1=\"Runda 5\",'01'!AU2,0)))))","v":""},{"$f":"IF($O$1=\"Runda 1\",'01'!D2,IF($O$1=\"Runda 2\",'01'!O2,IF($O$1=\"Runda 3\",'01'!Z2,IF($O$1=\"Runda 4\",'01'!AK2,IF($O$1=\"Runda 5\",'01'!AV2,0)))))","v":""},{"$f":"IF($O$1=\"Runda 1\",'01'!E2,IF($O$1=\"Runda 2\",'01'!P2,IF($O$1=\"Runda 3\",'01'!AA2,IF($O$1=\"Runda 4\",'01'!AL2,IF($O$1=\"Runda 5\",'01'!AW2,0)))))","v":""},{"$f":"IF($O$1=\"Runda 1\",'01'!F2,IF($O$1=\"Runda 2\",'01'!Q2,IF($O$1=\"Runda 3\",'01'!AB2,IF($O$1=\"Runda 4\",'01'!AM2,IF($O$1=\"Runda 5\",'01'!AX2,0)))))","v":""},{"$f":"IF($O$1=\"Runda 1\",'01'!G2,IF($O$1=\"Runda 2\",'01'!R2,IF($O$1=\"Runda 3\",'01'!AC2,IF($O$1=\"Runda 4\",'01'!AN2,IF($O$1=\"Runda 5\",'01'!AY2,0)))))","v":""},{"$f":"IF($O$1=\"Runda 1\",'01'!H2,IF($O$1=\"Runda 2\",'01'!S2,IF($O$1=\"Runda 3\",'01'!AD2,IF($O$1=\"Runda 4\",'01'!AO2,IF($O$1=\"Runda 5\",'01'!AZ2,0)))))","v":""},{"$f":"IF($O$1=\"Runda 1\",'01'!I2,IF($O$1=\"Runda 2\",'01'!T2,IF($O$1=\"Runda 3\",'01'!AE2,IF($O$1=\"Runda 4\",'01'!AP2,IF($O$1=\"Runda 5\",'01'!BA2,0)))))","v":""},{"$f":"IF($O$1=\"Runda 1\",'01'!J2,IF($O$1=\"Runda 2\",'01'!U2,IF($O$1=\"Runda 3\",'01'!AF2,IF($O$1=\"Runda 4\",'01'!AQ2,IF($O$1=\"Runda 5\",'01'!BB2,0)))))","v":""},{"$f":"IF($O$1=\"Runda 1\",'01'!K2,IF($O$1=\"Runda 2\",'01'!V2,IF($O$1=\"Runda 3\",'01'!AG2,IF($O$1=\"Runda 4\",'01'!AR2,IF($O$1=\"Runda 5\",'01'!BC2,0)))))","v":""},{"$f":"IF($O$1=\"Runda 1\",'01'!L2,IF($O$1=\"Runda 2\",'01'!W2,IF($O$1=\"Runda 3\",'01'!AH2,IF($O$1=\"Runda 4\",'01'!AS2,IF($O$1=\"Runda 5\",'01'!BD2,0)))))","v":""},{"$f":"SUM(P2:Y2)","v":0},{"$f":"IF(Z2>Z3,3,IF(Z2<Z3,0,1))","v":1}]
["Nivelul valoric",null,null,null,"SUPERLIGA",null,null,null,null,null,null,null,null,null,{"$f":"E10","v":"Maktub"},{"$f":"IF($O$1=\"Runda 1\",'01'!C3,IF($O$1=\"Runda 2\",'01'!N3,IF($O$1=\"Runda 3\",'01'!Y3,IF($O$1=\"Runda 4\",'01'!AJ3,IF($O$1=\"Runda 5\",'01'!AU3,0)))))","v":""},{"$f":"IF($O$1=\"Runda 1\",'01'!D3,IF($O$1=\"Runda 2\",'01'!O3,IF($O$1=\"Runda 3\",'01'!Z3,IF($O$1=\"Runda 4\",'01'!AK3,IF($O$1=\"Runda 5\",'01'!AV3,0)))))","v":""},{"$f":"IF($O$1=\"Runda 1\",'01'!E3,IF($O$1=\"Runda 2\",'01'!P3,IF($O$1=\"Runda 3\",'01'!AA3,IF($O$1=\"Runda 4\",'01'!AL3,IF($O$1=\"Runda 5\",'01'!AW3,0)))))","v":""},{"$f":"IF($O$1=\"Runda 1\",'01'!F3,IF($O$1=\"Runda 2\",'01'!Q3,IF($O$1=\"Runda 3\",'01'!AB3,IF($O$1=\"Runda 4\",'01'!AM3,IF($O$1=\"Runda 5\",'01'!AX3,0)))))","v":""},{"$f":"IF($O$1=\"Runda 1\",'01'!G3,IF($O$1=\"Runda 2\",'01'!R3,IF($O$1=\"Runda 3\",'01'!AC3,IF($O$1=\"Runda 4\",'01'!AN3,IF($O$1=\"Runda 5\",'01'!AY3,0)))))","v":""},{"$f":"IF($O$1=\"Runda 1\",'01'!H3,IF($O$1=\"Runda 2\",'01'!S3,IF($O$1=\"Runda 3\",'01'!AD3,IF($O$1=\"Runda 4\",'01'!AO3,IF($O$1=\"Runda 5\",'01'!AZ3,0)))))","v":""},{"$f":"IF($O$1=\"Runda 1\",'01'!I3,IF($O$1=\"Runda 2\",'01'!T3,IF($O$1=\"Runda 3\",'01'!AE3,IF($O$1=\"Runda 4\",'01'!AP3,IF($O$1=\"Runda 5\",'01'!BA3,0)))))","v":""},{"$f":"IF($O$1=\"Runda 1\",'01'!J3,IF($O$1=\"Runda 2\",'01'!U3,IF($O$1=\"Runda 3\",'01'!AF3,IF($O$1=\"Runda 4\",'01'!AQ3,IF($O$1=\"Runda 5\",'01'!BB3,0)))))","v":""},{"$f":"IF($O$1=\"Runda 1\",'01'!K3,IF($O$1=\"Runda 2\",'01'!V3,IF($O$1=\"Runda 3\",'01'!AG3,IF($O$1=\"Runda 4\",'01'!AR3,IF($O$1=\"Runda 5\",'01'!BC3,0)))))","v":""},{"$f":"IF($O$1=\"Runda 1\",'01'!L3,IF($O$1=\"Runda 2\",'01'!W3,IF($O$1=\"Runda 3\",'01'!AH3,IF($O$1=\"Runda 4\",'01'!AS3,IF($O$1=\"Runda 5\",'01'!BD3,0)))))","v":""},0,{"$f":"IF(Z3>Z2,3,IF(Z3<Z2,0,1))","v":1}]
["Etapa",null,null,null,3,null,null,null,null,null,null,null,null,null,{"$f":"I10","v":"Acord"},{"$f":"IF($O$1=\"Runda 1\",'01'!C4,IF($O$1=\"Runda 2\",'01'!N4,IF($O$1=\"Runda 3\",'01'!Y4,IF($O$1=\"Runda 4\",'01'!AJ4,IF($O$1=\"Runda 5\",'01'!AU4,0)))))","v":""},{"$f":"IF($O$1=\"Runda 1\",'01'!D4,IF($O$1=\"Runda 2\",'01'!O4,IF($O$1=\"Runda 3\",'01'!Z4,IF($O$1=\"Runda 4\",'01'!AK4,IF($O$1=\"Runda 5\",'01'!AV4,0)))))","v":""},{"$f":"IF($O$1=\"Runda 1\",'01'!E4,IF($O$1=\"Runda 2\",'01'!P4,IF($O$1=\"Runda 3\",'01'!AA4,IF($O$1=\"Runda 4\",'01'!AL4,IF($O$1=\"Runda 5\",'01'!AW4,0)))))","v":""},{"$f":"IF($O$1=\"Runda 1\",'01'!F4,IF($O$1=\"Runda 2\",'01'!Q4,IF($O$1=\"Runda 3\",'01'!AB4,IF($O$1=\"Runda 4\",'01'!AM4,IF($O$1=\"Runda 5\",'01'!AX4,0)))))","v":""},{"$f":"IF($O$1=\"Runda 1\",'01'!G4,IF($O$1=\"Runda 2\",'01'!R4,IF($O$1=\"Runda 3\",'01'!AC4,IF($O$1=\"Runda 4\",'01'!AN4,IF($O$1=\"Runda 5\",'01'!AY4,0)))))","v":""},{"$f":"IF($O$1=\"Runda 1\",'01'!H4,IF($O$1=\"Runda 2\",'01'!S4,IF($O$1=\"Runda 3\",'01'!AD4,IF($O$1=\"Runda 4\",'01'!AO4,IF($O$1=\"Runda 5\",'01'!AZ4,0)))))","v":""},{"$f":"IF($O$1=\"Runda 1\",'01'!I4,IF($O$1=\"Runda 2\",'01'!T4,IF($O$1=\"Runda 3\",'01'!AE4,IF($O$1=\"Runda 4\",'01'!AP4,IF($O$1=\"Runda 5\",'01'!BA4,0)))))","v":""},{"$f":"IF($O$1=\"Runda 1\",'01'!J4,IF($O$1=\"Runda 2\",'01'!U4,IF($O$1=\"Runda 3\",'01'!AF4,IF($O$1=\"Runda 4\",'01'!AQ4,IF($O$1=\"Runda 5\",'01'!BB4,0)))))","v":""},{"$f":"IF($O$1=\"Runda 1\",'01'!K4,IF($O$1=\"Runda 2\",'01'!V4,IF($O$1=\"Runda 3\",'01'!AG4,IF($O$1=\"Runda 4\",'01'!AR4,IF($O$1=\"Runda 5\",'01'!BC4,0)))))","v":""},{"$f":"IF($O$1=\"Runda 1\",'01'!L4,IF($O$1=\"Runda 2\",'01'!W4,IF($O$1=\"Runda 3\",'01'!AH4,IF($O$1=\"Runda 4\",'01'!AS4,IF($O$1=\"Runda 5\",'01'!BD4,0)))))","v":""},0,{"$f":"IF(Z4>Z5,3,IF(Z4<Z5,0,1))","v":1}]
["Data desfasurarii",null,null,null,"2015-03-15",null,null,null,null,null,null,null,null,null,{"$f":"A17","v":"O"},{"$f":"IF($O$1=\"Runda 1\",'01'!C5,IF($O$1=\"Runda 2\",'01'!N5,IF($O$1=\"Runda 3\",'01'!Y5,IF($O$1=\"Runda 4\",'01'!AJ5,IF($O$1=\"Runda 5\",'01'!AU5,0)))))","v":""},{"$f":"IF($O$1=\"Runda 1\",'01'!D5,IF($O$1=\"Runda 2\",'01'!O5,IF($O$1=\"Runda 3\",'01'!Z5,IF($O$1=\"Runda 4\",'01'!AK5,IF($O$1=\"Runda 5\",'01'!AV5,0)))))","v":""},{"$f":"IF($O$1=\"Runda 1\",'01'!E5,IF($O$1=\"Runda 2\",'01'!P5,IF($O$1=\"Runda 3\",'01'!AA5,IF($O$1=\"Runda 4\",'01'!AL5,IF($O$1=\"Runda 5\",'01'!AW5,0)))))","v":""},{"$f":"IF($O$1=\"Runda 1\",'01'!F5,IF($O$1=\"Runda 2\",'01'!Q5,IF($O$1=\"Runda 3\",'01'!AB5,IF($O$1=\"Runda 4\",'01'!AM5,IF($O$1=\"Runda 5\",'01'!AX5,0)))))","v":""},{"$f":"IF($O$1=\"Runda 1\",'01'!G5,IF($O$1=\"Runda 2\",'01'!R5,IF($O$1=\"Runda 3\",'01'!AC5,IF($O$1=\"Runda 4\",'01'!AN5,IF($O$1=\"Runda 5\",'01'!AY5,0)))))","v":""},{"$f":"IF($O$1=\"Runda 1\",'01'!H5,IF($O$1=\"Runda 2\",'01'!S5,IF($O$1=\"Runda 3\",'01'!AD5,IF($O$1=\"Runda 4\",'01'!AO5,IF($O$1=\"Runda 5\",'01'!AZ5,0)))))","v":""},{"$f":"IF($O$1=\"Runda 1\",'01'!I5,IF($O$1=\"Runda 2\",'01'!T5,IF($O$1=\"Runda 3\",'01'!AE5,IF($O$1=\"Runda 4\",'01'!AP5,IF($O$1=\"Runda 5\",'01'!BA5,0)))))","v":""},{"$f":"IF($O$1=\"Runda 1\",'01'!J5,IF($O$1=\"Runda 2\",'01'!U5,IF($O$1=\"Runda 3\",'01'!AF5,IF($O$1=\"Runda 4\",'01'!AQ5,IF($O$1=\"Runda 5\",'01'!BB5,0)))))","v":""},{"$f":"IF($O$1=\"Runda 1\",'01'!K5,IF($O$1=\"Runda 2\",'01'!V5,IF($O$1=\"Runda 3\",'01'!AG5,IF($O$1=\"Runda 4\",'01'!AR5,IF($O$1=\"Runda 5\",'01'!BC5,0)))))","v":""},{"$f":"IF($O$1=\"Runda 1\",'01'!L5,IF($O$1=\"Runda 2\",'01'!W5,IF($O$1=\"Runda 3\",'01'!AH5,IF($O$1=\"Runda 4\",'01'!AS5,IF($O$1=\"Runda 5\",'01'!BD5,0)))))","v":""},0,{"$f":"IF(Z5>Z4,3,IF(Z5<Z4,0,1))","v":1}]
["Locul desfasurarii",null,null,null,"INCE",null,null,null,null,null,null,null,null,null,{"$f":"E17","v":"10 Lei"},{"$f":"IF($O$1=\"Runda 1\",'01'!C6,IF($O$1=\"Runda 2\",'01'!N6,IF($O$1=\"Runda 3\",'01'!Y6,IF($O$1=\"Runda 4\",'01'!AJ6,IF($O$1=\"Runda 5\",'01'!AU6,0)))))","v":""},{"$f":"IF($O$1=\"Runda 1\",'01'!D6,IF($O$1=\"Runda 2\",'01'!O6,IF($O$1=\"Runda 3\",'01'!Z6,IF($O$1=\"Runda 4\",'01'!AK6,IF($O$1=\"Runda 5\",'01'!AV6,0)))))","v":""},{"$f":"IF($O$1=\"Runda 1\",'01'!E6,IF($O$1=\"Runda 2\",'01'!P6,IF($O$1=\"Runda 3\",'01'!AA6,IF($O$1=\"Runda 4\",'01'!AL6,IF($O$1=\"Runda 5\",'01'!AW6,0)))))","v":""},{"$f":"IF($O$1=\"Runda 1\",'01'!F6,IF($O$1=\"Runda 2\",'01'!Q6,IF($O$1=\"Runda 3\",'01'!AB6,IF($O$1=\"Runda 4\",'01'!AM6,IF($O$1=\"Runda 5\",'01'!AX6,0)))))","v":""},{"$f":"IF($O$1=\"Runda 1\",'01'!G6,IF($O$1=\"Runda 2\",'01'!R6,IF($O$1=\"Runda 3\",'01'!AC6,IF($O$1=\"Runda 4\",'01'!AN6,IF($O$1=\"Runda 5\",'01'!AY6,0)))))","v":""},{"$f":"IF($O$1=\"Runda 1\",'01'!H6,IF($O$1=\"Runda 2\",'01'!S6,IF($O$1=\"Runda 3\",'01'!AD6,IF($O$1=\"Runda 4\",'01'!AO6,IF($O$1=\"Runda 5\",'01'!AZ6,0)))))","v":""},{"$f":"IF($O$1=\"Runda 1\",'01'!I6,IF($O$1=\"Runda 2\",'01'!T6,IF($O$1=\"Runda 3\",'01'!AE6,IF($O$1=\"Runda 4\",'01'!AP6,IF($O$1=\"Runda 5\",'01'!BA6,0)))))","v":""},{"$f":"IF($O$1=\"Runda 1\",'01'!J6,IF($O$1=\"Runda 2\",'01'!U6,IF($O$1=\"Runda 3\",'01'!AF6,IF($O$1=\"Runda 4\",'01'!AQ6,IF($O$1=\"Runda 5\",'01'!BB6,0)))))","v":""},{"$f":"IF($O$1=\"Runda 1\",'01'!K6,IF($O$1=\"Runda 2\",'01'!V6,IF($O$1=\"Runda 3\",'01'!AG6,IF($O$1=\"Runda 4\",'01'!AR6,IF($O$1=\"Runda 5\",'01'!BC6,0)))))","v":""},{"$f":"IF($O$1=\"Runda 1\",'01'!L6,IF($O$1=\"Runda 2\",'01'!W6,IF($O$1=\"Runda 3\",'01'!AH6,IF($O$1=\"Runda 4\",'01'!AS6,IF($O$1=\"Runda 5\",'01'!BD6,0)))))","v":""},0,{"$f":"IF(Z6>Z7,3,IF(Z6<Z7,0,1))","v":1}]
["Organizatori",null,null,null,{"$f":"IF(E4=1,Tragere!B12,IF(E4=2,Tragere!B13,IF(E4=3,Tragere!B14,IF(E4=4,Tragere!B15,IF(E4=5,Tragere!B16,IF(E4=6,Tragere!B17,IF(E4=7,Tragere!B18)))))))","v":"LAREME"},null,null,null,null,null,null,null,null,null,{"$f":"I17","v":"GM"},{"$f":"IF($O$1=\"Runda 1\",'01'!C7,IF($O$1=\"Runda 2\",'01'!N7,IF($O$1=\"Runda 3\",'01'!Y7,IF($O$1=\"Runda 4\",'01'!AJ7,IF($O$1=\"Runda 5\",'01'!AU7,0)))))","v":""},{"$f":"IF($O$1=\"Runda 1\",'01'!D7,IF($O$1=\"Runda 2\",'01'!O7,IF($O$1=\"Runda 3\",'01'!Z7,IF($O$1=\"Runda 4\",'01'!AK7,IF($O$1=\"Runda 5\",'01'!AV7,0)))))","v":""},{"$f":"IF($O$1=\"Runda 1\",'01'!E7,IF($O$1=\"Runda 2\",'01'!P7,IF($O$1=\"Runda 3\",'01'!AA7,IF($O$1=\"Runda 4\",'01'!AL7,IF($O$1=\"Runda 5\",'01'!AW7,0)))))","v":""},{"$f":"IF($O$1=\"Runda 1\",'01'!F7,IF($O$1=\"Runda 2\",'01'!Q7,IF($O$1=\"Runda 3\",'01'!AB7,IF($O$1=\"Runda 4\",'01'!AM7,IF($O$1=\"Runda 5\",'01'!AX7,0)))))","v":""},{"$f":"IF($O$1=\"Runda 1\",'01'!G7,IF($O$1=\"Runda 2\",'01'!R7,IF($O$1=\"Runda 3\",'01'!AC7,IF($O$1=\"Runda 4\",'01'!AN7,IF($O$1=\"Runda 5\",'01'!AY7,0)))))","v":""},{"$f":"IF($O$1=\"Runda 1\",'01'!H7,IF($O$1=\"Runda 2\",'01'!S7,IF($O$1=\"Runda 3\",'01'!AD7,IF($O$1=\"Runda 4\",'01'!AO7,IF($O$1=\"Runda 5\",'01'!AZ7,0)))))","v":""},{"$f":"IF($O$1=\"Runda 1\",'01'!I7,IF($O$1=\"Runda 2\",'01'!T7,IF($O$1=\"Runda 3\",'01'!AE7,IF($O$1=\"Runda 4\",'01'!AP7,IF($O$1=\"Runda 5\",'01'!BA7,0)))))","v":""},{"$f":"IF($O$1=\"Runda 1\",'01'!J7,IF($O$1=\"Runda 2\",'01'!U7,IF($O$1=\"Runda 3\",'01'!AF7,IF($O$1=\"Runda 4\",'01'!AQ7,IF($O$1=\"Runda 5\",'01'!BB7,0)))))","v":""},{"$f":"IF($O$1=\"Runda 1\",'01'!K7,IF($O$1=\"Runda 2\",'01'!V7,IF($O$1=\"Runda 3\",'01'!AG7,IF($O$1=\"Runda 4\",'01'!AR7,IF($O$1=\"Runda 5\",'01'!BC7,0)))))","v":""},{"$f":"IF($O$1=\"Runda 1\",'01'!L7,IF($O$1=\"Runda 2\",'01'!W7,IF($O$1=\"Runda 3\",'01'!AH7,IF($O$1=\"Runda 4\",'01'!AS7,IF($O$1=\"Runda 5\",'01'!BD7,0)))))","v":""},0,{"$f":"IF(Z7>Z6,3,IF(Z7<Z6,0,1))","v":1}]
[null,null,null,null,null,null,null,null,null,null,null,null,null,null,null,null,null,null,null,null,null,null,null,null,null,null,null,null,{"$f":"E7","v":"LAREME"},18]
["Componentele echipelor",null,null,null,null,null,null,null,null,null,null,null,null,null,"Runda 4",1,2,3,4,5,6,7,8,9,10,"R","P",null,{"$f":"O2","v":"Asachi"},28,{"$f":"AD9+J34","v":33}]
[{"$f":"IF(E4=1,Tragere!B13,IF(E4=2,Tragere!B18,IF(E4=3,Tragere!B17,IF(E4=4,Tragere!B16,IF(E4=5,Tragere!B14,IF(E4=6,Tragere!B13,IF(E4=7,Tragere!B12)))))))","v":"Asachi"},null,null,null,{"$f":"IF(E4=1,Tragere!B14,IF(E4=2,Tragere!B15,IF(E4=3,Tragere!B15,IF(E4=4,Tragere!B17,IF(E4=5,Tragere!B18,IF(E4=6,Tragere!B16,IF(E4=7,Tragere!B16)))))))","v":"Maktub"},null,null,null,{"$f":"IF(E4=1,Tragere!B15,IF(E4=2,Tragere!B14,IF(E4=3,Tragere!B12,IF(E4=4,Tragere!B14,IF(E4=5,Tragere!B12,IF(E4=6,Tragere!B15,IF(E4=7,Tragere!B17)))))))","v":"Acord"},null,null,null,null,null,{"$f":"A10","v":"Asachi"},{"$f":"IF($O$9=\"Runda 1\",'01'!C2,IF($O$9=\"Runda 2\",'01'!N2,IF($O$9=\"Runda 3\",'01'!Y2,IF($O$9=\"Runda 4\",'01'!AJ2,IF($O$9=\"Runda 5\",'01'!AU2,0)))))","v":""},{"$f":"IF($O$9=\"Runda 1\",'01'!D2,IF($O$9=\"Runda 2\",'01'!O2,IF($O$9=\"Runda 3\",'01'!Z2,IF($O$9=\"Runda 4\",'01'!AK2,IF($O$9=\"Runda 5\",'01'!AV2,0)))))","v":""},{"$f":"IF($O$9=\"Runda 1\",'01'!E2,IF($O$9=\"Runda 2\",'01'!P2,IF($O$9=\"Runda 3\",'01'!AA2,IF($O$9=\"Runda 4\",'01'!AL2,IF($O$9=\"Runda 5\",'01'!AW2,0)))))","v":""},{"$f":"IF($O$9=\"Runda 1\",'01'!F2,IF($O$9=\"Runda 2\",'01'!Q2,IF($O$9=\"Runda 3\",'01'!AB2,IF($O$9=\"Runda 4\",'01'!AM2,IF($O$9=\"Runda 5\",'01'!AX2,0)))))","v":""},{"$f":"IF($O$9=\"Runda 1\",'01'!G2,IF($O$9=\"Runda 2\",'01'!R2,IF($O$9=\"Runda 3\",'01'!AC2,IF($O$9=\"Runda 4\",'01'!AN2,IF($O$9=\"Runda 5\",'01'!AY2,0)))))","v":""},{"$f":"IF($O$9=\"Runda 1\",'01'!H2,IF($O$9=\"Runda 2\",'01'!S2,IF($O$9=\"Runda 3\",'01'!AD2,IF($O$9=\"Runda 4\",'01'!AO2,IF($O$9=\"Runda 5\",'01'!AZ2,0)))))","v":""},{"$f":"IF($O$9=\"Runda 1\",'01'!I2,IF($O$9=\"Runda 2\",'01'!T2,IF($O$9=\"Runda 3\",'01'!AE2,IF($O$9=\"Runda 4\",'01'!AP2,IF($O$9=\"Runda 5\",'01'!BA2,0)))))","v":""},{"$f":"IF($O$9=\"Runda 1\",'01'!J2,IF($O$9=\"Runda 2\",'01'!U2,IF($O$9=\"Runda 3\",'01'!AF2,IF($O$9=\"Runda 4\",'01'!AQ2,IF($O$9=\"Runda 5\",'01'!BB2,0)))))","v":""},{"$f":"IF($O$9=\"Runda 1\",'01'!K2,IF($O$9=\"Runda 2\",'01'!V2,IF($O$9=\"Runda 3\",'01'!AG2,IF($O$9=\"Runda 4\",'01'!AR2,IF($O$9=\"Runda 5\",'01'!BC2,0)))))","v":""},{"$f":"IF($O$9=\"Runda 1\",'01'!L2,IF($O$9=\"Runda 2\",'01'!W2,IF($O$9=\"Runda 3\",'01'!AH2,IF($O$9=\"Runda 4\",'01'!AS2,IF($O$9=\"Runda 5\",'01'!BD2,0)))))","v":""},{"$f":"SUM(P10:Y10)","v":0},{"$f":"IF(Z10>Z11,3,IF(Z10<Z11,0,1))","v":1},null,"Maktub",7,{"$f":"AD10+J35","v":12}]
[null,null,null,null,null,null,null,null,null,null,null,null,null,null,{"$f":"I10","v":"Acord"},{"$f":"IF($O$9=\"Runda 1\",'01'!C4,IF($O$9=\"Runda 2\",'01'!N4,IF($O$9=\"Runda 3\",'01'!Y4,IF($O$9=\"Runda 4\",'01'!AJ4,IF($O$9=\"Runda 5\",'01'!AU4,0)))))","v":""},{"$f":"IF($O$9=\"Runda 1\",'01'!D4,IF($O$9=\"Runda 2\",'01'!O4,IF($O$9=\"Runda 3\",'01'!Z4,IF($O$9=\"Runda 4\",'01'!AK4,IF($O$9=\"Runda 5\",'01'!AV4,0)))))","v":""},{"$f":"IF($O$9=\"Runda 1\",'01'!E4,IF($O$9=\"Runda 2\",'01'!P4,IF($O$9=\"Runda 3\",'01'!AA4,IF($O$9=\"Runda 4\",'01'!AL4,IF($O$9=\"Runda 5\",'01'!AW4,0)))))","v":""},{"$f":"IF($O$9=\"Runda 1\",'01'!F4,IF($O$9=\"Runda 2\",'01'!Q4,IF($O$9=\"Runda 3\",'01'!AB4,IF($O$9=\"Runda 4\",'01'!AM4,IF($O$9=\"Runda 5\",'01'!AX4,0)))))","v":""},{"$f":"IF($O$9=\"Runda 1\",'01'!G4,IF($O$9=\"Runda 2\",'01'!R4,IF($O$9=\"Runda 3\",'01'!AC4,IF($O$9=\"Runda 4\",'01'!AN4,IF($O$9=\"Runda 5\",'01'!AY4,0)))))","v":""},{"$f":"IF($O$9=\"Runda 1\",'01'!H4,IF($O$9=\"Runda 2\",'01'!S4,IF($O$9=\"Runda 3\",'01'!AD4,IF($O$9=\"Runda 4\",'01'!AO4,IF($O$9=\"Runda 5\",'01'!AZ4,0)))))","v":""},{"$f":"IF($O$9=\"Runda 1\",'01'!I4,IF($O$9=\"Runda 2\",'01'!T4,IF($O$9=\"Runda 3\",'01'!AE4,IF($O$9=\"Runda 4\",'01'!AP4,IF($O$9=\"Runda 5\",'01'!BA4,0)))))","v":""},{"$f":"IF($O$9=\"Runda 1\",'01'!J4,IF($O$9=\"Runda 2\",'01'!U4,IF($O$9=\"Runda 3\",'01'!AF4,IF($O$9=\"Runda 4\",'01'!AQ4,IF($O$9=\"Runda 5\",'01'!BB4,0)))))","v":""},{"$f":"IF($O$9=\"Runda 1\",'01'!K4,IF($O$9=\"Runda 2\",'01'!V4,IF($O$9=\"Runda 3\",'01'!AG4,IF($O$9=\"Runda 4\",'01'!AR4,IF($O$9=\"Runda 5\",'01'!BC4,0)))))","v":""},{"$f":"IF($O$9=\"Runda 1\",'01'!L4,IF($O$9=\"Runda 2\",'01'!W4,IF($O$9=\"Runda 3\",'01'!AH4,IF($O$9=\"Runda 4\",'01'!AS4,IF($O$9=\"Runda 5\",'01'!BD4,0)))))","v":""},0,{"$f":"IF(Z11>Z10,3,IF(Z11<Z10,0,1))","v":1},null,"Acord",4,9]
[null,null,null,null,null,null,null,null,null,null,null,null,null,null,{"$f":"E10","v":"Maktub"},{"$f":"IF($O$9=\"Runda 1\",'01'!C3,IF($O$9=\"Runda 2\",'01'!N3,IF($O$9=\"Runda 3\",'01'!Y3,IF($O$9=\"Runda 4\",'01'!AJ3,IF($O$9=\"Runda 5\",'01'!AU3,0)))))","v":""},{"$f":"IF($O$9=\"Runda 1\",'01'!D3,IF($O$9=\"Runda 2\",'01'!O3,IF($O$9=\"Runda 3\",'01'!Z3,IF($O$9=\"Runda 4\",'01'!AK3,IF($O$9=\"Runda 5\",'01'!AV3,0)))))","v":""},{"$f":"IF($O$9=\"Runda 1\",'01'!E3,IF($O$9=\"Runda 2\",'01'!P3,IF($O$9=\"Runda 3\",'01'!AA3,IF($O$9=\"Runda 4\",'01'!AL3,IF($O$9=\"Runda 5\",'01'!AW3,0)))))","v":""},{"$f":"IF($O$9=\"Runda 1\",'01'!F3,IF($O$9=\"Runda 2\",'01'!Q3,IF($O$9=\"Runda 3\",'01'!AB3,IF($O$9=\"Runda 4\",'01'!AM3,IF($O$9=\"Runda 5\",'01'!AX3,0)))))","v":""},{"$f":"IF($O$9=\"Runda 1\",'01'!G3,IF($O$9=\"Runda 2\",'01'!R3,IF($O$9=\"Runda 3\",'01'!AC3,IF($O$9=\"Runda 4\",'01'!AN3,IF($O$9=\"Runda 5\",'01'!AY3,0)))))","v":""},{"$f":"IF($O$9=\"Runda 1\",'01'!H3,IF($O$9=\"Runda 2\",'01'!S3,IF($O$9=\"Runda 3\",'01'!AD3,IF($O$9=\"Runda 4\",'01'!AO3,IF($O$9=\"Runda 5\",'01'!AZ3,0)))))","v":""},{"$f":"IF($O$9=\"Runda 1\",'01'!I3,IF($O$9=\"Runda 2\",'01'!T3,IF($O$9=\"Runda 3\",'01'!AE3,IF($O$9=\"Runda 4\",'01'!AP3,IF($O$9=\"Runda 5\",'01'!BA3,0)))))","v":""},{"$f":"IF($O$9=\"Runda 1\",'01'!J3,IF($O$9=\"Runda 2\",'01'!U3,IF($O$9=\"Runda 3\",'01'!AF3,IF($O$9=\"Runda 4\",'01'!AQ3,IF($O$9=\"Runda 5\",'01'!BB3,0)))))","v":""},{"$f":"IF($O$9=\"Runda 1\",'01'!K3,IF($O$9=\"Runda 2\",'01'!V3,IF($O$9=\"Runda 3\",'01'!AG3,IF($O$9=\"Runda 4\",'01'!AR3,IF($O$9=\"Runda 5\",'01'!BC3,0)))))","v":""},{"$f":"IF($O$9=\"Runda 1\",'01'!L3,IF($O$9=\"Runda 2\",'01'!W3,IF($O$9=\"Runda 3\",'01'!AH3,IF($O$9=\"Runda 4\",'01'!AS3,IF($O$9=\"Runda 5\",'01'!BD3,0)))))","v":""},0,{"$f":"IF(Z12>Z13,3,IF(Z12<Z13,0,1))","v":1},null,"O",3,8]
[null,null,null,null,null,null,null,null,null,null,null,null,null,null,{"$f":"E17","v":"10 Lei"},{"$f":"IF($O$9=\"Runda 1\",'01'!C6,IF($O$9=\"Runda 2\",'01'!N6,IF($O$9=\"Runda 3\",'01'!Y6,IF($O$9=\"Runda 4\",'01'!AJ6,IF($O$9=\"Runda 5\",'01'!AU6,0)))))","v":""},{"$f":"IF($O$9=\"Runda 1\",'01'!D6,IF($O$9=\"Runda 2\",'01'!O6,IF($O$9=\"Runda 3\",'01'!Z6,IF($O$9=\"Runda 4\",'01'!AK6,IF($O$9=\"Runda 5\",'01'!AV6,0)))))","v":""},{"$f":"IF($O$9=\"Runda 1\",'01'!E6,IF($O$9=\"Runda 2\",'01'!P6,IF($O$9=\"Runda 3\",'01'!AA6,IF($O$9=\"Runda 4\",'01'!AL6,IF($O$9=\"Runda 5\",'01'!AW6,0)))))","v":""},{"$f":"IF($O$9=\"Runda 1\",'01'!F6,IF($O$9=\"Runda 2\",'01'!Q6,IF($O$9=\"Runda 3\",'01'!AB6,IF($O$9=\"Runda 4\",'01'!AM6,IF($O$9=\"Runda 5\",'01'!AX6,0)))))","v":""},{"$f":"IF($O$9=\"Runda 1\",'01'!G6,IF($O$9=\"Runda 2\",'01'!R6,IF($O$9=\"Runda 3\",'01'!AC6,IF($O$9=\"Runda 4\",'01'!AN6,IF($O$9=\"Runda 5\",'01'!AY6,0)))))","v":""},{"$f":"IF($O$9=\"Runda 1\",'01'!H6,IF($O$9=\"Runda 2\",'01'!S6,IF($O$9=\"Runda 3\",'01'!AD6,IF($O$9=\"Runda 4\",'01'!AO6,IF($O$9=\"Runda 5\",'01'!AZ6,0)))))","v":""},{"$f":"IF($O$9=\"Runda 1\",'01'!I6,IF($O$9=\"Runda 2\",'01'!T6,IF($O$9=\"Runda 3\",'01'!AE6,IF($O$9=\"Runda 4\",'01'!AP6,IF($O$9=\"Runda 5\",'01'!BA6,0)))))","v":""},{"$f":"IF($O$9=\"Runda 1\",'01'!J6,IF($O$9=\"Runda 2\",'01'!U6,IF($O$9=\"Runda 3\",'01'!AF6,IF($O$9=\"Runda 4\",'01'!AQ6,IF($O$9=\"Runda 5\",'01'!BB6,0)))))","v":""},{"$f":"IF($O$9=\"Runda 1\",'01'!K6,IF($O$9=\"Runda 2\",'01'!V6,IF($O$9=\"Runda 3\",'01'!AG6,IF($O$9=\"Runda 4\",'01'!AR6,IF($O$9=\"Runda 5\",'01'!BC6,0)))))","v":""},{"$f":"IF($O$9=\"Runda 1\",'01'!L6,IF($O$9=\"Runda 2\",'01'!W6,IF($O$9=\"Runda 3\",'01'!AH6,IF($O$9=\"Runda 4\",'01'!AS6,IF($O$9=\"Runda 5\",'01'!BD6,0)))))","v":""},0,{"$f":"IF(Z13>Z12,3,IF(Z13<Z12,0,1))","v":1},null,"10 Lei",20,25]
[null,null,null,null,null,null,null,null,null,null,null,null,null,null,{"$f":"A17","v":"O"},{"$f":"IF($O$9=\"Runda 1\",'01'!C5,IF($O$9=\"Runda 2\",'01'!N5,IF($O$9=\"Runda 3\",'01'!Y5,IF($O$9=\"Runda 4\",'01'!AJ5,IF($O$9=\"Runda 5\",'01'!AU5,0)))))","v":""},{"$f":"IF($O$9=\"Runda 1\",'01'!D5,IF($O$9=\"Runda 2\",'01'!O5,IF($O$9=\"Runda 3\",'01'!Z5,IF($O$9=\"Runda 4\",'01'!AK5,IF($O$9=\"Runda 5\",'01'!AV5,0)))))","v":""},{"$f":"IF($O$9=\"Runda 1\",'01'!E5,IF($O$9=\"Runda 2\",'01'!P5,IF($O$9=\"Runda 3\",'01'!AA5,IF($O$9=\"Runda 4\",'01'!AL5,IF($O$9=\"Runda 5\",'01'!AW5,0)))))","v":""},{"$f":"IF($O$9=\"Runda 1\",'01'!F5,IF($O$9=\"Runda 2\",'01'!Q5,IF($O$9=\"Runda 3\",'01'!AB5,IF($O$9=\"Runda 4\",'01'!AM5,IF($O$9=\"Runda 5\",'01'!AX5,0)))))","v":""},{"$f":"IF($O$9=\"Runda 1\",'01'!G5,IF($O$9=\"Runda 2\",'01'!R5,IF($O$9=\"Runda 3\",'01'!AC5,IF($O$9=\"Runda 4\",'01'!AN5,IF($O$9=\"Runda 5\",'01'!AY5,0)))))","v":""},{"$f":"IF($O$9=\"Runda 1\",'01'!H5,IF($O$9=\"Runda 2\",'01'!S5,IF($O$9=\"Runda 3\",'01'!AD5,IF($O$9=\"Runda 4\",'01'!AO5,IF($O$9=\"Runda 5\",'01'!AZ5,0)))))","v":""},{"$f":"IF($O$9=\"Runda 1\",'01'!I5,IF($O$9=\"Runda 2\",'01'!T5,IF($O$9=\"Runda 3\",'01'!AE5,IF($O$9=\"Runda 4\",'01'!AP5,IF($O$9=\"Runda 5\",'01'!BA5,0)))))","v":""},{"$f":"IF($O$9=\"Runda 1\",'01'!J5,IF($O$9=\"Runda 2\",'01'!U5,IF($O$9=\"Runda 3\",'01'!AF5,IF($O$9=\"Runda 4\",'01'!AQ5,IF($O$9=\"Runda 5\",'01'!BB5,0)))))","v":""},{"$f":"IF($O$9=\"Runda 1\",'01'!K5,IF($O$9=\"Runda 2\",'01'!V5,IF($O$9=\"Runda 3\",'01'!AG5,IF($O$9=\"Runda 4\",'01'!AR5,IF($O$9=\"Runda 5\",'01'!BC5,0)))))","v":""},{"$f":"IF($O$9=\"Runda 1\",'01'!L5,IF($O$9=\"Runda 2\",'01'!W5,IF($O$9=\"Runda 3\",'01'!AH5,IF($O$9=\"Runda 4\",'01'!AS5,IF($O$9=\"Runda 5\",'01'!BD5,0)))))","v":""},0,{"$f":"IF(Z14>Z15,3,IF(Z14<Z15,0,1))","v":1},null,"GM",7,12]
[null,null,null,null,null,null,null,null,null,null,null,null,null,null,{"$f":"I17","v":"GM"},{"$f":"IF($O$9=\"Runda 1\",'01'!C7,IF($O$9=\"Runda 2\",'01'!N7,IF($O$9=\"Runda 3\",'01'!Y7,IF($O$9=\"Runda 4\",'01'!AJ7,IF($O$9=\"Runda 5\",'01'!AU7,0)))))","v":""},{"$f":"IF($O$9=\"Runda 1\",'01'!D7,IF($O$9=\"Runda 2\",'01'!O7,IF($O$9=\"Runda 3\",'01'!Z7,IF($O$9=\"Runda 4\",'01'!AK7,IF($O$9=\"Runda 5\",'01'!AV7,0)))))","v":""},{"$f":"IF($O$9=\"Runda 1\",'01'!E7,IF($O$9=\"Runda 2\",'01'!P7,IF($O$9=\"Runda 3\",'01'!AA7,IF($O$9=\"Runda 4\",'01'!AL7,IF($O$9=\"Runda 5\",'01'!AW7,0)))))","v":""},{"$f":"IF($O$9=\"Runda 1\",'01'!F7,IF($O$9=\"Runda 2\",'01'!Q7,IF($O$9=\"Runda 3\",'01'!AB7,IF($O$9=\"Runda 4\",'01'!AM7,IF($O$9=\"Runda 5\",'01'!AX7,0)))))","v":""},{"$f":"IF($O$9=\"Runda 1\",'01'!G7,IF($O$9=\"Runda 2\",'01'!R7,IF($O$9=\"Runda 3\",'01'!AC7,IF($O$9=\"Runda 4\",'01'!AN7,IF($O$9=\"Runda 5\",'01'!AY7,0)))))","v":""},{"$f":"IF($O$9=\"Runda 1\",'01'!H7,IF($O$9=\"Runda 2\",'01'!S7,IF($O$9=\"Runda 3\",'01'!AD7,IF($O$9=\"Runda 4\",'01'!AO7,IF($O$9=\"Runda 5\",'01'!AZ7,0)))))","v":""},{"$f":"IF($O$9=\"Runda 1\",'01'!I7,IF($O$9=\"Runda 2\",'01'!T7,IF($O$9=\"Runda 3\",'01'!AE7,IF($O$9=\"Runda 4\",'01'!AP7,IF($O$9=\"Runda 5\",'01'!BA7,0)))))","v":""},{"$f":"IF($O$9=\"Runda 1\",'01'!J7,IF($O$9=\"Runda 2\",'01'!U7,IF($O$9=\"Runda 3\",'01'!AF7,IF($O$9=\"Runda 4\",'01'!AQ7,IF($O$9=\"Runda 5\",'01'!BB7,0)))))","v":""},{"$f":"IF($O$9=\"Runda 1\",'01'!K7,IF($O$9=\"Runda 2\",'01'!V7,IF($O$9=\"Runda 3\",'01'!AG7,IF($O$9=\"Runda 4\",'01'!AR7,IF($O$9=\"Runda 5\",'01'!BC7,0)))))","v":""},{"$f":"IF($O$9=\"Runda 1\",'01'!L7,IF($O$9=\"Runda 2\",'01'!W7,IF($O$9=\"Runda 3\",'01'!AH7,IF($O$9=\"Runda 4\",'01'!AS7,IF($O$9=\"Runda 5\",'01'!BD7,0)))))","v":""},0,{"$f":"IF(Z15>Z14,3,IF(Z15<Z14,0,1))","v":1}]
[]
[{"$f":"IF(E4=1,Tragere!B16,IF(E4=2,Tragere!B16,IF(E4=3,Tragere!B13,IF(E4=4,Tragere!B12,IF(E4=5,Tragere!B15,IF(E4=6,Tragere!B14,IF(E4=7,Tragere!B14)))))))","v":"O"},null,null,null,{"$f":"IF(E4=1,Tragere!B17,IF(E4=2,Tragere!B12,IF(E4=3,Tragere!B18,IF(E4=4,Tragere!B13,IF(E4=5,Tragere!B17,IF(E4=6,Tragere!B18,IF(E4=7,Tragere!B13)))))))","v":"10 Lei"},null,null,null,{"$f":"IF(E4=1,Tragere!B18,IF(E4=2,Tragere!B17,IF(E4=3,Tragere!B16,IF(E4=4,Tragere!B18,IF(E4=5,Tragere!B13,IF(E4=6,Tragere!B12,IF(E4=7,Tragere!B15)))))))","v":"GM"},null,null,null,null,null,"Runda 2",1,2,3,4,5,6,7,8,9,10,"R","P"]
[null,null,null,null,null,null,null,null,null,null,null,null,null,null,{"$f":"A10","v":"Asachi"},{"$f":"IF($O$17=\"Runda 1\",'01'!C2,IF($O$17=\"Runda 2\",'01'!N2,IF($O$17=\"Runda 3\",'01'!Y2,IF($O$17=\"Runda 4\",'01'!AJ2,IF($O$17=\"Runda 5\",'01'!AU2,0)))))","v":""},{"$f":"IF($O$17=\"Runda 1\",'01'!D2,IF($O$17=\"Runda 2\",'01'!O2,IF($O$17=\"Runda 3\",'01'!Z2,IF($O$17=\"Runda 4\",'01'!AK2,IF($O$17=\"Runda 5\",'01'!AV2,0)))))","v":""},{"$f":"IF($O$17=\"Runda 1\",'01'!E2,IF($O$17=\"Runda 2\",'01'!P2,IF($O$17=\"Runda 3\",'01'!AA2,IF($O$17=\"Runda 4\",'01'!AL2,IF($O$17=\"Runda 5\",'01'!AW2,0)))))","v":""},{"$f":"IF($O$17=\"Runda 1\",'01'!F2,IF($O$17=\"Runda 2\",'01'!Q2,IF($O$17=\"Runda 3\",'01'!AB2,IF($O$17=\"Runda 4\",'01'!AM2,IF($O$17=\"Runda 5\",'01'!AX2,0)))))","v":""},{"$f":"IF($O$17=\"Runda 1\",'01'!G2,IF($O$17=\"Runda 2\",'01'!R2,IF($O$17=\"Runda 3\",'01'!AC2,IF($O$17=\"Runda 4\",'01'!AN2,IF($O$17=\"Runda 5\",'01'!AY2,0)))))","v":""},{"$f":"IF($O$17=\"Runda 1\",'01'!H2,IF($O$17=\"Runda 2\",'01'!S2,IF($O$17=\"Runda 3\",'01'!AD2,IF($O$17=\"Runda 4\",'01'!AO2,IF($O$17=\"Runda 5\",'01'!AZ2,0)))))","v":""},{"$f":"IF($O$17=\"Runda 1\",'01'!I2,IF($O$17=\"Runda 2\",'01'!T2,IF($O$17=\"Runda 3\",'01'!AE2,IF($O$17=\"Runda 4\",'01'!AP2,IF($O$17=\"Runda 5\",'01'!BA2,0)))))","v":""},{"$f":"IF($O$17=\"Runda 1\",'01'!J2,IF($O$17=\"Runda 2\",'01'!U2,IF($O$17=\"Runda 3\",'01'!AF2,IF($O$17=\"Runda 4\",'01'!AQ2,IF($O$17=\"Runda 5\",'01'!BB2,0)))))","v":""},{"$f":"IF($O$17=\"Runda 1\",'01'!K2,IF($O$17=\"Runda 2\",'01'!V2,IF($O$17=\"Runda 3\",'01'!AG2,IF($O$17=\"Runda 4\",'01'!AR2,IF($O$17=\"Runda 5\",'01'!BC2,0)))))","v":""},{"$f":"IF($O$17=\"Runda 1\",'01'!L2,IF($O$17=\"Runda 2\",'01'!W2,IF($O$17=\"Runda 3\",'01'!AH2,IF($O$17=\"Runda 4\",'01'!AS2,IF($O$17=\"Runda 5\",'01'!BD2,0)))))","v":""},{"$f":"SUM(P18:Y18)","v":0},{"$f":"IF(Z18>Z19,3,IF(Z18<Z19,0,1))","v":1}]
[null,null,null,null,null,null,null,null,null,null,null,null,null,null,{"$f":"A17","v":"O"},{"$f":"IF($O$17=\"Runda 1\",'01'!C5,IF($O$17=\"Runda 2\",'01'!N5,IF($O$17=\"Runda 3\",'01'!Y5,IF($O$17=\"Runda 4\",'01'!AJ5,IF($O$17=\"Runda 5\",'01'!AU5,0)))))","v":""},{"$f":"IF($O$17=\"Runda 1\",'01'!D5,IF($O$17=\"Runda 2\",'01'!O5,IF($O$17=\"Runda 3\",'01'!Z5,IF($O$17=\"Runda 4\",'01'!AK5,IF($O$17=\"Runda 5\",'01'!AV5,0)))))","v":""},{"$f":"IF($O$17=\"Runda 1\",'01'!E5,IF($O$17=\"Runda 2\",'01'!P5,IF($O$17=\"Runda 3\",'01'!AA5,IF($O$17=\"Runda 4\",'01'!AL5,IF($O$17=\"Runda 5\",'01'!AW5,0)))))","v":""},{"$f":"IF($O$17=\"Runda 1\",'01'!F5,IF($O$17=\"Runda 2\",'01'!Q5,IF($O$17=\"Runda 3\",'01'!AB5,IF($O$17=\"Runda 4\",'01'!AM5,IF($O$17=\"Runda 5\",'01'!AX5,0)))))","v":""},{"$f":"IF($O$17=\"Runda 1\",'01'!G5,IF($O$17=\"Runda 2\",'01'!R5,IF($O$17=\"Runda 3\",'01'!AC5,IF($O$17=\"Runda 4\",'01'!AN5,IF($O$17=\"Runda 5\",'01'!AY5,0)))))","v":""},{"$f":"IF($O$17=\"Runda 1\",'01'!H5,IF($O$17=\"Runda 2\",'01'!S5,IF($O$17=\"Runda 3\",'01'!AD5,IF($O$17=\"Runda 4\",'01'!AO5,IF($O$17=\"Runda 5\",'01'!AZ5,0)))))","v":""},{"$f":"IF($O$17=\"Runda 1\",'01'!I5,IF($O$17=\"Runda 2\",'01'!T5,IF($O$17=\"Runda 3\",'01'!AE5,IF($O$17=\"Runda 4\",'01'!AP5,IF($O$17=\"Runda 5\",'01'!BA5,0)))))","v":""},{"$f":"IF($O$17=\"Runda 1\",'01'!J5,IF($O$17=\"Runda 2\",'01'!U5,IF($O$17=\"Runda 3\",'01'!AF5,IF($O$17=\"Runda 4\",'01'!AQ5,IF($O$17=\"Runda 5\",'01'!BB5,0)))))","v":""},{"$f":"IF($O$17=\"Runda 1\",'01'!K5,IF($O$17=\"Runda 2\",'01'!V5,IF($O$17=\"Runda 3\",'01'!AG5,IF($O$17=\"Runda 4\",'01'!AR5,IF($O$17=\"Runda 5\",'01'!BC5,0)))))","v":""},{"$f":"IF($O$17=\"Runda 1\",'01'!L5,IF($O$17=\"Runda 2\",'01'!W5,IF($O$17=\"Runda 3\",'01'!AH5,IF($O$17=\"Runda 4\",'01'!AS5,IF($O$17=\"Runda 5\",'01'!BD5,0)))))","v":""},0,{"$f":"IF(Z19>Z18,3,IF(Z19<Z18,0,1))","v":1}]
[null,null,null,null,null,null,null,null,null,null,null,null,null,null,{"$f":"E10","v":"Maktub"},{"$f":"IF($O$17=\"Runda 1\",'01'!C3,IF($O$17=\"Runda 2\",'01'!N3,IF($O$17=\"Runda 3\",'01'!Y3,IF($O$17=\"Runda 4\",'01'!AJ3,IF($O$17=\"Runda 5\",'01'!AU3,0)))))","v":""},{"$f":"IF($O$17=\"Runda 1\",'01'!D3,IF($O$17=\"Runda 2\",'01'!O3,IF($O$17=\"Runda 3\",'01'!Z3,IF($O$17=\"Runda 4\",'01'!AK3,IF($O$17=\"Runda 5\",'01'!AV3,0)))))","v":""},{"$f":"IF($O$17=\"Runda 1\",'01'!E3,IF($O$17=\"Runda 2\",'01'!P3,IF($O$17=\"Runda 3\",'01'!AA3,IF($O$17=\"Runda 4\",'01'!AL3,IF($O$17=\"Runda 5\",'01'!AW3,0)))))","v":""},{"$f":"IF($O$17=\"Runda 1\",'01'!F3,IF($O$17=\"Runda 2\",'01'!Q3,IF($O$17=\"Runda 3\",'01'!AB3,IF($O$17=\"Runda 4\",'01'!AM3,IF($O$17=\"Runda 5\",'01'!AX3,0)))))","v":""},{"$f":"IF($O$17=\"Runda 1\",'01'!G3,IF($O$17=\"Runda 2\",'01'!R3,IF($O$17=\"Runda 3\",'01'!AC3,IF($O$17=\"Runda 4\",'01'!AN3,IF($O$17=\"Runda 5\",'01'!AY3,0)))))","v":""},{"$f":"IF($O$17=\"Runda 1\",'01'!H3,IF($O$17=\"Runda 2\",'01'!S3,IF($O$17=\"Runda 3\",'01'!AD3,IF($O$17=\"Runda 4\",'01'!AO3,IF($O$17=\"Runda 5\",'01'!AZ3,0)))))","v":""},{"$f":"IF($O$17=\"Runda 1\",'01'!I3,IF($O$17=\"Runda 2\",'01'!T3,IF($O$17=\"Runda 3\",'01'!AE3,IF($O$17=\"Runda 4\",'01'!AP3,IF($O$17=\"Runda 5\",'01'!BA3,0)))))","v":""},{"$f":"IF($O$17=\"Runda 1\",'01'!J3,IF($O$17=\"Runda 2\",'01'!U3,IF($O$17=\"Runda 3\",'01'!AF3,IF($O$17=\"Runda 4\",'01'!AQ3,IF($O$17=\"Runda 5\",'01'!BB3,0)))))","v":""},{"$f":"IF($O$17=\"Runda 1\",'01'!K3,IF($O$17=\"Runda 2\",'01'!V3,IF($O$17=\"Runda 3\",'01'!AG3,IF($O$17=\"Runda 4\",'01'!AR3,IF($O$17=\"Runda 5\",'01'!BC3,0)))))","v":""},{"$f":"IF($O$17=\"Runda 1\",'01'!L3,IF($O$17=\"Runda 2\",'01'!W3,IF($O$17=\"Runda 3\",'01'!AH3,IF($O$17=\"Runda 4\",'01'!AS3,IF($O$17=\"Runda 5\",'01'!BD3,0)))))","v":""},0,{"$f":"IF(Z20>Z21,3,IF(Z20<Z21,0,1))","v":1}]
[null,null,null,null,null,null,null,null,null,null,null,null,null,null,{"$f":"I17","v":"GM"},{"$f":"IF($O$17=\"Runda 1\",'01'!C7,IF($O$17=\"Runda 2\",'01'!N7,IF($O$17=\"Runda 3\",'01'!Y7,IF($O$17=\"Runda 4\",'01'!AJ7,IF($O$17=\"Runda 5\",'01'!AU7,0)))))","v":""},{"$f":"IF($O$17=\"Runda 1\",'01'!D7,IF($O$17=\"Runda 2\",'01'!O7,IF($O$17=\"Runda 3\",'01'!Z7,IF($O$17=\"Runda 4\",'01'!AK7,IF($O$17=\"Runda 5\",'01'!AV7,0)))))","v":""},{"$f":"IF($O$17=\"Runda 1\",'01'!E7,IF($O$17=\"Runda 2\",'01'!P7,IF($O$17=\"Runda 3\",'01'!AA7,IF($O$17=\"Runda 4\",'01'!AL7,IF($O$17=\"Runda 5\",'01'!AW7,0)))))","v":""},{"$f":"IF($O$17=\"Runda 1\",'01'!F7,IF($O$17=\"Runda 2\",'01'!Q7,IF($O$17=\"Runda 3\",'01'!AB7,IF($O$17=\"Runda 4\",'01'!AM7,IF($O$17=\"Runda 5\",'01'!AX7,0)))))","v":""},{"$f":"IF($O$17=\"Runda 1\",'01'!G7,IF($O$17=\"Runda 2\",'01'!R7,IF($O$17=\"Runda 3\",'01'!AC7,IF($O$17=\"Runda 4\",'01'!AN7,IF($O$17=\"Runda 5\",'01'!AY7,0)))))","v":""},{"$f":"IF($O$17=\"Runda 1\",'01'!H7,IF($O$17=\"Runda 2\",'01'!S7,IF($O$17=\"Runda 3\",'01'!AD7,IF($O$17=\"Runda 4\",'01'!AO7,IF($O$17=\"Runda 5\",'01'!AZ7,0)))))","v":""},{"$f":"IF($O$17=\"Runda 1\",'01'!I7,IF($O$17=\"Runda 2\",'01'!T7,IF($O$17=\"Runda 3\",'01'!AE7,IF($O$17=\"Runda 4\",'01'!AP7,IF($O$17=\"Runda 5\",'01'!BA7,0)))))","v":""},{"$f":"IF($O$17=\"Runda 1\",'01'!J7,IF($O$17=\"Runda 2\",'01'!U7,IF($O$17=\"Runda 3\",'01'!AF7,IF($O$17=\"Runda 4\",'01'!AQ7,IF($O$17=\"Runda 5\",'01'!BB7,0)))))","v":""},{"$f":"IF($O$17=\"Runda 1\",'01'!K7,IF($O$17=\"Runda 2\",'01'!V7,IF($O$17=\"Runda 3\",'01'!AG7,IF($O$17=\"Runda 4\",'01'!AR7,IF($O$17=\"Runda 5\",'01'!BC7,0)))))","v":""},{"$f":"IF($O$17=\"Runda 1\",'01'!L7,IF($O$17=\"Runda 2\",'01'!W7,IF($O$17=\"Runda 3\",'01'!AH7,IF($O$17=\"Runda 4\",'01'!AS7,IF($O$17=\"Runda 5\",'01'!BD7,0)))))","v":""},0,{"$f":"IF(Z21>Z20,3,IF(Z21<Z20,0,1))","v":1}]
[null,null,null,null,null,null,null,null,null,null,null,null,null,null,{"$f":"I10","v":"Acord"},{"$f":"IF($O$17=\"Runda 1\",'01'!C4,IF($O$17=\"Runda 2\",'01'!N4,IF($O$17=\"Runda 3\",'01'!Y4,IF($O$17=\"Runda 4\",'01'!AJ4,IF($O$17=\"Runda 5\",'01'!AU4,0)))))","v":""},{"$f":"IF($O$17=\"Runda 1\",'01'!D4,IF($O$17=\"Runda 2\",'01'!O4,IF($O$17=\"Runda 3\",'01'!Z4,IF($O$17=\"Runda 4\",'01'!AK4,IF($O$17=\"Runda 5\",'01'!AV4,0)))))","v":""},{"$f":"IF($O$17=\"Runda 1\",'01'!E4,IF($O$17=\"Runda 2\",'01'!P4,IF($O$17=\"Runda 3\",'01'!AA4,IF($O$17=\"Runda 4\",'01'!AL4,IF($O$17=\"Runda 5\",'01'!AW4,0)))))","v":""},{"$f":"IF($O$17=\"Runda 1\",'01'!F4,IF($O$17=\"Runda 2\",'01'!Q4,IF($O$17=\"Runda 3\",'01'!AB4,IF($O$17=\"Runda 4\",'01'!AM4,IF($O$17=\"Runda 5\",'01'!AX4,0)))))","v":""},{"$f":"IF($O$17=\"Runda 1\",'01'!G4,IF($O$17=\"Runda 2\",'01'!R4,IF($O$17=\"Runda 3\",'01'!AC4,IF($O$17=\"Runda 4\",'01'!AN4,IF($O$17=\"Runda 5\",'01'!AY4,0)))))","v":""},{"$f":"IF($O$17=\"Runda 1\",'01'!H4,IF($O$17=\"Runda 2\",'01'!S4,IF($O$17=\"Runda 3\",'01'!AD4,IF($O$17=\"Runda 4\",'01'!AO4,IF($O$17=\"Runda 5\",'01'!AZ4,0)))))","v":""},{"$f":"IF($O$17=\"Runda 1\",'01'!I4,IF($O$17=\"Runda 2\",'01'!T4,IF($O$17=\"Runda 3\",'01'!AE4,IF($O$17=\"Runda 4\",'01'!AP4,IF($O$17=\"Runda 5\",'01'!BA4,0)))))","v":""},{"$f":"IF($O$17=\"Runda 1\",'01'!J4,IF($O$17=\"Runda 2\",'01'!U4,IF($O$17=\"Runda 3\",'01'!AF4,IF($O$17=\"Runda 4\",'01'!AQ4,IF($O$17=\"Runda 5\",'01'!BB4,0)))))","v":""},{"$f":"IF($O$17=\"Runda 1\",'01'!K4,IF($O$17=\"Runda 2\",'01'!V4,IF($O$17=\"Runda 3\",'01'!AG4,IF($O$17=\"Runda 4\",'01'!AR4,IF($O$17=\"Runda 5\",'01'!BC4,0)))))","v":""},{"$f":"IF($O$17=\"Runda 1\",'01'!L4,IF($O$17=\"Runda 2\",'01'!W4,IF($O$17=\"Runda 3\",'01'!AH4,IF($O$17=\"Runda 4\",'01'!AS4,IF($O$17=\"Runda 5\",'01'!BD4,0)))))","v":""},0,{"$f":"IF(Z22>Z23,3,IF(Z22<Z23,0,1))","v":1}]
[null,null,null,null,null,null,null,null,null,null,null,null,null,null,{"$f":"E17","v":"10 Lei"},{"$f":"IF($O$17=\"Runda 1\",'01'!C6,IF($O$17=\"Runda 2\",'01'!N6,IF($O$17=\"Runda 3\",'01'!Y6,IF($O$17=\"Runda 4\",'01'!AJ6,IF($O$17=\"Runda 5\",'01'!AU6,0)))))","v":""},{"$f":"IF($O$17=\"Runda 1\",'01'!D6,IF($O$17=\"Runda 2\",'01'!O6,IF($O$17=\"Runda 3\",'01'!Z6,IF($O$17=\"Runda 4\",'01'!AK6,IF($O$17=\"Runda 5\",'01'!AV6,0)))))","v":""},{"$f":"IF($O$17=\"Runda 1\",'01'!E6,IF($O$17=\"Runda 2\",'01'!P6,IF($O$17=\"Runda 3\",'01'!AA6,IF($O$17=\"Runda 4\",'01'!AL6,IF($O$17=\"Runda 5\",'01'!AW6,0)))))","v":""},{"$f":"IF($O$17=\"Runda 1\",'01'!F6,IF($O$17=\"Runda 2\",'01'!Q6,IF($O$17=\"Runda 3\",'01'!AB6,IF($O$17=\"Runda 4\",'01'!AM6,IF($O$17=\"Runda 5\",'01'!AX6,0)))))","v":""},{"$f":"IF($O$17=\"Runda 1\",'01'!G6,IF($O$17=\"Runda 2\",'01'!R6,IF($O$17=\"Runda 3\",'01'!AC6,IF($O$17=\"Runda 4\",'01'!AN6,IF($O$17=\"Runda 5\",'01'!AY6,0)))))","v":""},{"$f":"IF($O$17=\"Runda 1\",'01'!H6,IF($O$17=\"Runda 2\",'01'!S6,IF($O$17=\"Runda 3\",'01'!AD6,IF($O$17=\"Runda 4\",'01'!AO6,IF($O$17=\"Runda 5\",'01'!AZ6,0)))))","v":""},{"$f":"IF($O$17=\"Runda 1\",'01'!I6,IF($O$17=\"Runda 2\",'01'!T6,IF($O$17=\"Runda 3\",'01'!AE6,IF($O$17=\"Runda 4\",'01'!AP6,IF($O$17=\"Runda 5\",'01'!BA6,0)))))","v":""},{"$f":"IF($O$17=\"Runda 1\",'01'!J6,IF($O$17=\"Runda 2\",'01'!U6,IF($O$17=\"Runda 3\",'01'!AF6,IF($O$17=\"Runda 4\",'01'!AQ6,IF($O$17=\"Runda 5\",'01'!BB6,0)))))","v":""},{"$f":"IF($O$17=\"Runda 1\",'01'!K6,IF($O$17=\"Runda 2\",'01'!V6,IF($O$17=\"Runda 3\",'01'!AG6,IF($O$17=\"Runda 4\",'01'!AR6,IF($O$17=\"Runda 5\",'01'!BC6,0)))))","v":""},{"$f":"IF($O$17=\"Runda 1\",'01'!L6,IF($O$17=\"Runda 2\",'01'!W6,IF($O$17=\"Runda 3\",'01'!AH6,IF($O$17=\"Runda 4\",'01'!AS6,IF($O$17=\"Runda 5\",'01'!BD6,0)))))","v":""},0,{"$f":"IF(Z23>Z22,3,IF(Z23<Z22,0,1))","v":1}]
[]
["Contestatii",null,null,null,"Numarul intrebarii",null,null,null,null,null,null,null,null,null,"Runda 3",1,2,3,4,5,6,7,8,9,10,"R","P"]
[{"$f":"A10","v":"Asachi"},null,null,null," ",null,null,null,null,null,null,null,null,null,{"$f":"A10","v":"Asachi"},{"$f":"IF($O$25=\"Runda 1\",'01'!C2,IF($O$25=\"Runda 2\",'01'!N2,IF($O$25=\"Runda 3\",'01'!Y2,IF($O$25=\"Runda 4\",'01'!AJ2,IF($O$25=\"Runda 5\",'01'!AU2,0)))))","v":""},{"$f":"IF($O$25=\"Runda 1\",'01'!D2,IF($O$25=\"Runda 2\",'01'!O2,IF($O$25=\"Runda 3\",'01'!Z2,IF($O$25=\"Runda 4\",'01'!AK2,IF($O$25=\"Runda 5\",'01'!AV2,0)))))","v":""},{"$f":"IF($O$25=\"Runda 1\",'01'!E2,IF($O$25=\"Runda 2\",'01'!P2,IF($O$25=\"Runda 3\",'01'!AA2,IF($O$25=\"Runda 4\",'01'!AL2,IF($O$25=\"Runda 5\",'01'!AW2,0)))))","v":""},{"$f":"IF($O$25=\"Runda 1\",'01'!F2,IF($O$25=\"Runda 2\",'01'!Q2,IF($O$25=\"Runda 3\",'01'!AB2,IF($O$25=\"Runda 4\",'01'!AM2,IF($O$25=\"Runda 5\",'01'!AX2,0)))))","v":""},{"$f":"IF($O$25=\"Runda 1\",'01'!G2,IF($O$25=\"Runda 2\",'01'!R2,IF($O$25=\"Runda 3\",'01'!AC2,IF($O$25=\"Runda 4\",'01'!AN2,IF($O$25=\"Runda 5\",'01'!AY2,0)))))","v":""},{"$f":"IF($O$25=\"Runda 1\",'01'!H2,IF($O$25=\"Runda 2\",'01'!S2,IF($O$25=\"Runda 3\",'01'!AD2,IF($O$25=\"Runda 4\",'01'!AO2,IF($O$25=\"Runda 5\",'01'!AZ2,0)))))","v":""},{"$f":"IF($O$25=\"Runda 1\",'01'!I2,IF($O$25=\"Runda 2\",'01'!T2,IF($O$25=\"Runda 3\",'01'!AE2,IF($O$25=\"Runda 4\",'01'!AP2,IF($O$25=\"Runda 5\",'01'!BA2,0)))))","v":""},{"$f":"IF($O$25=\"Runda 1\",'01'!J2,IF($O$25=\"Runda 2\",'01'!U2,IF($O$25=\"Runda 3\",'01'!AF2,IF($O$25=\"Runda 4\",'01'!AQ2,IF($O$25=\"Runda 5\",'01'!BB2,0)))))","v":""},{"$f":"IF($O$25=\"Runda 1\",'01'!K2,IF($O$25=\"Runda 2\",'01'!V2,IF($O$25=\"Runda 3\",'01'!AG2,IF($O$25=\"Runda 4\",'01'!AR2,IF($O$25=\"Runda 5\",'01'!BC2,0)))))","v":""},{"$f":"IF($O$25=\"Runda 1\",'01'!L2,IF($O$25=\"Runda 2\",'01'!W2,IF($O$25=\"Runda 3\",'01'!AH2,IF($O$25=\"Runda 4\",'01'!AS2,IF($O$25=\"Runda 5\",'01'!BD2,0)))))","v":""},{"$f":"SUM(P26:Y26)","v":0},{"$f":"IF(Z26>Z27,3,IF(Z26<Z27,0,1))","v":1}]
[{"$f":"E10","v":"Maktub"},null,null,null,null,null,null,null,null,null,null,null,null,null,{"$f":"E17","v":"10 Lei"},{"$f":"IF($O$25=\"Runda 1\",'01'!C6,IF($O$25=\"Runda 2\",'01'!N6,IF($O$25=\"Runda 3\",'01'!Y6,IF($O$25=\"Runda 4\",'01'!AJ6,IF($O$25=\"Runda 5\",'01'!AU6,0)))))","v":""},{"$f":"IF($O$25=\"Runda 1\",'01'!D6,IF($O$25=\"Runda 2\",'01'!O6,IF($O$25=\"Runda 3\",'01'!Z6,IF($O$25=\"Runda 4\",'01'!AK6,IF($O$25=\"Runda 5\",'01'!AV6,0)))))","v":""},{"$f":"IF($O$25=\"Runda 1\",'01'!E6,IF($O$25=\"Runda 2\",'01'!P6,IF($O$25=\"Runda 3\",'01'!AA6,IF($O$25=\"Runda 4\",'01'!AL6,IF($O$25=\"Runda 5\",'01'!AW6,0)))))","v":""},{"$f":"IF($O$25=\"Runda 1\",'01'!F6,IF($O$25=\"Runda 2\",'01'!Q6,IF($O$25=\"Runda 3\",'01'!AB6,IF($O$25=\"Runda 4\",'01'!AM6,IF($O$25=\"Runda 5\",'01'!AX6,0)))))","v":""},{"$f":"IF($O$25=\"Runda 1\",'01'!G6,IF($O$25=\"Runda 2\",'01'!R6,IF($O$25=\"Runda 3\",'01'!AC6,IF($O$25=\"Runda 4\",'01'!AN6,IF($O$25=\"Runda 5\",'01'!AY6,0)))))","v":""},{"$f":"IF($O$25=\"Runda 1\",'01'!H6,IF($O$25=\"Runda 2\",'01'!S6,IF($O$25=\"Runda 3\",'01'!AD6,IF($O$25=\"Runda 4\",'01'!AO6,IF($O$25=\"Runda 5\",'01'!AZ6,0)))))","v":""},{"$f":"IF($O$25=\"Runda 1\",'01'!I6,IF($O$25=\"Runda 2\",'01'!T6,IF($O$25=\"Runda 3\",'01'!AE6,IF($O$25=\"Runda 4\",'01'!AP6,IF($O$25=\"Runda 5\",'01'!BA6,0)))))","v":""},{"$f":"IF($O$25=\"Runda 1\",'01'!J6,IF($O$25=\"Runda 2\",'01'!U6,IF($O$25=\"Runda 3\",'01'!AF6,IF($O$25=\"Runda 4\",'01'!AQ6,IF($O$25=\"Runda 5\",'01'!BB6,0)))))","v":""},{"$f":"IF($O$25=\"Runda 1\",'01'!K6,IF($O$25=\"Runda 2\",'01'!V6,IF($O$25=\"Runda 3\",'01'!AG6,IF($O$25=\"Runda 4\",'01'!AR6,IF($O$25=\"Runda 5\",'01'!BC6,0)))))","v":""},{"$f":"IF($O$25=\"Runda 1\",'01'!L6,IF($O$25=\"Runda 2\",'01'!W6,IF($O$25=\"Runda 3\",'01'!AH6,IF($O$25=\"Runda 4\",'01'!AS6,IF($O$25=\"Runda 5\",'01'!BD6,0)))))","v":""},0,{"$f":"IF(Z27>Z26,3,IF(Z27<Z26,0,1))","v":1}]
[{"$f":"I10","v":"Acord"},null,null,null,null,null,null,null,null,null,null,null,null,null,{"$f":"E10","v":"Maktub"},{"$f":"IF($O$25=\"Runda 1\",'01'!C3,IF($O$25=\"Runda 2\",'01'!N3,IF($O$25=\"Runda 3\",'01'!Y3,IF($O$25=\"Runda 4\",'01'!AJ3,IF($O$25=\"Runda 5\",'01'!AU3,0)))))","v":""},{"$f":"IF($O$25=\"Runda 1\",'01'!D3,IF($O$25=\"Runda 2\",'01'!O3,IF($O$25=\"Runda 3\",'01'!Z3,IF($O$25=\"Runda 4\",'01'!AK3,IF($O$25=\"Runda 5\",'01'!AV3,0)))))","v":""},{"$f":"IF($O$25=\"Runda 1\",'01'!E3,IF($O$25=\"Runda 2\",'01'!P3,IF($O$25=\"Runda 3\",'01'!AA3,IF($O$25=\"Runda 4\",'01'!AL3,IF($O$25=\"Runda 5\",'01'!AW3,0)))))","v":""},{"$f":"IF($O$25=\"Runda 1\",'01'!F3,IF($O$25=\"Runda 2\",'01'!Q3,IF($O$25=\"Runda 3\",'01'!AB3,IF($O$25=\"Runda 4\",'01'!AM3,IF($O$25=\"Runda 5\",'01'!AX3,0)))))","v":""},{"$f":"IF($O$25=\"Runda 1\",'01'!G3,IF($O$25=\"Runda 2\",'01'!R3,IF($O$25=\"Runda 3\",'01'!AC3,IF($O$25=\"Runda 4\",'01'!AN3,IF($O$25=\"Runda 5\",'01'!AY3,0)))))","v":""},{"$f":"IF($O$25=\"Runda 1\",'01'!H3,IF($O$25=\"Runda 2\",'01'!S3,IF($O$25=\"Runda 3\",'01'!AD3,IF($O$25=\"Runda 4\",'01'!AO3,IF($O$25=\"Runda 5\",'01'!AZ3,0)))))","v":""},{"$f":"IF($O$25=\"Runda 1\",'01'!I3,IF($O$25=\"Runda 2\",'01'!T3,IF($O$25=\"Runda 3\",'01'!AE3,IF($O$25=\"Runda 4\",'01'!AP3,IF($O$25=\"Runda 5\",'01'!BA3,0)))))","v":""},{"$f":"IF($O$25=\"Runda 1\",'01'!J3,IF($O$25=\"Runda 2\",'01'!U3,IF($O$25=\"Runda 3\",'01'!AF3,IF($O$25=\"Runda 4\",'01'!AQ3,IF($O$25=\"Runda 5\",'01'!BB3,0)))))","v":""},{"$f":"IF($O$25=\"Runda 1\",'01'!K3,IF($O$25=\"Runda 2\",'01'!V3,IF($O$25=\"Runda 3\",'01'!AG3,IF($O$25=\"Runda 4\",'01'!AR3,IF($O$25=\"Runda 5\",'01'!BC3,0)))))","v":""},{"$f":"IF($O$25=\"Runda 1\",'01'!L3,IF($O$25=\"Runda 2\",'01'!W3,IF($O$25=\"Runda 3\",'01'!AH3,IF($O$25=\"Runda 4\",'01'!AS3,IF($O$25=\"Runda 5\",'01'!BD3,0)))))","v":""},0,{"$f":"IF(Z28>Z29,3,IF(Z28<Z29,0,1))","v":1}]
[{"$f":"A17","v":"O"},null,null,null,null,null,null,null,null,null,null,null,null,null,{"$f":"A17","v":"O"},{"$f":"IF($O$25=\"Runda 1\",'01'!C5,IF($O$25=\"Runda 2\",'01'!N5,IF($O$25=\"Runda 3\",'01'!Y5,IF($O$25=\"Runda 4\",'01'!AJ5,IF($O$25=\"Runda 5\",'01'!AU5,0)))))","v":""},{"$f":"IF($O$25=\"Runda 1\",'01'!D5,IF($O$25=\"Runda 2\",'01'!O5,IF($O$25=\"Runda 3\",'01'!Z5,IF($O$25=\"Runda 4\",'01'!AK5,IF($O$25=\"Runda 5\",'01'!AV5,0)))))","v":""},{"$f":"IF($O$25=\"Runda 1\",'01'!E5,IF($O$25=\"Runda 2\",'01'!P5,IF($O$25=\"Runda 3\",'01'!AA5,IF($O$25=\"Runda 4\",'01'!AL5,IF($O$25=\"Runda 5\",'01'!AW5,0)))))","v":""},{"$f":"IF($O$25=\"Runda 1\",'01'!F5,IF($O$25=\"Runda 2\",'01'!Q5,IF($O$25=\"Runda 3\",'01'!AB5,IF($O$25=\"Runda 4\",'01'!AM5,IF($O$25=\"Runda 5\",'01'!AX5,0)))))","v":""},{"$f":"IF($O$25=\"Runda 1\",'01'!G5,IF($O$25=\"Runda 2\",'01'!R5,IF($O$25=\"Runda 3\",'01'!AC5,IF($O$25=\"Runda 4\",'01'!AN5,IF($O$25=\"Runda 5\",'01'!AY5,0)))))","v":""},{"$f":"IF($O$25=\"Runda 1\",'01'!H5,IF($O$25=\"Runda 2\",'01'!S5,IF($O$25=\"Runda 3\",'01'!AD5,IF($O$25=\"Runda 4\",'01'!AO5,IF($O$25=\"Runda 5\",'01'!AZ5,0)))))","v":""},{"$f":"IF($O$25=\"Runda 1\",'01'!I5,IF($O$25=\"Runda 2\",'01'!T5,IF($O$25=\"Runda 3\",'01'!AE5,IF($O$25=\"Runda 4\",'01'!AP5,IF($O$25=\"Runda 5\",'01'!BA5,0)))))","v":""},{"$f":"IF($O$25=\"Runda 1\",'01'!J5,IF($O$25=\"Runda 2\",'01'!U5,IF($O$25=\"Runda 3\",'01'!AF5,IF($O$25=\"Runda 4\",'01'!AQ5,IF($O$25=\"Runda 5\",'01'!BB5,0)))))","v":""},{"$f":"IF($O$25=\"Runda 1\",'01'!K5,IF($O$25=\"Runda 2\",'01'!V5,IF($O$25=\"Runda 3\",'01'!AG5,IF($O$25=\"Runda 4\",'01'!AR5,IF($O$25=\"Runda 5\",'01'!BC5,0)))))","v":""},{"$f":"IF($O$25=\"Runda 1\",'01'!L5,IF($O$25=\"Runda 2\",'01'!W5,IF($O$25=\"Runda 3\",'01'!AH5,IF($O$25=\"Runda 4\",'01'!AS5,IF($O$25=\"Runda 5\",'01'!BD5,0)))))","v":""},0,{"$f":"IF(Z29>Z28,3,IF(Z29<Z28,0,1))","v":1}]
[{"$f":"E17","v":"10 Lei"},null,null,null,null,null,null,null,null,null,null,null,null,null,{"$f":"I10","v":"Acord"},{"$f":"IF($O$25=\"Runda 1\",'01'!C4,IF($O$25=\"Runda 2\",'01'!N4,IF($O$25=\"Runda 3\",'01'!Y4,IF($O$25=\"Runda 4\",'01'!AJ4,IF($O$25=\"Runda 5\",'01'!AU4,0)))))","v":""},{"$f":"IF($O$25=\"Runda 1\",'01'!D4,IF($O$25=\"Runda 2\",'01'!O4,IF($O$25=\"Runda 3\",'01'!Z4,IF($O$25=\"Runda 4\",'01'!AK4,IF($O$25=\"Runda 5\",'01'!AV4,0)))))","v":""},{"$f":"IF($O$25=\"Runda 1\",'01'!E4,IF($O$25=\"Runda 2\",'01'!P4,IF($O$25=\"Runda 3\",'01'!AA4,IF($O$25=\"Runda 4\",'01'!AL4,IF($O$25=\"Runda 5\",'01'!AW4,0)))))","v":""},{"$f":"IF($O$25=\"Runda 1\",'01'!F4,IF($O$25=\"Runda 2\",'01'!Q4,IF($O$25=\"Runda 3\",'01'!AB4,IF($O$25=\"Runda 4\",'01'!AM4,IF($O$25=\"Runda 5\",'01'!AX4,0)))))","v":""},{"$f":"IF($O$25=\"Runda 1\",'01'!G4,IF($O$25=\"Runda 2\",'01'!R4,IF($O$25=\"Runda 3\",'01'!AC4,IF($O$25=\"Runda 4\",'01'!AN4,IF($O$25=\"Runda 5\",'01'!AY4,0)))))","v":""},{"$f":"IF($O$25=\"Runda 1\",'01'!H4,IF($O$25=\"Runda 2\",'01'!S4,IF($O$25=\"Runda 3\",'01'!AD4,IF($O$25=\"Runda 4\",'01'!AO4,IF($O$25=\"Runda 5\",'01'!AZ4,0)))))","v":""},{"$f":"IF($O$25=\"Runda 1\",'01'!I4,IF($O$25=\"Runda 2\",'01'!T4,IF($O$25=\"Runda 3\",'01'!AE4,IF($O$25=\"Runda 4\",'01'!AP4,IF($O$25=\"Runda 5\",'01'!BA4,0)))))","v":""},{"$f":"IF($O$25=\"Runda 1\",'01'!J4,IF($O$25=\"Runda 2\",'01'!U4,IF($O$25=\"Runda 3\",'01'!AF4,IF($O$25=\"Runda 4\",'01'!AQ4,IF($O$25=\"Runda 5\",'01'!BB4,0)))))","v":""},{"$f":"IF($O$25=\"Runda 1\",'01'!K4,IF($O$25=\"Runda 2\",'01'!V4,IF($O$25=\"Runda 3\",'01'!AG4,IF($O$25=\"Runda 4\",'01'!AR4,IF($O$25=\"Runda 5\",'01'!BC4,0)))))","v":""},{"$f":"IF($O$25=\"Runda 1\",'01'!L4,IF($O$25=\"Runda 2\",'01'!W4,IF($O$25=\"Runda 3\",'01'!AH4,IF($O$25=\"Runda 4\",'01'!AS4,IF($O$25=\"Runda 5\",'01'!BD4,0)))))","v":""},0,{"$f":"IF(Z30>Z31,3,IF(Z30<Z31,0,1))","v":1}]
[{"$f":"I17","v":"GM"},null,null,null,null,null,null,null,null,null,null,null,null,null,{"$f":"I17","v":"GM"},{"$f":"IF($O$25=\"Runda 1\",'01'!C7,IF($O$25=\"Runda 2\",'01'!N7,IF($O$25=\"Runda 3\",'01'!Y7,IF($O$25=\"Runda 4\",'01'!AJ7,IF($O$25=\"Runda 5\",'01'!AU7,0)))))","v":""},{"$f":"IF($O$25=\"Runda 1\",'01'!D7,IF($O$25=\"Runda 2\",'01'!O7,IF($O$25=\"Runda 3\",'01'!Z7,IF($O$25=\"Runda 4\",'01'!AK7,IF($O$25=\"Runda 5\",'01'!AV7,0)))))","v":""},{"$f":"IF($O$25=\"Runda 1\",'01'!E7,IF($O$25=\"Runda 2\",'01'!P7,IF($O$25=\"Runda 3\",'01'!AA7,IF($O$25=\"Runda 4\",'01'!AL7,IF($O$25=\"Runda 5\",'01'!AW7,0)))))","v":""},{"$f":"IF($O$25=\"Runda 1\",'01'!F7,IF($O$25=\"Runda 2\",'01'!Q7,IF($O$25=\"Runda 3\",'01'!AB7,IF($O$25=\"Runda 4\",'01'!AM7,IF($O$25=\"Runda 5\",'01'!AX7,0)))))","v":""},{"$f":"IF($O$25=\"Runda 1\",'01'!G7,IF($O$25=\"Runda 2\",'01'!R7,IF($O$25=\"Runda 3\",'01'!AC7,IF($O$25=\"Runda 4\",'01'!AN7,IF($O$25=\"Runda 5\",'01'!AY7,0)))))","v":""},{"$f":"IF($O$25=\"Runda 1\",'01'!H7,IF($O$25=\"Runda 2\",'01'!S7,IF($O$25=\"Runda 3\",'01'!AD7,IF($O$25=\"Runda 4\",'01'!AO7,IF($O$25=\"Runda 5\",'01'!AZ7,0)))))","v":""},{"$f":"IF($O$25=\"Runda 1\",'01'!I7,IF($O$25=\"Runda 2\",'01'!T7,IF($O$25=\"Runda 3\",'01'!AE7,IF($O$25=\"Runda 4\",'01'!AP7,IF($O$25=\"Runda 5\",'01'!BA7,0)))))","v":""},{"$f":"IF($O$25=\"Runda 1\",'01'!J7,IF($O$25=\"Runda 2\",'01'!U7,IF($O$25=\"Runda 3\",'01'!AF7,IF($O$25=\"Runda 4\",'01'!AQ7,IF($O$25=\"Runda 5\",'01'!BB7,0)))))","v":""},{"$f":"IF($O$25=\"Runda 1\",'01'!K7,IF($O$25=\"Runda 2\",'01'!V7,IF($O$25=\"Runda 3\",'01'!AG7,IF($O$25=\"Runda 4\",'01'!AR7,IF($O$25=\"Runda 5\",'01'!BC7,0)))))","v":""},{"$f":"IF($O$25=\"Runda 1\",'01'!L7,IF($O$25=\"Runda 2\",'01'!W7,IF($O$25=\"Runda 3\",'01'!AH7,IF($O$25=\"Runda 4\",'01'!AS7,IF($O$25=\"Runda 5\",'01'!BD7,0)))))","v":""},0,{"$f":"IF(Z31>Z30,3,IF(Z31<Z30,0,1))","v":1}]
[]
["Rezultate etapa",null,null,null,"V","E","I","RASP",null,"PUNCTE",null,null,null,null,"Runda 5",1,2,3,4,5,6,7,8,9,10,"R","P"]
[{"$f":"A10","v":"Asachi"},null,null,null,{"$f":"SUM(IF(AA2=3,1,0),IF(AA10=3,1,0),IF(AA18=3,1,0),IF(AA26=3,1,0),IF(AA34=3,1,0))","v":0},{"$f":"SUM(IF(AA2=1,1,0),IF(AA10=1,1,0),IF(AA18=1,1,0),IF(AA26=1,1,0),IF(AA34=1,1,0))","v":5},{"$f":"SUM(IF(AA2=0,1,0),IF(AA10=0,1,0),IF(AA18=0,1,0),IF(AA26=0,1,0),IF(AA34=0,1,0))","v":0},{"$f":"SUM(Z2,Z10,Z18,Z26,Z34)","v":0},null,{"$f":"SUM(AA2,AA10,AA18,AA26,AA34)","v":5},null,null,null,null,{"$f":"A10","v":"Asachi"},{"$f":"IF($O$33=\"Runda 1\",'01'!C2,IF($O$33=\"Runda 2\",'01'!N2,IF($O$33=\"Runda 3\",'01'!Y2,IF($O$33=\"Runda 4\",'01'!AJ2,IF($O$33=\"Runda 5\",'01'!AU2,0)))))","v":""},{"$f":"IF($O$33=\"Runda 1\",'01'!D2,IF($O$33=\"Runda 2\",'01'!O2,IF($O$33=\"Runda 3\",'01'!Z2,IF($O$33=\"Runda 4\",'01'!AK2,IF($O$33=\"Runda 5\",'01'!AV2,0)))))","v":""},{"$f":"IF($O$33=\"Runda 1\",'01'!E2,IF($O$33=\"Runda 2\",'01'!P2,IF($O$33=\"Runda 3\",'01'!AA2,IF($O$33=\"Runda 4\",'01'!AL2,IF($O$33=\"Runda 5\",'01'!AW2,0)))))","v":""},{"$f":"IF($O$33=\"Runda 1\",'01'!F2,IF($O$33=\"Runda 2\",'01'!Q2,IF($O$33=\"Runda 3\",'01'!AB2,IF($O$33=\"Runda 4\",'01'!AM2,IF($O$33=\"Runda 5\",'01'!AX2,0)))))","v":""},{"$f":"IF($O$33=\"Runda 1\",'01'!G2,IF($O$33=\"Runda 2\",'01'!R2,IF($O$33=\"Runda 3\",'01'!AC2,IF($O$33=\"Runda 4\",'01'!AN2,IF($O$33=\"Runda 5\",'01'!AY2,0)))))","v":""},{"$f":"IF($O$33=\"Runda 1\",'01'!H2,IF($O$33=\"Runda 2\",'01'!S2,IF($O$33=\"Runda 3\",'01'!AD2,IF($O$33=\"Runda 4\",'01'!AO2,IF($O$33=\"Runda 5\",'01'!AZ2,0)))))","v":""},{"$f":"IF($O$33=\"Runda 1\",'01'!I2,IF($O$33=\"Runda 2\",'01'!T2,IF($O$33=\"Runda 3\",'01'!AE2,IF($O$33=\"Runda 4\",'01'!AP2,IF($O$33=\"Runda 5\",'01'!BA2,0)))))","v":""},{"$f":"IF($O$33=\"Runda 1\",'01'!J2,IF($O$33=\"Runda 2\",'01'!U2,IF($O$33=\"Runda 3\",'01'!AF2,IF($O$33=\"Runda 4\",'01'!AQ2,IF($O$33=\"Runda 5\",'01'!BB2,0)))))","v":""},{"$f":"IF($O$33=\"Runda 1\",'01'!K2,IF($O$33=\"Runda 2\",'01'!V2,IF($O$33=\"Runda 3\",'01'!AG2,IF($O$33=\"Runda 4\",'01'!AR2,IF($O$33=\"Runda 5\",'01'!BC2,0)))))","v":""},{"$f":"IF($O$33=\"Runda 1\",'01'!L2,IF($O$33=\"Runda 2\",'01'!W2,IF($O$33=\"Runda 3\",'01'!AH2,IF($O$33=\"Runda 4\",'01'!AS2,IF($O$33=\"Runda 5\",'01'!BD2,0)))))","v":""},{"$f":"SUM(P34:Y34)","v":0},{"$f":"IF(Z34>Z35,3,IF(Z34<Z35,0,1))","v":1}]
[{"$f":"E10","v":"Maktub"},null,null,null,{"$f":"SUM(IF(AA3=3,1,0),IF(AA12=3,1,0),IF(AA20=3,1,0),IF(AA28=3,1,0),IF(AA36=3,1,0))","v":0},{"$f":"SUM(IF(AA3=1,1,0),IF(AA12=1,1,0),IF(AA20=1,1,0),IF(AA28=1,1,0),IF(AA36=1,1,0))","v":5},{"$f":"SUM(IF(AA3=0,1,0),IF(AA12=0,1,0),IF(AA20=0,1,0),IF(AA28=0,1,0),IF(AA36=0,1,0))","v":0},{"$f":"SUM(Z3,Z12,Z20,Z28,Z36)","v":0},null,{"$f":"SUM(AA3,AA12,AA20,AA28,AA36)","v":5},null,null,null,null,{"$f":"I17","v":"GM"},{"$f":"IF($O$33=\"Runda 1\",'01'!C7,IF($O$33=\"Runda 2\",'01'!N7,IF($O$33=\"Runda 3\",'01'!Y7,IF($O$33=\"Runda 4\",'01'!AJ7,IF($O$33=\"Runda 5\",'01'!AU7,0)))))","v":""},{"$f":"IF($O$33=\"Runda 1\",'01'!D7,IF($O$33=\"Runda 2\",'01'!O7,IF($O$33=\"Runda 3\",'01'!Z7,IF($O$33=\"Runda 4\",'01'!AK7,IF($O$33=\"Runda 5\",'01'!AV7,0)))))","v":""},{"$f":"IF($O$33=\"Runda 1\",'01'!E7,IF($O$33=\"Runda 2\",'01'!P7,IF($O$33=\"Runda 3\",'01'!AA7,IF($O$33=\"Runda 4\",'01'!AL7,IF($O$33=\"Runda 5\",'01'!AW7,0)))))","v":""},{"$f":"IF($O$33=\"Runda 1\",'01'!F7,IF($O$33=\"Runda 2\",'01'!Q7,IF($O$33=\"Runda 3\",'01'!AB7,IF($O$33=\"Runda 4\",'01'!AM7,IF($O$33=\"Runda 5\",'01'!AX7,0)))))","v":""},{"$f":"IF($O$33=\"Runda 1\",'01'!G7,IF($O$33=\"Runda 2\",'01'!R7,IF($O$33=\"Runda 3\",'01'!AC7,IF($O$33=\"Runda 4\",'01'!AN7,IF($O$33=\"Runda 5\",'01'!AY7,0)))))","v":""},{"$f":"IF($O$33=\"Runda 1\",'01'!H7,IF($O$33=\"Runda 2\",'01'!S7,IF($O$33=\"Runda 3\",'01'!AD7,IF($O$33=\"Runda 4\",'01'!AO7,IF($O$33=\"Runda 5\",'01'!AZ7,0)))))","v":""},{"$f":"IF($O$33=\"Runda 1\",'01'!I7,IF($O$33=\"Runda 2\",'01'!T7,IF($O$33=\"Runda 3\",'01'!AE7,IF($O$33=\"Runda 4\",'01'!AP7,IF($O$33=\"Runda 5\",'01'!BA7,0)))))","v":""},{"$f":"IF($O$33=\"Runda 1\",'01'!J7,IF($O$33=\"Runda 2\",'01'!U7,IF($O$33=\"Runda 3\",'01'!AF7,IF($O$33=\"Runda 4\",'01'!AQ7,IF($O$33=\"Runda 5\",'01'!BB7,0)))))","v":""},{"$f":"IF($O$33=\"Runda 1\",'01'!K7,IF($O$33=\"Runda 2\",'01'!V7,IF($O$33=\"Runda 3\",'01'!AG7,IF($O$33=\"Runda 4\",'01'!AR7,IF($O$33=\"Runda 5\",'01'!BC7,0)))))","v":""},{"$f":"IF($O$33=\"Runda 1\",'01'!L7,IF($O$33=\"Runda 2\",'01'!W7,IF($O$33=\"Runda 3\",'01'!AH7,IF($O$33=\"Runda 4\",'01'!AS7,IF($O$33=\"Runda 5\",'01'!BD7,0)))))","v":""},0,{"$f":"IF(Z35>Z34,3,IF(Z35<Z34,0,1))","v":1}]
[{"$f":"I10","v":"Acord"},null,null,null,{"$f":"SUM(IF(AA4=3,1,0),IF(AA11=3,1,0),IF(AA22=3,1,0),IF(AA30=3,1,0),IF(AA37=3,1,0))","v":0},{"$f":"SUM(IF(AA4=1,1,0),IF(AA11=1,1,0),IF(AA22=1,1,0),IF(AA30=1,1,0),IF(AA37=1,1,0))","v":5},{"$f":"SUM(IF(AA4=0,1,0),IF(AA11=0,1,0),IF(AA22=0,1,0),IF(AA30=0,1,0),IF(AA37=0,1,0))","v":0},{"$f":"SUM(Z4,Z11,Z22,Z30,Z37)","v":0},null,{"$f":"SUM(AA4,AA11,AA22,AA30,AA37)","v":5},null,null,null,null,{"$f":"E10","v":"Maktub"},{"$f":"IF($O$33=\"Runda 1\",'01'!C3,IF($O$33=\"Runda 2\",'01'!N3,IF($O$33=\"Runda 3\",'01'!Y3,IF($O$33=\"Runda 4\",'01'!AJ3,IF($O$33=\"Runda 5\",'01'!AU3,0)))))","v":""},{"$f":"IF($O$33=\"Runda 1\",'01'!D3,IF($O$33=\"Runda 2\",'01'!O3,IF($O$33=\"Runda 3\",'01'!Z3,IF($O$33=\"Runda 4\",'01'!AK3,IF($O$33=\"Runda 5\",'01'!AV3,0)))))","v":""},{"$f":"IF($O$33=\"Runda 1\",'01'!E3,IF($O$33=\"Runda 2\",'01'!P3,IF($O$33=\"Runda 3\",'01'!AA3,IF($O$33=\"Runda 4\",'01'!AL3,IF($O$33=\"Runda 5\",'01'!AW3,0)))))","v":""},{"$f":"IF($O$33=\"Runda 1\",'01'!F3,IF($O$33=\"Runda 2\",'01'!Q3,IF($O$33=\"Runda 3\",'01'!AB3,IF($O$33=\"Runda 4\",'01'!AM3,IF($O$33=\"Runda 5\",'01'!AX3,0)))))","v":""},{"$f":"IF($O$33=\"Runda 1\",'01'!G3,IF($O$33=\"Runda 2\",'01'!R3,IF($O$33=\"Runda 3\",'01'!AC3,IF($O$33=\"Runda 4\",'01'!AN3,IF($O$33=\"Runda 5\",'01'!AY3,0)))))","v":""},{"$f":"IF($O$33=\"Runda 1\",'01'!H3,IF($O$33=\"Runda 2\",'01'!S3,IF($O$33=\"Runda 3\",'01'!AD3,IF($O$33=\"Runda 4\",'01'!AO3,IF($O$33=\"Runda 5\",'01'!AZ3,0)))))","v":""},{"$f":"IF($O$33=\"Runda 1\",'01'!I3,IF($O$33=\"Runda 2\",'01'!T3,IF($O$33=\"Runda 3\",'01'!AE3,IF($O$33=\"Runda 4\",'01'!AP3,IF($O$33=\"Runda 5\",'01'!BA3,0)))))","v":""},{"$f":"IF($O$33=\"Runda 1\",'01'!J3,IF($O$33=\"Runda 2\",'01'!U3,IF($O$33=\"Runda 3\",'01'!AF3,IF($O$33=\"Runda 4\",'01'!AQ3,IF($O$33=\"Runda 5\",'01'!BB3,0)))))","v":""},{"$f":"IF($O$33=\"Runda 1\",'01'!K3,IF($O$33=\"Runda 2\",'01'!V3,IF($O$33=\"Runda 3\",'01'!AG3,IF($O$33=\"Runda 4\",'01'!AR3,IF($O$33=\"Runda 5\",'01'!BC3,0)))))","v":""},{"$f":"IF($O$33=\"Runda 1\",'01'!L3,IF($O$33=\"Runda 2\",'01'!W3,IF($O$33=\"Runda 3\",'01'!AH3,IF($O$33=\"Runda 4\",'01'!AS3,IF($O$33=\"Runda 5\",'01'!BD3,0)))))","v":""},0,{"$f":"IF(Z36>Z37,3,IF(Z36<Z37,0,1))","v":1}]
[{"$f":"A17","v":"O"},null,null,null,{"$f":"SUM(IF(AA5=3,1,0),IF(AA14=3,1,0),IF(AA19=3,1,0),IF(AA29=3,1,0),IF(AA38=3,1,0))","v":0},{"$f":"SUM(IF(AA5=1,1,0),IF(AA14=1,1,0),IF(AA19=1,1,0),IF(AA29=1,1,0),IF(AA38=1,1,0))","v":5},{"$f":"SUM(IF(AA5=0,1,0),IF(AA14=0,1,0),IF(AA19=0,1,0),IF(AA29=0,1,0),IF(AA38=0,1,0))","v":0},{"$f":"SUM(Z5,Z14,Z19,Z29,Z38)","v":0},null,{"$f":"SUM(AA5,AA14,AA19,AA29,AA38)","v":5},null,null,null,null,{"$f":"I10","v":"Acord"},{"$f":"IF($O$33=\"Runda 1\",'01'!C4,IF($O$33=\"Runda 2\",'01'!N4,IF($O$33=\"Runda 3\",'01'!Y4,IF($O$33=\"Runda 4\",'01'!AJ4,IF($O$33=\"Runda 5\",'01'!AU4,0)))))","v":""},{"$f":"IF($O$33=\"Runda 1\",'01'!D4,IF($O$33=\"Runda 2\",'01'!O4,IF($O$33=\"Runda 3\",'01'!Z4,IF($O$33=\"Runda 4\",'01'!AK4,IF($O$33=\"Runda 5\",'01'!AV4,0)))))","v":""},{"$f":"IF($O$33=\"Runda 1\",'01'!E4,IF($O$33=\"Runda 2\",'01'!P4,IF($O$33=\"Runda 3\",'01'!AA4,IF($O$33=\"Runda 4\",'01'!AL4,IF($O$33=\"Runda 5\",'01'!AW4,0)))))","v":""},{"$f":"IF($O$33=\"Runda 1\",'01'!F4,IF($O$33=\"Runda 2\",'01'!Q4,IF($O$33=\"Runda 3\",'01'!AB4,IF($O$33=\"Runda 4\",'01'!AM4,IF($O$33=\"Runda 5\",'01'!AX4,0)))))","v":""},{"$f":"IF($O$33=\"Runda 1\",'01'!G4,IF($O$33=\"Runda 2\",'01'!R4,IF($O$33=\"Runda 3\",'01'!AC4,IF($O$33=\"Runda 4\",'01'!AN4,IF($O$33=\"Runda 5\",'01'!AY4,0)))))","v":""},{"$f":"IF($O$33=\"Runda 1\",'01'!H4,IF($O$33=\"Runda 2\",'01'!S4,IF($O$33=\"Runda 3\",'01'!AD4,IF($O$33=\"Runda 4\",'01'!AO4,IF($O$33=\"Runda 5\",'01'!AZ4,0)))))","v":""},{"$f":"IF($O$33=\"Runda 1\",'01'!I4,IF($O$33=\"Runda 2\",'01'!T4,IF($O$33=\"Runda 3\",'01'!AE4,IF($O$33=\"Runda 4\",'01'!AP4,IF($O$33=\"Runda 5\",'01'!BA4,0)))))","v":""},{"$f":"IF($O$33=\"Runda 1\",'01'!J4,IF($O$33=\"Runda 2\",'01'!U4,IF($O$33=\"Runda 3\",'01'!AF4,IF($O$33=\"Runda 4\",'01'!AQ4,IF($O$33=\"Runda 5\",'01'!BB4,0)))))","v":""},{"$f":"IF($O$33=\"Runda 1\",'01'!K4,IF($O$33=\"Runda 2\",'01'!V4,IF($O$33=\"Runda 3\",'01'!AG4,IF($O$33=\"Runda 4\",'01'!AR4,IF($O$33=\"Runda 5\",'01'!BC4,0)))))","v":""},{"$f":"IF($O$33=\"Runda 1\",'01'!L4,IF($O$33=\"Runda 2\",'01'!W4,IF($O$33=\"Runda 3\",'01'!AH4,IF($O$33=\"Runda 4\",'01'!AS4,IF($O$33=\"Runda 5\",'01'!BD4,0)))))","v":""},0,{"$f":"IF(Z37>Z36,3,IF(Z37<Z36,0,1))","v":1}]
[{"$f":"E17","v":"10 Lei"},null,null,null,{"$f":"SUM(IF(AA6=3,1,0),IF(AA13=3,1,0),IF(AA23=3,1,0),IF(AA27=3,1,0),IF(AA39=3,1,0))","v":0},{"$f":"SUM(IF(AA6=1,1,0),IF(AA13=1,1,0),IF(AA23=1,1,0),IF(AA27=1,1,0),IF(AA39=1,1,0))","v":5},{"$f":"SUM(IF(AA6=0,1,0),IF(AA13=0,1,0),IF(AA23=0,1,0),IF(AA27=0,1,0),IF(AA39=0,1,0))","v":0},{"$f":"SUM(Z6,Z13,Z23,Z27,Z39)","v":0},null,{"$f":"SUM(AA6,AA13,AA23,AA27,AA39)","v":5},null,null,null,null,{"$f":"A17","v":"O"},{"$f":"IF($O$33=\"Runda 1\",'01'!C5,IF($O$33=\"Runda 2\",'01'!N5,IF($O$33=\"Runda 3\",'01'!Y5,IF($O$33=\"Runda 4\",'01'!AJ5,IF($O$33=\"Runda 5\",'01'!AU5,0)))))","v":""},{"$f":"IF($O$33=\"Runda 1\",'01'!D5,IF($O$33=\"Runda 2\",'01'!O5,IF($O$33=\"Runda 3\",'01'!Z5,IF($O$33=\"Runda 4\",'01'!AK5,IF($O$33=\"Runda 5\",'01'!AV5,0)))))","v":""},{"$f":"IF($O$33=\"Runda 1\",'01'!E5,IF($O$33=\"Runda 2\",'01'!P5,IF($O$33=\"Runda 3\",'01'!AA5,IF($O$33=\"Runda 4\",'01'!AL5,IF($O$33=\"Runda 5\",'01'!AW5,0)))))","v":""},{"$f":"IF($O$33=\"Runda 1\",'01'!F5,IF($O$33=\"Runda 2\",'01'!Q5,IF($O$33=\"Runda 3\",'01'!AB5,IF($O$33=\"Runda 4\",'01'!AM5,IF($O$33=\"Runda 5\",'01'!AX5,0)))))","v":""},{"$f":"IF($O$33=\"Runda 1\",'01'!G5,IF($O$33=\"Runda 2\",'01'!R5,IF($O$33=\"Runda 3\",'01'!AC5,IF($O$33=\"Runda 4\",'01'!AN5,IF($O$33=\"Runda 5\",'01'!AY5,0)))))","v":""},{"$f":"IF($O$33=\"Runda 1\",'01'!H5,IF($O$33=\"Runda 2\",'01'!S5,IF($O$33=\"Runda 3\",'01'!AD5,IF($O$33=\"Runda 4\",'01'!AO5,IF($O$33=\"Runda 5\",'01'!AZ5,0)))))","v":""},{"$f":"IF($O$33=\"Runda 1\",'01'!I5,IF($O$33=\"Runda 2\",'01'!T5,IF($O$33=\"Runda 3\",'01'!AE5,IF($O$33=\"Runda 4\",'01'!AP5,IF($O$33=\"Runda 5\",'01'!BA5,0)))))","v":""},{"$f":"IF($O$33=\"Runda 1\",'01'!J5,IF($O$33=\"Runda 2\",'01'!U5,IF($O$33=\"Runda 3\",'01'!AF5,IF($O$33=\"Runda 4\",'01'!AQ5,IF($O$33=\"Runda 5\",'01'!BB5,0)))))","v":""},{"$f":"IF($O$33=\"Runda 1\",'01'!K5,IF($O$33=\"Runda 2\",'01'!V5,IF($O$33=\"Runda 3\",'01'!AG5,IF($O$33=\"Runda 4\",'01'!AR5,IF($O$33=\"Runda 5\",'01'!BC5,0)))))","v":""},{"$f":"IF($O$33=\"Runda 1\",'01'!L5,IF($O$33=\"Runda 2\",'01'!W5,IF($O$33=\"Runda 3\",'01'!AH5,IF($O$33=\"Runda 4\",'01'!AS5,IF($O$33=\"Runda 5\",'01'!BD5,0)))))","v":""},0,{"$f":"IF(Z38>Z39,3,IF(Z38<Z39,0,1))","v":1}]
[{"$f":"A31","v":"GM"},null,null,null,{"$f":"SUM(IF(AA7=3,1,0),IF(AA15=3,1,0),IF(AA21=3,1,0),IF(AA31=3,1,0),IF(AA35=3,1,0))","v":0},{"$f":"SUM(IF(AA7=1,1,0),IF(AA15=1,1,0),IF(AA21=1,1,0),IF(AA31=1,1,0),IF(AA35=1,1,0))","v":5},{"$f":"SUM(IF(AA7=0,1,0),IF(AA15=0,1,0),IF(AA21=0,1,0),IF(AA31=0,1,0),IF(AA35=0,1,0))","v":0},{"$f":"SUM(Z7,Z15,Z21,Z31,Z35)","v":0},null,{"$f":"SUM(AA7,AA15,AA21,AA31,AA35)","v":5},null,null,null,null,{"$f":"E17","v":"10 Lei"},{"$f":"IF($O$33=\"Runda 1\",'01'!C6,IF($O$33=\"Runda 2\",'01'!N6,IF($O$33=\"Runda 3\",'01'!Y6,IF($O$33=\"Runda 4\",'01'!AJ6,IF($O$33=\"Runda 5\",'01'!AU6,0)))))","v":""},{"$f":"IF($O$33=\"Runda 1\",'01'!D6,IF($O$33=\"Runda 2\",'01'!O6,IF($O$33=\"Runda 3\",'01'!Z6,IF($O$33=\"Runda 4\",'01'!AK6,IF($O$33=\"Runda 5\",'01'!AV6,0)))))","v":""},{"$f":"IF($O$33=\"Runda 1\",'01'!E6,IF($O$33=\"Runda 2\",'01'!P6,IF($O$33=\"Runda 3\",'01'!AA6,IF($O$33=\"Runda 4\",'01'!AL6,IF($O$33=\"Runda 5\",'01'!AW6,0)))))","v":""},{"$f":"IF($O$33=\"Runda 1\",'01'!F6,IF($O$33=\"Runda 2\",'01'!Q6,IF($O$33=\"Runda 3\",'01'!AB6,IF($O$33=\"Runda 4\",'01'!AM6,IF($O$33=\"Runda 5\",'01'!AX6,0)))))","v":""},{"$f":"IF($O$33=\"Runda 1\",'01'!G6,IF($O$33=\"Runda 2\",'01'!R6,IF($O$33=\"Runda 3\",'01'!AC6,IF($O$33=\"Runda 4\",'01'!AN6,IF($O$33=\"Runda 5\",'01'!AY6,0)))))","v":""},{"$f":"IF($O$33=\"Runda 1\",'01'!H6,IF($O$33=\"Runda 2\",'01'!S6,IF($O$33=\"Runda 3\",'01'!AD6,IF($O$33=\"Runda 4\",'01'!AO6,IF($O$33=\"Runda 5\",'01'!AZ6,0)))))","v":""},{"$f":"IF($O$33=\"Runda 1\",'01'!I6,IF($O$33=\"Runda 2\",'01'!T6,IF($O$33=\"Runda 3\",'01'!AE6,IF($O$33=\"Runda 4\",'01'!AP6,IF($O$33=\"Runda 5\",'01'!BA6,0)))))","v":""},{"$f":"IF($O$33=\"Runda 1\",'01'!J6,IF($O$33=\"Runda 2\",'01'!U6,IF($O$33=\"Runda 3\",'01'!AF6,IF($O$33=\"Runda 4\",'01'!AQ6,IF($O$33=\"Runda 5\",'01'!BB6,0)))))","v":""},{"$f":"IF($O$33=\"Runda 1\",'01'!K6,IF($O$33=\"Runda 2\",'01'!V6,IF($O$33=\"Runda 3\",'01'!AG6,IF($O$33=\"Runda 4\",'01'!AR6,IF($O$33=\"Runda 5\",'01'!BC6,0)))))","v":""},{"$f":"IF($O$33=\"Runda 1\",'01'!L6,IF($O$33=\"Runda 2\",'01'!W6,IF($O$33=\"Runda 3\",'01'!AH6,IF($O$33=\"Runda 4\",'01'!AS6,IF($O$33=\"Runda 5\",'01'!BD6,0)))))","v":""},0,{"$f":"IF(Z39>Z38,3,IF(Z39<Z38,0,1))","v":1}]
["Pentru echipa organizatoare: Fisele trebuie sa contina componentele echipelor, rezultatele jocurilor si contestatiile care vor fi depuse de echipe"]

{"sheet":"LA","index":2,"n_rows":40,"n_cols":31,"rows_kept":40,"cut":false,"hidden":false,"merged":[[37,0,37,3],[37,7,37,8],[37,9,37,11],[38,0,38,3],[38,7,38,8],[38,9,38,11],[35,0,35,3],[35,7,35,8],[35,9,35,11],[36,0,36,3],[36,7,36,8],[36,9,36,11],[32,9,32,11],[33,0,33,3],[33,7,33,8],[33,9,33,11],[34,0,34,3],[34,7,34,8],[34,9,34,11],[16,0,16,3],[16,4,16,7],[16,8,16,11],[25,0,25,3],[26,0,26,3],[27,0,27,3],[28,0,28,3],[29,0,29,3],[30,0,30,3],[32,7,32,8],[0,0,0,9],[1,0,1,9],[2,4,2,9],[3,4,3,9],[4,4,4,9],[5,4,5,9],[6,4,6,9],[9,0,9,3],[9,4,9,7],[9,8,9,11]]}
["FISA ORGANIZATORICA - Campionatul CUC",null,null,null,null,null,null,null,null,null,null,null,null,null,"Runda 2",1,2,3,4,5,6,7,8,9,10,"R","P"]
[{"$f":"SL!A2","v":"Editia XXVI"},null,null,null,null,null,null,null,null,null,null,null,null,null,{"$f":"A10","v":"Wrigley's S."},{"$f":"IF($O$1=\"Runda 1\",'01'!C8,IF($O$1=\"Runda 2\",'01'!N8,IF($O$1=\"Runda 3\",'01'!Y8,IF($O$1=\"Runda 4\",'01'!AJ8,IF($O$1=\"Runda 5\",'01'!AU8,0)))))","v":""},{"$f":"IF($O$1=\"Runda 1\",'01'!D8,IF($O$1=\"Runda 2\",'01'!O8,IF($O$1=\"Runda 3\",'01'!Z8,IF($O$1=\"Runda 4\",'01'!AK8,IF($O$1=\"Runda 5\",'01'!AV8,0)))))","v":""},{"$f":"IF($O$1=\"Runda 1\",'01'!E8,IF($O$1=\"Runda 2\",'01'!P8,IF($O$1=\"Runda 3\",'01'!AA8,IF($O$1=\"Runda 4\",'01'!AL8,IF($O$1=\"Runda 5\",'01'!AW8,0)))))","v":""},{"$f":"IF($O$1=\"Runda 1\",'01'!F8,IF($O$1=\"Runda 2\",'01'!Q8,IF($O$1=\"Runda 3\",'01'!AB8,IF($O$1=\"Runda 4\",'01'!AM8,IF($O$1=\"Runda 5\",'01'!AX8,0)))))","v":""},{"$f":"IF($O$1=\"Runda 1\",'01'!G8,IF($O$1=\"Runda 2\",'01'!R8,IF($O$1=\"Runda 3\",'01'!AC8,IF($O$1=\"Runda 4\",'01'!AN8,IF($O$1=\"Runda 5\",'01'!AY8,0)))))","v":""},{"$f":"IF($O$1=\"Runda 1\",'01'!H8,IF($O$1=\"Runda 2\",'01'!S8,IF($O$1=\"Runda 3\",'01'!AD8,IF($O$1=\"Runda 4\",'01'!AO8,IF($O$1=\"Runda 5\",'01'!AZ8,0)))))","v":""},{"$f":"IF($O$1=\"Runda 1\",'01'!I8,IF($O$1=\"Runda 2\",'01'!T8,IF($O$1=\"Runda 3\",'01'!AE8,IF($O$1=\"Runda 4\",'01'!AP8,IF($O$1=\"Runda 5\",'01'!BA8,0)))))","v":""},{"$f":"IF($O$1=\"Runda 1\",'01'!J8,IF($O$1=\"Runda 2\",'01'!U8,IF($O$1=\"Runda 3\",'01'!AF8,IF($O$1=\"Runda 4\",'01'!AQ8,IF($O$1=\"Runda 5\",'01'!BB8,0)))))","v":""},{"$f":"IF($O$1=\"Runda 1\",'01'!K8,IF($O$1=\"Runda 2\",'01'!V8,IF($O$1=\"Runda 3\",'01'!AG8,IF($O$1=\"Runda 4\",'01'!AR8,IF($O$1=\"Runda 5\",'01'!BC8,0)))))","v":""},{"$f":"IF($O$1=\"Runda 1\",'01'!L8,IF($O$1=\"Runda 2\",'01'!W8,IF($O$1=\"Runda 3\",'01'!AH8,IF($O$1=\"Runda 4\",'01'!AS8,IF($O$1=\"Runda 5\",'01'!BD8,0)))))","v":""},{"$f":"SUM(P2:Y2)","v":0},{"$f":"IF(Z2>Z3,3,IF(Z2<Z3,0,1))","v":1}]
["Nivelul valoric",null,null,null,"Liga A",null,null,null,null,null,null,null,null,null,{"$f":"E10","v":"Kernel Panic"},{"$f":"IF($O$1=\"Runda 1\",'01'!C9,IF($O$1=\"Runda 2\",'01'!N9,IF($O$1=\"Runda 3\",'01'!Y9,IF($O$1=\"Runda 4\",'01'!AJ9,IF($O$1=\"Runda 5\",'01'!AU9,0)))))","v":""},{"$f":"IF($O$1=\"Runda 1\",'01'!D9,IF($O$1=\"Runda 2\",'01'!O9,IF($O$1=\"Runda 3\",'01'!Z9,IF($O$1=\"Runda 4\",'01'!AK9,IF($O$1=\"Runda 5\",'01'!AV9,0)))))","v":""},{"$f":"IF($O$1=\"Runda 1\",'01'!E9,IF($O$1=\"Runda 2\",'01'!P9,IF($O$1=\"Runda 3\",'01'!AA9,IF($O$1=\"Runda 4\",'01'!AL9,IF($O$1=\"Runda 5\",'01'!AW9,0)))))","v":""},{"$f":"IF($O$1=\"Runda 1\",'01'!F9,IF($O$1=\"Runda 2\",'01'!Q9,IF($O$1=\"Runda 3\",'01'!AB9,IF($O$1=\"Runda 4\",'01'!AM9,IF($O$1=\"Runda 5\",'01'!AX9,0)))))","v":""},{"$f":"IF($O$1=\"Runda 1\",'01'!G9,IF($O$1=\"Runda 2\",'01'!R9,IF($O$1=\"Runda 3\",'01'!AC9,IF($O$1=\"Runda 4\",'01'!AN9,IF($O$1=\"Runda 5\",'01'!AY9,0)))))","v":""},{"$f":"IF($O$1=\"Runda 1\",'01'!H9,IF($O$1=\"Runda 2\",'01'!S9,IF($O$1=\"Runda 3\",'01'!AD9,IF($O$1=\"Runda 4\",'01'!AO9,IF($O$1=\"Runda 5\",'01'!AZ9,0)))))","v":""},{"$f":"IF($O$1=\"Runda 1\",'01'!I9,IF($O$1=\"Runda 2\",'01'!T9,IF($O$1=\"Runda 3\",'01'!AE9,IF($O$1=\"Runda 4\",'01'!AP9,IF($O$1=\"Runda 5\",'01'!BA9,0)))))","v":""},{"$f":"IF($O$1=\"Runda 1\",'01'!J9,IF($O$1=\"Runda 2\",'01'!U9,IF($O$1=\"Runda 3\",'01'!AF9,IF($O$1=\"Runda 4\",'01'!AQ9,IF($O$1=\"Runda 5\",'01'!BB9,0)))))","v":""},{"$f":"IF($O$1=\"Runda 1\",'01'!K9,IF($O$1=\"Runda 2\",'01'!V9,IF($O$1=\"Runda 3\",'01'!AG9,IF($O$1=\"Runda 4\",'01'!AR9,IF($O$1=\"Runda 5\",'01'!BC9,0)))))","v":""},{"$f":"IF($O$1=\"Runda 1\",'01'!L9,IF($O$1=\"Runda 2\",'01'!W9,IF($O$1=\"Runda 3\",'01'!AH9,IF($O$1=\"Runda 4\",'01'!AS9,IF($O$1=\"Runda 5\",'01'!BD9,0)))))","v":""},0,{"$f":"IF(Z3>Z2,3,IF(Z3<Z2,0,1))","v":1}]
["Etapa",null,null,null,{"$f":"SL!E4","v":3},null,null,null,null,null,null,null,null,null,{"$f":"I10","v":"A-Team"},{"$f":"IF($O1=\"Runda 1\",'01'!C10,IF($O1=\"Runda 2\",'01'!N10,IF($O1=\"Runda 3\",'01'!Y10,IF($O1=\"Runda 4\",'01'!AJ10,IF($O1=\"Runda 5\",'01'!AU10,0)))))","v":""},{"$f":"IF($O$1=\"Runda 1\",'01'!D10,IF($O$1=\"Runda 2\",'01'!O10,IF($O$1=\"Runda 3\",'01'!Z10,IF($O$1=\"Runda 4\",'01'!AK10,IF($O$1=\"Runda 5\",'01'!AV10,0)))))","v":""},{"$f":"IF($O$1=\"Runda 1\",'01'!E10,IF($O$1=\"Runda 2\",'01'!P10,IF($O$1=\"Runda 3\",'01'!AA10,IF($O$1=\"Runda 4\",'01'!AL10,IF($O$1=\"Runda 5\",'01'!AW10,0)))))","v":""},{"$f":"IF($O$1=\"Runda 1\",'01'!F10,IF($O$1=\"Runda 2\",'01'!Q10,IF($O$1=\"Runda 3\",'01'!AB10,IF($O$1=\"Runda 4\",'01'!AM10,IF($O$1=\"Runda 5\",'01'!AX10,0)))))","v":""},{"$f":"IF($O$1=\"Runda 1\",'01'!G10,IF($O$1=\"Runda 2\",'01'!R10,IF($O$1=\"Runda 3\",'01'!AC10,IF($O$1=\"Runda 4\",'01'!AN10,IF($O$1=\"Runda 5\",'01'!AY10,0)))))","v":""},{"$f":"IF($O$1=\"Runda 1\",'01'!H10,IF($O$1=\"Runda 2\",'01'!S10,IF($O$1=\"Runda 3\",'01'!AD10,IF($O$1=\"Runda 4\",'01'!AO10,IF($O$1=\"Runda 5\",'01'!AZ10,0)))))","v":""},{"$f":"IF($O$1=\"Runda 1\",'01'!I10,IF($O$1=\"Runda 2\",'01'!T10,IF($O$1=\"Runda 3\",'01'!AE10,IF($O$1=\"Runda 4\",'01'!AP10,IF($O$1=\"Runda 5\",'01'!BA10,0)))))","v":""},{"$f":"IF($O$1=\"Runda 1\",'01'!J10,IF($O$1=\"Runda 2\",'01'!U10,IF($O$1=\"Runda 3\",'01'!AF10,IF($O$1=\"Runda 4\",'01'!AQ10,IF($O$1=\"Runda 5\",'01'!BB10,0)))))","v":""},{"$f":"IF($O$1=\"Runda 1\",'01'!K10,IF($O$1=\"Runda 2\",'01'!V10,IF($O$1=\"Runda 3\",'01'!AG10,IF($O$1=\"Runda 4\",'01'!AR10,IF($O$1=\"Runda 5\",'01'!BC10,0)))))","v":""},{"$f":"IF($O$1=\"Runda 1\",'01'!L10,IF($O$1=\"Runda 2\",'01'!W10,IF($O$1=\"Runda 3\",'01'!AH10,IF($O$1=\"Runda 4\",'01'!AS10,IF($O$1=\"Runda 5\",'01'!BD10,0)))))","v":""},0,{"$f":"IF(Z4>Z5,3,IF(Z4<Z5,0,1))","v":1}]
["Data desfasurarii",null,null,null,{"$f":"SL!E5","v":"2015-03-15"},null,null,null,null,null,null,null,null,null,{"$f":"A17","v":"CLCT"},{"$f":"IF($O$1=\"Runda 1\",'01'!C11,IF($O$1=\"Runda 2\",'01'!N11,IF($O$1=\"Runda 3\",'01'!Y11,IF($O$1=\"Runda 4\",'01'!AJ11,IF($O$1=\"Runda 5\",'01'!AU11,0)))))","v":""},{"$f":"IF($O$1=\"Runda 1\",'01'!D11,IF($O$1=\"Runda 2\",'01'!O11,IF($O$1=\"Runda 3\",'01'!Z11,IF($O$1=\"Runda 4\",'01'!AK11,IF($O$1=\"Runda 5\",'01'!AV11,0)))))","v":""},{"$f":"IF($O$1=\"Runda 1\",'01'!E11,IF($O$1=\"Runda 2\",'01'!P11,IF($O$1=\"Runda 3\",'01'!AA11,IF($O$1=\"Runda 4\",'01'!AL11,IF($O$1=\"Runda 5\",'01'!AW11,0)))))","v":""},{"$f":"IF($O$1=\"Runda 1\",'01'!F11,IF($O$1=\"Runda 2\",'01'!Q11,IF($O$1=\"Runda 3\",'01'!AB11,IF($O$1=\"Runda 4\",'01'!AM11,IF($O$1=\"Runda 5\",'01'!AX11,0)))))","v":""},{"$f":"IF($O$1=\"Runda 1\",'01'!G11,IF($O$1=\"Runda 2\",'01'!R11,IF($O$1=\"Runda 3\",'01'!AC11,IF($O$1=\"Runda 4\",'01'!AN11,IF($O$1=\"Runda 5\",'01'!AY11,0)))))","v":""},{"$f":"IF($O$1=\"Runda 1\",'01'!H11,IF($O$1=\"Runda 2\",'01'!S11,IF($O$1=\"Runda 3\",'01'!AD11,IF($O$1=\"Runda 4\",'01'!AO11,IF($O$1=\"Runda 5\",'01'!AZ11,0)))))","v":""},{"$f":"IF($O$1=\"Runda 1\",'01'!I11,IF($O$1=\"Runda 2\",'01'!T11,IF($O$1=\"Runda 3\",'01'!AE11,IF($O$1=\"Runda 4\",'01'!AP11,IF($O$1=\"Runda 5\",'01'!BA11,0)))))","v":""},{"$f":"IF($O$1=\"Runda 1\",'01'!J11,IF($O$1=\"Runda 2\",'01'!U11,IF($O$1=\"Runda 3\",'01'!AF11,IF($O$1=\"Runda 4\",'01'!AQ11,IF($O$1=\"Runda 5\",'01'!BB11,0)))))","v":""},{"$f":"IF($O$1=\"Runda 1\",'01'!K11,IF($O$1=\"Runda 2\",'01'!V11,IF($O$1=\"Runda 3\",'01'!AG11,IF($O$1=\"Runda 4\",'01'!AR11,IF($O$1=\"Runda 5\",'01'!BC11,0)))))","v":""},{"$f":"IF($O$1=\"Runda 1\",'01'!L11,IF($O$1=\"Runda 2\",'01'!W11,IF($O$1=\"Runda 3\",'01'!AH11,IF($O$1=\"Runda 4\",'01'!AS11,IF($O$1=\"Runda 5\",'01'!BD11,0)))))","v":""},0,{"$f":"IF(Z5>Z4,3,IF(Z5<Z4,0,1))","v":1}]
["Locul desfasurarii",null,null,null,{"$f":"SL!E6","v":"INCE"},null,null,null,null,null,null,null,null,null,{"$f":"E17","v":"Busuioc"},{"$f":"IF($O$1=\"Runda 1\",'01'!C12,IF($O$1=\"Runda 2\",'01'!N12,IF($O$1=\"Runda 3\",'01'!Y12,IF($O$1=\"Runda 4\",'01'!AJ12,IF($O$1=\"Runda 5\",'01'!AU12,0)))))","v":""},{"$f":"IF($O$1=\"Runda 1\",'01'!D12,IF($O$1=\"Runda 2\",'01'!O12,IF($O$1=\"Runda 3\",'01'!Z12,IF($O$1=\"Runda 4\",'01'!AK12,IF($O$1=\"Runda 5\",'01'!AV12,0)))))","v":""},{"$f":"IF($O$1=\"Runda 1\",'01'!E12,IF($O$1=\"Runda 2\",'01'!P12,IF($O$1=\"Runda 3\",'01'!AA12,IF($O$1=\"Runda 4\",'01'!AL12,IF($O$1=\"Runda 5\",'01'!AW12,0)))))","v":""},{"$f":"IF($O$1=\"Runda 1\",'01'!F12,IF($O$1=\"Runda 2\",'01'!Q12,IF($O$1=\"Runda 3\",'01'!AB12,IF($O$1=\"Runda 4\",'01'!AM12,IF($O$1=\"Runda 5\",'01'!AX12,0)))))","v":""},{"$f":"IF($O$1=\"Runda 1\",'01'!G12,IF($O$1=\"Runda 2\",'01'!R12,IF($O$1=\"Runda 3\",'01'!AC12,IF($O$1=\"Runda 4\",'01'!AN12,IF($O$1=\"Runda 5\",'01'!AY12,0)))))","v":""},{"$f":"IF($O$1=\"Runda 1\",'01'!H12,IF($O$1=\"Runda 2\",'01'!S12,IF($O$1=\"Runda 3\",'01'!AD12,IF($O$1=\"Runda 4\",'01'!AO12,IF($O$1=\"Runda 5\",'01'!AZ12,0)))))","v":""},{"$f":"IF($O$1=\"Runda 1\",'01'!I12,IF($O$1=\"Runda 2\",'01'!T12,IF($O$1=\"Runda 3\",'01'!AE12,IF($O$1=\"Runda 4\",'01'!AP12,IF($O$1=\"Runda 5\",'01'!BA12,0)))))","v":""},{"$f":"IF($O$1=\"Runda 1\",'01'!J12,IF($O$1=\"Runda 2\",'01'!U12,IF($O$1=\"Runda 3\",'01'!AF12,IF($O$1=\"Runda 4\",'01'!AQ12,IF($O$1=\"Runda 5\",'01'!BB12,0)))))","v":""},{"$f":"IF($O$1=\"Runda 1\",'01'!K12,IF($O$1=\"Runda 2\",'01'!V12,IF($O$1=\"Runda 3\",'01'!AG12,IF($O$1=\"Runda 4\",'01'!AR12,IF($O$1=\"Runda 5\",'01'!BC12,0)))))","v":""},{"$f":"IF($O$1=\"Runda 1\",'01'!L12,IF($O$1=\"Runda 2\",'01'!W12,IF($O$1=\"Runda 3\",'01'!AH12,IF($O$1=\"Runda 4\",'01'!AS12,IF($O$1=\"Runda 5\",'01'!BD12,0)))))","v":""},0,{"$f":"IF(Z6>Z7,3,IF(Z6<Z7,0,1))","v":1}]
["Organizatori",null,null,null,{"$f":"IF(E4=1,Tragere!C12,IF(E4=2,Tragere!C13,IF(E4=3,Tragere!C14,IF(E4=4,Tragere!C15,IF(E4=5,Tragere!C16,IF(E4=6,Tragere!C17,IF(E4=7,Tragere!C18)))))))","v":"Bifidoc"},null,null,null,null,null,null,null,null,null,{"$f":"I17","v":"Moon Power"},{"$f":"IF($O$1=\"Runda 1\",'01'!C13,IF($O$1=\"Runda 2\",'01'!N13,IF($O$1=\"Runda 3\",'01'!Y13,IF($O$1=\"Runda 4\",'01'!AJ13,IF($O$1=\"Runda 5\",'01'!AU13,0)))))","v":""},{"$f":"IF($O$1=\"Runda 1\",'01'!D13,IF($O$1=\"Runda 2\",'01'!O13,IF($O$1=\"Runda 3\",'01'!Z13,IF($O$1=\"Runda 4\",'01'!AK13,IF($O$1=\"Runda 5\",'01'!AV13,0)))))","v":""},{"$f":"IF($O$1=\"Runda 1\",'01'!E13,IF($O$1=\"Runda 2\",'01'!P13,IF($O$1=\"Runda 3\",'01'!AA13,IF($O$1=\"Runda 4\",'01'!AL13,IF($O$1=\"Runda 5\",'01'!AW13,0)))))","v":""},{"$f":"IF($O$1=\"Runda 1\",'01'!F13,IF($O$1=\"Runda 2\",'01'!Q13,IF($O$1=\"Runda 3\",'01'!AB13,IF($O$1=\"Runda 4\",'01'!AM13,IF($O$1=\"Runda 5\",'01'!AX13,0)))))","v":""},{"$f":"IF($O$1=\"Runda 1\",'01'!G13,IF($O$1=\"Runda 2\",'01'!R13,IF($O$1=\"Runda 3\",'01'!AC13,IF($O$1=\"Runda 4\",'01'!AN13,IF($O$1=\"Runda 5\",'01'!AY13,0)))))","v":""},{"$f":"IF($O$1=\"Runda 1\",'01'!H13,IF($O$1=\"Runda 2\",'01'!S13,IF($O$1=\"Runda 3\",'01'!AD13,IF($O$1=\"Runda 4\",'01'!AO13,IF($O$1=\"Runda 5\",'01'!AZ13,0)))))","v":""},{"$f":"IF($O$1=\"Runda 1\",'01'!I13,IF($O$1=\"Runda 2\",'01'!T13,IF($O$1=\"Runda 3\",'01'!AE13,IF($O$1=\"Runda 4\",'01'!AP13,IF($O$1=\"Runda 5\",'01'!BA13,0)))))","v":""},{"$f":"IF($O$1=\"Runda 1\",'01'!J13,IF($O$1=\"Runda 2\",'01'!U13,IF($O$1=\"Runda 3\",'01'!AF13,IF($O$1=\"Runda 4\",'01'!AQ13,IF($O$1=\"Runda 5\",'01'!BB13,0)))))","v":""},{"$f":"IF($O$1=\"Runda 1\",'01'!K13,IF($O$1=\"Runda 2\",'01'!V13,IF($O$1=\"Runda 3\",'01'!AG13,IF($O$1=\"Runda 4\",'01'!AR13,IF($O$1=\"Runda 5\",'01'!BC13,0)))))","v":""},{"$f":"IF($O$1=\"Runda 1\",'01'!L13,IF($O$1=\"Runda 2\",'01'!W13,IF($O$1=\"Runda 3\",'01'!AH13,IF($O$1=\"Runda 4\",'01'!AS13,IF($O$1=\"Runda 5\",'01'!BD13,0)))))","v":""},0,{"$f":"IF(Z7>Z6,3,IF(Z7<Z6,0,1))","v":1}]
[null,null,null,null,null,null,null,null,null,null,null,null,null,null,null,null,null,null,null,null,null,null,null,null,null,null,null,null,{"$f":"E7","v":"Bifidoc"},18]
["Componentele echipelor",null,null,null,null,null,null,null,null,null,null,null,null,null,"Runda 3",1,2,3,4,5,6,7,8,9,10,"R","P",null,{"$f":"A34","v":"Wrigley's S."},9,{"$f":"AD9+J34","v":14}]
[{"$f":"IF(E4=1,Tragere!C13,IF(E4=2,Tragere!C18,IF(E4=3,Tragere!C17,IF(E4=4,Tragere!C16,IF(E4=5,Tragere!C14,IF(E4=6,Tragere!C13,IF(E4=7,Tragere!C12)))))))","v":"Wrigley's S."},null,null,null,{"$f":"IF(E4=1,Tragere!C14,IF(E4=2,Tragere!C15,IF(E4=3,Tragere!C15,IF(E4=4,Tragere!C17,IF(E4=5,Tragere!C18,IF(E4=6,Tragere!C16,IF(E4=7,Tragere!C16)))))))","v":"Kernel Panic"},null,null,null,{"$f":"IF(E4=1,Tragere!C15,IF(E4=2,Tragere!C14,IF(E4=3,Tragere!C12,IF(E4=4,Tragere!C14,IF(E4=5,Tragere!C12,IF(E4=6,Tragere!C15,IF(E4=7,Tragere!C17)))))))","v":"A-Team"},null,null,null,null,null,{"$f":"A10","v":"Wrigley's S."},{"$f":"IF($O$9=\"Runda 1\",'01'!C8,IF($O$9=\"Runda 2\",'01'!N8,IF($O$9=\"Runda 3\",'01'!Y8,IF($O$9=\"Runda 4\",'01'!AJ8,IF($O$9=\"Runda 5\",'01'!AU8,0)))))","v":""},{"$f":"IF($O$9=\"Runda 1\",'01'!D8,IF($O$9=\"Runda 2\",'01'!O8,IF($O$9=\"Runda 3\",'01'!Z8,IF($O$9=\"Runda 4\",'01'!AK8,IF($O$9=\"Runda 5\",'01'!AV8,0)))))","v":""},{"$f":"IF($O$9=\"Runda 1\",'01'!E8,IF($O$9=\"Runda 2\",'01'!P8,IF($O$9=\"Runda 3\",'01'!AA8,IF($O$9=\"Runda 4\",'01'!AL8,IF($O$9=\"Runda 5\",'01'!AW8,0)))))","v":""},{"$f":"IF($O$9=\"Runda 1\",'01'!F8,IF($O$9=\"Runda 2\",'01'!Q8,IF($O$9=\"Runda 3\",'01'!AB8,IF($O$9=\"Runda 4\",'01'!AM8,IF($O$9=\"Runda 5\",'01'!AX8,0)))))","v":""},{"$f":"IF($O$9=\"Runda 1\",'01'!G8,IF($O$9=\"Runda 2\",'01'!R8,IF($O$9=\"Runda 3\",'01'!AC8,IF($O$9=\"Runda 4\",'01'!AN8,IF($O$9=\"Runda 5\",'01'!AY8,0)))))","v":""},{"$f":"IF($O$9=\"Runda 1\",'01'!H8,IF($O$9=\"Runda 2\",'01'!S8,IF($O$9=\"Runda 3\",'01'!AD8,IF($O$9=\"Runda 4\",'01'!AO8,IF($O$9=\"Runda 5\",'01'!AZ8,0)))))","v":""},{"$f":"IF($O$9=\"Runda 1\",'01'!I8,IF($O$9=\"Runda 2\",'01'!T8,IF($O$9=\"Runda 3\",'01'!AE8,IF($O$9=\"Runda 4\",'01'!AP8,IF($O$9=\"Runda 5\",'01'!BA8,0)))))","v":""},{"$f":"IF($O$9=\"Runda 1\",'01'!J8,IF($O$9=\"Runda 2\",'01'!U8,IF($O$9=\"Runda 3\",'01'!AF8,IF($O$9=\"Runda 4\",'01'!AQ8,IF($O$9=\"Runda 5\",'01'!BB8,0)))))","v":""},{"$f":"IF($O$9=\"Runda 1\",'01'!K8,IF($O$9=\"Runda 2\",'01'!V8,IF($O$9=\"Runda 3\",'01'!AG8,IF($O$9=\"Runda 4\",'01'!AR8,IF($O$9=\"Runda 5\",'01'!BC8,0)))))","v":""},{"$f":"IF($O$9=\"Runda 1\",'01'!L8,IF($O$9=\"Runda 2\",'01'!W8,IF($O$9=\"Runda 3\",'01'!AH8,IF($O$9=\"Runda 4\",'01'!AS8,IF($O$9=\"Runda 5\",'01'!BD8,0)))))","v":""},{"$f":"SUM(P10:Y10)","v":0},{"$f":"IF(Z10>Z11,3,IF(Z10<Z11,0,1))","v":1},null,"Kernel Panic",10,15]
[null,null,null,null,null,null,null,null,null,null,null,null,null,null,{"$f":"I10","v":"A-Team"},{"$f":"IF($O9=\"Runda 1\",'01'!C10,IF($O9=\"Runda 2\",'01'!N10,IF($O9=\"Runda 3\",'01'!Y10,IF($O9=\"Runda 4\",'01'!AJ10,IF($O9=\"Runda 5\",'01'!AU10,0)))))","v":""},{"$f":"IF($O9=\"Runda 1\",'01'!D10,IF($O9=\"Runda 2\",'01'!O10,IF($O9=\"Runda 3\",'01'!Z10,IF($O9=\"Runda 4\",'01'!AK10,IF($O9=\"Runda 5\",'01'!AV10,0)))))","v":""},{"$f":"IF($O9=\"Runda 1\",'01'!E10,IF($O9=\"Runda 2\",'01'!P10,IF($O9=\"Runda 3\",'01'!AA10,IF($O9=\"Runda 4\",'01'!AL10,IF($O9=\"Runda 5\",'01'!AW10,0)))))","v":""},{"$f":"IF($O9=\"Runda 1\",'01'!F10,IF($O9=\"Runda 2\",'01'!Q10,IF($O9=\"Runda 3\",'01'!AB10,IF($O9=\"Runda 4\",'01'!AM10,IF($O9=\"Runda 5\",'01'!AX10,0)))))","v":""},{"$f":"IF($O9=\"Runda 1\",'01'!G10,IF($O9=\"Runda 2\",'01'!R10,IF($O9=\"Runda 3\",'01'!AC10,IF($O9=\"Runda 4\",'01'!AN10,IF($O9=\"Runda 5\",'01'!AY10,0)))))","v":""},{"$f":"IF($O9=\"Runda 1\",'01'!H10,IF($O9=\"Runda 2\",'01'!S10,IF($O9=\"Runda 3\",'01'!AD10,IF($O9=\"Runda 4\",'01'!AO10,IF($O9=\"Runda 5\",'01'!AZ10,0)))))","v":""},{"$f":"IF($O9=\"Runda 1\",'01'!I10,IF($O9=\"Runda 2\",'01'!T10,IF($O9=\"Runda 3\",'01'!AE10,IF($O9=\"Runda 4\",'01'!AP10,IF($O9=\"Runda 5\",'01'!BA10,0)))))","v":""},{"$f":"IF($O9=\"Runda 1\",'01'!J10,IF($O9=\"Runda 2\",'01'!U10,IF($O9=\"Runda 3\",'01'!AF10,IF($O9=\"Runda 4\",'01'!AQ10,IF($O9=\"Runda 5\",'01'!BB10,0)))))","v":""},{"$f":"IF($O9=\"Runda 1\",'01'!K10,IF($O9=\"Runda 2\",'01'!V10,IF($O9=\"Runda 3\",'01'!AG10,IF($O9=\"Runda 4\",'01'!AR10,IF($O9=\"Runda 5\",'01'!BC10,0)))))","v":""},{"$f":"IF($O9=\"Runda 1\",'01'!L10,IF($O9=\"Runda 2\",'01'!W10,IF($O9=\"Runda 3\",'01'!AH10,IF($O9=\"Runda 4\",'01'!AS10,IF($O9=\"Runda 5\",'01'!BD10,0)))))","v":""},0,{"$f":"IF(Z11>Z10,3,IF(Z11<Z10,0,1))","v":1},null,"A-Team",6,11]
[null,null,null,null,null,null,null,null,null,null,null,null,null,null,{"$f":"E10","v":"Kernel Panic"},{"$f":"IF($O$9=\"Runda 1\",'01'!C9,IF($O$9=\"Runda 2\",'01'!N9,IF($O$9=\"Runda 3\",'01'!Y9,IF($O$9=\"Runda 4\",'01'!AJ9,IF($O$9=\"Runda 5\",'01'!AU9,0)))))","v":""},{"$f":"IF($O$9=\"Runda 1\",'01'!D9,IF($O$9=\"Runda 2\",'01'!O9,IF($O$9=\"Runda 3\",'01'!Z9,IF($O$9=\"Runda 4\",'01'!AK9,IF($O$9=\"Runda 5\",'01'!AV9,0)))))","v":""},{"$f":"IF($O$9=\"Runda 1\",'01'!E9,IF($O$9=\"Runda 2\",'01'!P9,IF($O$9=\"Runda 3\",'01'!AA9,IF($O$9=\"Runda 4\",'01'!AL9,IF($O$9=\"Runda 5\",'01'!AW9,0)))))","v":""},{"$f":"IF($O$9=\"Runda 1\",'01'!F9,IF($O$9=\"Runda 2\",'01'!Q9,IF($O$9=\"Runda 3\",'01'!AB9,IF($O$9=\"Runda 4\",'01'!AM9,IF($O$9=\"Runda 5\",'01'!AX9,0)))))","v":""},{"$f":"IF($O$9=\"Runda 1\",'01'!G9,IF($O$9=\"Runda 2\",'01'!R9,IF($O$9=\"Runda 3\",'01'!AC9,IF($O$9=\"Runda 4\",'01'!AN9,IF($O$9=\"Runda 5\",'01'!AY9,0)))))","v":""},{"$f":"IF($O$9=\"Runda 1\",'01'!H9,IF($O$9=\"Runda 2\",'01'!S9,IF($O$9=\"Runda 3\",'01'!AD9,IF($O$9=\"Runda 4\",'01'!AO9,IF($O$9=\"Runda 5\",'01'!AZ9,0)))))","v":""},{"$f":"IF($O$9=\"Runda 1\",'01'!I9,IF($O$9=\"Runda 2\",'01'!T9,IF($O$9=\"Runda 3\",'01'!AE9,IF($O$9=\"Runda 4\",'01'!AP9,IF($O$9=\"Runda 5\",'01'!BA9,0)))))","v":""},{"$f":"IF($O$9=\"Runda 1\",'01'!J9,IF($O$9=\"Runda 2\",'01'!U9,IF($O$9=\"Runda 3\",'01'!AF9,IF($O$9=\"Runda 4\",'01'!AQ9,IF($O$9=\"Runda 5\",'01'!BB9,0)))))","v":""},{"$f":"IF($O$9=\"Runda 1\",'01'!K9,IF($O$9=\"Runda 2\",'01'!V9,IF($O$9=\"Runda 3\",'01'!AG9,IF($O$9=\"Runda 4\",'01'!AR9,IF($O$9=\"Runda 5\",'01'!BC9,0)))))","v":""},{"$f":"IF($O$9=\"Runda 1\",'01'!L9,IF($O$9=\"Runda 2\",'01'!W9,IF($O$9=\"Runda 3\",'01'!AH9,IF($O$9=\"Runda 4\",'01'!AS9,IF($O$9=\"Runda 5\",'01'!BD9,0)))))","v":""},0,{"$f":"IF(Z12>Z13,3,IF(Z12<Z13,0,1))","v":1},null,"CLCT",3,8]
[null,null,null,null,null,null,null,null,null,null,null,null,null,null,{"$f":"E17","v":"Busuioc"},{"$f":"IF($O$9=\"Runda 1\",'01'!C12,IF($O$9=\"Runda 2\",'01'!N12,IF($O$9=\"Runda 3\",'01'!Y12,IF($O$9=\"Runda 4\",'01'!AJ12,IF($O$9=\"Runda 5\",'01'!AU12,0)))))","v":""},{"$f":"IF($O$9=\"Runda 1\",'01'!D12,IF($O$9=\"Runda 2\",'01'!O12,IF($O$9=\"Runda 3\",'01'!Z12,IF($O$9=\"Runda 4\",'01'!AK12,IF($O$9=\"Runda 5\",'01'!AV12,0)))))","v":""},{"$f":"IF($O$9=\"Runda 1\",'01'!E12,IF($O$9=\"Runda 2\",'01'!P12,IF($O$9=\"Runda 3\",'01'!AA12,IF($O$9=\"Runda 4\",'01'!AL12,IF($O$9=\"Runda 5\",'01'!AW12,0)))))","v":""},{"$f":"IF($O$9=\"Runda 1\",'01'!F12,IF($O$9=\"Runda 2\",'01'!Q12,IF($O$9=\"Runda 3\",'01'!AB12,IF($O$9=\"Runda 4\",'01'!AM12,IF($O$9=\"Runda 5\",'01'!AX12,0)))))","v":""},{"$f":"IF($O$9=\"Runda 1\",'01'!G12,IF($O$9=\"Runda 2\",'01'!R12,IF($O$9=\"Runda 3\",'01'!AC12,IF($O$9=\"Runda 4\",'01'!AN12,IF($O$9=\"Runda 5\",'01'!AY12,0)))))","v":""},{"$f":"IF($O$9=\"Runda 1\",'01'!H12,IF($O$9=\"Runda 2\",'01'!S12,IF($O$9=\"Runda 3\",'01'!AD12,IF($O$9=\"Runda 4\",'01'!AO12,IF($O$9=\"Runda 5\",'01'!AZ12,0)))))","v":""},{"$f":"IF($O$9=\"Runda 1\",'01'!I12,IF($O$9=\"Runda 2\",'01'!T12,IF($O$9=\"Runda 3\",'01'!AE12,IF($O$9=\"Runda 4\",'01'!AP12,IF($O$9=\"Runda 5\",'01'!BA12,0)))))","v":""},{"$f":"IF($O$9=\"Runda 1\",'01'!J12,IF($O$9=\"Runda 2\",'01'!U12,IF($O$9=\"Runda 3\",'01'!AF12,IF($O$9=\"Runda 4\",'01'!AQ12,IF($O$9=\"Runda 5\",'01'!BB12,0)))))","v":""},{"$f":"IF($O$9=\"Runda 1\",'01'!K12,IF($O$9=\"Runda 2\",'01'!V12,IF($O$9=\"Runda 3\",'01'!AG12,IF($O$9=\"Runda 4\",'01'!AR12,IF($O$9=\"Runda 5\",'01'!BC12,0)))))","v":""},{"$f":"IF($O$9=\"Runda 1\",'01'!L12,IF($O$9=\"Runda 2\",'01'!W12,IF($O$9=\"Runda 3\",'01'!AH12,IF($O$9=\"Runda 4\",'01'!AS12,IF($O$9=\"Runda 5\",'01'!BD12,0)))))","v":""},0,{"$f":"IF(Z13>Z12,3,IF(Z13<Z12,0,1))","v":1},null,"Busuioc",19,24]
[null,null,null,null,null,null,null,null,null,null,null,null,null,null,{"$f":"A17","v":"CLCT"},{"$f":"IF($O$9=\"Runda 1\",'01'!C11,IF($O$9=\"Runda 2\",'01'!N11,IF($O$9=\"Runda 3\",'01'!Y11,IF($O$9=\"Runda 4\",'01'!AJ11,IF($O$9=\"Runda 5\",'01'!AU11,0)))))","v":""},{"$f":"IF($O$9=\"Runda 1\",'01'!D11,IF($O$9=\"Runda 2\",'01'!O11,IF($O$9=\"Runda 3\",'01'!Z11,IF($O$9=\"Runda 4\",'01'!AK11,IF($O$9=\"Runda 5\",'01'!AV11,0)))))","v":""},{"$f":"IF($O$9=\"Runda 1\",'01'!E11,IF($O$9=\"Runda 2\",'01'!P11,IF($O$9=\"Runda 3\",'01'!AA11,IF($O$9=\"Runda 4\",'01'!AL11,IF($O$9=\"Runda 5\",'01'!AW11,0)))))","v":""},{"$f":"IF($O$9=\"Runda 1\",'01'!F11,IF($O$9=\"Runda 2\",'01'!Q11,IF($O$9=\"Runda 3\",'01'!AB11,IF($O$9=\"Runda 4\",'01'!AM11,IF($O$9=\"Runda 5\",'01'!AX11,0)))))","v":""},{"$f":"IF($O$9=\"Runda 1\",'01'!G11,IF($O$9=\"Runda 2\",'01'!R11,IF($O$9=\"Runda 3\",'01'!AC11,IF($O$9=\"Runda 4\",'01'!AN11,IF($O$9=\"Runda 5\",'01'!AY11,0)))))","v":""},{"$f":"IF($O$9=\"Runda 1\",'01'!H11,IF($O$9=\"Runda 2\",'01'!S11,IF($O$9=\"Runda 3\",'01'!AD11,IF($O$9=\"Runda 4\",'01'!AO11,IF($O$9=\"Runda 5\",'01'!AZ11,0)))))","v":""},{"$f":"IF($O$9=\"Runda 1\",'01'!I11,IF($O$9=\"Runda 2\",'01'!T11,IF($O$9=\"Runda 3\",'01'!AE11,IF($O$9=\"Runda 4\",'01'!AP11,IF($O$9=\"Runda 5\",'01'!BA11,0)))))","v":""},{"$f":"IF($O$9=\"Runda 1\",'01'!J11,IF($O$9=\"Runda 2\",'01'!U11,IF($O$9=\"Runda 3\",'01'!AF11,IF($O$9=\"Runda 4\",'01'!AQ11,IF($O$9=\"Runda 5\",'01'!BB11,0)))))","v":""},{"$f":"IF($O$9=\"Runda 1\",'01'!K11,IF($O$9=\"Runda 2\",'01'!V11,IF($O$9=\"Runda 3\",'01'!AG11,IF($O$9=\"Runda 4\",'01'!AR11,IF($O$9=\"Runda 5\",'01'!BC11,0)))))","v":""},{"$f":"IF($O$9=\"Runda 1\",'01'!L11,IF($O$9=\"Runda 2\",'01'!W11,IF($O$9=\"Runda 3\",'01'!AH11,IF($O$9=\"Runda 4\",'01'!AS11,IF($O$9=\"Runda 5\",'01'!BD11,0)))))","v":""},0,{"$f":"IF(Z14>Z15,3,IF(Z14<Z15,0,1))","v":1},null,"Moon Power",21,26]
[null,null,null,null,null,null,null,null,null,null,null,null,null,null,{"$f":"I17","v":"Moon Power"},{"$f":"IF($O$9=\"Runda 1\",'01'!C13,IF($O$9=\"Runda 2\",'01'!N13,IF($O$9=\"Runda 3\",'01'!Y13,IF($O$9=\"Runda 4\",'01'!AJ13,IF($O$9=\"Runda 5\",'01'!AU13,0)))))","v":""},{"$f":"IF($O$9=\"Runda 1\",'01'!D13,IF($O$9=\"Runda 2\",'01'!O13,IF($O$9=\"Runda 3\",'01'!Z13,IF($O$9=\"Runda 4\",'01'!AK13,IF($O$9=\"Runda 5\",'01'!AV13,0)))))","v":""},{"$f":"IF($O$9=\"Runda 1\",'01'!E13,IF($O$9=\"Runda 2\",'01'!P13,IF($O$9=\"Runda 3\",'01'!AA13,IF($O$9=\"Runda 4\",'01'!AL13,IF($O$9=\"Runda 5\",'01'!AW13,0)))))","v":""},{"$f":"IF($O$9=\"Runda 1\",'01'!F13,IF($O$9=\"Runda 2\",'01'!Q13,IF($O$9=\"Runda 3\",'01'!AB13,IF($O$9=\"Runda 4\",'01'!AM13,IF($O$9=\"Runda 5\",'01'!AX13,0)))))","v":""},{"$f":"IF($O$9=\"Runda 1\",'01'!G13,IF($O$9=\"Runda 2\",'01'!R13,IF($O$9=\"Runda 3\",'01'!AC13,IF($O$9=\"Runda 4\",'01'!AN13,IF($O$9=\"Runda 5\",'01'!AY13,0)))))","v":""},{"$f":"IF($O$9=\"Runda 1\",'01'!H13,IF($O$9=\"Runda 2\",'01'!S13,IF($O$9=\"Runda 3\",'01'!AD13,IF($O$9=\"Runda 4\",'01'!AO13,IF($O$9=\"Runda 5\",'01'!AZ13,0)))))","v":""},{"$f":"IF($O$9=\"Runda 1\",'01'!I13,IF($O$9=\"Runda 2\",'01'!T13,IF($O$9=\"Runda 3\",'01'!AE13,IF($O$9=\"Runda 4\",'01'!AP13,IF($O$9=\"Runda 5\",'01'!BA13,0)))))","v":""},{"$f":"IF($O$9=\"Runda 1\",'01'!J13,IF($O$9=\"Runda 2\",'01'!U13,IF($O$9=\"Runda 3\",'01'!AF13,IF($O$9=\"Runda 4\",'01'!AQ13,IF($O$9=\"Runda 5\",'01'!BB13,0)))))","v":""},{"$f":"IF($O$9=\"Runda 1\",'01'!K13,IF($O$9=\"Runda 2\",'01'!V13,IF($O$9=\"Runda 3\",'01'!AG13,IF($O$9=\"Runda 4\",'01'!AR13,IF($O$9=\"Runda 5\",'01'!BC13,0)))))","v":""},{"$f":"IF($O$9=\"Runda 1\",'01'!L13,IF($O$9=\"Runda 2\",'01'!W13,IF($O$9=\"Runda 3\",'01'!AH13,IF($O$9=\"Runda 4\",'01'!AS13,IF($O$9=\"Runda 5\",'01'!BD13,0)))))","v":""},0,{"$f":"IF(Z15>Z14,3,IF(Z15<Z14,0,1))","v":1}]
[]
[{"$f":"IF(E4=1,Tragere!C16,IF(E4=2,Tragere!C16,IF(E4=3,Tragere!C13,IF(E4=4,Tragere!C12,IF(E4=5,Tragere!C15,IF(E4=6,Tragere!C14,IF(E4=7,Tragere!C14)))))))","v":"CLCT"},null,null,null,{"$f":"IF(E4=1,Tragere!C17,IF(E4=2,Tragere!C12,IF(E4=3,Tragere!C18,IF(E4=4,Tragere!C13,IF(E4=5,Tragere!C17,IF(E4=6,Tragere!C18,IF(E4=7,Tragere!C13)))))))","v":"Busuioc"},null,null,null,{"$f":"IF(E4=1,Tragere!C18,IF(E4=2,Tragere!C17,IF(E4=3,Tragere!C16,IF(E4=4,Tragere!C18,IF(E4=5,Tragere!C13,IF(E4=6,Tragere!C12,IF(E4=7,Tragere!C15)))))))","v":"Moon Power"},null,null,null,null,null,"Runda 4",1,2,3,4,5,6,7,8,9,10,"R","P"]
[null,null,null,null,null,null,null,null,null,null,null,null,null,null,{"$f":"A10","v":"Wrigley's S."},{"$f":"IF($O$17=\"Runda 1\",'01'!C8,IF($O$17=\"Runda 2\",'01'!N8,IF($O$17=\"Runda 3\",'01'!Y8,IF($O$17=\"Runda 4\",'01'!AJ8,IF($O$17=\"Runda 5\",'01'!AU8,0)))))","v":""},{"$f":"IF($O$17=\"Runda 1\",'01'!D8,IF($O$17=\"Runda 2\",'01'!O8,IF($O$17=\"Runda 3\",'01'!Z8,IF($O$17=\"Runda 4\",'01'!AK8,IF($O$17=\"Runda 5\",'01'!AV8,0)))))","v":""},{"$f":"IF($O$17=\"Runda 1\",'01'!E8,IF($O$17=\"Runda 2\",'01'!P8,IF($O$17=\"Runda 3\",'01'!AA8,IF($O$17=\"Runda 4\",'01'!AL8,IF($O$17=\"Runda 5\",'01'!AW8,0)))))","v":""},{"$f":"IF($O$17=\"Runda 1\",'01'!F8,IF($O$17=\"Runda 2\",'01'!Q8,IF($O$17=\"Runda 3\",'01'!AB8,IF($O$17=\"Runda 4\",'01'!AM8,IF($O$17=\"Runda 5\",'01'!AX8,0)))))","v":""},{"$f":"IF($O$17=\"Runda 1\",'01'!G8,IF($O$17=\"Runda 2\",'01'!R8,IF($O$17=\"Runda 3\",'01'!AC8,IF($O$17=\"Runda 4\",'01'!AN8,IF($O$17=\"Runda 5\",'01'!AY8,0)))))","v":""},{"$f":"IF($O$17=\"Runda 1\",'01'!H8,IF($O$17=\"Runda 2\",'01'!S8,IF($O$17=\"Runda 3\",'01'!AD8,IF($O$17=\"Runda 4\",'01'!AO8,IF($O$17=\"Runda 5\",'01'!AZ8,0)))))","v":""},{"$f":"IF($O$17=\"Runda 1\",'01'!I8,IF($O$17=\"Runda 2\",'01'!T8,IF($O$17=\"Runda 3\",'01'!AE8,IF($O$17=\"Runda 4\",'01'!AP8,IF($O$17=\"Runda 5\",'01'!BA8,0)))))","v":""},{"$f":"IF($O$17=\"Runda 1\",'01'!J8,IF($O$17=\"Runda 2\",'01'!U8,IF($O$17=\"Runda 3\",'01'!AF8,IF($O$17=\"Runda 4\",'01'!AQ8,IF($O$17=\"Runda 5\",'01'!BB8,0)))))","v":""},{"$f":"IF($O$17=\"Runda 1\",'01'!K8,IF($O$17=\"Runda 2\",'01'!V8,IF($O$17=\"Runda 3\",'01'!AG8,IF($O$17=\"Runda 4\",'01'!AR8,IF($O$17=\"Runda 5\",'01'!BC8,0)))))","v":""},{"$f":"IF($O$17=\"Runda 1\",'01'!L8,IF($O$17=\"Runda 2\",'01'!W8,IF($O$17=\"Runda 3\",'01'!AH8,IF($O$17=\"Runda 4\",'01'!AS8,IF($O$17=\"Runda 5\",'01'!BD8,0)))))","v":""},{"$f":"SUM(P18:Y18)","v":0},{"$f":"IF(Z18>Z19,3,IF(Z18<Z19,0,1))","v":1}]
[null,null,null,null,null,null,null,null,null,null,null,null,null,null,{"$f":"A17","v":"CLCT"},{"$f":"IF($O$17=\"Runda 1\",'01'!C11,IF($O$17=\"Runda 2\",'01'!N11,IF($O$17=\"Runda 3\",'01'!Y11,IF($O$17=\"Runda 4\",'01'!AJ11,IF($O$17=\"Runda 5\",'01'!AU11,0)))))","v":""},{"$f":"IF($O$17=\"Runda 1\",'01'!D11,IF($O$17=\"Runda 2\",'01'!O11,IF($O$17=\"Runda 3\",'01'!Z11,IF($O$17=\"Runda 4\",'01'!AK11,IF($O$17=\"Runda 5\",'01'!AV11,0)))))","v":""},{"$f":"IF($O$17=\"Runda 1\",'01'!E11,IF($O$17=\"Runda 2\",'01'!P11,IF($O$17=\"Runda 3\",'01'!AA11,IF($O$17=\"Runda 4\",'01'!AL11,IF($O$17=\"Runda 5\",'01'!AW11,0)))))","v":""},{"$f":"IF($O$17=\"Runda 1\",'01'!F11,IF($O$17=\"Runda 2\",'01'!Q11,IF($O$17=\"Runda 3\",'01'!AB11,IF($O$17=\"Runda 4\",'01'!AM11,IF($O$17=\"Runda 5\",'01'!AX11,0)))))","v":""},{"$f":"IF($O$17=\"Runda 1\",'01'!G11,IF($O$17=\"Runda 2\",'01'!R11,IF($O$17=\"Runda 3\",'01'!AC11,IF($O$17=\"Runda 4\",'01'!AN11,IF($O$17=\"Runda 5\",'01'!AY11,0)))))","v":""},{"$f":"IF($O$17=\"Runda 1\",'01'!H11,IF($O$17=\"Runda 2\",'01'!S11,IF($O$17=\"Runda 3\",'01'!AD11,IF($O$17=\"Runda 4\",'01'!AO11,IF($O$17=\"Runda 5\",'01'!AZ11,0)))))","v":""},{"$f":"IF($O$17=\"Runda 1\",'01'!I11,IF($O$17=\"Runda 2\",'01'!T11,IF($O$17=\"Runda 3\",'01'!AE11,IF($O$17=\"Runda 4\",'01'!AP11,IF($O$17=\"Runda 5\",'01'!BA11,0)))))","v":""},{"$f":"IF($O$17=\"Runda 1\",'01'!J11,IF($O$17=\"Runda 2\",'01'!U11,IF($O$17=\"Runda 3\",'01'!AF11,IF($O$17=\"Runda 4\",'01'!AQ11,IF($O$17=\"Runda 5\",'01'!BB11,0)))))","v":""},{"$f":"IF($O$17=\"Runda 1\",'01'!K11,IF($O$17=\"Runda 2\",'01'!V11,IF($O$17=\"Runda 3\",'01'!AG11,IF($O$17=\"Runda 4\",'01'!AR11,IF($O$17=\"Runda 5\",'01'!BC11,0)))))","v":""},{"$f":"IF($O$17=\"Runda 1\",'01'!L11,IF($O$17=\"Runda 2\",'01'!W11,IF($O$17=\"Runda 3\",'01'!AH11,IF($O$17=\"Runda 4\",'01'!AS11,IF($O$17=\"Runda 5\",'01'!BD11,0)))))","v":""},0,{"$f":"IF(Z19>Z18,3,IF(Z19<Z18,0,1))","v":1}]
[null,null,null,null,null,null,null,null,null,null,null,null,null,null,{"$f":"E10","v":"Kernel Panic"},{"$f":"IF($O$17=\"Runda 1\",'01'!C9,IF($O$17=\"Runda 2\",'01'!N9,IF($O$17=\"Runda 3\",'01'!Y9,IF($O$17=\"Runda 4\",'01'!AJ9,IF($O$17=\"Runda 5\",'01'!AU9,0)))))","v":""},{"$f":"IF($O$17=\"Runda 1\",'01'!D9,IF($O$17=\"Runda 2\",'01'!O9,IF($O$17=\"Runda 3\",'01'!Z9,IF($O$17=\"Runda 4\",'01'!AK9,IF($O$17=\"Runda 5\",'01'!AV9,0)))))","v":""},{"$f":"IF($O$17=\"Runda 1\",'01'!E9,IF($O$17=\"Runda 2\",'01'!P9,IF($O$17=\"Runda 3\",'01'!AA9,IF($O$17=\"Runda 4\",'01'!AL9,IF($O$17=\"Runda 5\",'01'!AW9,0)))))","v":""},{"$f":"IF($O$17=\"Runda 1\",'01'!F9,IF($O$17=\"Runda 2\",'01'!Q9,IF($O$17=\"Runda 3\",'01'!AB9,IF($O$17=\"Runda 4\",'01'!AM9,IF($O$17=\"Runda 5\",'01'!AX9,0)))))","v":""},{"$f":"IF($O$17=\"Runda 1\",'01'!G9,IF($O$17=\"Runda 2\",'01'!R9,IF($O$17=\"Runda 3\",'01'!AC9,IF($O$17=\"Runda 4\",'01'!AN9,IF($O$17=\"Runda 5\",'01'!AY9,0)))))","v":""},{"$f":"IF($O$17=\"Runda 1\",'01'!H9,IF($O$17=\"Runda 2\",'01'!S9,IF($O$17=\"Runda 3\",'01'!AD9,IF($O$17=\"Runda 4\",'01'!AO9,IF($O$17=\"Runda 5\",'01'!AZ9,0)))))","v":""},{"$f":"IF($O$17=\"Runda 1\",'01'!I9,IF($O$17=\"Runda 2\",'01'!T9,IF($O$17=\"Runda 3\",'01'!AE9,IF($O$17=\"Runda 4\",'01'!AP9,IF($O$17=\"Runda 5\",'01'!BA9,0)))))","v":""},{"$f":"IF($O$17=\"Runda 1\",'01'!J9,IF($O$17=\"Runda 2\",'01'!U9,IF($O$17=\"Runda 3\",'01'!AF9,IF($O$17=\"Runda 4\",'01'!AQ9,IF($O$17=\"Runda 5\",'01'!BB9,0)))))","v":""},{"$f":"IF($O$17=\"Runda 1\",'01'!K9,IF($O$17=\"Runda 2\",'01'!V9,IF($O$17=\"Runda 3\",'01'!AG9,IF($O$17=\"Runda 4\",'01'!AR9,IF($O$17=\"Runda 5\",'01'!BC9,0)))))","v":""},{"$f":"IF($O$17=\"Runda 1\",'01'!L9,IF($O$17=\"Runda 2\",'01'!W9,IF($O$17=\"Runda 3\",'01'!AH9,IF($O$17=\"Runda 4\",'01'!AS9,IF($O$17=\"Runda 5\",'01'!BD9,0)))))","v":""},0,{"$f":"IF(Z20>Z21,3,IF(Z20<Z21,0,1))","v":1}]
[null,null,null,null,null,null,null,null,null,null,null,null,null,null,{"$f":"I17","v":"Moon Power"},{"$f":"IF($O$17=\"Runda 1\",'01'!C13,IF($O$17=\"Runda 2\",'01'!N13,IF($O$17=\"Runda 3\",'01'!Y13,IF($O$17=\"Runda 4\",'01'!AJ13,IF($O$17=\"Runda 5\",'01'!AU13,0)))))","v":""},{"$f":"IF($O$17=\"Runda 1\",'01'!D13,IF($O$17=\"Runda 2\",'01'!O13,IF($O$17=\"Runda 3\",'01'!Z13,IF($O$17=\"Runda 4\",'01'!AK13,IF($O$17=\"Runda 5\",'01'!AV13,0)))))","v":""},{"$f":"IF($O$17=\"Runda 1\",'01'!E13,IF($O$17=\"Runda 2\",'01'!P13,IF($O$17=\"Runda 3\",'01'!AA13,IF($O$17=\"Runda 4\",'01'!AL13,IF($O$17=\"Runda 5\",'01'!AW13,0)))))","v":""},{"$f":"IF($O$17=\"Runda 1\",'01'!F13,IF($O$17=\"Runda 2\",'01'!Q13,IF($O$17=\"Runda 3\",'01'!AB13,IF($O$17=\"Runda 4\",'01'!AM13,IF($O$17=\"Runda 5\",'01'!AX13,0)))))","v":""},{"$f":"IF($O$17=\"Runda 1\",'01'!G13,IF($O$17=\"Runda 2\",'01'!R13,IF($O$17=\"Runda 3\",'01'!AC13,IF($O$17=\"Runda 4\",'01'!AN13,IF($O$17=\"Runda 5\",'01'!AY13,0)))))","v":""},{"$f":"IF($O$17=\"Runda 1\",'01'!H13,IF($O$17=\"Runda 2\",'01'!S13,IF($O$17=\"Runda 3\",'01'!AD13,IF($O$17=\"Runda 4\",'01'!AO13,IF($O$17=\"Runda 5\",'01'!AZ13,0)))))","v":""},{"$f":"IF($O$17=\"Runda 1\",'01'!I13,IF($O$17=\"Runda 2\",'01'!T13,IF($O$17=\"Runda 3\",'01'!AE13,IF($O$17=\"Runda 4\",'01'!AP13,IF($O$17=\"Runda 5\",'01'!BA13,0)))))","v":""},{"$f":"IF($O$17=\"Runda 1\",'01'!J13,IF($O$17=\"Runda 2\",'01'!U13,IF($O$17=\"Runda 3\",'01'!AF13,IF($O$17=\"Runda 4\",'01'!AQ13,IF($O$17=\"Runda 5\",'01'!BB13,0)))))","v":""},{"$f":"IF($O$17=\"Runda 1\",'01'!K13,IF($O$17=\"Runda 2\",'01'!V13,IF($O$17=\"Runda 3\",'01'!AG13,IF($O$17=\"Runda 4\",'01'!AR13,IF($O$17=\"Runda 5\",'01'!BC13,0)))))","v":""},{"$f":"IF($O$17=\"Runda 1\",'01'!L13,IF($O$17=\"Runda 2\",'01'!W13,IF($O$17=\"Runda 3\",'01'!AH13,IF($O$17=\"Runda 4\",'01'!AS13,IF($O$17=\"Runda 5\",'01'!BD13,0)))))","v":""},0,{"$f":"IF(Z21>Z20,3,IF(Z21<Z20,0,1))","v":1}]
[null,null,null,null,null,null,null,null,null,null,null,null,null,null,{"$f":"I10","v":"A-Team"},{"$f":"IF($O$17=\"Runda 1\",'01'!C10,IF($O$17=\"Runda 2\",'01'!N10,IF($O$17=\"Runda 3\",'01'!Y10,IF($O$17=\"Runda 4\",'01'!AJ10,IF($O$17=\"Runda 5\",'01'!AU10,0)))))","v":""},{"$f":"IF($O$17=\"Runda 1\",'01'!D10,IF($O$17=\"Runda 2\",'01'!O10,IF($O$17=\"Runda 3\",'01'!Z10,IF($O$17=\"Runda 4\",'01'!AK10,IF($O$17=\"Runda 5\",'01'!AV10,0)))))","v":""},{"$f":"IF($O$17=\"Runda 1\",'01'!E10,IF($O$17=\"Runda 2\",'01'!P10,IF($O$17=\"Runda 3\",'01'!AA10,IF($O$17=\"Runda 4\",'01'!AL10,IF($O$17=\"Runda 5\",'01'!AW10,0)))))","v":""},{"$f":"IF($O$17=\"Runda 1\",'01'!F10,IF($O$17=\"Runda 2\",'01'!Q10,IF($O$17=\"Runda 3\",'01'!AB10,IF($O$17=\"Runda 4\",'01'!AM10,IF($O$17=\"Runda 5\",'01'!AX10,0)))))","v":""},{"$f":"IF($O$17=\"Runda 1\",'01'!G10,IF($O$17=\"Runda 2\",'01'!R10,IF($O$17=\"Runda 3\",'01'!AC10,IF($O$17=\"Runda 4\",'01'!AN10,IF($O$17=\"Runda 5\",'01'!AY10,0)))))","v":""},{"$f":"IF($O$17=\"Runda 1\",'01'!H10,IF($O$17=\"Runda 2\",'01'!S10,IF($O$17=\"Runda 3\",'01'!AD10,IF($O$17=\"Runda 4\",'01'!AO10,IF($O$17=\"Runda 5\",'01'!AZ10,0)))))","v":""},{"$f":"IF($O$17=\"Runda 1\",'01'!I10,IF($O$17=\"Runda 2\",'01'!T10,IF($O$17=\"Runda 3\",'01'!AE10,IF($O$17=\"Runda 4\",'01'!AP10,IF($O$17=\"Runda 5\",'01'!BA10,0)))))","v":""},{"$f":"IF($O$17=\"Runda 1\",'01'!J10,IF($O$17=\"Runda 2\",'01'!U10,IF($O$17=\"Runda 3\",'01'!AF10,IF($O$17=\"Runda 4\",'01'!AQ10,IF($O$17=\"Runda 5\",'01'!BB10,0)))))","v":""},{"$f":"IF($O$17=\"Runda 1\",'01'!K10,IF($O$17=\"Runda 2\",'01'!V10,IF($O$17=\"Runda 3\",'01'!AG10,IF($O$17=\"Runda 4\",'01'!AR10,IF($O$17=\"Runda 5\",'01'!BC10,0)))))","v":""},{"$f":"IF($O$17=\"Runda 1\",'01'!L10,IF($O$17=\"Runda 2\",'01'!W10,IF($O$17=\"Runda 3\",'01'!AH10,IF($O$17=\"Runda 4\",'01'!AS10,IF($O$17=\"Runda 5\",'01'!BD10,0)))))","v":""},0,{"$f":"IF(Z22>Z23,3,IF(Z22<Z23,0,1))","v":1}]
[null,null,null,null,null,null,null,null,null,null,null,null,null,null,{"$f":"E17","v":"Busuioc"},{"$f":"IF($O$17=\"Runda 1\",'01'!C12,IF($O$17=\"Runda 2\",'01'!N12,IF($O$17=\"Runda 3\",'01'!Y12,IF($O$17=\"Runda 4\",'01'!AJ12,IF($O$17=\"Runda 5\",'01'!AU12,0)))))","v":""},{"$f":"IF($O$17=\"Runda 1\",'01'!D12,IF($O$17=\"Runda 2\",'01'!O12,IF($O$17=\"Runda 3\",'01'!Z12,IF($O$17=\"Runda 4\",'01'!AK12,IF($O$17=\"Runda 5\",'01'!AV12,0)))))","v":""},{"$f":"IF($O$17=\"Runda 1\",'01'!E12,IF($O$17=\"Runda 2\",'01'!P12,IF($O$17=\"Runda 3\",'01'!AA12,IF($O$17=\"Runda 4\",'01'!AL12,IF($O$17=\"Runda 5\",'01'!AW12,0)))))","v":""},{"$f":"IF($O$17=\"Runda 1\",'01'!F12,IF($O$17=\"Runda 2\",'01'!Q12,IF($O$17=\"Runda 3\",'01'!AB12,IF($O$17=\"Runda 4\",'01'!AM12,IF($O$17=\"Runda 5\",'01'!AX12,0)))))","v":""},{"$f":"IF($O$17=\"Runda 1\",'01'!G12,IF($O$17=\"Runda 2\",'01'!R12,IF($O$17=\"Runda 3\",'01'!AC12,IF($O$17=\"Runda 4\",'01'!AN12,IF($O$17=\"Runda 5\",'01'!AY12,0)))))","v":""},{"$f":"IF($O$17=\"Runda 1\",'01'!H12,IF($O$17=\"Runda 2\",'01'!S12,IF($O$17=\"Runda 3\",'01'!AD12,IF($O$17=\"Runda 4\",'01'!AO12,IF($O$17=\"Runda 5\",'01'!AZ12,0)))))","v":""},{"$f":"IF($O$17=\"Runda 1\",'01'!I12,IF($O$17=\"Runda 2\",'01'!T12,IF($O$17=\"Runda 3\",'01'!AE12,IF($O$17=\"Runda 4\",'01'!AP12,IF($O$17=\"Runda 5\",'01'!BA12,0)))))","v":""},{"$f":"IF($O$17=\"Runda 1\",'01'!J12,IF($O$17=\"Runda 2\",'01'!U12,IF($O$17=\"Runda 3\",'01'!AF12,IF($O$17=\"Runda 4\",'01'!AQ12,IF($O$17=\"Runda 5\",'01'!BB12,0)))))","v":""},{"$f":"IF($O$17=\"Runda 1\",'01'!K12,IF($O$17=\"Runda 2\",'01'!V12,IF($O$17=\"Runda 3\",'01'!AG12,IF($O$17=\"Runda 4\",'01'!AR12,IF($O$17=\"Runda 5\",'01'!BC12,0)))))","v":""},{"$f":"IF($O$17=\"Runda 1\",'01'!L12,IF($O$17=\"Runda 2\",'01'!W12,IF($O$17=\"Runda 3\",'01'!AH12,IF($O$17=\"Runda 4\",'01'!AS12,IF($O$17=\"Runda 5\",'01'!BD12,0)))))","v":""},0,{"$f":"IF(Z23>Z22,3,IF(Z23<Z22,0,1))","v":1}]
[]
["Contestatii",null,null,null,"Numarul intrebarii",null,null,null,null,null,null,null,null,null,"Runda 1",1,2,3,4,5,6,7,8,9,10,"R","P"]
[{"$f":"A10","v":"Wrigley's S."},null,null,null,null,null,null,null,null,null,null,null,null,null,{"$f":"A10","v":"Wrigley's S."},{"$f":"IF($O$25=\"Runda 1\",'01'!C8,IF($O$25=\"Runda 2\",'01'!N8,IF($O$25=\"Runda 3\",'01'!Y8,IF($O$25=\"Runda 4\",'01'!AJ8,IF($O$25=\"Runda 5\",'01'!AU8,0)))))","v":""},{"$f":"IF($O$25=\"Runda 1\",'01'!D8,IF($O$25=\"Runda 2\",'01'!O8,IF($O$25=\"Runda 3\",'01'!Z8,IF($O$25=\"Runda 4\",'01'!AK8,IF($O$25=\"Runda 5\",'01'!AV8,0)))))","v":""},{"$f":"IF($O$25=\"Runda 1\",'01'!E8,IF($O$25=\"Runda 2\",'01'!P8,IF($O$25=\"Runda 3\",'01'!AA8,IF($O$25=\"Runda 4\",'01'!AL8,IF($O$25=\"Runda 5\",'01'!AW8,0)))))","v":""},{"$f":"IF($O$25=\"Runda 1\",'01'!F8,IF($O$25=\"Runda 2\",'01'!Q8,IF($O$25=\"Runda 3\",'01'!AB8,IF($O$25=\"Runda 4\",'01'!AM8,IF($O$25=\"Runda 5\",'01'!AX8,0)))))","v":""},{"$f":"IF($O$25=\"Runda 1\",'01'!G8,IF($O$25=\"Runda 2\",'01'!R8,IF($O$25=\"Runda 3\",'01'!AC8,IF($O$25=\"Runda 4\",'01'!AN8,IF($O$25=\"Runda 5\",'01'!AY8,0)))))","v":""},{"$f":"IF($O$25=\"Runda 1\",'01'!H8,IF($O$25=\"Runda 2\",'01'!S8,IF($O$25=\"Runda 3\",'01'!AD8,IF($O$25=\"Runda 4\",'01'!AO8,IF($O$25=\"Runda 5\",'01'!AZ8,0)))))","v":""},{"$f":"IF($O$25=\"Runda 1\",'01'!I8,IF($O$25=\"Runda 2\",'01'!T8,IF($O$25=\"Runda 3\",'01'!AE8,IF($O$25=\"Runda 4\",'01'!AP8,IF($O$25=\"Runda 5\",'01'!BA8,0)))))","v":""},{"$f":"IF($O$25=\"Runda 1\",'01'!J8,IF($O$25=\"Runda 2\",'01'!U8,IF($O$25=\"Runda 3\",'01'!AF8,IF($O$25=\"Runda 4\",'01'!AQ8,IF($O$25=\"Runda 5\",'01'!BB8,0)))))","v":""},{"$f":"IF($O$25=\"Runda 1\",'01'!K8,IF($O$25=\"Runda 2\",'01'!V8,IF($O$25=\"Runda 3\",'01'!AG8,IF($O$25=\"Runda 4\",'01'!AR8,IF($O$25=\"Runda 5\",'01'!BC8,0)))))","v":""},{"$f":"IF($O$25=\"Runda 1\",'01'!L8,IF($O$25=\"Runda 2\",'01'!W8,IF($O$25=\"Runda 3\",'01'!AH8,IF($O$25=\"Runda 4\",'01'!AS8,IF($O$25=\"Runda 5\",'01'!BD8,0)))))","v":""},{"$f":"SUM(P26:Y26)","v":0},{"$f":"IF(Z26>Z27,3,IF(Z26<Z27,0,1))","v":1}]
[{"$f":"E10","v":"Kernel Panic"},null,null,null,null,null,null,null,null,null,null,null,null,null,{"$f":"E17","v":"Busuioc"},{"$f":"IF($O$25=\"Runda 1\",'01'!C12,IF($O$25=\"Runda 2\",'01'!N12,IF($O$25=\"Runda 3\",'01'!Y12,IF($O$25=\"Runda 4\",'01'!AJ12,IF($O$25=\"Runda 5\",'01'!AU12,0)))))","v":""},{"$f":"IF($O$25=\"Runda 1\",'01'!D12,IF($O$25=\"Runda 2\",'01'!O12,IF($O$25=\"Runda 3\",'01'!Z12,IF($O$25=\"Runda 4\",'01'!AK12,IF($O$25=\"Runda 5\",'01'!AV12,0)))))","v":""},{"$f":"IF($O$25=\"Runda 1\",'01'!E12,IF($O$25=\"Runda 2\",'01'!P12,IF($O$25=\"Runda 3\",'01'!AA12,IF($O$25=\"Runda 4\",'01'!AL12,IF($O$25=\"Runda 5\",'01'!AW12,0)))))","v":""},{"$f":"IF($O$25=\"Runda 1\",'01'!F12,IF($O$25=\"Runda 2\",'01'!Q12,IF($O$25=\"Runda 3\",'01'!AB12,IF($O$25=\"Runda 4\",'01'!AM12,IF($O$25=\"Runda 5\",'01'!AX12,0)))))","v":""},{"$f":"IF($O$25=\"Runda 1\",'01'!G12,IF($O$25=\"Runda 2\",'01'!R12,IF($O$25=\"Runda 3\",'01'!AC12,IF($O$25=\"Runda 4\",'01'!AN12,IF($O$25=\"Runda 5\",'01'!AY12,0)))))","v":""},{"$f":"IF($O$25=\"Runda 1\",'01'!H12,IF($O$25=\"Runda 2\",'01'!S12,IF($O$25=\"Runda 3\",'01'!AD12,IF($O$25=\"Runda 4\",'01'!AO12,IF($O$25=\"Runda 5\",'01'!AZ12,0)))))","v":""},{"$f":"IF($O$25=\"Runda 1\",'01'!I12,IF($O$25=\"Runda 2\",'01'!T12,IF($O$25=\"Runda 3\",'01'!AE12,IF($O$25=\"Runda 4\",'01'!AP12,IF($O$25=\"Runda 5\",'01'!BA12,0)))))","v":""},{"$f":"IF($O$25=\"Runda 1\",'01'!J12,IF($O$25=\"Runda 2\",'01'!U12,IF($O$25=\"Runda 3\",'01'!AF12,IF($O$25=\"Runda 4\",'01'!AQ12,IF($O$25=\"Runda 5\",'01'!BB12,0)))))","v":""},{"$f":"IF($O$25=\"Runda 1\",'01'!K12,IF($O$25=\"Runda 2\",'01'!V12,IF($O$25=\"Runda 3\",'01'!AG12,IF($O$25=\"Runda 4\",'01'!AR12,IF($O$25=\"Runda 5\",'01'!BC12,0)))))","v":""},{"$f":"IF($O$25=\"Runda 1\",'01'!L12,IF($O$25=\"Runda 2\",'01'!W12,IF($O$25=\"Runda 3\",'01'!AH12,IF($O$25=\"Runda 4\",'01'!AS12,IF($O$25=\"Runda 5\",'01'!BD12,0)))))","v":""},0,{"$f":"IF(Z27>Z26,3,IF(Z27<Z26,0,1))","v":1}]
[{"$f":"I10","v":"A-Team"},null,null,null,null,null,null,null,null,null,null,null,null,null,{"$f":"E10","v":"Kernel Panic"},{"$f":"IF($O$25=\"Runda 1\",'01'!C9,IF($O$25=\"Runda 2\",'01'!N9,IF($O$25=\"Runda 3\",'01'!Y9,IF($O$25=\"Runda 4\",'01'!AJ9,IF($O$25=\"Runda 5\",'01'!AU9,0)))))","v":""},{"$f":"IF($O$25=\"Runda 1\",'01'!D9,IF($O$25=\"Runda 2\",'01'!O9,IF($O$25=\"Runda 3\",'01'!Z9,IF($O$25=\"Runda 4\",'01'!AK9,IF($O$25=\"Runda 5\",'01'!AV9,0)))))","v":""},{"$f":"IF($O$25=\"Runda 1\",'01'!E9,IF($O$25=\"Runda 2\",'01'!P9,IF($O$25=\"Runda 3\",'01'!AA9,IF($O$25=\"Runda 4\",'01'!AL9,IF($O$25=\"Runda 5\",'01'!AW9,0)))))","v":""},{"$f":"IF($O$25=\"Runda 1\",'01'!F9,IF($O$25=\"Runda 2\",'01'!Q9,IF($O$25=\"Runda 3\",'01'!AB9,IF($O$25=\"Runda 4\",'01'!AM9,IF($O$25=\"Runda 5\",'01'!AX9,0)))))","v":""},{"$f":"IF($O$25=\"Runda 1\",'01'!G9,IF($O$25=\"Runda 2\",'01'!R9,IF($O$25=\"Runda 3\",'01'!AC9,IF($O$25=\"Runda 4\",'01'!AN9,IF($O$25=\"Runda 5\",'01'!AY9,0)))))","v":""},{"$f":"IF($O$25=\"Runda 1\",'01'!H9,IF($O$25=\"Runda 2\",'01'!S9,IF($O$25=\"Runda 3\",'01'!AD9,IF($O$25=\"Runda 4\",'01'!AO9,IF($O$25=\"Runda 5\",'01'!AZ9,0)))))","v":""},{"$f":"IF($O$25=\"Runda 1\",'01'!I9,IF($O$25=\"Runda 2\",'01'!T9,IF($O$25=\"Runda 3\",'01'!AE9,IF($O$25=\"Runda 4\",'01'!AP9,IF($O$25=\"Runda 5\",'01'!BA9,0)))))","v":""},{"$f":"IF($O$25=\"Runda 1\",'01'!J9,IF($O$25=\"Runda 2\",'01'!U9,IF($O$25=\"Runda 3\",'01'!AF9,IF($O$25=\"Runda 4\",'01'!AQ9,IF($O$25=\"Runda 5\",'01'!BB9,0)))))","v":""},{"$f":"IF($O$25=\"Runda 1\",'01'!K9,IF($O$25=\"Runda 2\",'01'!V9,IF($O$25=\"Runda 3\",'01'!AG9,IF($O$25=\"Runda 4\",'01'!AR9,IF($O$25=\"Runda 5\",'01'!BC9,0)))))","v":""},{"$f":"IF($O$25=\"Runda 1\",'01'!L9,IF($O$25=\"Runda 2\",'01'!W9,IF($O$25=\"Runda 3\",'01'!AH9,IF($O$25=\"Runda 4\",'01'!AS9,IF($O$25=\"Runda 5\",'01'!BD9,0)))))","v":""},0,{"$f":"IF(Z28>Z29,3,IF(Z28<Z29,0,1))","v":1}]
[{"$f":"A17","v":"CLCT"},null,null,null,null,null,null,null,null,null,null,null,null,null,{"$f":"A17","v":"CLCT"},{"$f":"IF($O$25=\"Runda 1\",'01'!C11,IF($O$25=\"Runda 2\",'01'!N11,IF($O$25=\"Runda 3\",'01'!Y11,IF($O$25=\"Runda 4\",'01'!AJ11,IF($O$25=\"Runda 5\",'01'!AU11,0)))))","v":""},{"$f":"IF($O$25=\"Runda 1\",'01'!D11,IF($O$25=\"Runda 2\",'01'!O11,IF($O$25=\"Runda 3\",'01'!Z11,IF($O$25=\"Runda 4\",'01'!AK11,IF($O$25=\"Runda 5\",'01'!AV11,0)))))","v":""},{"$f":"IF($O$25=\"Runda 1\",'01'!E11,IF($O$25=\"Runda 2\",'01'!P11,IF($O$25=\"Runda 3\",'01'!AA11,IF($O$25=\"Runda 4\",'01'!AL11,IF($O$25=\"Runda 5\",'01'!AW11,0)))))","v":""},{"$f":"IF($O$25=\"Runda 1\",'01'!F11,IF($O$25=\"Runda 2\",'01'!Q11,IF($O$25=\"Runda 3\",'01'!AB11,IF($O$25=\"Runda 4\",'01'!AM11,IF($O$25=\"Runda 5\",'01'!AX11,0)))))","v":""},{"$f":"IF($O$25=\"Runda 1\",'01'!G11,IF($O$25=\"Runda 2\",'01'!R11,IF($O$25=\"Runda 3\",'01'!AC11,IF($O$25=\"Runda 4\",'01'!AN11,IF($O$25=\"Runda 5\",'01'!AY11,0)))))","v":""},{"$f":"IF($O$25=\"Runda 1\",'01'!H11,IF($O$25=\"Runda 2\",'01'!S11,IF($O$25=\"Runda 3\",'01'!AD11,IF($O$25=\"Runda 4\",'01'!AO11,IF($O$25=\"Runda 5\",'01'!AZ11,0)))))","v":""},{"$f":"IF($O$25=\"Runda 1\",'01'!I11,IF($O$25=\"Runda 2\",'01'!T11,IF($O$25=\"Runda 3\",'01'!AE11,IF($O$25=\"Runda 4\",'01'!AP11,IF($O$25=\"Runda 5\",'01'!BA11,0)))))","v":""},{"$f":"IF($O$25=\"Runda 1\",'01'!J11,IF($O$25=\"Runda 2\",'01'!U11,IF($O$25=\"Runda 3\",'01'!AF11,IF($O$25=\"Runda 4\",'01'!AQ11,IF($O$25=\"Runda 5\",'01'!BB11,0)))))","v":""},{"$f":"IF($O$25=\"Runda 1\",'01'!K11,IF($O$25=\"Runda 2\",'01'!V11,IF($O$25=\"Runda 3\",'01'!AG11,IF($O$25=\"Runda 4\",'01'!AR11,IF($O$25=\"Runda 5\",'01'!BC11,0)))))","v":""},{"$f":"IF($O$25=\"Runda 1\",'01'!L11,IF($O$25=\"Runda 2\",'01'!W11,IF($O$25=\"Runda 3\",'01'!AH11,IF($O$25=\"Runda 4\",'01'!AS11,IF($O$25=\"Runda 5\",'01'!BD11,0)))))","v":""},0,{"$f":"IF(Z29>Z28,3,IF(Z29<Z28,0,1))","v":1}]
[{"$f":"E17","v":"Busuioc"},null,null,null,null,null,null,null,null,null,null,null,null,null,{"$f":"I10","v":"A-Team"},{"$f":"IF($O$25=\"Runda 1\",'01'!C10,IF($O$25=\"Runda 2\",'01'!N10,IF($O$25=\"Runda 3\",'01'!Y10,IF($O$25=\"Runda 4\",'01'!AJ10,IF($O$25=\"Runda 5\",'01'!AU10,0)))))","v":""},{"$f":"IF($O$25=\"Runda 1\",'01'!D10,IF($O$25=\"Runda 2\",'01'!O10,IF($O$25=\"Runda 3\",'01'!Z10,IF($O$25=\"Runda 4\",'01'!AK10,IF($O$25=\"Runda 5\",'01'!AV10,0)))))","v":""},{"$f":"IF($O$25=\"Runda 1\",'01'!E10,IF($O$25=\"Runda 2\",'01'!P10,IF($O$25=\"Runda 3\",'01'!AA10,IF($O$25=\"Runda 4\",'01'!AL10,IF($O$25=\"Runda 5\",'01'!AW10,0)))))","v":""},{"$f":"IF($O$25=\"Runda 1\",'01'!F10,IF($O$25=\"Runda 2\",'01'!Q10,IF($O$25=\"Runda 3\",'01'!AB10,IF($O$25=\"Runda 4\",'01'!AM10,IF($O$25=\"Runda 5\",'01'!AX10,0)))))","v":""},{"$f":"IF($O$25=\"Runda 1\",'01'!G10,IF($O$25=\"Runda 2\",'01'!R10,IF($O$25=\"Runda 3\",'01'!AC10,IF($O$25=\"Runda 4\",'01'!AN10,IF($O$25=\"Runda 5\",'01'!AY10,0)))))","v":""},{"$f":"IF($O$25=\"Runda 1\",'01'!H10,IF($O$25=\"Runda 2\",'01'!S10,IF($O$25=\"Runda 3\",'01'!AD10,IF($O$25=\"Runda 4\",'01'!AO10,IF($O$25=\"Runda 5\",'01'!AZ10,0)))))","v":""},{"$f":"IF($O$25=\"Runda 1\",'01'!I10,IF($O$25=\"Runda 2\",'01'!T10,IF($O$25=\"Runda 3\",'01'!AE10,IF($O$25=\"Runda 4\",'01'!AP10,IF($O$25=\"Runda 5\",'01'!BA10,0)))))","v":""},{"$f":"IF($O$25=\"Runda 1\",'01'!J10,IF($O$25=\"Runda 2\",'01'!U10,IF($O$25=\"Runda 3\",'01'!AF10,IF($O$25=\"Runda 4\",'01'!AQ10,IF($O$25=\"Runda 5\",'01'!BB10,0)))))","v":""},{"$f":"IF($O$25=\"Runda 1\",'01'!K10,IF($O$25=\"Runda 2\",'01'!V10,IF($O$25=\"Runda 3\",'01'!AG10,IF($O$25=\"Runda 4\",'01'!AR10,IF($O$25=\"Runda 5\",'01'!BC10,0)))))","v":""},{"$f":"IF($O$25=\"Runda 1\",'01'!L10,IF($O$25=\"Runda 2\",'01'!W10,IF($O$25=\"Runda 3\",'01'!AH10,IF($O$25=\"Runda 4\",'01'!AS10,IF($O$25=\"Runda 5\",'01'!BD10,0)))))","v":""},0,{"$f":"IF(Z30>Z31,3,IF(Z30<Z31,0,1))","v":1}]
[{"$f":"I17","v":"Moon Power"},null,null,null,null,null,null,null,null,null,null,null,null,null,{"$f":"I17","v":"Moon Power"},{"$f":"IF($O$25=\"Runda 1\",'01'!C13,IF($O$25=\"Runda 2\",'01'!N13,IF($O$25=\"Runda 3\",'01'!Y13,IF($O$25=\"Runda 4\",'01'!AJ13,IF($O$25=\"Runda 5\",'01'!AU13,0)))))","v":""},{"$f":"IF($O$25=\"Runda 1\",'01'!D13,IF($O$25=\"Runda 2\",'01'!O13,IF($O$25=\"Runda 3\",'01'!Z13,IF($O$25=\"Runda 4\",'01'!AK13,IF($O$25=\"Runda 5\",'01'!AV13,0)))))","v":""},{"$f":"IF($O$25=\"Runda 1\",'01'!E13,IF($O$25=\"Runda 2\",'01'!P13,IF($O$25=\"Runda 3\",'01'!AA13,IF($O$25=\"Runda 4\",'01'!AL13,IF($O$25=\"Runda 5\",'01'!AW13,0)))))","v":""},{"$f":"IF($O$25=\"Runda 1\",'01'!F13,IF($O$25=\"Runda 2\",'01'!Q13,IF($O$25=\"Runda 3\",'01'!AB13,IF($O$25=\"Runda 4\",'01'!AM13,IF($O$25=\"Runda 5\",'01'!AX13,0)))))","v":""},{"$f":"IF($O$25=\"Runda 1\",'01'!G13,IF($O$25=\"Runda 2\",'01'!R13,IF($O$25=\"Runda 3\",'01'!AC13,IF($O$25=\"Runda 4\",'01'!AN13,IF($O$25=\"Runda 5\",'01'!AY13,0)))))","v":""},{"$f":"IF($O$25=\"Runda 1\",'01'!H13,IF($O$25=\"Runda 2\",'01'!S13,IF($O$25=\"Runda 3\",'01'!AD13,IF($O$25=\"Runda 4\",'01'!AO13,IF($O$25=\"Runda 5\",'01'!AZ13,0)))))","v":""},{"$f":"IF($O$25=\"Runda 1\",'01'!I13,IF($O$25=\"Runda 2\",'01'!T13,IF($O$25=\"Runda 3\",'01'!AE13,IF($O$25=\"Runda 4\",'01'!AP13,IF($O$25=\"Runda 5\",'01'!BA13,0)))))","v":""},{"$f":"IF($O$25=\"Runda 1\",'01'!J13,IF($O$25=\"Runda 2\",'01'!U13,IF($O$25=\"Runda 3\",'01'!AF13,IF($O$25=\"Runda 4\",'01'!AQ13,IF($O$25=\"Runda 5\",'01'!BB13,0)))))","v":""},{"$f":"IF($O$25=\"Runda 1\",'01'!K13,IF($O$25=\"Runda 2\",'01'!V13,IF($O$25=\"Runda 3\",'01'!AG13,IF($O$25=\"Runda 4\",'01'!AR13,IF($O$25=\"Runda 5\",'01'!BC13,0)))))","v":""},{"$f":"IF($O$25=\"Runda 1\",'01'!L13,IF($O$25=\"Runda 2\",'01'!W13,IF($O$25=\"Runda 3\",'01'!AH13,IF($O$25=\"Runda 4\",'01'!AS13,IF($O$25=\"Runda 5\",'01'!BD13,0)))))","v":""},0,{"$f":"IF(Z31>Z30,3,IF(Z31<Z30,0,1))","v":1}]
[]
["Rezultate etapa",null,null,null,"V","E","I","RASP",null,"PUNCTE",null,null,null,null,"Runda 5",1,2,3,4,5,6,7,8,9,10,"R","P"]
[{"$f":"A10","v":"Wrigley's S."},null,null,null,{"$f":"SUM(IF(AA2=3,1,0),IF(AA10=3,1,0),IF(AA18=3,1,0),IF(AA26=3,1,0),IF(AA34=3,1,0))","v":0},{"$f":"SUM(IF(AA2=1,1,0),IF(AA10=1,1,0),IF(AA18=1,1,0),IF(AA26=1,1,0),IF(AA34=1,1,0))","v":5},{"$f":"SUM(IF(AA2=0,1,0),IF(AA10=0,1,0),IF(AA18=0,1,0),IF(AA26=0,1,0),IF(AA34=0,1,0))","v":0},{"$f":"SUM(Z2,Z10,Z18,Z26,Z34)","v":0},null,{"$f":"SUM(AA2,AA10,AA18,AA26,AA34)","v":5},null,null,null,null,{"$f":"A10","v":"Wrigley's S."},{"$f":"IF($O$33=\"Runda 1\",'01'!C8,IF($O$33=\"Runda 2\",'01'!N8,IF($O$33=\"Runda 3\",'01'!Y8,IF($O$33=\"Runda 4\",'01'!AJ8,IF($O$33=\"Runda 5\",'01'!AU8,0)))))","v":""},{"$f":"IF($O$33=\"Runda 1\",'01'!D8,IF($O$33=\"Runda 2\",'01'!O8,IF($O$33=\"Runda 3\",'01'!Z8,IF($O$33=\"Runda 4\",'01'!AK8,IF($O$33=\"Runda 5\",'01'!AV8,0)))))","v":""},{"$f":"IF($O$33=\"Runda 1\",'01'!E8,IF($O$33=\"Runda 2\",'01'!P8,IF($O$33=\"Runda 3\",'01'!AA8,IF($O$33=\"Runda 4\",'01'!AL8,IF($O$33=\"Runda 5\",'01'!AW8,0)))))","v":""},{"$f":"IF($O$33=\"Runda 1\",'01'!F8,IF($O$33=\"Runda 2\",'01'!Q8,IF($O$33=\"Runda 3\",'01'!AB8,IF($O$33=\"Runda 4\",'01'!AM8,IF($O$33=\"Runda 5\",'01'!AX8,0)))))","v":""},{"$f":"IF($O$33=\"Runda 1\",'01'!G8,IF($O$33=\"Runda 2\",'01'!R8,IF($O$33=\"Runda 3\",'01'!AC8,IF($O$33=\"Runda 4\",'01'!AN8,IF($O$33=\"Runda 5\",'01'!AY8,0)))))","v":""},{"$f":"IF($O$33=\"Runda 1\",'01'!H8,IF($O$33=\"Runda 2\",'01'!S8,IF($O$33=\"Runda 3\",'01'!AD8,IF($O$33=\"Runda 4\",'01'!AO8,IF($O$33=\"Runda 5\",'01'!AZ8,0)))))","v":""},{"$f":"IF($O$33=\"Runda 1\",'01'!I8,IF($O$33=\"Runda 2\",'01'!T8,IF($O$33=\"Runda 3\",'01'!AE8,IF($O$33=\"Runda 4\",'01'!AP8,IF($O$33=\"Runda 5\",'01'!BA8,0)))))","v":""},{"$f":"IF($O$33=\"Runda 1\",'01'!J8,IF($O$33=\"Runda 2\",'01'!U8,IF($O$33=\"Runda 3\",'01'!AF8,IF($O$33=\"Runda 4\",'01'!AQ8,IF($O$33=\"Runda 5\",'01'!BB8,0)))))","v":""},{"$f":"IF($O$33=\"Runda 1\",'01'!K8,IF($O$33=\"Runda 2\",'01'!V8,IF($O$33=\"Runda 3\",'01'!AG8,IF($O$33=\"Runda 4\",'01'!AR8,IF($O$33=\"Runda 5\",'01'!BC8,0)))))","v":""},{"$f":"IF($O$33=\"Runda 1\",'01'!L8,IF($O$33=\"Runda 2\",'01'!W8,IF($O$33=\"Runda 3\",'01'!AH8,IF($O$33=\"Runda 4\",'01'!AS8,IF($O$33=\"Runda 5\",'01'!BD8,0)))))","v":""},{"$f":"SUM(P34:Y34)","v":0},{"$f":"IF(Z34>Z35,3,IF(Z34<Z35,0,1))","v":1}]
[{"$f":"E10","v":"Kernel Panic"},null,null,null,{"$f":"SUM(IF(AA3=3,1,0),IF(AA12=3,1,0),IF(AA20=3,1,0),IF(AA28=3,1,0),IF(AA36=3,1,0))","v":0},{"$f":"SUM(IF(AA3=1,1,0),IF(AA12=1,1,0),IF(AA20=1,1,0),IF(AA28=1,1,0),IF(AA36=1,1,0))","v":5},{"$f":"SUM(IF(AA3=0,1,0),IF(AA12=0,1,0),IF(AA20=0,1,0),IF(AA28=0,1,0),IF(AA36=0,1,0))","v":0},{"$f":"SUM(Z3,Z12,Z20,Z28,Z36)","v":0},null,{"$f":"SUM(AA3,AA12,AA20,AA28,AA36)","v":5},null,null,null,null,{"$f":"I17","v":"Moon Power"},{"$f":"IF($O$33=\"Runda 1\",'01'!C13,IF($O$33=\"Runda 2\",'01'!N13,IF($O$33=\"Runda 3\",'01'!Y13,IF($O$33=\"Runda 4\",'01'!AJ13,IF($O$33=\"Runda 5\",'01'!AU13,0)))))","v":""},{"$f":"IF($O$33=\"Runda 1\",'01'!D13,IF($O$33=\"Runda 2\",'01'!O13,IF($O$33=\"Runda 3\",'01'!Z13,IF($O$33=\"Runda 4\",'01'!AK13,IF($O$33=\"Runda 5\",'01'!AV13,0)))))","v":""},{"$f":"IF($O$33=\"Runda 1\",'01'!E13,IF($O$33=\"Runda 2\",'01'!P13,IF($O$33=\"Runda 3\",'01'!AA13,IF($O$33=\"Runda 4\",'01'!AL13,IF($O$33=\"Runda 5\",'01'!AW13,0)))))","v":""},{"$f":"IF($O$33=\"Runda 1\",'01'!F13,IF($O$33=\"Runda 2\",'01'!Q13,IF($O$33=\"Runda 3\",'01'!AB13,IF($O$33=\"Runda 4\",'01'!AM13,IF($O$33=\"Runda 5\",'01'!AX13,0)))))","v":""},{"$f":"IF($O$33=\"Runda 1\",'01'!G13,IF($O$33=\"Runda 2\",'01'!R13,IF($O$33=\"Runda 3\",'01'!AC13,IF($O$33=\"Runda 4\",'01'!AN13,IF($O$33=\"Runda 5\",'01'!AY13,0)))))","v":""},{"$f":"IF($O$33=\"Runda 1\",'01'!H13,IF($O$33=\"Runda 2\",'01'!S13,IF($O$33=\"Runda 3\",'01'!AD13,IF($O$33=\"Runda 4\",'01'!AO13,IF($O$33=\"Runda 5\",'01'!AZ13,0)))))","v":""},{"$f":"IF($O$33=\"Runda 1\",'01'!I13,IF($O$33=\"Runda 2\",'01'!T13,IF($O$33=\"Runda 3\",'01'!AE13,IF($O$33=\"Runda 4\",'01'!AP13,IF($O$33=\"Runda 5\",'01'!BA13,0)))))","v":""},{"$f":"IF($O$33=\"Runda 1\",'01'!J13,IF($O$33=\"Runda 2\",'01'!U13,IF($O$33=\"Runda 3\",'01'!AF13,IF($O$33=\"Runda 4\",'01'!AQ13,IF($O$33=\"Runda 5\",'01'!BB13,0)))))","v":""},{"$f":"IF($O$33=\"Runda 1\",'01'!K13,IF($O$33=\"Runda 2\",'01'!V13,IF($O$33=\"Runda 3\",'01'!AG13,IF($O$33=\"Runda 4\",'01'!AR13,IF($O$33=\"Runda 5\",'01'!BC13,0)))))","v":""},{"$f":"IF($O$33=\"Runda 1\",'01'!L13,IF($O$33=\"Runda 2\",'01'!W13,IF($O$33=\"Runda 3\",'01'!AH13,IF($O$33=\"Runda 4\",'01'!AS13,IF($O$33=\"Runda 5\",'01'!BD13,0)))))","v":""},0,{"$f":"IF(Z35>Z34,3,IF(Z35<Z34,0,1))","v":1}]
[{"$f":"I10","v":"A-Team"},null,null,null,{"$f":"SUM(IF(AA4=3,1,0),IF(AA11=3,1,0),IF(AA22=3,1,0),IF(AA30=3,1,0),IF(AA37=3,1,0))","v":0},{"$f":"SUM(IF(AA4=1,1,0),IF(AA11=1,1,0),IF(AA22=1,1,0),IF(AA30=1,1,0),IF(AA37=1,1,0))","v":5},{"$f":"SUM(IF(AA4=0,1,0),IF(AA11=0,1,0),IF(AA22=0,1,0),IF(AA30=0,1,0),IF(AA37=0,1,0))","v":0},{"$f":"SUM(Z4,Z11,Z22,Z30,Z37)","v":0},null,{"$f":"SUM(AA4,AA11,AA22,AA30,AA37)","v":5},null,null,null,null,{"$f":"E10","v":"Kernel Panic"},{"$f":"IF($O$33=\"Runda 1\",'01'!C9,IF($O$33=\"Runda 2\",'01'!N9,IF($O$33=\"Runda 3\",'01'!Y9,IF($O$33=\"Runda 4\",'01'!AJ9,IF($O$33=\"Runda 5\",'01'!AU9,0)))))","v":""},{"$f":"IF($O$33=\"Runda 1\",'01'!D9,IF($O$33=\"Runda 2\",'01'!O9,IF($O$33=\"Runda 3\",'01'!Z9,IF($O$33=\"Runda 4\",'01'!AK9,IF($O$33=\"Runda 5\",'01'!AV9,0)))))","v":""},{"$f":"IF($O$33=\"Runda 1\",'01'!E9,IF($O$33=\"Runda 2\",'01'!P9,IF($O$33=\"Runda 3\",'01'!AA9,IF($O$33=\"Runda 4\",'01'!AL9,IF($O$33=\"Runda 5\",'01'!AW9,0)))))","v":""},{"$f":"IF($O$33=\"Runda 1\",'01'!F9,IF($O$33=\"Runda 2\",'01'!Q9,IF($O$33=\"Runda 3\",'01'!AB9,IF($O$33=\"Runda 4\",'01'!AM9,IF($O$33=\"Runda 5\",'01'!AX9,0)))))","v":""},{"$f":"IF($O$33=\"Runda 1\",'01'!G9,IF($O$33=\"Runda 2\",'01'!R9,IF($O$33=\"Runda 3\",'01'!AC9,IF($O$33=\"Runda 4\",'01'!AN9,IF($O$33=\"Runda 5\",'01'!AY9,0)))))","v":""},{"$f":"IF($O$33=\"Runda 1\",'01'!H9,IF($O$33=\"Runda 2\",'01'!S9,IF($O$33=\"Runda 3\",'01'!AD9,IF($O$33=\"Runda 4\",'01'!AO9,IF($O$33=\"Runda 5\",'01'!AZ9,0)))))","v":""},{"$f":"IF($O$33=\"Runda 1\",'01'!I9,IF($O$33=\"Runda 2\",'01'!T9,IF($O$33=\"Runda 3\",'01'!AE9,IF($O$33=\"Runda 4\",'01'!AP9,IF($O$33=\"Runda 5\",'01'!BA9,0)))))","v":""},{"$f":"IF($O$33=\"Runda 1\",'01'!J9,IF($O$33=\"Runda 2\",'01'!U9,IF($O$33=\"Runda 3\",'01'!AF9,IF($O$33=\"Runda 4\",'01'!AQ9,IF($O$33=\"Runda 5\",'01'!BB9,0)))))","v":""},{"$f":"IF($O$33=\"Runda 1\",'01'!K9,IF($O$33=\"Runda 2\",'01'!V9,IF($O$33=\"Runda 3\",'01'!AG9,IF($O$33=\"Runda 4\",'01'!AR9,IF($O$33=\"Runda 5\",'01'!BC9,0)))))","v":""},{"$f":"IF($O$33=\"Runda 1\",'01'!L9,IF($O$33=\"Runda 2\",'01'!W9,IF($O$33=\"Runda 3\",'01'!AH9,IF($O$33=\"Runda 4\",'01'!AS9,IF($O$33=\"Runda 5\",'01'!BD9,0)))))","v":""},0,{"$f":"IF(Z36>Z37,3,IF(Z36<Z37,0,1))","v":1}]
[{"$f":"A17","v":"CLCT"},null,null,null,{"$f":"SUM(IF(AA5=3,1,0),IF(AA14=3,1,0),IF(AA19=3,1,0),IF(AA29=3,1,0),IF(AA38=3,1,0))","v":0},{"$f":"SUM(IF(AA5=1,1,0),IF(AA14=1,1,0),IF(AA19=1,1,0),IF(AA29=1,1,0),IF(AA38=1,1,0))","v":5},{"$f":"SUM(IF(AA5=0,1,0),IF(AA14=0,1,0),IF(AA19=0,1,0),IF(AA29=0,1,0),IF(AA38=0,1,0))","v":0},{"$f":"SUM(Z5,Z14,Z19,Z29,Z38)","v":0},null,{"$f":"SUM(AA5,AA14,AA19,AA29,AA38)","v":5},null,null,null,null,{"$f":"I10","v":"A-Team"},{"$f":"IF($O$33=\"Runda 1\",'01'!C10,IF($O$33=\"Runda 2\",'01'!N10,IF($O$33=\"Runda 3\",'01'!Y10,IF($O$33=\"Runda 4\",'01'!AJ10,IF($O$33=\"Runda 5\",'01'!AU10,0)))))","v":""},{"$f":"IF($O$33=\"Runda 1\",'01'!D10,IF($O$33=\"Runda 2\",'01'!O10,IF($O$33=\"Runda 3\",'01'!Z10,IF($O$33=\"Runda 4\",'01'!AK10,IF($O$33=\"Runda 5\",'01'!AV10,0)))))","v":""},{"$f":"IF($O$33=\"Runda 1\",'01'!E10,IF($O$33=\"Runda 2\",'01'!P10,IF($O$33=\"Runda 3\",'01'!AA10,IF($O$33=\"Runda 4\",'01'!AL10,IF($O$33=\"Runda 5\",'01'!AW10,0)))))","v":""},{"$f":"IF($O$33=\"Runda 1\",'01'!F10,IF($O$33=\"Runda 2\",'01'!Q10,IF($O$33=\"Runda 3\",'01'!AB10,IF($O$33=\"Runda 4\",'01'!AM10,IF($O$33=\"Runda 5\",'01'!AX10,0)))))","v":""},{"$f":"IF($O$33=\"Runda 1\",'01'!G10,IF($O$33=\"Runda 2\",'01'!R10,IF($O$33=\"Runda 3\",'01'!AC10,IF($O$33=\"Runda 4\",'01'!AN10,IF($O$33=\"Runda 5\",'01'!AY10,0)))))","v":""},{"$f":"IF($O$33=\"Runda 1\",'01'!H10,IF($O$33=\"Runda 2\",'01'!S10,IF($O$33=\"Runda 3\",'01'!AD10,IF($O$33=\"Runda 4\",'01'!AO10,IF($O$33=\"Runda 5\",'01'!AZ10,0)))))","v":""},{"$f":"IF($O$33=\"Runda 1\",'01'!I10,IF($O$33=\"Runda 2\",'01'!T10,IF($O$33=\"Runda 3\",'01'!AE10,IF($O$33=\"Runda 4\",'01'!AP10,IF($O$33=\"Runda 5\",'01'!BA10,0)))))","v":""},{"$f":"IF($O$33=\"Runda 1\",'01'!J10,IF($O$33=\"Runda 2\",'01'!U10,IF($O$33=\"Runda 3\",'01'!AF10,IF($O$33=\"Runda 4\",'01'!AQ10,IF($O$33=\"Runda 5\",'01'!BB10,0)))))","v":""},{"$f":"IF($O$33=\"Runda 1\",'01'!K10,IF($O$33=\"Runda 2\",'01'!V10,IF($O$33=\"Runda 3\",'01'!AG10,IF($O$33=\"Runda 4\",'01'!AR10,IF($O$33=\"Runda 5\",'01'!BC10,0)))))","v":""},{"$f":"IF($O$33=\"Runda 1\",'01'!L10,IF($O$33=\"Runda 2\",'01'!W10,IF($O$33=\"Runda 3\",'01'!AH10,IF($O$33=\"Runda 4\",'01'!AS10,IF($O$33=\"Runda 5\",'01'!BD10,0)))))","v":""},0,{"$f":"IF(Z37>Z36,3,IF(Z37<Z36,0,1))","v":1}]
[{"$f":"E17","v":"Busuioc"},null,null,null,{"$f":"SUM(IF(AA6=3,1,0),IF(AA13=3,1,0),IF(AA23=3,1,0),IF(AA27=3,1,0),IF(AA39=3,1,0))","v":0},{"$f":"SUM(IF(AA6=1,1,0),IF(AA13=1,1,0),IF(AA23=1,1,0),IF(AA27=1,1,0),IF(AA39=1,1,0))","v":5},{"$f":"SUM(IF(AA6=0,1,0),IF(AA13=0,1,0),IF(AA23=0,1,0),IF(AA27=0,1,0),IF(AA39=0,1,0))","v":0},{"$f":"SUM(Z6,Z13,Z23,Z27,Z39)","v":0},null,{"$f":"SUM(AA6,AA13,AA23,AA27,AA39)","v":5},null,null,null,null,{"$f":"A17","v":"CLCT"},{"$f":"IF($O$33=\"Runda 1\",'01'!C11,IF($O$33=\"Runda 2\",'01'!N11,IF($O$33=\"Runda 3\",'01'!Y11,IF($O$33=\"Runda 4\",'01'!AJ11,IF($O$33=\"Runda 5\",'01'!AU11,0)))))","v":""},{"$f":"IF($O$33=\"Runda 1\",'01'!D11,IF($O$33=\"Runda 2\",'01'!O11,IF($O$33=\"Runda 3\",'01'!Z11,IF($O$33=\"Runda 4\",'01'!AK11,IF($O$33=\"Runda 5\",'01'!AV11,0)))))","v":""},{"$f":"IF($O$33=\"Runda 1\",'01'!E11,IF($O$33=\"Runda 2\",'01'!P11,IF($O$33=\"Runda 3\",'01'!AA11,IF($O$33=\"Runda 4\",'01'!AL11,IF($O$33=\"Runda 5\",'01'!AW11,0)))))","v":""},{"$f":"IF($O$33=\"Runda 1\",'01'!F11,IF($O$33=\"Runda 2\",'01'!Q11,IF($O$33=\"Runda 3\",'01'!AB11,IF($O$33=\"Runda 4\",'01'!AM11,IF($O$33=\"Runda 5\",'01'!AX11,0)))))","v":""},{"$f":"IF($O$33=\"Runda 1\",'01'!G11,IF($O$33=\"Runda 2\",'01'!R11,IF($O$33=\"Runda 3\",'01'!AC11,IF($O$33=\"Runda 4\",'01'!AN11,IF($O$33=\"Runda 5\",'01'!AY11,0)))))","v":""},{"$f":"IF($O$33=\"Runda 1\",'01'!H11,IF($O$33=\"Runda 2\",'01'!S11,IF($O$33=\"Runda 3\",'01'!AD11,IF($O$33=\"Runda 4\",'01'!AO11,IF($O$33=\"Runda 5\",'01'!AZ11,0)))))","v":""},{"$f":"IF($O$33=\"Runda 1\",'01'!I11,IF($O$33=\"Runda 2\",'01'!T11,IF($O$33=\"Runda 3\",'01'!AE11,IF($O$33=\"Runda 4\",'01'!AP11,IF($O$33=\"Runda 5\",'01'!BA11,0)))))","v":""},{"$f":"IF($O$33=\"Runda 1\",'01'!J11,IF($O$33=\"Runda 2\",'01'!U11,IF($O$33=\"Runda 3\",'01'!AF11,IF($O$33=\"Runda 4\",'01'!AQ11,IF($O$33=\"Runda 5\",'01'!BB11,0)))))","v":""},{"$f":"IF($O$33=\"Runda 1\",'01'!K11,IF($O$33=\"Runda 2\",'01'!V11,IF($O$33=\"Runda 3\",'01'!AG11,IF($O$33=\"Runda 4\",'01'!AR11,IF($O$33=\"Runda 5\",'01'!BC11,0)))))","v":""},{"$f":"IF($O$33=\"Runda 1\",'01'!L11,IF($O$33=\"Runda 2\",'01'!W11,IF($O$33=\"Runda 3\",'01'!AH11,IF($O$33=\"Runda 4\",'01'!AS11,IF($O$33=\"Runda 5\",'01'!BD11,0)))))","v":""},0,{"$f":"IF(Z38>Z39,3,IF(Z38<Z39,0,1))","v":1}]
[{"$f":"A31","v":"Moon Power"},null,null,null,{"$f":"SUM(IF(AA7=3,1,0),IF(AA15=3,1,0),IF(AA21=3,1,0),IF(AA31=3,1,0),IF(AA35=3,1,0))","v":0},{"$f":"SUM(IF(AA7=1,1,0),IF(AA15=1,1,0),IF(AA21=1,1,0),IF(AA31=1,1,0),IF(AA35=1,1,0))","v":5},{"$f":"SUM(IF(AA7=0,1,0),IF(AA15=0,1,0),IF(AA21=0,1,0),IF(AA31=0,1,0),IF(AA35=0,1,0))","v":0},{"$f":"SUM(Z7,Z15,Z21,Z31,Z35)","v":0},null,{"$f":"SUM(AA7,AA15,AA21,AA31,AA35)","v":5},null,null,null,null,{"$f":"E17","v":"Busuioc"},{"$f":"IF($O$33=\"Runda 1\",'01'!C12,IF($O$33=\"Runda 2\",'01'!N12,IF($O$33=\"Runda 3\",'01'!Y12,IF($O$33=\"Runda 4\",'01'!AJ12,IF($O$33=\"Runda 5\",'01'!AU12,0)))))","v":""},{"$f":"IF($O$33=\"Runda 1\",'01'!D12,IF($O$33=\"Runda 2\",'01'!O12,IF($O$33=\"Runda 3\",'01'!Z12,IF($O$33=\"Runda 4\",'01'!AK12,IF($O$33=\"Runda 5\",'01'!AV12,0)))))","v":""},{"$f":"IF($O$33=\"Runda 1\",'01'!E12,IF($O$33=\"Runda 2\",'01'!P12,IF($O$33=\"Runda 3\",'01'!AA12,IF($O$33=\"Runda 4\",'01'!AL12,IF($O$33=\"Runda 5\",'01'!AW12,0)))))","v":""},{"$f":"IF($O$33=\"Runda 1\",'01'!F12,IF($O$33=\"Runda 2\",'01'!Q12,IF($O$33=\"Runda 3\",'01'!AB12,IF($O$33=\"Runda 4\",'01'!AM12,IF($O$33=\"Runda 5\",'01'!AX12,0)))))","v":""},{"$f":"IF($O$33=\"Runda 1\",'01'!G12,IF($O$33=\"Runda 2\",'01'!R12,IF($O$33=\"Runda 3\",'01'!AC12,IF($O$33=\"Runda 4\",'01'!AN12,IF($O$33=\"Runda 5\",'01'!AY12,0)))))","v":""},{"$f":"IF($O$33=\"Runda 1\",'01'!H12,IF($O$33=\"Runda 2\",'01'!S12,IF($O$33=\"Runda 3\",'01'!AD12,IF($O$33=\"Runda 4\",'01'!AO12,IF($O$33=\"Runda 5\",'01'!AZ12,0)))))","v":""},{"$f":"IF($O$33=\"Runda 1\",'01'!I12,IF($O$33=\"Runda 2\",'01'!T12,IF($O$33=\"Runda 3\",'01'!AE12,IF($O$33=\"Runda 4\",'01'!AP12,IF($O$33=\"Runda 5\",'01'!BA12,0)))))","v":""},{"$f":"IF($O$33=\"Runda 1\",'01'!J12,IF($O$33=\"Runda 2\",'01'!U12,IF($O$33=\"Runda 3\",'01'!AF12,IF($O$33=\"Runda 4\",'01'!AQ12,IF($O$33=\"Runda 5\",'01'!BB12,0)))))","v":""},{"$f":"IF($O$33=\"Runda 1\",'01'!K12,IF($O$33=\"Runda 2\",'01'!V12,IF($O$33=\"Runda 3\",'01'!AG12,IF($O$33=\"Runda 4\",'01'!AR12,IF($O$33=\"Runda 5\",'01'!BC12,0)))))","v":""},{"$f":"IF($O$33=\"Runda 1\",'01'!L12,IF($O$33=\"Runda 2\",'01'!W12,IF($O$33=\"Runda 3\",'01'!AH12,IF($O$33=\"Runda 4\",'01'!AS12,IF($O$33=\"Runda 5\",'01'!BD12,0)))))","v":""},0,{"$f":"IF(Z39>Z38,3,IF(Z39<Z38,0,1))","v":1}]
["Pentru echipa organizatoare: Fisele trebuie sa contina componentele echipelor, rezultatele jocurilor si contestatiile care vor fi depuse de echipe"]

{"sheet":"LB","index":3,"n_rows":40,"n_cols":31,"rows_kept":40,"cut":false,"hidden":false,"merged":[[37,0,37,3],[37,7,37,8],[37,9,37,11],[38,0,38,3],[38,7,38,8],[38,9,38,11],[35,0,35,3],[35,7,35,8],[35,9,35,11],[36,0,36,3],[36,7,36,8],[36,9,36,11],[32,9,32,11],[33,0,33,3],[33,7,33,8],[33,9,33,11],[34,0,34,3],[34,7,34,8],[34,9,34,11],[16,0,16,3],[16,4,16,7],[16,8,16,11],[25,0,25,3],[26,0,26,3],[27,0,27,3],[28,0,28,3],[29,0,29,3],[30,0,30,3],[32,7,32,8],[0,0,0,9],[1,0,1,9],[2,4,2,9],[3,4,3,9],[4,4,4,9],[5,4,5,9],[6,4,6,9],[9,0,9,3],[9,4,9,7],[9,8,9,11]]}
["FISA ORGANIZATORICA - Campionatul CUC",null,null,null,null,null,null,null,null,null,null,null,null,null,"Runda 3",1,2,3,4,5,6,7,8,9,10,"R","P"]
[{"$f":"SL!A2","v":"Editia XXVI"},null,null,null,null,null,null,null,null,null,null,null,null,null,{"$f":"A10","v":"Punctul pe H"},{"$f":"IF($O$1=\"Runda 1\",'01'!C14,IF($O$1=\"Runda 2\",'01'!N14,IF($O$1=\"Runda 3\",'01'!Y14,IF($O$1=\"Runda 4\",'01'!AJ14,IF($O$1=\"Runda 5\",'01'!AU14,0)))))","v":""},{"$f":"IF($O$1=\"Runda 1\",'01'!D14,IF($O$1=\"Runda 2\",'01'!O14,IF($O$1=\"Runda 3\",'01'!Z14,IF($O$1=\"Runda 4\",'01'!AK14,IF($O$1=\"Runda 5\",'01'!AV14,0)))))","v":""},{"$f":"IF($O$1=\"Runda 1\",'01'!E14,IF($O$1=\"Runda 2\",'01'!P14,IF($O$1=\"Runda 3\",'01'!AA14,IF($O$1=\"Runda 4\",'01'!AL14,IF($O$1=\"Runda 5\",'01'!AW14,0)))))","v":""},{"$f":"IF($O$1=\"Runda 1\",'01'!F14,IF($O$1=\"Runda 2\",'01'!Q14,IF($O$1=\"Runda 3\",'01'!AB14,IF($O$1=\"Runda 4\",'01'!AM14,IF($O$1=\"Runda 5\",'01'!AX14,0)))))","v":""},{"$f":"IF($O$1=\"Runda 1\",'01'!G14,IF($O$1=\"Runda 2\",'01'!R14,IF($O$1=\"Runda 3\",'01'!AC14,IF($O$1=\"Runda 4\",'01'!AN14,IF($O$1=\"Runda 5\",'01'!AY14,0)))))","v":""},{"$f":"IF($O$1=\"Runda 1\",'01'!H14,IF($O$1=\"Runda 2\",'01'!S14,IF($O$1=\"Runda 3\",'01'!AD14,IF($O$1=\"Runda 4\",'01'!AO14,IF($O$1=\"Runda 5\",'01'!AZ14,0)))))","v":""},{"$f":"IF($O$1=\"Runda 1\",'01'!I14,IF($O$1=\"Runda 2\",'01'!T14,IF($O$1=\"Runda 3\",'01'!AE14,IF($O$1=\"Runda 4\",'01'!AP14,IF($O$1=\"Runda 5\",'01'!BA14,0)))))","v":""},{"$f":"IF($O$1=\"Runda 1\",'01'!J14,IF($O$1=\"Runda 2\",'01'!U14,IF($O$1=\"Runda 3\",'01'!AF14,IF($O$1=\"Runda 4\",'01'!AQ14,IF($O$1=\"Runda 5\",'01'!BB14,0)))))","v":""},{"$f":"IF($O$1=\"Runda 1\",'01'!K14,IF($O$1=\"Runda 2\",'01'!V14,IF($O$1=\"Runda 3\",'01'!AG14,IF($O$1=\"Runda 4\",'01'!AR14,IF($O$1=\"Runda 5\",'01'!BC14,0)))))","v":""},{"$f":"IF($O$1=\"Runda 1\",'01'!L14,IF($O$1=\"Runda 2\",'01'!W14,IF($O$1=\"Runda 3\",'01'!AH14,IF($O$1=\"Runda 4\",'01'!AS14,IF($O$1=\"Runda 5\",'01'!BD14,0)))))","v":""},{"$f":"SUM(P2:Y2)","v":0},{"$f":"IF(Z2>Z3,3,IF(Z2<Z3,0,1))","v":1}]
["Nivelul valoric",null,null,null,"Liga B",null,null,null,null,null,null,null,null,null,{"$f":"E10","v":"SER"},{"$f":"IF($O$1=\"Runda 1\",'01'!C15,IF($O$1=\"Runda 2\",'01'!N15,IF($O$1=\"Runda 3\",'01'!Y15,IF($O$1=\"Runda 4\",'01'!AJ15,IF($O$1=\"Runda 5\",'01'!AU15,0)))))","v":""},{"$f":"IF($O$1=\"Runda 1\",'01'!D15,IF($O$1=\"Runda 2\",'01'!O15,IF($O$1=\"Runda 3\",'01'!Z15,IF($O$1=\"Runda 4\",'01'!AK15,IF($O$1=\"Runda 5\",'01'!AV15,0)))))","v":""},{"$f":"IF($O$1=\"Runda 1\",'01'!E15,IF($O$1=\"Runda 2\",'01'!P15,IF($O$1=\"Runda 3\",'01'!AA15,IF($O$1=\"Runda 4\",'01'!AL15,IF($O$1=\"Runda 5\",'01'!AW15,0)))))","v":""},{"$f":"IF($O$1=\"Runda 1\",'01'!F15,IF($O$1=\"Runda 2\",'01'!Q15,IF($O$1=\"Runda 3\",'01'!AB15,IF($O$1=\"Runda 4\",'01'!AM15,IF($O$1=\"Runda 5\",'01'!AX15,0)))))","v":""},{"$f":"IF($O$1=\"Runda 1\",'01'!G15,IF($O$1=\"Runda 2\",'01'!R15,IF($O$1=\"Runda 3\",'01'!AC15,IF($O$1=\"Runda 4\",'01'!AN15,IF($O$1=\"Runda 5\",'01'!AY15,0)))))","v":""},{"$f":"IF($O$1=\"Runda 1\",'01'!H15,IF($O$1=\"Runda 2\",'01'!S15,IF($O$1=\"Runda 3\",'01'!AD15,IF($O$1=\"Runda 4\",'01'!AO15,IF($O$1=\"Runda 5\",'01'!AZ15,0)))))","v":""},{"$f":"IF($O$1=\"Runda 1\",'01'!I15,IF($O$1=\"Runda 2\",'01'!T15,IF($O$1=\"Runda 3\",'01'!AE15,IF($O$1=\"Runda 4\",'01'!AP15,IF($O$1=\"Runda 5\",'01'!BA15,0)))))","v":""},{"$f":"IF($O$1=\"Runda 1\",'01'!J15,IF($O$1=\"Runda 2\",'01'!U15,IF($O$1=\"Runda 3\",'01'!AF15,IF($O$1=\"Runda 4\",'01'!AQ15,IF($O$1=\"Runda 5\",'01'!BB15,0)))))","v":""},{"$f":"IF($O$1=\"Runda 1\",'01'!K15,IF($O$1=\"Runda 2\",'01'!V15,IF($O$1=\"Runda 3\",'01'!AG15,IF($O$1=\"Runda 4\",'01'!AR15,IF($O$1=\"Runda 5\",'01'!BC15,0)))))","v":""},{"$f":"IF($O$1=\"Runda 1\",'01'!L15,IF($O$1=\"Runda 2\",'01'!W15,IF($O$1=\"Runda 3\",'01'!AH15,IF($O$1=\"Runda 4\",'01'!AS15,IF($O$1=\"Runda 5\",'01'!BD15,0)))))","v":""},0,{"$f":"IF(Z3>Z2,3,IF(Z3<Z2,0,1))","v":1}]
["Etapa",null,null,null,{"$f":"SL!E4","v":3},null,null,null,null,null,null,null,null,null,{"$f":"I10","v":"Afrodiziac"},{"$f":"IF($O$1=\"Runda 1\",'01'!C16,IF($O$1=\"Runda 2\",'01'!N16,IF($O$1=\"Runda 3\",'01'!Y16,IF($O$1=\"Runda 4\",'01'!AJ16,IF($O$1=\"Runda 5\",'01'!AU16,0)))))","v":""},{"$f":"IF($O$1=\"Runda 1\",'01'!D16,IF($O$1=\"Runda 2\",'01'!O16,IF($O$1=\"Runda 3\",'01'!Z16,IF($O$1=\"Runda 4\",'01'!AK16,IF($O$1=\"Runda 5\",'01'!AV16,0)))))","v":""},{"$f":"IF($O$1=\"Runda 1\",'01'!E16,IF($O$1=\"Runda 2\",'01'!P16,IF($O$1=\"Runda 3\",'01'!AA16,IF($O$1=\"Runda 4\",'01'!AL16,IF($O$1=\"Runda 5\",'01'!AW16,0)))))","v":""},{"$f":"IF($O$1=\"Runda 1\",'01'!F16,IF($O$1=\"Runda 2\",'01'!Q16,IF($O$1=\"Runda 3\",'01'!AB16,IF($O$1=\"Runda 4\",'01'!AM16,IF($O$1=\"Runda 5\",'01'!AX16,0)))))","v":""},{"$f":"IF($O$1=\"Runda 1\",'01'!G16,IF($O$1=\"Runda 2\",'01'!R16,IF($O$1=\"Runda 3\",'01'!AC16,IF($O$1=\"Runda 4\",'01'!AN16,IF($O$1=\"Runda 5\",'01'!AY16,0)))))","v":""},{"$f":"IF($O$1=\"Runda 1\",'01'!H16,IF($O$1=\"Runda 2\",'01'!S16,IF($O$1=\"Runda 3\",'01'!AD16,IF($O$1=\"Runda 4\",'01'!AO16,IF($O$1=\"Runda 5\",'01'!AZ16,0)))))","v":""},{"$f":"IF($O$1=\"Runda 1\",'01'!I16,IF($O$1=\"Runda 2\",'01'!T16,IF($O$1=\"Runda 3\",'01'!AE16,IF($O$1=\"Runda 4\",'01'!AP16,IF($O$1=\"Runda 5\",'01'!BA16,0)))))","v":""},{"$f":"IF($O$1=\"Runda 1\",'01'!J16,IF($O$1=\"Runda 2\",'01'!U16,IF($O$1=\"Runda 3\",'01'!AF16,IF($O$1=\"Runda 4\",'01'!AQ16,IF($O$1=\"Runda 5\",'01'!BB16,0)))))","v":""},{"$f":"IF($O$1=\"Runda 1\",'01'!K16,IF($O$1=\"Runda 2\",'01'!V16,IF($O$1=\"Runda 3\",'01'!AG16,IF($O$1=\"Runda 4\",'01'!AR16,IF($O$1=\"Runda 5\",'01'!BC16,0)))))","v":""},{"$f":"IF($O$1=\"Runda 1\",'01'!L16,IF($O$1=\"Runda 2\",'01'!W16,IF($O$1=\"Runda 3\",'01'!AH16,IF($O$1=\"Runda 4\",'01'!AS16,IF($O$1=\"Runda 5\",'01'!BD16,0)))))","v":""},0,{"$f":"IF(Z4>Z5,3,IF(Z4<Z5,0,1))","v":1}]
["Data desfasurarii",null,null,null,{"$f":"SL!E5","v":"2015-03-15"},null,null,null,null,null,null,null,null,null,{"$f":"A17","v":"#hashtag"},{"$f":"IF($O$1=\"Runda 1\",'01'!C17,IF($O$1=\"Runda 2\",'01'!N17,IF($O$1=\"Runda 3\",'01'!Y17,IF($O$1=\"Runda 4\",'01'!AJ17,IF($O$1=\"Runda 5\",'01'!AU17,0)))))","v":""},{"$f":"IF($O$1=\"Runda 1\",'01'!D17,IF($O$1=\"Runda 2\",'01'!O17,IF($O$1=\"Runda 3\",'01'!Z17,IF($O$1=\"Runda 4\",'01'!AK17,IF($O$1=\"Runda 5\",'01'!AV17,0)))))","v":""},{"$f":"IF($O$1=\"Runda 1\",'01'!E17,IF($O$1=\"Runda 2\",'01'!P17,IF($O$1=\"Runda 3\",'01'!AA17,IF($O$1=\"Runda 4\",'01'!AL17,IF($O$1=\"Runda 5\",'01'!AW17,0)))))","v":""},{"$f":"IF($O$1=\"Runda 1\",'01'!F17,IF($O$1=\"Runda 2\",'01'!Q17,IF($O$1=\"Runda 3\",'01'!AB17,IF($O$1=\"Runda 4\",'01'!AM17,IF($O$1=\"Runda 5\",'01'!AX17,0)))))","v":""},{"$f":"IF($O$1=\"Runda 1\",'01'!G17,IF($O$1=\"Runda 2\",'01'!R17,IF($O$1=\"Runda 3\",'01'!AC17,IF($O$1=\"Runda 4\",'01'!AN17,IF($O$1=\"Runda 5\",'01'!AY17,0)))))","v":""},{"$f":"IF($O$1=\"Runda 1\",'01'!H17,IF($O$1=\"Runda 2\",'01'!S17,IF($O$1=\"Runda 3\",'01'!AD17,IF($O$1=\"Runda 4\",'01'!AO17,IF($O$1=\"Runda 5\",'01'!AZ17,0)))))","v":""},{"$f":"IF($O$1=\"Runda 1\",'01'!I17,IF($O$1=\"Runda 2\",'01'!T17,IF($O$1=\"Runda 3\",'01'!AE17,IF($O$1=\"Runda 4\",'01'!AP17,IF($O$1=\"Runda 5\",'01'!BA17,0)))))","v":""},{"$f":"IF($O$1=\"Runda 1\",'01'!J17,IF($O$1=\"Runda 2\",'01'!U17,IF($O$1=\"Runda 3\",'01'!AF17,IF($O$1=\"Runda 4\",'01'!AQ17,IF($O$1=\"Runda 5\",'01'!BB17,0)))))","v":""},{"$f":"IF($O$1=\"Runda 1\",'01'!K17,IF($O$1=\"Runda 2\",'01'!V17,IF($O$1=\"Runda 3\",'01'!AG17,IF($O$1=\"Runda 4\",'01'!AR17,IF($O$1=\"Runda 5\",'01'!BC17,0)))))","v":""},{"$f":"IF($O$1=\"Runda 1\",'01'!L17,IF($O$1=\"Runda 2\",'01'!W17,IF($O$1=\"Runda 3\",'01'!AH17,IF($O$1=\"Runda 4\",'01'!AS17,IF($O$1=\"Runda 5\",'01'!BD17,0)))))","v":""},0,{"$f":"IF(Z5>Z4,3,IF(Z5<Z4,0,1))","v":1}]
["Locul desfasurarii",null,null,null,{"$f":"SL!E6","v":"INCE"},null,null,null,null,null,null,null,null,null,{"$f":"E17","v":"Zebra"},{"$f":"IF($O$1=\"Runda 1\",'01'!C18,IF($O$1=\"Runda 2\",'01'!N18,IF($O$1=\"Runda 3\",'01'!Y18,IF($O$1=\"Runda 4\",'01'!AJ18,IF($O$1=\"Runda 5\",'01'!AU18,0)))))","v":""},{"$f":"IF($O$1=\"Runda 1\",'01'!D18,IF($O$1=\"Runda 2\",'01'!O18,IF($O$1=\"Runda 3\",'01'!Z18,IF($O$1=\"Runda 4\",'01'!AK18,IF($O$1=\"Runda 5\",'01'!AV18,0)))))","v":""},{"$f":"IF($O$1=\"Runda 1\",'01'!E18,IF($O$1=\"Runda 2\",'01'!P18,IF($O$1=\"Runda 3\",'01'!AA18,IF($O$1=\"Runda 4\",'01'!AL18,IF($O$1=\"Runda 5\",'01'!AW18,0)))))","v":""},{"$f":"IF($O$1=\"Runda 1\",'01'!F18,IF($O$1=\"Runda 2\",'01'!Q18,IF($O$1=\"Runda 3\",'01'!AB18,IF($O$1=\"Runda 4\",'01'!AM18,IF($O$1=\"Runda 5\",'01'!AX18,0)))))","v":""},{"$f":"IF($O$1=\"Runda 1\",'01'!G18,IF($O$1=\"Runda 2\",'01'!R18,IF($O$1=\"Runda 3\",'01'!AC18,IF($O$1=\"Runda 4\",'01'!AN18,IF($O$1=\"Runda 5\",'01'!AY18,0)))))","v":""},{"$f":"IF($O$1=\"Runda 1\",'01'!H18,IF($O$1=\"Runda 2\",'01'!S18,IF($O$1=\"Runda 3\",'01'!AD18,IF($O$1=\"Runda 4\",'01'!AO18,IF($O$1=\"Runda 5\",'01'!AZ18,0)))))","v":""},{"$f":"IF($O$1=\"Runda 1\",'01'!I18,IF($O$1=\"Runda 2\",'01'!T18,IF($O$1=\"Runda 3\",'01'!AE18,IF($O$1=\"Runda 4\",'01'!AP18,IF($O$1=\"Runda 5\",'01'!BA18,0)))))","v":""},{"$f":"IF($O$1=\"Runda 1\",'01'!J18,IF($O$1=\"Runda 2\",'01'!U18,IF($O$1=\"Runda 3\",'01'!AF18,IF($O$1=\"Runda 4\",'01'!AQ18,IF($O$1=\"Runda 5\",'01'!BB18,0)))))","v":""},{"$f":"IF($O$1=\"Runda 1\",'01'!K18,IF($O$1=\"Runda 2\",'01'!V18,IF($O$1=\"Runda 3\",'01'!AG18,IF($O$1=\"Runda 4\",'01'!AR18,IF($O$1=\"Runda 5\",'01'!BC18,0)))))","v":""},{"$f":"IF($O$1=\"Runda 1\",'01'!L18,IF($O$1=\"Runda 2\",'01'!W18,IF($O$1=\"Runda 3\",'01'!AH18,IF($O$1=\"Runda 4\",'01'!AS18,IF($O$1=\"Runda 5\",'01'!BD18,0)))))","v":""},0,{"$f":"IF(Z6>Z7,3,IF(Z6<Z7,0,1))","v":1}]
["Organizatori",null,null,null,{"$f":"IF(E4=1,Tragere!D12,IF(E4=2,Tragere!D13,IF(E4=3,Tragere!D14,IF(E4=4,Tragere!D15,IF(E4=5,Tragere!D16,IF(E4=6,Tragere!D17,IF(E4=7,Tragere!D18)))))))","v":"Kakulla"},null,null,null,null,null,null,null,null,null,{"$f":"I17","v":"Turnul Alb"},{"$f":"IF($O$1=\"Runda 1\",'01'!C19,IF($O$1=\"Runda 2\",'01'!N19,IF($O$1=\"Runda 3\",'01'!Y19,IF($O$1=\"Runda 4\",'01'!AJ19,IF($O$1=\"Runda 5\",'01'!AU19,0)))))","v":""},{"$f":"IF($O$1=\"Runda 1\",'01'!D19,IF($O$1=\"Runda 2\",'01'!O19,IF($O$1=\"Runda 3\",'01'!Z19,IF($O$1=\"Runda 4\",'01'!AK19,IF($O$1=\"Runda 5\",'01'!AV19,0)))))","v":""},{"$f":"IF($O$1=\"Runda 1\",'01'!E19,IF($O$1=\"Runda 2\",'01'!P19,IF($O$1=\"Runda 3\",'01'!AA19,IF($O$1=\"Runda 4\",'01'!AL19,IF($O$1=\"Runda 5\",'01'!AW19,0)))))","v":""},{"$f":"IF($O$1=\"Runda 1\",'01'!F19,IF($O$1=\"Runda 2\",'01'!Q19,IF($O$1=\"Runda 3\",'01'!AB19,IF($O$1=\"Runda 4\",'01'!AM19,IF($O$1=\"Runda 5\",'01'!AX19,0)))))","v":""},{"$f":"IF($O$1=\"Runda 1\",'01'!G19,IF($O$1=\"Runda 2\",'01'!R19,IF($O$1=\"Runda 3\",'01'!AC19,IF($O$1=\"Runda 4\",'01'!AN19,IF($O$1=\"Runda 5\",'01'!AY19,0)))))","v":""},{"$f":"IF($O$1=\"Runda 1\",'01'!H19,IF($O$1=\"Runda 2\",'01'!S19,IF($O$1=\"Runda 3\",'01'!AD19,IF($O$1=\"Runda 4\",'01'!AO19,IF($O$1=\"Runda 5\",'01'!AZ19,0)))))","v":""},{"$f":"IF($O$1=\"Runda 1\",'01'!I19,IF($O$1=\"Runda 2\",'01'!T19,IF($O$1=\"Runda 3\",'01'!AE19,IF($O$1=\"Runda 4\",'01'!AP19,IF($O$1=\"Runda 5\",'01'!BA19,0)))))","v":""},{"$f":"IF($O$1=\"Runda 1\",'01'!J19,IF($O$1=\"Runda 2\",'01'!U19,IF($O$1=\"Runda 3\",'01'!AF19,IF($O$1=\"Runda 4\",'01'!AQ19,IF($O$1=\"Runda 5\",'01'!BB19,0)))))","v":""},{"$f":"IF($O$1=\"Runda 1\",'01'!K19,IF($O$1=\"Runda 2\",'01'!V19,IF($O$1=\"Runda 3\",'01'!AG19,IF($O$1=\"Runda 4\",'01'!AR19,IF($O$1=\"Runda 5\",'01'!BC19,0)))))","v":""},{"$f":"IF($O$1=\"Runda 1\",'01'!L19,IF($O$1=\"Runda 2\",'01'!W19,IF($O$1=\"Runda 3\",'01'!AH19,IF($O$1=\"Runda 4\",'01'!AS19,IF($O$1=\"Runda 5\",'01'!BD19,0)))))","v":""},0,{"$f":"IF(Z7>Z6,3,IF(Z7<Z6,0,1))","v":1}]
[null,null,null,null,null,null,null,null,null,null,null,null,null,null,null,null,null,null,null,null,null,null,null,null,null,null,null,null,{"$f":"E7","v":"Kakulla"},14]
["Componentele echipelor",null,null,null,null,null,null,null,null,null,null,null,null,null,"Runda 2",1,2,3,4,5,6,7,8,9,10,"R","P",null,{"$f":"A34","v":"Punctul pe H"},10,{"$f":"AD9+J34","v":15}]
[{"$f":"IF(E4=1,Tragere!D13,IF(E4=2,Tragere!D18,IF(E4=3,Tragere!D17,IF(E4=4,Tragere!D16,IF(E4=5,Tragere!D14,IF(E4=6,Tragere!D13,IF(E4=7,Tragere!D12)))))))","v":"Punctul pe H"},null,null,null,{"$f":"IF(E4=1,Tragere!D14,IF(E4=2,Tragere!D15,IF(E4=3,Tragere!D15,IF(E4=4,Tragere!D17,IF(E4=5,Tragere!D18,IF(E4=6,Tragere!D16,IF(E4=7,Tragere!D16)))))))","v":"SER"},null,null,null,{"$f":"IF(E4=1,Tragere!D15,IF(E4=2,Tragere!D14,IF(E4=3,Tragere!D12,IF(E4=4,Tragere!D14,IF(E4=5,Tragere!D12,IF(E4=6,Tragere!D15,IF(E4=7,Tragere!D17)))))))","v":"Afrodiziac"},null,null,null,null,null,{"$f":"A10","v":"Punctul pe H"},{"$f":"IF($O$9=\"Runda 1\",'01'!C14,IF($O$9=\"Runda 2\",'01'!N14,IF($O$9=\"Runda 3\",'01'!Y14,IF($O$9=\"Runda 4\",'01'!AJ14,IF($O$9=\"Runda 5\",'01'!AU14,0)))))","v":""},{"$f":"IF($O$9=\"Runda 1\",'01'!D14,IF($O$9=\"Runda 2\",'01'!O14,IF($O$9=\"Runda 3\",'01'!Z14,IF($O$9=\"Runda 4\",'01'!AK14,IF($O$9=\"Runda 5\",'01'!AV14,0)))))","v":""},{"$f":"IF($O$9=\"Runda 1\",'01'!E14,IF($O$9=\"Runda 2\",'01'!P14,IF($O$9=\"Runda 3\",'01'!AA14,IF($O$9=\"Runda 4\",'01'!AL14,IF($O$9=\"Runda 5\",'01'!AW14,0)))))","v":""},{"$f":"IF($O$9=\"Runda 1\",'01'!F14,IF($O$9=\"Runda 2\",'01'!Q14,IF($O$9=\"Runda 3\",'01'!AB14,IF($O$9=\"Runda 4\",'01'!AM14,IF($O$9=\"Runda 5\",'01'!AX14,0)))))","v":""},{"$f":"IF($O$9=\"Runda 1\",'01'!G14,IF($O$9=\"Runda 2\",'01'!R14,IF($O$9=\"Runda 3\",'01'!AC14,IF($O$9=\"Runda 4\",'01'!AN14,IF($O$9=\"Runda 5\",'01'!AY14,0)))))","v":""},{"$f":"IF($O$9=\"Runda 1\",'01'!H14,IF($O$9=\"Runda 2\",'01'!S14,IF($O$9=\"Runda 3\",'01'!AD14,IF($O$9=\"Runda 4\",'01'!AO14,IF($O$9=\"Runda 5\",'01'!AZ14,0)))))","v":""},{"$f":"IF($O$9=\"Runda 1\",'01'!I14,IF($O$9=\"Runda 2\",'01'!T14,IF($O$9=\"Runda 3\",'01'!AE14,IF($O$9=\"Runda 4\",'01'!AP14,IF($O$9=\"Runda 5\",'01'!BA14,0)))))","v":""},{"$f":"IF($O$9=\"Runda 1\",'01'!J14,IF($O$9=\"Runda 2\",'01'!U14,IF($O$9=\"Runda 3\",'01'!AF14,IF($O$9=\"Runda 4\",'01'!AQ14,IF($O$9=\"Runda 5\",'01'!BB14,0)))))","v":""},{"$f":"IF($O$9=\"Runda 1\",'01'!K14,IF($O$9=\"Runda 2\",'01'!V14,IF($O$9=\"Runda 3\",'01'!AG14,IF($O$9=\"Runda 4\",'01'!AR14,IF($O$9=\"Runda 5\",'01'!BC14,0)))))","v":""},{"$f":"IF($O$9=\"Runda 1\",'01'!L14,IF($O$9=\"Runda 2\",'01'!W14,IF($O$9=\"Runda 3\",'01'!AH14,IF($O$9=\"Runda 4\",'01'!AS14,IF($O$9=\"Runda 5\",'01'!BD14,0)))))","v":""},{"$f":"SUM(P10:Y10)","v":0},{"$f":"IF(Z10>Z11,3,IF(Z10<Z11,0,1))","v":1},null,"SER",20,25]
[null,null,null,null,null,null,null,null,null,null,null,null,null,null,{"$f":"I10","v":"Afrodiziac"},{"$f":"IF($O9=\"Runda 1\",'01'!C16,IF($O9=\"Runda 2\",'01'!N16,IF($O9=\"Runda 3\",'01'!Y16,IF($O9=\"Runda 4\",'01'!AJ16,IF($O9=\"Runda 5\",'01'!AU16,0)))))","v":""},{"$f":"IF($O9=\"Runda 1\",'01'!D16,IF($O9=\"Runda 2\",'01'!O16,IF($O9=\"Runda 3\",'01'!Z16,IF($O9=\"Runda 4\",'01'!AK16,IF($O9=\"Runda 5\",'01'!AV16,0)))))","v":""},{"$f":"IF($O9=\"Runda 1\",'01'!E16,IF($O9=\"Runda 2\",'01'!P16,IF($O9=\"Runda 3\",'01'!AA16,IF($O9=\"Runda 4\",'01'!AL16,IF($O9=\"Runda 5\",'01'!AW16,0)))))","v":""},{"$f":"IF($O9=\"Runda 1\",'01'!F16,IF($O9=\"Runda 2\",'01'!Q16,IF($O9=\"Runda 3\",'01'!AB16,IF($O9=\"Runda 4\",'01'!AM16,IF($O9=\"Runda 5\",'01'!AX16,0)))))","v":""},{"$f":"IF($O9=\"Runda 1\",'01'!G16,IF($O9=\"Runda 2\",'01'!R16,IF($O9=\"Runda 3\",'01'!AC16,IF($O9=\"Runda 4\",'01'!AN16,IF($O9=\"Runda 5\",'01'!AY16,0)))))","v":""},{"$f":"IF($O9=\"Runda 1\",'01'!H16,IF($O9=\"Runda 2\",'01'!S16,IF($O9=\"Runda 3\",'01'!AD16,IF($O9=\"Runda 4\",'01'!AO16,IF($O9=\"Runda 5\",'01'!AZ16,0)))))","v":""},{"$f":"IF($O9=\"Runda 1\",'01'!I16,IF($O9=\"Runda 2\",'01'!T16,IF($O9=\"Runda 3\",'01'!AE16,IF($O9=\"Runda 4\",'01'!AP16,IF($O9=\"Runda 5\",'01'!BA16,0)))))","v":""},{"$f":"IF($O9=\"Runda 1\",'01'!J16,IF($O9=\"Runda 2\",'01'!U16,IF($O9=\"Runda 3\",'01'!AF16,IF($O9=\"Runda 4\",'01'!AQ16,IF($O9=\"Runda 5\",'01'!BB16,0)))))","v":""},{"$f":"IF($O9=\"Runda 1\",'01'!K16,IF($O9=\"Runda 2\",'01'!V16,IF($O9=\"Runda 3\",'01'!AG16,IF($O9=\"Runda 4\",'01'!AR16,IF($O9=\"Runda 5\",'01'!BC16,0)))))","v":""},{"$f":"IF($O9=\"Runda 1\",'01'!L16,IF($O9=\"Runda 2\",'01'!W16,IF($O9=\"Runda 3\",'01'!AH16,IF($O9=\"Runda 4\",'01'!AS16,IF($O9=\"Runda 5\",'01'!BD16,0)))))","v":""},0,{"$f":"IF(Z11>Z10,3,IF(Z11<Z10,0,1))","v":1},null,"Afrodiziac",2,7]
[null,null,null,null,null,null,null,null,null,null,null,null,null,null,{"$f":"E10","v":"SER"},{"$f":"IF($O$9=\"Runda 1\",'01'!C15,IF($O$9=\"Runda 2\",'01'!N15,IF($O$9=\"Runda 3\",'01'!Y15,IF($O$9=\"Runda 4\",'01'!AJ15,IF($O$9=\"Runda 5\",'01'!AU15,0)))))","v":""},{"$f":"IF($O$9=\"Runda 1\",'01'!D15,IF($O$9=\"Runda 2\",'01'!O15,IF($O$9=\"Runda 3\",'01'!Z15,IF($O$9=\"Runda 4\",'01'!AK15,IF($O$9=\"Runda 5\",'01'!AV15,0)))))","v":""},{"$f":"IF($O$9=\"Runda 1\",'01'!E15,IF($O$9=\"Runda 2\",'01'!P15,IF($O$9=\"Runda 3\",'01'!AA15,IF($O$9=\"Runda 4\",'01'!AL15,IF($O$9=\"Runda 5\",'01'!AW15,0)))))","v":""},{"$f":"IF($O$9=\"Runda 1\",'01'!F15,IF($O$9=\"Runda 2\",'01'!Q15,IF($O$9=\"Runda 3\",'01'!AB15,IF($O$9=\"Runda 4\",'01'!AM15,IF($O$9=\"Runda 5\",'01'!AX15,0)))))","v":""},{"$f":"IF($O$9=\"Runda 1\",'01'!G15,IF($O$9=\"Runda 2\",'01'!R15,IF($O$9=\"Runda 3\",'01'!AC15,IF($O$9=\"Runda 4\",'01'!AN15,IF($O$9=\"Runda 5\",'01'!AY15,0)))))","v":""},{"$f":"IF($O$9=\"Runda 1\",'01'!H15,IF($O$9=\"Runda 2\",'01'!S15,IF($O$9=\"Runda 3\",'01'!AD15,IF($O$9=\"Runda 4\",'01'!AO15,IF($O$9=\"Runda 5\",'01'!AZ15,0)))))","v":""},{"$f":"IF($O$9=\"Runda 1\",'01'!I15,IF($O$9=\"Runda 2\",'01'!T15,IF($O$9=\"Runda 3\",'01'!AE15,IF($O$9=\"Runda 4\",'01'!AP15,IF($O$9=\"Runda 5\",'01'!BA15,0)))))","v":""},{"$f":"IF($O$9=\"Runda 1\",'01'!J15,IF($O$9=\"Runda 2\",'01'!U15,IF($O$9=\"Runda 3\",'01'!AF15,IF($O$9=\"Runda 4\",'01'!AQ15,IF($O$9=\"Runda 5\",'01'!BB15,0)))))","v":""},{"$f":"IF($O$9=\"Runda 1\",'01'!K15,IF($O$9=\"Runda 2\",'01'!V15,IF($O$9=\"Runda 3\",'01'!AG15,IF($O$9=\"Runda 4\",'01'!AR15,IF($O$9=\"Runda 5\",'01'!BC15,0)))))","v":""},{"$f":"IF($O$9=\"Runda 1\",'01'!L15,IF($O$9=\"Runda 2\",'01'!W15,IF($O$9=\"Runda 3\",'01'!AH15,IF($O$9=\"Runda 4\",'01'!AS15,IF($O$9=\"Runda 5\",'01'!BD15,0)))))","v":""},0,{"$f":"IF(Z12>Z13,3,IF(Z12<Z13,0,1))","v":1},null,"#hashtag",2,7]
[null,null,null,null,null,null,null,null,null,null,null,null,null,null,{"$f":"E17","v":"Zebra"},{"$f":"IF($O$9=\"Runda 1\",'01'!C18,IF($O$9=\"Runda 2\",'01'!N18,IF($O$9=\"Runda 3\",'01'!Y18,IF($O$9=\"Runda 4\",'01'!AJ18,IF($O$9=\"Runda 5\",'01'!AU18,0)))))","v":""},{"$f":"IF($O$9=\"Runda 1\",'01'!D18,IF($O$9=\"Runda 2\",'01'!O18,IF($O$9=\"Runda 3\",'01'!Z18,IF($O$9=\"Runda 4\",'01'!AK18,IF($O$9=\"Runda 5\",'01'!AV18,0)))))","v":""},{"$f":"IF($O$9=\"Runda 1\",'01'!E18,IF($O$9=\"Runda 2\",'01'!P18,IF($O$9=\"Runda 3\",'01'!AA18,IF($O$9=\"Runda 4\",'01'!AL18,IF($O$9=\"Runda 5\",'01'!AW18,0)))))","v":""},{"$f":"IF($O$9=\"Runda 1\",'01'!F18,IF($O$9=\"Runda 2\",'01'!Q18,IF($O$9=\"Runda 3\",'01'!AB18,IF($O$9=\"Runda 4\",'01'!AM18,IF($O$9=\"Runda 5\",'01'!AX18,0)))))","v":""},{"$f":"IF($O$9=\"Runda 1\",'01'!G18,IF($O$9=\"Runda 2\",'01'!R18,IF($O$9=\"Runda 3\",'01'!AC18,IF($O$9=\"Runda 4\",'01'!AN18,IF($O$9=\"Runda 5\",'01'!AY18,0)))))","v":""},{"$f":"IF($O$9=\"Runda 1\",'01'!H18,IF($O$9=\"Runda 2\",'01'!S18,IF($O$9=\"Runda 3\",'01'!AD18,IF($O$9=\"Runda 4\",'01'!AO18,IF($O$9=\"Runda 5\",'01'!AZ18,0)))))","v":""},{"$f":"IF($O$9=\"Runda 1\",'01'!I18,IF($O$9=\"Runda 2\",'01'!T18,IF($O$9=\"Runda 3\",'01'!AE18,IF($O$9=\"Runda 4\",'01'!AP18,IF($O$9=\"Runda 5\",'01'!BA18,0)))))","v":""},{"$f":"IF($O$9=\"Runda 1\",'01'!J18,IF($O$9=\"Runda 2\",'01'!U18,IF($O$9=\"Runda 3\",'01'!AF18,IF($O$9=\"Runda 4\",'01'!AQ18,IF($O$9=\"Runda 5\",'01'!BB18,0)))))","v":""},{"$f":"IF($O$9=\"Runda 1\",'01'!K18,IF($O$9=\"Runda 2\",'01'!V18,IF($O$9=\"Runda 3\",'01'!AG18,IF($O$9=\"Runda 4\",'01'!AR18,IF($O$9=\"Runda 5\",'01'!BC18,0)))))","v":""},{"$f":"IF($O$9=\"Runda 1\",'01'!L18,IF($O$9=\"Runda 2\",'01'!W18,IF($O$9=\"Runda 3\",'01'!AH18,IF($O$9=\"Runda 4\",'01'!AS18,IF($O$9=\"Runda 5\",'01'!BD18,0)))))","v":""},0,{"$f":"IF(Z13>Z12,3,IF(Z13<Z12,0,1))","v":1},null,"Zebra",18,23]
[null,null,null,null,null,null,null,null,null,null,null,null,null,null,{"$f":"A17","v":"#hashtag"},{"$f":"IF($O$9=\"Runda 1\",'01'!C17,IF($O$9=\"Runda 2\",'01'!N17,IF($O$9=\"Runda 3\",'01'!Y17,IF($O$9=\"Runda 4\",'01'!AJ17,IF($O$9=\"Runda 5\",'01'!AU17,0)))))","v":""},{"$f":"IF($O$9=\"Runda 1\",'01'!D17,IF($O$9=\"Runda 2\",'01'!O17,IF($O$9=\"Runda 3\",'01'!Z17,IF($O$9=\"Runda 4\",'01'!AK17,IF($O$9=\"Runda 5\",'01'!AV17,0)))))","v":""},{"$f":"IF($O$9=\"Runda 1\",'01'!E17,IF($O$9=\"Runda 2\",'01'!P17,IF($O$9=\"Runda 3\",'01'!AA17,IF($O$9=\"Runda 4\",'01'!AL17,IF($O$9=\"Runda 5\",'01'!AW17,0)))))","v":""},{"$f":"IF($O$9=\"Runda 1\",'01'!F17,IF($O$9=\"Runda 2\",'01'!Q17,IF($O$9=\"Runda 3\",'01'!AB17,IF($O$9=\"Runda 4\",'01'!AM17,IF($O$9=\"Runda 5\",'01'!AX17,0)))))","v":""},{"$f":"IF($O$9=\"Runda 1\",'01'!G17,IF($O$9=\"Runda 2\",'01'!R17,IF($O$9=\"Runda 3\",'01'!AC17,IF($O$9=\"Runda 4\",'01'!AN17,IF($O$9=\"Runda 5\",'01'!AY17,0)))))","v":""},{"$f":"IF($O$9=\"Runda 1\",'01'!H17,IF($O$9=\"Runda 2\",'01'!S17,IF($O$9=\"Runda 3\",'01'!AD17,IF($O$9=\"Runda 4\",'01'!AO17,IF($O$9=\"Runda 5\",'01'!AZ17,0)))))","v":""},{"$f":"IF($O$9=\"Runda 1\",'01'!I17,IF($O$9=\"Runda 2\",'01'!T17,IF($O$9=\"Runda 3\",'01'!AE17,IF($O$9=\"Runda 4\",'01'!AP17,IF($O$9=\"Runda 5\",'01'!BA17,0)))))","v":""},{"$f":"IF($O$9=\"Runda 1\",'01'!J17,IF($O$9=\"Runda 2\",'01'!U17,IF($O$9=\"Runda 3\",'01'!AF17,IF($O$9=\"Runda 4\",'01'!AQ17,IF($O$9=\"Runda 5\",'01'!BB17,0)))))","v":""},{"$f":"IF($O$9=\"Runda 1\",'01'!K17,IF($O$9=\"Runda 2\",'01'!V17,IF($O$9=\"Runda 3\",'01'!AG17,IF($O$9=\"Runda 4\",'01'!AR17,IF($O$9=\"Runda 5\",'01'!BC17,0)))))","v":""},{"$f":"IF($O$9=\"Runda 1\",'01'!L17,IF($O$9=\"Runda 2\",'01'!W17,IF($O$9=\"Runda 3\",'01'!AH17,IF($O$9=\"Runda 4\",'01'!AS17,IF($O$9=\"Runda 5\",'01'!BD17,0)))))","v":""},0,{"$f":"IF(Z14>Z15,3,IF(Z14<Z15,0,1))","v":1},null,"Turnul Alb",19,24]
[null,null,null,null,null,null,null,null,null,null,null,null,null,null,{"$f":"I17","v":"Turnul Alb"},{"$f":"IF($O$9=\"Runda 1\",'01'!C19,IF($O$9=\"Runda 2\",'01'!N19,IF($O$9=\"Runda 3\",'01'!Y19,IF($O$9=\"Runda 4\",'01'!AJ19,IF($O$9=\"Runda 5\",'01'!AU19,0)))))","v":""},{"$f":"IF($O$9=\"Runda 1\",'01'!D19,IF($O$9=\"Runda 2\",'01'!O19,IF($O$9=\"Runda 3\",'01'!Z19,IF($O$9=\"Runda 4\",'01'!AK19,IF($O$9=\"Runda 5\",'01'!AV19,0)))))","v":""},{"$f":"IF($O$9=\"Runda 1\",'01'!E19,IF($O$9=\"Runda 2\",'01'!P19,IF($O$9=\"Runda 3\",'01'!AA19,IF($O$9=\"Runda 4\",'01'!AL19,IF($O$9=\"Runda 5\",'01'!AW19,0)))))","v":""},{"$f":"IF($O$9=\"Runda 1\",'01'!F19,IF($O$9=\"Runda 2\",'01'!Q19,IF($O$9=\"Runda 3\",'01'!AB19,IF($O$9=\"Runda 4\",'01'!AM19,IF($O$9=\"Runda 5\",'01'!AX19,0)))))","v":""},{"$f":"IF($O$9=\"Runda 1\",'01'!G19,IF($O$9=\"Runda 2\",'01'!R19,IF($O$9=\"Runda 3\",'01'!AC19,IF($O$9=\"Runda 4\",'01'!AN19,IF($O$9=\"Runda 5\",'01'!AY19,0)))))","v":""},{"$f":"IF($O$9=\"Runda 1\",'01'!H19,IF($O$9=\"Runda 2\",'01'!S19,IF($O$9=\"Runda 3\",'01'!AD19,IF($O$9=\"Runda 4\",'01'!AO19,IF($O$9=\"Runda 5\",'01'!AZ19,0)))))","v":""},{"$f":"IF($O$9=\"Runda 1\",'01'!I19,IF($O$9=\"Runda 2\",'01'!T19,IF($O$9=\"Runda 3\",'01'!AE19,IF($O$9=\"Runda 4\",'01'!AP19,IF($O$9=\"Runda 5\",'01'!BA19,0)))))","v":""},{"$f":"IF($O$9=\"Runda 1\",'01'!J19,IF($O$9=\"Runda 2\",'01'!U19,IF($O$9=\"Runda 3\",'01'!AF19,IF($O$9=\"Runda 4\",'01'!AQ19,IF($O$9=\"Runda 5\",'01'!BB19,0)))))","v":""},{"$f":"IF($O$9=\"Runda 1\",'01'!K19,IF($O$9=\"Runda 2\",'01'!V19,IF($O$9=\"Runda 3\",'01'!AG19,IF($O$9=\"Runda 4\",'01'!AR19,IF($O$9=\"Runda 5\",'01'!BC19,0)))))","v":""},{"$f":"IF($O$9=\"Runda 1\",'01'!L19,IF($O$9=\"Runda 2\",'01'!W19,IF($O$9=\"Runda 3\",'01'!AH19,IF($O$9=\"Runda 4\",'01'!AS19,IF($O$9=\"Runda 5\",'01'!BD19,0)))))","v":""},0,{"$f":"IF(Z15>Z14,3,IF(Z15<Z14,0,1))","v":1}]
[]
[{"$f":"IF(E4=1,Tragere!D16,IF(E4=2,Tragere!D16,IF(E4=3,Tragere!D13,IF(E4=4,Tragere!D12,IF(E4=5,Tragere!D15,IF(E4=6,Tragere!D14,IF(E4=7,Tragere!D14)))))))","v":"#hashtag"},null,null,null,{"$f":"IF(E4=1,Tragere!D17,IF(E4=2,Tragere!D12,IF(E4=3,Tragere!D18,IF(E4=4,Tragere!D13,IF(E4=5,Tragere!D17,IF(E4=6,Tragere!D18,IF(E4=7,Tragere!D13)))))))","v":"Zebra"},null,null,null,{"$f":"IF(E4=1,Tragere!D18,IF(E4=2,Tragere!D17,IF(E4=3,Tragere!D16,IF(E4=4,Tragere!D18,IF(E4=5,Tragere!D13,IF(E4=6,Tragere!D12,IF(E4=7,Tragere!D15)))))))","v":"Turnul Alb"},null,null,null,null,null,"Runda 1",1,2,3,4,5,6,7,8,9,10,"R","P"]
[null,null,null,null,null,null,null,null,null,null,null,null,null,null,{"$f":"A10","v":"Punctul pe H"},{"$f":"IF($O$17=\"Runda 1\",'01'!C14,IF($O$17=\"Runda 2\",'01'!N14,IF($O$17=\"Runda 3\",'01'!Y14,IF($O$17=\"Runda 4\",'01'!AJ14,IF($O$17=\"Runda 5\",'01'!AU14,0)))))","v":""},{"$f":"IF($O$17=\"Runda 1\",'01'!D14,IF($O$17=\"Runda 2\",'01'!O14,IF($O$17=\"Runda 3\",'01'!Z14,IF($O$17=\"Runda 4\",'01'!AK14,IF($O$17=\"Runda 5\",'01'!AV14,0)))))","v":""},{"$f":"IF($O$17=\"Runda 1\",'01'!E14,IF($O$17=\"Runda 2\",'01'!P14,IF($O$17=\"Runda 3\",'01'!AA14,IF($O$17=\"Runda 4\",'01'!AL14,IF($O$17=\"Runda 5\",'01'!AW14,0)))))","v":""},{"$f":"IF($O$17=\"Runda 1\",'01'!F14,IF($O$17=\"Runda 2\",'01'!Q14,IF($O$17=\"Runda 3\",'01'!AB14,IF($O$17=\"Runda 4\",'01'!AM14,IF($O$17=\"Runda 5\",'01'!AX14,0)))))","v":""},{"$f":"IF($O$17=\"Runda 1\",'01'!G14,IF($O$17=\"Runda 2\",'01'!R14,IF($O$17=\"Runda 3\",'01'!AC14,IF($O$17=\"Runda 4\",'01'!AN14,IF($O$17=\"Runda 5\",'01'!AY14,0)))))","v":""},{"$f":"IF($O$17=\"Runda 1\",'01'!H14,IF($O$17=\"Runda 2\",'01'!S14,IF($O$17=\"Runda 3\",'01'!AD14,IF($O$17=\"Runda 4\",'01'!AO14,IF($O$17=\"Runda 5\",'01'!AZ14,0)))))","v":""},{"$f":"IF($O$17=\"Runda 1\",'01'!I14,IF($O$17=\"Runda 2\",'01'!T14,IF($O$17=\"Runda 3\",'01'!AE14,IF($O$17=\"Runda 4\",'01'!AP14,IF($O$17=\"Runda 5\",'01'!BA14,0)))))","v":""},{"$f":"IF($O$17=\"Runda 1\",'01'!J14,IF($O$17=\"Runda 2\",'01'!U14,IF($O$17=\"Runda 3\",'01'!AF14,IF($O$17=\"Runda 4\",'01'!AQ14,IF($O$17=\"Runda 5\",'01'!BB14,0)))))","v":""},{"$f":"IF($O$17=\"Runda 1\",'01'!K14,IF($O$17=\"Runda 2\",'01'!V14,IF($O$17=\"Runda 3\",'01'!AG14,IF($O$17=\"Runda 4\",'01'!AR14,IF($O$17=\"Runda 5\",'01'!BC14,0)))))","v":""},{"$f":"IF($O$17=\"Runda 1\",'01'!L14,IF($O$17=\"Runda 2\",'01'!W14,IF($O$17=\"Runda 3\",'01'!AH14,IF($O$17=\"Runda 4\",'01'!AS14,IF($O$17=\"Runda 5\",'01'!BD14,0)))))","v":""},{"$f":"SUM(P18:Y18)","v":0},{"$f":"IF(Z18>Z19,3,IF(Z18<Z19,0,1))","v":1}]
[null,null,null,null,null,null,null,null,null,null,null,null,null,null,{"$f":"A17","v":"#hashtag"},{"$f":"IF($O$17=\"Runda 1\",'01'!C17,IF($O$17=\"Runda 2\",'01'!N17,IF($O$17=\"Runda 3\",'01'!Y17,IF($O$17=\"Runda 4\",'01'!AJ17,IF($O$17=\"Runda 5\",'01'!AU17,0)))))","v":""},{"$f":"IF($O$17=\"Runda 1\",'01'!D17,IF($O$17=\"Runda 2\",'01'!O17,IF($O$17=\"Runda 3\",'01'!Z17,IF($O$17=\"Runda 4\",'01'!AK17,IF($O$17=\"Runda 5\",'01'!AV17,0)))))","v":""},{"$f":"IF($O$17=\"Runda 1\",'01'!E17,IF($O$17=\"Runda 2\",'01'!P17,IF($O$17=\"Runda 3\",'01'!AA17,IF($O$17=\"Runda 4\",'01'!AL17,IF($O$17=\"Runda 5\",'01'!AW17,0)))))","v":""},{"$f":"IF($O$17=\"Runda 1\",'01'!F17,IF($O$17=\"Runda 2\",'01'!Q17,IF($O$17=\"Runda 3\",'01'!AB17,IF($O$17=\"Runda 4\",'01'!AM17,IF($O$17=\"Runda 5\",'01'!AX17,0)))))","v":""},{"$f":"IF($O$17=\"Runda 1\",'01'!G17,IF($O$17=\"Runda 2\",'01'!R17,IF($O$17=\"Runda 3\",'01'!AC17,IF($O$17=\"Runda 4\",'01'!AN17,IF($O$17=\"Runda 5\",'01'!AY17,0)))))","v":""},{"$f":"IF($O$17=\"Runda 1\",'01'!H17,IF($O$17=\"Runda 2\",'01'!S17,IF($O$17=\"Runda 3\",'01'!AD17,IF($O$17=\"Runda 4\",'01'!AO17,IF($O$17=\"Runda 5\",'01'!AZ17,0)))))","v":""},{"$f":"IF($O$17=\"Runda 1\",'01'!I17,IF($O$17=\"Runda 2\",'01'!T17,IF($O$17=\"Runda 3\",'01'!AE17,IF($O$17=\"Runda 4\",'01'!AP17,IF($O$17=\"Runda 5\",'01'!BA17,0)))))","v":""},{"$f":"IF($O$17=\"Runda 1\",'01'!J17,IF($O$17=\"Runda 2\",'01'!U17,IF($O$17=\"Runda 3\",'01'!AF17,IF($O$17=\"Runda 4\",'01'!AQ17,IF($O$17=\"Runda 5\",'01'!BB17,0)))))","v":""},{"$f":"IF($O$17=\"Runda 1\",'01'!K17,IF($O$17=\"Runda 2\",'01'!V17,IF($O$17=\"Runda 3\",'01'!AG17,IF($O$17=\"Runda 4\",'01'!AR17,IF($O$17=\"Runda 5\",'01'!BC17,0)))))","v":""},{"$f":"IF($O$17=\"Runda 1\",'01'!L17,IF($O$17=\"Runda 2\",'01'!W17,IF($O$17=\"Runda 3\",'01'!AH17,IF($O$17=\"Runda 4\",'01'!AS17,IF($O$17=\"Runda 5\",'01'!BD17,0)))))","v":""},0,{"$f":"IF(Z19>Z18,3,IF(Z19<Z18,0,1))","v":1}]
[null,null,null,null,null,null,null,null,null,null,null,null,null,null,{"$f":"E10","v":"SER"},{"$f":"IF($O$17=\"Runda 1\",'01'!C15,IF($O$17=\"Runda 2\",'01'!N15,IF($O$17=\"Runda 3\",'01'!Y15,IF($O$17=\"Runda 4\",'01'!AJ15,IF($O$17=\"Runda 5\",'01'!AU15,0)))))","v":""},{"$f":"IF($O$17=\"Runda 1\",'01'!D15,IF($O$17=\"Runda 2\",'01'!O15,IF($O$17=\"Runda 3\",'01'!Z15,IF($O$17=\"Runda 4\",'01'!AK15,IF($O$17=\"Runda 5\",'01'!AV15,0)))))","v":""},{"$f":"IF($O$17=\"Runda 1\",'01'!E15,IF($O$17=\"Runda 2\",'01'!P15,IF($O$17=\"Runda 3\",'01'!AA15,IF($O$17=\"Runda 4\",'01'!AL15,IF($O$17=\"Runda 5\",'01'!AW15,0)))))","v":""},{"$f":"IF($O$17=\"Runda 1\",'01'!F15,IF($O$17=\"Runda 2\",'01'!Q15,IF($O$17=\"Runda 3\",'01'!AB15,IF($O$17=\"Runda 4\",'01'!AM15,IF($O$17=\"Runda 5\",'01'!AX15,0)))))","v":""},{"$f":"IF($O$17=\"Runda 1\",'01'!G15,IF($O$17=\"Runda 2\",'01'!R15,IF($O$17=\"Runda 3\",'01'!AC15,IF($O$17=\"Runda 4\",'01'!AN15,IF($O$17=\"Runda 5\",'01'!AY15,0)))))","v":""},{"$f":"IF($O$17=\"Runda 1\",'01'!H15,IF($O$17=\"Runda 2\",'01'!S15,IF($O$17=\"Runda 3\",'01'!AD15,IF($O$17=\"Runda 4\",'01'!AO15,IF($O$17=\"Runda 5\",'01'!AZ15,0)))))","v":""},{"$f":"IF($O$17=\"Runda 1\",'01'!I15,IF($O$17=\"Runda 2\",'01'!T15,IF($O$17=\"Runda 3\",'01'!AE15,IF($O$17=\"Runda 4\",'01'!AP15,IF($O$17=\"Runda 5\",'01'!BA15,0)))))","v":""},{"$f":"IF($O$17=\"Runda 1\",'01'!J15,IF($O$17=\"Runda 2\",'01'!U15,IF($O$17=\"Runda 3\",'01'!AF15,IF($O$17=\"Runda 4\",'01'!AQ15,IF($O$17=\"Runda 5\",'01'!BB15,0)))))","v":""},{"$f":"IF($O$17=\"Runda 1\",'01'!K15,IF($O$17=\"Runda 2\",'01'!V15,IF($O$17=\"Runda 3\",'01'!AG15,IF($O$17=\"Runda 4\",'01'!AR15,IF($O$17=\"Runda 5\",'01'!BC15,0)))))","v":""},{"$f":"IF($O$17=\"Runda 1\",'01'!L15,IF($O$17=\"Runda 2\",'01'!W15,IF($O$17=\"Runda 3\",'01'!AH15,IF($O$17=\"Runda 4\",'01'!AS15,IF($O$17=\"Runda 5\",'01'!BD15,0)))))","v":""},0,{"$f":"IF(Z20>Z21,3,IF(Z20<Z21,0,1))","v":1}]
[null,null,null,null,null,null,null,null,null,null,null,null,null,null,{"$f":"I17","v":"Turnul Alb"},{"$f":"IF($O$17=\"Runda 1\",'01'!C19,IF($O$17=\"Runda 2\",'01'!N19,IF($O$17=\"Runda 3\",'01'!Y19,IF($O$17=\"Runda 4\",'01'!AJ19,IF($O$17=\"Runda 5\",'01'!AU19,0)))))","v":""},{"$f":"IF($O$17=\"Runda 1\",'01'!D19,IF($O$17=\"Runda 2\",'01'!O19,IF($O$17=\"Runda 3\",'01'!Z19,IF($O$17=\"Runda 4\",'01'!AK19,IF($O$17=\"Runda 5\",'01'!AV19,0)))))","v":""},{"$f":"IF($O$17=\"Runda 1\",'01'!E19,IF($O$17=\"Runda 2\",'01'!P19,IF($O$17=\"Runda 3\",'01'!AA19,IF($O$17=\"Runda 4\",'01'!AL19,IF($O$17=\"Runda 5\",'01'!AW19,0)))))","v":""},{"$f":"IF($O$17=\"Runda 1\",'01'!F19,IF($O$17=\"Runda 2\",'01'!Q19,IF($O$17=\"Runda 3\",'01'!AB19,IF($O$17=\"Runda 4\",'01'!AM19,IF($O$17=\"Runda 5\",'01'!AX19,0)))))","v":""},{"$f":"IF($O$17=\"Runda 1\",'01'!G19,IF($O$17=\"Runda 2\",'01'!R19,IF($O$17=\"Runda 3\",'01'!AC19,IF($O$17=\"Runda 4\",'01'!AN19,IF($O$17=\"Runda 5\",'01'!AY19,0)))))","v":""},{"$f":"IF($O$17=\"Runda 1\",'01'!H19,IF($O$17=\"Runda 2\",'01'!S19,IF($O$17=\"Runda 3\",'01'!AD19,IF($O$17=\"Runda 4\",'01'!AO19,IF($O$17=\"Runda 5\",'01'!AZ19,0)))))","v":""},{"$f":"IF($O$17=\"Runda 1\",'01'!I19,IF($O$17=\"Runda 2\",'01'!T19,IF($O$17=\"Runda 3\",'01'!AE19,IF($O$17=\"Runda 4\",'01'!AP19,IF($O$17=\"Runda 5\",'01'!BA19,0)))))","v":""},{"$f":"IF($O$17=\"Runda 1\",'01'!J19,IF($O$17=\"Runda 2\",'01'!U19,IF($O$17=\"Runda 3\",'01'!AF19,IF($O$17=\"Runda 4\",'01'!AQ19,IF($O$17=\"Runda 5\",'01'!BB19,0)))))","v":""},{"$f":"IF($O$17=\"Runda 1\",'01'!K19,IF($O$17=\"Runda 2\",'01'!V19,IF($O$17=\"Runda 3\",'01'!AG19,IF($O$17=\"Runda 4\",'01'!AR19,IF($O$17=\"Runda 5\",'01'!BC19,0)))))","v":""},{"$f":"IF($O$17=\"Runda 1\",'01'!L19,IF($O$17=\"Runda 2\",'01'!W19,IF($O$17=\"Runda 3\",'01'!AH19,IF($O$17=\"Runda 4\",'01'!AS19,IF($O$17=\"Runda 5\",'01'!BD19,0)))))","v":""},0,{"$f":"IF(Z21>Z20,3,IF(Z21<Z20,0,1))","v":1}]
[null,null,null,null,null,null,null,null,null,null,null,null,null,null,{"$f":"I10","v":"Afrodiziac"},{"$f":"IF($O$17=\"Runda 1\",'01'!C16,IF($O$17=\"Runda 2\",'01'!N16,IF($O$17=\"Runda 3\",'01'!Y16,IF($O$17=\"Runda 4\",'01'!AJ16,IF($O$17=\"Runda 5\",'01'!AU16,0)))))","v":""},{"$f":"IF($O$17=\"Runda 1\",'01'!D16,IF($O$17=\"Runda 2\",'01'!O16,IF($O$17=\"Runda 3\",'01'!Z16,IF($O$17=\"Runda 4\",'01'!AK16,IF($O$17=\"Runda 5\",'01'!AV16,0)))))","v":""},{"$f":"IF($O$17=\"Runda 1\",'01'!E16,IF($O$17=\"Runda 2\",'01'!P16,IF($O$17=\"Runda 3\",'01'!AA16,IF($O$17=\"Runda 4\",'01'!AL16,IF($O$17=\"Runda 5\",'01'!AW16,0)))))","v":""},{"$f":"IF($O$17=\"Runda 1\",'01'!F16,IF($O$17=\"Runda 2\",'01'!Q16,IF($O$17=\"Runda 3\",'01'!AB16,IF($O$17=\"Runda 4\",'01'!AM16,IF($O$17=\"Runda 5\",'01'!AX16,0)))))","v":""},{"$f":"IF($O$17=\"Runda 1\",'01'!G16,IF($O$17=\"Runda 2\",'01'!R16,IF($O$17=\"Runda 3\",'01'!AC16,IF($O$17=\"Runda 4\",'01'!AN16,IF($O$17=\"Runda 5\",'01'!AY16,0)))))","v":""},{"$f":"IF($O$17=\"Runda 1\",'01'!H16,IF($O$17=\"Runda 2\",'01'!S16,IF($O$17=\"Runda 3\",'01'!AD16,IF($O$17=\"Runda 4\",'01'!AO16,IF($O$17=\"Runda 5\",'01'!AZ16,0)))))","v":""},{"$f":"IF($O$17=\"Runda 1\",'01'!I16,IF($O$17=\"Runda 2\",'01'!T16,IF($O$17=\"Runda 3\",'01'!AE16,IF($O$17=\"Runda 4\",'01'!AP16,IF($O$17=\"Runda 5\",'01'!BA16,0)))))","v":""},{"$f":"IF($O$17=\"Runda 1\",'01'!J16,IF($O$17=\"Runda 2\",'01'!U16,IF($O$17=\"Runda 3\",'01'!AF16,IF($O$17=\"Runda 4\",'01'!AQ16,IF($O$17=\"Runda 5\",'01'!BB16,0)))))","v":""},{"$f":"IF($O$17=\"Runda 1\",'01'!K16,IF($O$17=\"Runda 2\",'01'!V16,IF($O$17=\"Runda 3\",'01'!AG16,IF($O$17=\"Runda 4\",'01'!AR16,IF($O$17=\"Runda 5\",'01'!BC16,0)))))","v":""},{"$f":"IF($O$17=\"Runda 1\",'01'!L16,IF($O$17=\"Runda 2\",'01'!W16,IF($O$17=\"Runda 3\",'01'!AH16,IF($O$17=\"Runda 4\",'01'!AS16,IF($O$17=\"Runda 5\",'01'!BD16,0)))))","v":""},0,{"$f":"IF(Z22>Z23,3,IF(Z22<Z23,0,1))","v":1}]
[null,null,null,null,null,null,null,null,null,null,null,null,null,null,{"$f":"E17","v":"Zebra"},{"$f":"IF($O$17=\"Runda 1\",'01'!C18,IF($O$17=\"Runda 2\",'01'!N18,IF($O$17=\"Runda 3\",'01'!Y18,IF($O$17=\"Runda 4\",'01'!AJ18,IF($O$17=\"Runda 5\",'01'!AU18,0)))))","v":""},{"$f":"IF($O$17=\"Runda 1\",'01'!D18,IF($O$17=\"Runda 2\",'01'!O18,IF($O$17=\"Runda 3\",'01'!Z18,IF($O$17=\"Runda 4\",'01'!AK18,IF($O$17=\"Runda 5\",'01'!AV18,0)))))","v":""},{"$f":"IF($O$17=\"Runda 1\",'01'!E18,IF($O$17=\"Runda 2\",'01'!P18,IF($O$17=\"Runda 3\",'01'!AA18,IF($O$17=\"Runda 4\",'01'!AL18,IF($O$17=\"Runda 5\",'01'!AW18,0)))))","v":""},{"$f":"IF($O$17=\"Runda 1\",'01'!F18,IF($O$17=\"Runda 2\",'01'!Q18,IF($O$17=\"Runda 3\",'01'!AB18,IF($O$17=\"Runda 4\",'01'!AM18,IF($O$17=\"Runda 5\",'01'!AX18,0)))))","v":""},{"$f":"IF($O$17=\"Runda 1\",'01'!G18,IF($O$17=\"Runda 2\",'01'!R18,IF($O$17=\"Runda 3\",'01'!AC18,IF($O$17=\"Runda 4\",'01'!AN18,IF($O$17=\"Runda 5\",'01'!AY18,0)))))","v":""},{"$f":"IF($O$17=\"Runda 1\",'01'!H18,IF($O$17=\"Runda 2\",'01'!S18,IF($O$17=\"Runda 3\",'01'!AD18,IF($O$17=\"Runda 4\",'01'!AO18,IF($O$17=\"Runda 5\",'01'!AZ18,0)))))","v":""},{"$f":"IF($O$17=\"Runda 1\",'01'!I18,IF($O$17=\"Runda 2\",'01'!T18,IF($O$17=\"Runda 3\",'01'!AE18,IF($O$17=\"Runda 4\",'01'!AP18,IF($O$17=\"Runda 5\",'01'!BA18,0)))))","v":""},{"$f":"IF($O$17=\"Runda 1\",'01'!J18,IF($O$17=\"Runda 2\",'01'!U18,IF($O$17=\"Runda 3\",'01'!AF18,IF($O$17=\"Runda 4\",'01'!AQ18,IF($O$17=\"Runda 5\",'01'!BB18,0)))))","v":""},{"$f":"IF($O$17=\"Runda 1\",'01'!K18,IF($O$17=\"Runda 2\",'01'!V18,IF($O$17=\"Runda 3\",'01'!AG18,IF($O$17=\"Runda 4\",'01'!AR18,IF($O$17=\"Runda 5\",'01'!BC18,0)))))","v":""},{"$f":"IF($O$17=\"Runda 1\",'01'!L18,IF($O$17=\"Runda 2\",'01'!W18,IF($O$17=\"Runda 3\",'01'!AH18,IF($O$17=\"Runda 4\",'01'!AS18,IF($O$17=\"Runda 5\",'01'!BD18,0)))))","v":""},0,{"$f":"IF(Z23>Z22,3,IF(Z23<Z22,0,1))","v":1}]
[]
["Contestatii",null,null,null,"Numarul intrebarii",null,null,null,null,null,null,null,null,null,"Runda 4",1,2,3,4,5,6,7,8,9,10,"R","P"]
[{"$f":"A10","v":"Punctul pe H"},null,null,null,null,null,null,null,null,null,null,null,null,null,{"$f":"A10","v":"Punctul pe H"},{"$f":"IF($O$25=\"Runda 1\",'01'!C14,IF($O$25=\"Runda 2\",'01'!N14,IF($O$25=\"Runda 3\",'01'!Y14,IF($O$25=\"Runda 4\",'01'!AJ14,IF($O$25=\"Runda 5\",'01'!AU14,0)))))","v":""},{"$f":"IF($O$25=\"Runda 1\",'01'!D14,IF($O$25=\"Runda 2\",'01'!O14,IF($O$25=\"Runda 3\",'01'!Z14,IF($O$25=\"Runda 4\",'01'!AK14,IF($O$25=\"Runda 5\",'01'!AV14,0)))))","v":""},{"$f":"IF($O$25=\"Runda 1\",'01'!E14,IF($O$25=\"Runda 2\",'01'!P14,IF($O$25=\"Runda 3\",'01'!AA14,IF($O$25=\"Runda 4\",'01'!AL14,IF($O$25=\"Runda 5\",'01'!AW14,0)))))","v":""},{"$f":"IF($O$25=\"Runda 1\",'01'!F14,IF($O$25=\"Runda 2\",'01'!Q14,IF($O$25=\"Runda 3\",'01'!AB14,IF($O$25=\"Runda 4\",'01'!AM14,IF($O$25=\"Runda 5\",'01'!AX14,0)))))","v":""},{"$f":"IF($O$25=\"Runda 1\",'01'!G14,IF($O$25=\"Runda 2\",'01'!R14,IF($O$25=\"Runda 3\",'01'!AC14,IF($O$25=\"Runda 4\",'01'!AN14,IF($O$25=\"Runda 5\",'01'!AY14,0)))))","v":""},{"$f":"IF($O$25=\"Runda 1\",'01'!H14,IF($O$25=\"Runda 2\",'01'!S14,IF($O$25=\"Runda 3\",'01'!AD14,IF($O$25=\"Runda 4\",'01'!AO14,IF($O$25=\"Runda 5\",'01'!AZ14,0)))))","v":""},{"$f":"IF($O$25=\"Runda 1\",'01'!I14,IF($O$25=\"Runda 2\",'01'!T14,IF($O$25=\"Runda 3\",'01'!AE14,IF($O$25=\"Runda 4\",'01'!AP14,IF($O$25=\"Runda 5\",'01'!BA14,0)))))","v":""},{"$f":"IF($O$25=\"Runda 1\",'01'!J14,IF($O$25=\"Runda 2\",'01'!U14,IF($O$25=\"Runda 3\",'01'!AF14,IF($O$25=\"Runda 4\",'01'!AQ14,IF($O$25=\"Runda 5\",'01'!BB14,0)))))","v":""},{"$f":"IF($O$25=\"Runda 1\",'01'!K14,IF($O$25=\"Runda 2\",'01'!V14,IF($O$25=\"Runda 3\",'01'!AG14,IF($O$25=\"Runda 4\",'01'!AR14,IF($O$25=\"Runda 5\",'01'!BC14,0)))))","v":""},{"$f":"IF($O$25=\"Runda 1\",'01'!L14,IF($O$25=\"Runda 2\",'01'!W14,IF($O$25=\"Runda 3\",'01'!AH14,IF($O$25=\"Runda 4\",'01'!AS14,IF($O$25=\"Runda 5\",'01'!BD14,0)))))","v":""},{"$f":"SUM(P26:Y26)","v":0},{"$f":"IF(Z26>Z27,3,IF(Z26<Z27,0,1))","v":1}]
[{"$f":"E10","v":"SER"},null,null,null,null,null,null,null,null,null,null,null,null,null,{"$f":"E17","v":"Zebra"},{"$f":"IF($O$25=\"Runda 1\",'01'!C18,IF($O$25=\"Runda 2\",'01'!N18,IF($O$25=\"Runda 3\",'01'!Y18,IF($O$25=\"Runda 4\",'01'!AJ18,IF($O$25=\"Runda 5\",'01'!AU18,0)))))","v":""},{"$f":"IF($O$25=\"Runda 1\",'01'!D18,IF($O$25=\"Runda 2\",'01'!O18,IF($O$25=\"Runda 3\",'01'!Z18,IF($O$25=\"Runda 4\",'01'!AK18,IF($O$25=\"Runda 5\",'01'!AV18,0)))))","v":""},{"$f":"IF($O$25=\"Runda 1\",'01'!E18,IF($O$25=\"Runda 2\",'01'!P18,IF($O$25=\"Runda 3\",'01'!AA18,IF($O$25=\"Runda 4\",'01'!AL18,IF($O$25=\"Runda 5\",'01'!AW18,0)))))","v":""},{"$f":"IF($O$25=\"Runda 1\",'01'!F18,IF($O$25=\"Runda 2\",'01'!Q18,IF($O$25=\"Runda 3\",'01'!AB18,IF($O$25=\"Runda 4\",'01'!AM18,IF($O$25=\"Runda 5\",'01'!AX18,0)))))","v":""},{"$f":"IF($O$25=\"Runda 1\",'01'!G18,IF($O$25=\"Runda 2\",'01'!R18,IF($O$25=\"Runda 3\",'01'!AC18,IF($O$25=\"Runda 4\",'01'!AN18,IF($O$25=\"Runda 5\",'01'!AY18,0)))))","v":""},{"$f":"IF($O$25=\"Runda 1\",'01'!H18,IF($O$25=\"Runda 2\",'01'!S18,IF($O$25=\"Runda 3\",'01'!AD18,IF($O$25=\"Runda 4\",'01'!AO18,IF($O$25=\"Runda 5\",'01'!AZ18,0)))))","v":""},{"$f":"IF($O$25=\"Runda 1\",'01'!I18,IF($O$25=\"Runda 2\",'01'!T18,IF($O$25=\"Runda 3\",'01'!AE18,IF($O$25=\"Runda 4\",'01'!AP18,IF($O$25=\"Runda 5\",'01'!BA18,0)))))","v":""},{"$f":"IF($O$25=\"Runda 1\",'01'!J18,IF($O$25=\"Runda 2\",'01'!U18,IF($O$25=\"Runda 3\",'01'!AF18,IF($O$25=\"Runda 4\",'01'!AQ18,IF($O$25=\"Runda 5\",'01'!BB18,0)))))","v":""},{"$f":"IF($O$25=\"Runda 1\",'01'!K18,IF($O$25=\"Runda 2\",'01'!V18,IF($O$25=\"Runda 3\",'01'!AG18,IF($O$25=\"Runda 4\",'01'!AR18,IF($O$25=\"Runda 5\",'01'!BC18,0)))))","v":""},{"$f":"IF($O$25=\"Runda 1\",'01'!L18,IF($O$25=\"Runda 2\",'01'!W18,IF($O$25=\"Runda 3\",'01'!AH18,IF($O$25=\"Runda 4\",'01'!AS18,IF($O$25=\"Runda 5\",'01'!BD18,0)))))","v":""},0,{"$f":"IF(Z27>Z26,3,IF(Z27<Z26,0,1))","v":1}]
[{"$f":"I10","v":"Afrodiziac"},null,null,null,null,null,null,null,null,null,null,null,null,null,{"$f":"E10","v":"SER"},{"$f":"IF($O$25=\"Runda 1\",'01'!C15,IF($O$25=\"Runda 2\",'01'!N15,IF($O$25=\"Runda 3\",'01'!Y15,IF($O$25=\"Runda 4\",'01'!AJ15,IF($O$25=\"Runda 5\",'01'!AU15,0)))))","v":""},{"$f":"IF($O$25=\"Runda 1\",'01'!D15,IF($O$25=\"Runda 2\",'01'!O15,IF($O$25=\"Runda 3\",'01'!Z15,IF($O$25=\"Runda 4\",'01'!AK15,IF($O$25=\"Runda 5\",'01'!AV15,0)))))","v":""},{"$f":"IF($O$25=\"Runda 1\",'01'!E15,IF($O$25=\"Runda 2\",'01'!P15,IF($O$25=\"Runda 3\",'01'!AA15,IF($O$25=\"Runda 4\",'01'!AL15,IF($O$25=\"Runda 5\",'01'!AW15,0)))))","v":""},{"$f":"IF($O$25=\"Runda 1\",'01'!F15,IF($O$25=\"Runda 2\",'01'!Q15,IF($O$25=\"Runda 3\",'01'!AB15,IF($O$25=\"Runda 4\",'01'!AM15,IF($O$25=\"Runda 5\",'01'!AX15,0)))))","v":""},{"$f":"IF($O$25=\"Runda 1\",'01'!G15,IF($O$25=\"Runda 2\",'01'!R15,IF($O$25=\"Runda 3\",'01'!AC15,IF($O$25=\"Runda 4\",'01'!AN15,IF($O$25=\"Runda 5\",'01'!AY15,0)))))","v":""},{"$f":"IF($O$25=\"Runda 1\",'01'!H15,IF($O$25=\"Runda 2\",'01'!S15,IF($O$25=\"Runda 3\",'01'!AD15,IF($O$25=\"Runda 4\",'01'!AO15,IF($O$25=\"Runda 5\",'01'!AZ15,0)))))","v":""},{"$f":"IF($O$25=\"Runda 1\",'01'!I15,IF($O$25=\"Runda 2\",'01'!T15,IF($O$25=\"Runda 3\",'01'!AE15,IF($O$25=\"Runda 4\",'01'!AP15,IF($O$25=\"Runda 5\",'01'!BA15,0)))))","v":""},{"$f":"IF($O$25=\"Runda 1\",'01'!J15,IF($O$25=\"Runda 2\",'01'!U15,IF($O$25=\"Runda 3\",'01'!AF15,IF($O$25=\"Runda 4\",'01'!AQ15,IF($O$25=\"Runda 5\",'01'!BB15,0)))))","v":""},{"$f":"IF($O$25=\"Runda 1\",'01'!K15,IF($O$25=\"Runda 2\",'01'!V15,IF($O$25=\"Runda 3\",'01'!AG15,IF($O$25=\"Runda 4\",'01'!AR15,IF($O$25=\"Runda 5\",'01'!BC15,0)))))","v":""},{"$f":"IF($O$25=\"Runda 1\",'01'!L15,IF($O$25=\"Runda 2\",'01'!W15,IF($O$25=\"Runda 3\",'01'!AH15,IF($O$25=\"Runda 4\",'01'!AS15,IF($O$25=\"Runda 5\",'01'!BD15,0)))))","v":""},0,{"$f":"IF(Z28>Z29,3,IF(Z28<Z29,0,1))","v":1}]
[{"$f":"A17","v":"#hashtag"},null,null,null,null,null,null,null,null,null,null,null,null,null,{"$f":"A17","v":"#hashtag"},{"$f":"IF($O$25=\"Runda 1\",'01'!C17,IF($O$25=\"Runda 2\",'01'!N17,IF($O$25=\"Runda 3\",'01'!Y17,IF($O$25=\"Runda 4\",'01'!AJ17,IF($O$25=\"Runda 5\",'01'!AU17,0)))))","v":""},{"$f":"IF($O$25=\"Runda 1\",'01'!D17,IF($O$25=\"Runda 2\",'01'!O17,IF($O$25=\"Runda 3\",'01'!Z17,IF($O$25=\"Runda 4\",'01'!AK17,IF($O$25=\"Runda 5\",'01'!AV17,0)))))","v":""},{"$f":"IF($O$25=\"Runda 1\",'01'!E17,IF($O$25=\"Runda 2\",'01'!P17,IF($O$25=\"Runda 3\",'01'!AA17,IF($O$25=\"Runda 4\",'01'!AL17,IF($O$25=\"Runda 5\",'01'!AW17,0)))))","v":""},{"$f":"IF($O$25=\"Runda 1\",'01'!F17,IF($O$25=\"Runda 2\",'01'!Q17,IF($O$25=\"Runda 3\",'01'!AB17,IF($O$25=\"Runda 4\",'01'!AM17,IF($O$25=\"Runda 5\",'01'!AX17,0)))))","v":""},{"$f":"IF($O$25=\"Runda 1\",'01'!G17,IF($O$25=\"Runda 2\",'01'!R17,IF($O$25=\"Runda 3\",'01'!AC17,IF($O$25=\"Runda 4\",'01'!AN17,IF($O$25=\"Runda 5\",'01'!AY17,0)))))","v":""},{"$f":"IF($O$25=\"Runda 1\",'01'!H17,IF($O$25=\"Runda 2\",'01'!S17,IF($O$25=\"Runda 3\",'01'!AD17,IF($O$25=\"Runda 4\",'01'!AO17,IF($O$25=\"Runda 5\",'01'!AZ17,0)))))","v":""},{"$f":"IF($O$25=\"Runda 1\",'01'!I17,IF($O$25=\"Runda 2\",'01'!T17,IF($O$25=\"Runda 3\",'01'!AE17,IF($O$25=\"Runda 4\",'01'!AP17,IF($O$25=\"Runda 5\",'01'!BA17,0)))))","v":""},{"$f":"IF($O$25=\"Runda 1\",'01'!J17,IF($O$25=\"Runda 2\",'01'!U17,IF($O$25=\"Runda 3\",'01'!AF17,IF($O$25=\"Runda 4\",'01'!AQ17,IF($O$25=\"Runda 5\",'01'!BB17,0)))))","v":""},{"$f":"IF($O$25=\"Runda 1\",'01'!K17,IF($O$25=\"Runda 2\",'01'!V17,IF($O$25=\"Runda 3\",'01'!AG17,IF($O$25=\"Runda 4\",'01'!AR17,IF($O$25=\"Runda 5\",'01'!BC17,0)))))","v":""},{"$f":"IF($O$25=\"Runda 1\",'01'!L17,IF($O$25=\"Runda 2\",'01'!W17,IF($O$25=\"Runda 3\",'01'!AH17,IF($O$25=\"Runda 4\",'01'!AS17,IF($O$25=\"Runda 5\",'01'!BD17,0)))))","v":""},0,{"$f":"IF(Z29>Z28,3,IF(Z29<Z28,0,1))","v":1}]
[{"$f":"E17","v":"Zebra"},null,null,null,null,null,null,null,null,null,null,null,null,null,{"$f":"I10","v":"Afrodiziac"},{"$f":"IF($O$25=\"Runda 1\",'01'!C16,IF($O$25=\"Runda 2\",'01'!N16,IF($O$25=\"Runda 3\",'01'!Y16,IF($O$25=\"Runda 4\",'01'!AJ16,IF($O$25=\"Runda 5\",'01'!AU16,0)))))","v":""},{"$f":"IF($O$25=\"Runda 1\",'01'!D16,IF($O$25=\"Runda 2\",'01'!O16,IF($O$25=\"Runda 3\",'01'!Z16,IF($O$25=\"Runda 4\",'01'!AK16,IF($O$25=\"Runda 5\",'01'!AV16,0)))))","v":""},{"$f":"IF($O$25=\"Runda 1\",'01'!E16,IF($O$25=\"Runda 2\",'01'!P16,IF($O$25=\"Runda 3\",'01'!AA16,IF($O$25=\"Runda 4\",'01'!AL16,IF($O$25=\"Runda 5\",'01'!AW16,0)))))","v":""},{"$f":"IF($O$25=\"Runda 1\",'01'!F16,IF($O$25=\"Runda 2\",'01'!Q16,IF($O$25=\"Runda 3\",'01'!AB16,IF($O$25=\"Runda 4\",'01'!AM16,IF($O$25=\"Runda 5\",'01'!AX16,0)))))","v":""},{"$f":"IF($O$25=\"Runda 1\",'01'!G16,IF($O$25=\"Runda 2\",'01'!R16,IF($O$25=\"Runda 3\",'01'!AC16,IF($O$25=\"Runda 4\",'01'!AN16,IF($O$25=\"Runda 5\",'01'!AY16,0)))))","v":""},{"$f":"IF($O$25=\"Runda 1\",'01'!H16,IF($O$25=\"Runda 2\",'01'!S16,IF($O$25=\"Runda 3\",'01'!AD16,IF($O$25=\"Runda 4\",'01'!AO16,IF($O$25=\"Runda 5\",'01'!AZ16,0)))))","v":""},{"$f":"IF($O$25=\"Runda 1\",'01'!I16,IF($O$25=\"Runda 2\",'01'!T16,IF($O$25=\"Runda 3\",'01'!AE16,IF($O$25=\"Runda 4\",'01'!AP16,IF($O$25=\"Runda 5\",'01'!BA16,0)))))","v":""},{"$f":"IF($O$25=\"Runda 1\",'01'!J16,IF($O$25=\"Runda 2\",'01'!U16,IF($O$25=\"Runda 3\",'01'!AF16,IF($O$25=\"Runda 4\",'01'!AQ16,IF($O$25=\"Runda 5\",'01'!BB16,0)))))","v":""},{"$f":"IF($O$25=\"Runda 1\",'01'!K16,IF($O$25=\"Runda 2\",'01'!V16,IF($O$25=\"Runda 3\",'01'!AG16,IF($O$25=\"Runda 4\",'01'!AR16,IF($O$25=\"Runda 5\",'01'!BC16,0)))))","v":""},{"$f":"IF($O$25=\"Runda 1\",'01'!L16,IF($O$25=\"Runda 2\",'01'!W16,IF($O$25=\"Runda 3\",'01'!AH16,IF($O$25=\"Runda 4\",'01'!AS16,IF($O$25=\"Runda 5\",'01'!BD16,0)))))","v":""},0,{"$f":"IF(Z30>Z31,3,IF(Z30<Z31,0,1))","v":1}]
[{"$f":"I17","v":"Turnul Alb"},null,null,null,null,null,null,null,null,null,null,null,null,null,{"$f":"I17","v":"Turnul Alb"},{"$f":"IF($O$25=\"Runda 1\",'01'!C19,IF($O$25=\"Runda 2\",'01'!N19,IF($O$25=\"Runda 3\",'01'!Y19,IF($O$25=\"Runda 4\",'01'!AJ19,IF($O$25=\"Runda 5\",'01'!AU19,0)))))","v":""},{"$f":"IF($O$25=\"Runda 1\",'01'!D19,IF($O$25=\"Runda 2\",'01'!O19,IF($O$25=\"Runda 3\",'01'!Z19,IF($O$25=\"Runda 4\",'01'!AK19,IF($O$25=\"Runda 5\",'01'!AV19,0)))))","v":""},{"$f":"IF($O$25=\"Runda 1\",'01'!E19,IF($O$25=\"Runda 2\",'01'!P19,IF($O$25=\"Runda 3\",'01'!AA19,IF($O$25=\"Runda 4\",'01'!AL19,IF($O$25=\"Runda 5\",'01'!AW19,0)))))","v":""},{"$f":"IF($O$25=\"Runda 1\",'01'!F19,IF($O$25=\"Runda 2\",'01'!Q19,IF($O$25=\"Runda 3\",'01'!AB19,IF($O$25=\"Runda 4\",'01'!AM19,IF($O$25=\"Runda 5\",'01'!AX19,0)))))","v":""},{"$f":"IF($O$25=\"Runda 1\",'01'!G19,IF($O$25=\"Runda 2\",'01'!R19,IF($O$25=\"Runda 3\",'01'!AC19,IF($O$25=\"Runda 4\",'01'!AN19,IF($O$25=\"Runda 5\",'01'!AY19,0)))))","v":""},{"$f":"IF($O$25=\"Runda 1\",'01'!H19,IF($O$25=\"Runda 2\",'01'!S19,IF($O$25=\"Runda 3\",'01'!AD19,IF($O$25=\"Runda 4\",'01'!AO19,IF($O$25=\"Runda 5\",'01'!AZ19,0)))))","v":""},{"$f":"IF($O$25=\"Runda 1\",'01'!I19,IF($O$25=\"Runda 2\",'01'!T19,IF($O$25=\"Runda 3\",'01'!AE19,IF($O$25=\"Runda 4\",'01'!AP19,IF($O$25=\"Runda 5\",'01'!BA19,0)))))","v":""},{"$f":"IF($O$25=\"Runda 1\",'01'!J19,IF($O$25=\"Runda 2\",'01'!U19,IF($O$25=\"Runda 3\",'01'!AF19,IF($O$25=\"Runda 4\",'01'!AQ19,IF($O$25=\"Runda 5\",'01'!BB19,0)))))","v":""},{"$f":"IF($O$25=\"Runda 1\",'01'!K19,IF($O$25=\"Runda 2\",'01'!V19,IF($O$25=\"Runda 3\",'01'!AG19,IF($O$25=\"Runda 4\",'01'!AR19,IF($O$25=\"Runda 5\",'01'!BC19,0)))))","v":""},{"$f":"IF($O$25=\"Runda 1\",'01'!L19,IF($O$25=\"Runda 2\",'01'!W19,IF($O$25=\"Runda 3\",'01'!AH19,IF($O$25=\"Runda 4\",'01'!AS19,IF($O$25=\"Runda 5\",'01'!BD19,0)))))","v":""},0,{"$f":"IF(Z31>Z30,3,IF(Z31<Z30,0,1))","v":1}]
[]
["Rezultate etapa",null,null,null,"V","E","I","RASP",null,"PUNCTE",null,null,null,null,"Runda 5",1,2,3,4,5,6,7,8,9,10,"R","P"]
[{"$f":"A10","v":"Punctul pe H"},null,null,null,{"$f":"SUM(IF(AA2=3,1,0),IF(AA10=3,1,0),IF(AA18=3,1,0),IF(AA26=3,1,0),IF(AA34=3,1,0))","v":0},{"$f":"SUM(IF(AA2=1,1,0),IF(AA10=1,1,0),IF(AA18=1,1,0),IF(AA26=1,1,0),IF(AA34=1,1,0))","v":5},{"$f":"SUM(IF(AA2=0,1,0),IF(AA10=0,1,0),IF(AA18=0,1,0),IF(AA26=0,1,0),IF(AA34=0,1,0))","v":0},{"$f":"SUM(Z2,Z10,Z18,Z26,Z34)","v":0},null,{"$f":"SUM(AA2,AA10,AA18,AA26,AA34)","v":5},null,null,null,null,{"$f":"A10","v":"Punctul pe H"},{"$f":"IF($O$33=\"Runda 1\",'01'!C14,IF($O$33=\"Runda 2\",'01'!N14,IF($O$33=\"Runda 3\",'01'!Y14,IF($O$33=\"Runda 4\",'01'!AJ14,IF($O$33=\"Runda 5\",'01'!AU14,0)))))","v":""},{"$f":"IF($O$33=\"Runda 1\",'01'!D14,IF($O$33=\"Runda 2\",'01'!O14,IF($O$33=\"Runda 3\",'01'!Z14,IF($O$33=\"Runda 4\",'01'!AK14,IF($O$33=\"Runda 5\",'01'!AV14,0)))))","v":""},{"$f":"IF($O$33=\"Runda 1\",'01'!E14,IF($O$33=\"Runda 2\",'01'!P14,IF($O$33=\"Runda 3\",'01'!AA14,IF($O$33=\"Runda 4\",'01'!AL14,IF($O$33=\"Runda 5\",'01'!AW14,0)))))","v":""},{"$f":"IF($O$33=\"Runda 1\",'01'!F14,IF($O$33=\"Runda 2\",'01'!Q14,IF($O$33=\"Runda 3\",'01'!AB14,IF($O$33=\"Runda 4\",'01'!AM14,IF($O$33=\"Runda 5\",'01'!AX14,0)))))","v":""},{"$f":"IF($O$33=\"Runda 1\",'01'!G14,IF($O$33=\"Runda 2\",'01'!R14,IF($O$33=\"Runda 3\",'01'!AC14,IF($O$33=\"Runda 4\",'01'!AN14,IF($O$33=\"Runda 5\",'01'!AY14,0)))))","v":""},{"$f":"IF($O$33=\"Runda 1\",'01'!H14,IF($O$33=\"Runda 2\",'01'!S14,IF($O$33=\"Runda 3\",'01'!AD14,IF($O$33=\"Runda 4\",'01'!AO14,IF($O$33=\"Runda 5\",'01'!AZ14,0)))))","v":""},{"$f":"IF($O$33=\"Runda 1\",'01'!I14,IF($O$33=\"Runda 2\",'01'!T14,IF($O$33=\"Runda 3\",'01'!AE14,IF($O$33=\"Runda 4\",'01'!AP14,IF($O$33=\"Runda 5\",'01'!BA14,0)))))","v":""},{"$f":"IF($O$33=\"Runda 1\",'01'!J14,IF($O$33=\"Runda 2\",'01'!U14,IF($O$33=\"Runda 3\",'01'!AF14,IF($O$33=\"Runda 4\",'01'!AQ14,IF($O$33=\"Runda 5\",'01'!BB14,0)))))","v":""},{"$f":"IF($O$33=\"Runda 1\",'01'!K14,IF($O$33=\"Runda 2\",'01'!V14,IF($O$33=\"Runda 3\",'01'!AG14,IF($O$33=\"Runda 4\",'01'!AR14,IF($O$33=\"Runda 5\",'01'!BC14,0)))))","v":""},{"$f":"IF($O$33=\"Runda 1\",'01'!L14,IF($O$33=\"Runda 2\",'01'!W14,IF($O$33=\"Runda 3\",'01'!AH14,IF($O$33=\"Runda 4\",'01'!AS14,IF($O$33=\"Runda 5\",'01'!BD14,0)))))","v":""},{"$f":"SUM(P34:Y34)","v":0},{"$f":"IF(Z34>Z35,3,IF(Z34<Z35,0,1))","v":1}]
[{"$f":"E10","v":"SER"},null,null,null,{"$f":"SUM(IF(AA3=3,1,0),IF(AA12=3,1,0),IF(AA20=3,1,0),IF(AA28=3,1,0),IF(AA36=3,1,0))","v":0},{"$f":"SUM(IF(AA3=1,1,0),IF(AA12=1,1,0),IF(AA20=1,1,0),IF(AA28=1,1,0),IF(AA36=1,1,0))","v":5},{"$f":"SUM(IF(AA3=0,1,0),IF(AA12=0,1,0),IF(AA20=0,1,0),IF(AA28=0,1,0),IF(AA36=0,1,0))","v":0},{"$f":"SUM(Z3,Z12,Z20,Z28,Z36)","v":0},null,{"$f":"SUM(AA3,AA12,AA20,AA28,AA36)","v":5},null,null,null,null,{"$f":"I17","v":"Turnul Alb"},{"$f":"IF($O$33=\"Runda 1\",'01'!C19,IF($O$33=\"Runda 2\",'01'!N19,IF($O$33=\"Runda 3\",'01'!Y19,IF($O$33=\"Runda 4\",'01'!AJ19,IF($O$33=\"Runda 5\",'01'!AU19,0)))))","v":""},{"$f":"IF($O$33=\"Runda 1\",'01'!D19,IF($O$33=\"Runda 2\",'01'!O19,IF($O$33=\"Runda 3\",'01'!Z19,IF($O$33=\"Runda 4\",'01'!AK19,IF($O$33=\"Runda 5\",'01'!AV19,0)))))","v":""},{"$f":"IF($O$33=\"Runda 1\",'01'!E19,IF($O$33=\"Runda 2\",'01'!P19,IF($O$33=\"Runda 3\",'01'!AA19,IF($O$33=\"Runda 4\",'01'!AL19,IF($O$33=\"Runda 5\",'01'!AW19,0)))))","v":""},{"$f":"IF($O$33=\"Runda 1\",'01'!F19,IF($O$33=\"Runda 2\",'01'!Q19,IF($O$33=\"Runda 3\",'01'!AB19,IF($O$33=\"Runda 4\",'01'!AM19,IF($O$33=\"Runda 5\",'01'!AX19,0)))))","v":""},{"$f":"IF($O$33=\"Runda 1\",'01'!G19,IF($O$33=\"Runda 2\",'01'!R19,IF($O$33=\"Runda 3\",'01'!AC19,IF($O$33=\"Runda 4\",'01'!AN19,IF($O$33=\"Runda 5\",'01'!AY19,0)))))","v":""},{"$f":"IF($O$33=\"Runda 1\",'01'!H19,IF($O$33=\"Runda 2\",'01'!S19,IF($O$33=\"Runda 3\",'01'!AD19,IF($O$33=\"Runda 4\",'01'!AO19,IF($O$33=\"Runda 5\",'01'!AZ19,0)))))","v":""},{"$f":"IF($O$33=\"Runda 1\",'01'!I19,IF($O$33=\"Runda 2\",'01'!T19,IF($O$33=\"Runda 3\",'01'!AE19,IF($O$33=\"Runda 4\",'01'!AP19,IF($O$33=\"Runda 5\",'01'!BA19,0)))))","v":""},{"$f":"IF($O$33=\"Runda 1\",'01'!J19,IF($O$33=\"Runda 2\",'01'!U19,IF($O$33=\"Runda 3\",'01'!AF19,IF($O$33=\"Runda 4\",'01'!AQ19,IF($O$33=\"Runda 5\",'01'!BB19,0)))))","v":""},{"$f":"IF($O$33=\"Runda 1\",'01'!K19,IF($O$33=\"Runda 2\",'01'!V19,IF($O$33=\"Runda 3\",'01'!AG19,IF($O$33=\"Runda 4\",'01'!AR19,IF($O$33=\"Runda 5\",'01'!BC19,0)))))","v":""},{"$f":"IF($O$33=\"Runda 1\",'01'!L19,IF($O$33=\"Runda 2\",'01'!W19,IF($O$33=\"Runda 3\",'01'!AH19,IF($O$33=\"Runda 4\",'01'!AS19,IF($O$33=\"Runda 5\",'01'!BD19,0)))))","v":""},0,{"$f":"IF(Z35>Z34,3,IF(Z35<Z34,0,1))","v":1}]
[{"$f":"I10","v":"Afrodiziac"},null,null,null,{"$f":"SUM(IF(AA4=3,1,0),IF(AA11=3,1,0),IF(AA22=3,1,0),IF(AA30=3,1,0),IF(AA37=3,1,0))","v":0},{"$f":"SUM(IF(AA4=1,1,0),IF(AA11=1,1,0),IF(AA22=1,1,0),IF(AA30=1,1,0),IF(AA37=1,1,0))","v":5},{"$f":"SUM(IF(AA4=0,1,0),IF(AA11=0,1,0),IF(AA22=0,1,0),IF(AA30=0,1,0),IF(AA37=0,1,0))","v":0},{"$f":"SUM(Z4,Z11,Z22,Z30,Z37)","v":0},null,{"$f":"SUM(AA4,AA11,AA22,AA30,AA37)","v":5},null,null,null,null,{"$f":"E10","v":"SER"},{"$f":"IF($O$33=\"Runda 1\",'01'!C15,IF($O$33=\"Runda 2\",'01'!N15,IF($O$33=\"Runda 3\",'01'!Y15,IF($O$33=\"Runda 4\",'01'!AJ15,IF($O$33=\"Runda 5\",'01'!AU15,0)))))","v":""},{"$f":"IF($O$33=\"Runda 1\",'01'!D15,IF($O$33=\"Runda 2\",'01'!O15,IF($O$33=\"Runda 3\",'01'!Z15,IF($O$33=\"Runda 4\",'01'!AK15,IF($O$33=\"Runda 5\",'01'!AV15,0)))))","v":""},{"$f":"IF($O$33=\"Runda 1\",'01'!E15,IF($O$33=\"Runda 2\",'01'!P15,IF($O$33=\"Runda 3\",'01'!AA15,IF($O$33=\"Runda 4\",'01'!AL15,IF($O$33=\"Runda 5\",'01'!AW15,0)))))","v":""},{"$f":"IF($O$33=\"Runda 1\",'01'!F15,IF($O$33=\"Runda 2\",'01'!Q15,IF($O$33=\"Runda 3\",'01'!AB15,IF($O$33=\"Runda 4\",'01'!AM15,IF($O$33=\"Runda 5\",'01'!AX15,0)))))","v":""},{"$f":"IF($O$33=\"Runda 1\",'01'!G15,IF($O$33=\"Runda 2\",'01'!R15,IF($O$33=\"Runda 3\",'01'!AC15,IF($O$33=\"Runda 4\",'01'!AN15,IF($O$33=\"Runda 5\",'01'!AY15,0)))))","v":""},{"$f":"IF($O$33=\"Runda 1\",'01'!H15,IF($O$33=\"Runda 2\",'01'!S15,IF($O$33=\"Runda 3\",'01'!AD15,IF($O$33=\"Runda 4\",'01'!AO15,IF($O$33=\"Runda 5\",'01'!AZ15,0)))))","v":""},{"$f":"IF($O$33=\"Runda 1\",'01'!I15,IF($O$33=\"Runda 2\",'01'!T15,IF($O$33=\"Runda 3\",'01'!AE15,IF($O$33=\"Runda 4\",'01'!AP15,IF($O$33=\"Runda 5\",'01'!BA15,0)))))","v":""},{"$f":"IF($O$33=\"Runda 1\",'01'!J15,IF($O$33=\"Runda 2\",'01'!U15,IF($O$33=\"Runda 3\",'01'!AF15,IF($O$33=\"Runda 4\",'01'!AQ15,IF($O$33=\"Runda 5\",'01'!BB15,0)))))","v":""},{"$f":"IF($O$33=\"Runda 1\",'01'!K15,IF($O$33=\"Runda 2\",'01'!V15,IF($O$33=\"Runda 3\",'01'!AG15,IF($O$33=\"Runda 4\",'01'!AR15,IF($O$33=\"Runda 5\",'01'!BC15,0)))))","v":""},{"$f":"IF($O$33=\"Runda 1\",'01'!L15,IF($O$33=\"Runda 2\",'01'!W15,IF($O$33=\"Runda 3\",'01'!AH15,IF($O$33=\"Runda 4\",'01'!AS15,IF($O$33=\"Runda 5\",'01'!BD15,0)))))","v":""},0,{"$f":"IF(Z36>Z37,3,IF(Z36<Z37,0,1))","v":1}]
[{"$f":"A17","v":"#hashtag"},null,null,null,{"$f":"SUM(IF(AA5=3,1,0),IF(AA14=3,1,0),IF(AA19=3,1,0),IF(AA29=3,1,0),IF(AA38=3,1,0))","v":0},{"$f":"SUM(IF(AA5=1,1,0),IF(AA14=1,1,0),IF(AA19=1,1,0),IF(AA29=1,1,0),IF(AA38=1,1,0))","v":5},{"$f":"SUM(IF(AA5=0,1,0),IF(AA14=0,1,0),IF(AA19=0,1,0),IF(AA29=0,1,0),IF(AA38=0,1,0))","v":0},{"$f":"SUM(Z5,Z14,Z19,Z29,Z38)","v":0},null,{"$f":"SUM(AA5,AA14,AA19,AA29,AA38)","v":5},null,null,null,null,{"$f":"I10","v":"Afrodiziac"},{"$f":"IF($O$33=\"Runda 1\",'01'!C16,IF($O$33=\"Runda 2\",'01'!N16,IF($O$33=\"Runda 3\",'01'!Y16,IF($O$33=\"Runda 4\",'01'!AJ16,IF($O$33=\"Runda 5\",'01'!AU16,0)))))","v":""},{"$f":"IF($O$33=\"Runda 1\",'01'!D16,IF($O$33=\"Runda 2\",'01'!O16,IF($O$33=\"Runda 3\",'01'!Z16,IF($O$33=\"Runda 4\",'01'!AK16,IF($O$33=\"Runda 5\",'01'!AV16,0)))))","v":""},{"$f":"IF($O$33=\"Runda 1\",'01'!E16,IF($O$33=\"Runda 2\",'01'!P16,IF($O$33=\"Runda 3\",'01'!AA16,IF($O$33=\"Runda 4\",'01'!AL16,IF($O$33=\"Runda 5\",'01'!AW16,0)))))","v":""},{"$f":"IF($O$33=\"Runda 1\",'01'!F16,IF($O$33=\"Runda 2\",'01'!Q16,IF($O$33=\"Runda 3\",'01'!AB16,IF($O$33=\"Runda 4\",'01'!AM16,IF($O$33=\"Runda 5\",'01'!AX16,0)))))","v":""},{"$f":"IF($O$33=\"Runda 1\",'01'!G16,IF($O$33=\"Runda 2\",'01'!R16,IF($O$33=\"Runda 3\",'01'!AC16,IF($O$33=\"Runda 4\",'01'!AN16,IF($O$33=\"Runda 5\",'01'!AY16,0)))))","v":""},{"$f":"IF($O$33=\"Runda 1\",'01'!H16,IF($O$33=\"Runda 2\",'01'!S16,IF($O$33=\"Runda 3\",'01'!AD16,IF($O$33=\"Runda 4\",'01'!AO16,IF($O$33=\"Runda 5\",'01'!AZ16,0)))))","v":""},{"$f":"IF($O$33=\"Runda 1\",'01'!I16,IF($O$33=\"Runda 2\",'01'!T16,IF($O$33=\"Runda 3\",'01'!AE16,IF($O$33=\"Runda 4\",'01'!AP16,IF($O$33=\"Runda 5\",'01'!BA16,0)))))","v":""},{"$f":"IF($O$33=\"Runda 1\",'01'!J16,IF($O$33=\"Runda 2\",'01'!U16,IF($O$33=\"Runda 3\",'01'!AF16,IF($O$33=\"Runda 4\",'01'!AQ16,IF($O$33=\"Runda 5\",'01'!BB16,0)))))","v":""},{"$f":"IF($O$33=\"Runda 1\",'01'!K16,IF($O$33=\"Runda 2\",'01'!V16,IF($O$33=\"Runda 3\",'01'!AG16,IF($O$33=\"Runda 4\",'01'!AR16,IF($O$33=\"Runda 5\",'01'!BC16,0)))))","v":""},{"$f":"IF($O$33=\"Runda 1\",'01'!L16,IF($O$33=\"Runda 2\",'01'!W16,IF($O$33=\"Runda 3\",'01'!AH16,IF($O$33=\"Runda 4\",'01'!AS16,IF($O$33=\"Runda 5\",'01'!BD16,0)))))","v":""},0,{"$f":"IF(Z37>Z36,3,IF(Z37<Z36,0,1))","v":1}]
[{"$f":"E17","v":"Zebra"},null,null,null,{"$f":"SUM(IF(AA6=3,1,0),IF(AA13=3,1,0),IF(AA23=3,1,0),IF(AA27=3,1,0),IF(AA39=3,1,0))","v":0},{"$f":"SUM(IF(AA6=1,1,0),IF(AA13=1,1,0),IF(AA23=1,1,0),IF(AA27=1,1,0),IF(AA39=1,1,0))","v":5},{"$f":"SUM(IF(AA6=0,1,0),IF(AA13=0,1,0),IF(AA23=0,1,0),IF(AA27=0,1,0),IF(AA39=0,1,0))","v":0},{"$f":"SUM(Z6,Z13,Z23,Z27,Z39)","v":0},null,{"$f":"SUM(AA6,AA13,AA23,AA27,AA39)","v":5},null,null,null,null,{"$f":"A17","v":"#hashtag"},{"$f":"IF($O$33=\"Runda 1\",'01'!C17,IF($O$33=\"Runda 2\",'01'!N17,IF($O$33=\"Runda 3\",'01'!Y17,IF($O$33=\"Runda 4\",'01'!AJ17,IF($O$33=\"Runda 5\",'01'!AU17,0)))))","v":""},{"$f":"IF($O$33=\"Runda 1\",'01'!D17,IF($O$33=\"Runda 2\",'01'!O17,IF($O$33=\"Runda 3\",'01'!Z17,IF($O$33=\"Runda 4\",'01'!AK17,IF($O$33=\"Runda 5\",'01'!AV17,0)))))","v":""},{"$f":"IF($O$33=\"Runda 1\",'01'!E17,IF($O$33=\"Runda 2\",'01'!P17,IF($O$33=\"Runda 3\",'01'!AA17,IF($O$33=\"Runda 4\",'01'!AL17,IF($O$33=\"Runda 5\",'01'!AW17,0)))))","v":""},{"$f":"IF($O$33=\"Runda 1\",'01'!F17,IF($O$33=\"Runda 2\",'01'!Q17,IF($O$33=\"Runda 3\",'01'!AB17,IF($O$33=\"Runda 4\",'01'!AM17,IF($O$33=\"Runda 5\",'01'!AX17,0)))))","v":""},{"$f":"IF($O$33=\"Runda 1\",'01'!G17,IF($O$33=\"Runda 2\",'01'!R17,IF($O$33=\"Runda 3\",'01'!AC17,IF($O$33=\"Runda 4\",'01'!AN17,IF($O$33=\"Runda 5\",'01'!AY17,0)))))","v":""},{"$f":"IF($O$33=\"Runda 1\",'01'!H17,IF($O$33=\"Runda 2\",'01'!S17,IF($O$33=\"Runda 3\",'01'!AD17,IF($O$33=\"Runda 4\",'01'!AO17,IF($O$33=\"Runda 5\",'01'!AZ17,0)))))","v":""},{"$f":"IF($O$33=\"Runda 1\",'01'!I17,IF($O$33=\"Runda 2\",'01'!T17,IF($O$33=\"Runda 3\",'01'!AE17,IF($O$33=\"Runda 4\",'01'!AP17,IF($O$33=\"Runda 5\",'01'!BA17,0)))))","v":""},{"$f":"IF($O$33=\"Runda 1\",'01'!J17,IF($O$33=\"Runda 2\",'01'!U17,IF($O$33=\"Runda 3\",'01'!AF17,IF($O$33=\"Runda 4\",'01'!AQ17,IF($O$33=\"Runda 5\",'01'!BB17,0)))))","v":""},{"$f":"IF($O$33=\"Runda 1\",'01'!K17,IF($O$33=\"Runda 2\",'01'!V17,IF($O$33=\"Runda 3\",'01'!AG17,IF($O$33=\"Runda 4\",'01'!AR17,IF($O$33=\"Runda 5\",'01'!BC17,0)))))","v":""},{"$f":"IF($O$33=\"Runda 1\",'01'!L17,IF($O$33=\"Runda 2\",'01'!W17,IF($O$33=\"Runda 3\",'01'!AH17,IF($O$33=\"Runda 4\",'01'!AS17,IF($O$33=\"Runda 5\",'01'!BD17,0)))))","v":""},0,{"$f":"IF(Z38>Z39,3,IF(Z38<Z39,0,1))","v":1}]
[{"$f":"A31","v":"Turnul Alb"},null,null,null,{"$f":"SUM(IF(AA7=3,1,0),IF(AA15=3,1,0),IF(AA21=3,1,0),IF(AA31=3,1,0),IF(AA35=3,1,0))","v":0},{"$f":"SUM(IF(AA7=1,1,0),IF(AA15=1,1,0),IF(AA21=1,1,0),IF(AA31=1,1,0),IF(AA35=1,1,0))","v":5},{"$f":"SUM(IF(AA7=0,1,0),IF(AA15=0,1,0),IF(AA21=0,1,0),IF(AA31=0,1,0),IF(AA35=0,1,0))","v":0},{"$f":"SUM(Z7,Z15,Z21,Z31,Z35)","v":0},null,{"$f":"SUM(AA7,AA15,AA21,AA31,AA35)","v":5},null,null,null,null,{"$f":"E17","v":"Zebra"},{"$f":"IF($O$33=\"Runda 1\",'01'!C18,IF($O$33=\"Runda 2\",'01'!N18,IF($O$33=\"Runda 3\",'01'!Y18,IF($O$33=\"Runda 4\",'01'!AJ18,IF($O$33=\"Runda 5\",'01'!AU18,0)))))","v":""},{"$f":"IF($O$33=\"Runda 1\",'01'!D18,IF($O$33=\"Runda 2\",'01'!O18,IF($O$33=\"Runda 3\",'01'!Z18,IF($O$33=\"Runda 4\",'01'!AK18,IF($O$33=\"Runda 5\",'01'!AV18,0)))))","v":""},{"$f":"IF($O$33=\"Runda 1\",'01'!E18,IF($O$33=\"Runda 2\",'01'!P18,IF($O$33=\"Runda 3\",'01'!AA18,IF($O$33=\"Runda 4\",'01'!AL18,IF($O$33=\"Runda 5\",'01'!AW18,0)))))","v":""},{"$f":"IF($O$33=\"Runda 1\",'01'!F18,IF($O$33=\"Runda 2\",'01'!Q18,IF($O$33=\"Runda 3\",'01'!AB18,IF($O$33=\"Runda 4\",'01'!AM18,IF($O$33=\"Runda 5\",'01'!AX18,0)))))","v":""},{"$f":"IF($O$33=\"Runda 1\",'01'!G18,IF($O$33=\"Runda 2\",'01'!R18,IF($O$33=\"Runda 3\",'01'!AC18,IF($O$33=\"Runda 4\",'01'!AN18,IF($O$33=\"Runda 5\",'01'!AY18,0)))))","v":""},{"$f":"IF($O$33=\"Runda 1\",'01'!H18,IF($O$33=\"Runda 2\",'01'!S18,IF($O$33=\"Runda 3\",'01'!AD18,IF($O$33=\"Runda 4\",'01'!AO18,IF($O$33=\"Runda 5\",'01'!AZ18,0)))))","v":""},{"$f":"IF($O$33=\"Runda 1\",'01'!I18,IF($O$33=\"Runda 2\",'01'!T18,IF($O$33=\"Runda 3\",'01'!AE18,IF($O$33=\"Runda 4\",'01'!AP18,IF($O$33=\"Runda 5\",'01'!BA18,0)))))","v":""},{"$f":"IF($O$33=\"Runda 1\",'01'!J18,IF($O$33=\"Runda 2\",'01'!U18,IF($O$33=\"Runda 3\",'01'!AF18,IF($O$33=\"Runda 4\",'01'!AQ18,IF($O$33=\"Runda 5\",'01'!BB18,0)))))","v":""},{"$f":"IF($O$33=\"Runda 1\",'01'!K18,IF($O$33=\"Runda 2\",'01'!V18,IF($O$33=\"Runda 3\",'01'!AG18,IF($O$33=\"Runda 4\",'01'!AR18,IF($O$33=\"Runda 5\",'01'!BC18,0)))))","v":""},{"$f":"IF($O$33=\"Runda 1\",'01'!L18,IF($O$33=\"Runda 2\",'01'!W18,IF($O$33=\"Runda 3\",'01'!AH18,IF($O$33=\"Runda 4\",'01'!AS18,IF($O$33=\"Runda 5\",'01'!BD18,0)))))","v":""},0,{"$f":"IF(Z39>Z38,3,IF(Z39<Z38,0,1))","v":1}]
["Pentru echipa organizatoare: Fisele trebuie sa contina componentele echipelor, rezultatele jocurilor si contestatiile care vor fi depuse de echipe"]

{"sheet":"LC","index":4,"n_rows":40,"n_cols":31,"rows_kept":40,"cut":false,"hidden":false,"merged":[[37,0,37,3],[37,7,37,8],[37,9,37,11],[38,0,38,3],[38,7,38,8],[38,9,38,11],[35,0,35,3],[35,7,35,8],[35,9,35,11],[36,0,36,3],[36,7,36,8],[36,9,36,11],[32,9,32,11],[33,0,33,3],[33,7,33,8],[33,9,33,11],[34,0,34,3],[34,7,34,8],[34,9,34,11],[16,0,16,3],[16,4,16,7],[16,8,16,11],[25,0,25,3],[26,0,26,3],[27,0,27,3],[28,0,28,3],[29,0,29,3],[30,0,30,3],[32,7,32,8],[0,0,0,9],[1,0,1,9],[2,4,2,9],[3,4,3,9],[4,4,4,9],[5,4,5,9],[6,4,6,9],[9,0,9,3],[9,4,9,7],[9,8,9,11]]}
["FISA ORGANIZATORICA - Campionatul CUC",null,null,null,null,null,null,null,null,null,null,null,null,null,"Runda 3",1,2,3,4,5,6,7,8,9,10,"R","P"]
[{"$f":"SL!A2","v":"Editia XXVI"},null,null,null,null,null,null,null,null,null,null,null,null,null,{"$f":"A10","v":"H5N1"},{"$f":"IF($O$1=\"Runda 1\",'01'!C20,IF($O$1=\"Runda 2\",'01'!N20,IF($O$1=\"Runda 3\",'01'!Y20,IF($O$1=\"Runda 4\",'01'!AJ20,IF($O$1=\"Runda 5\",'01'!AU20,0)))))","v":""},{"$f":"IF($O$1=\"Runda 1\",'01'!D20,IF($O$1=\"Runda 2\",'01'!O20,IF($O$1=\"Runda 3\",'01'!Z20,IF($O$1=\"Runda 4\",'01'!AK20,IF($O$1=\"Runda 5\",'01'!AV20,0)))))","v":""},{"$f":"IF($O$1=\"Runda 1\",'01'!E20,IF($O$1=\"Runda 2\",'01'!P20,IF($O$1=\"Runda 3\",'01'!AA20,IF($O$1=\"Runda 4\",'01'!AL20,IF($O$1=\"Runda 5\",'01'!AW20,0)))))","v":""},{"$f":"IF($O$1=\"Runda 1\",'01'!F20,IF($O$1=\"Runda 2\",'01'!Q20,IF($O$1=\"Runda 3\",'01'!AB20,IF($O$1=\"Runda 4\",'01'!AM20,IF($O$1=\"Runda 5\",'01'!AX20,0)))))","v":""},{"$f":"IF($O$1=\"Runda 1\",'01'!G20,IF($O$1=\"Runda 2\",'01'!R20,IF($O$1=\"Runda 3\",'01'!AC20,IF($O$1=\"Runda 4\",'01'!AN20,IF($O$1=\"Runda 5\",'01'!AY20,0)))))","v":""},{"$f":"IF($O$1=\"Runda 1\",'01'!H20,IF($O$1=\"Runda 2\",'01'!S20,IF($O$1=\"Runda 3\",'01'!AD20,IF($O$1=\"Runda 4\",'01'!AO20,IF($O$1=\"Runda 5\",'01'!AZ20,0)))))","v":""},{"$f":"IF($O$1=\"Runda 1\",'01'!I20,IF($O$1=\"Runda 2\",'01'!T20,IF($O$1=\"Runda 3\",'01'!AE20,IF($O$1=\"Runda 4\",'01'!AP20,IF($O$1=\"Runda 5\",'01'!BA20,0)))))","v":""},{"$f":"IF($O$1=\"Runda 1\",'01'!J20,IF($O$1=\"Runda 2\",'01'!U20,IF($O$1=\"Runda 3\",'01'!AF20,IF($O$1=\"Runda 4\",'01'!AQ20,IF($O$1=\"Runda 5\",'01'!BB20,0)))))","v":""},{"$f":"IF($O$1=\"Runda 1\",'01'!K20,IF($O$1=\"Runda 2\",'01'!V20,IF($O$1=\"Runda 3\",'01'!AG20,IF($O$1=\"Runda 4\",'01'!AR20,IF($O$1=\"Runda 5\",'01'!BC20,0)))))","v":""},{"$f":"IF($O$1=\"Runda 1\",'01'!L20,IF($O$1=\"Runda 2\",'01'!W20,IF($O$1=\"Runda 3\",'01'!AH20,IF($O$1=\"Runda 4\",'01'!AS20,IF($O$1=\"Runda 5\",'01'!BD20,0)))))","v":""},{"$f":"SUM(P2:Y2)","v":0},{"$f":"IF(Z2>Z3,3,IF(Z2<Z3,0,1))","v":1}]
["Nivelul valoric",null,null,null,"Liga C",null,null,null,null,null,null,null,null,null,{"$f":"E10","v":"Pokerface"},{"$f":"IF($O$1=\"Runda 1\",'01'!C21,IF($O$1=\"Runda 2\",'01'!N21,IF($O$1=\"Runda 3\",'01'!Y21,IF($O$1=\"Runda 4\",'01'!AJ21,IF($O$1=\"Runda 5\",'01'!AU21,0)))))","v":""},{"$f":"IF($O$1=\"Runda 1\",'01'!D21,IF($O$1=\"Runda 2\",'01'!O21,IF($O$1=\"Runda 3\",'01'!Z21,IF($O$1=\"Runda 4\",'01'!AK21,IF($O$1=\"Runda 5\",'01'!AV21,0)))))","v":""},{"$f":"IF($O$1=\"Runda 1\",'01'!E21,IF($O$1=\"Runda 2\",'01'!P21,IF($O$1=\"Runda 3\",'01'!AA21,IF($O$1=\"Runda 4\",'01'!AL21,IF($O$1=\"Runda 5\",'01'!AW21,0)))))","v":""},{"$f":"IF($O$1=\"Runda 1\",'01'!F21,IF($O$1=\"Runda 2\",'01'!Q21,IF($O$1=\"Runda 3\",'01'!AB21,IF($O$1=\"Runda 4\",'01'!AM21,IF($O$1=\"Runda 5\",'01'!AX21,0)))))","v":""},{"$f":"IF($O$1=\"Runda 1\",'01'!G21,IF($O$1=\"Runda 2\",'01'!R21,IF($O$1=\"Runda 3\",'01'!AC21,IF($O$1=\"Runda 4\",'01'!AN21,IF($O$1=\"Runda 5\",'01'!AY21,0)))))","v":""},{"$f":"IF($O$1=\"Runda 1\",'01'!H21,IF($O$1=\"Runda 2\",'01'!S21,IF($O$1=\"Runda 3\",'01'!AD21,IF($O$1=\"Runda 4\",'01'!AO21,IF($O$1=\"Runda 5\",'01'!AZ21,0)))))","v":""},{"$f":"IF($O$1=\"Runda 1\",'01'!I21,IF($O$1=\"Runda 2\",'01'!T21,IF($O$1=\"Runda 3\",'01'!AE21,IF($O$1=\"Runda 4\",'01'!AP21,IF($O$1=\"Runda 5\",'01'!BA21,0)))))","v":""},{"$f":"IF($O$1=\"Runda 1\",'01'!J21,IF($O$1=\"Runda 2\",'01'!U21,IF($O$1=\"Runda 3\",'01'!AF21,IF($O$1=\"Runda 4\",'01'!AQ21,IF($O$1=\"Runda 5\",'01'!BB21,0)))))","v":""},{"$f":"IF($O$1=\"Runda 1\",'01'!K21,IF($O$1=\"Runda 2\",'01'!V21,IF($O$1=\"Runda 3\",'01'!AG21,IF($O$1=\"Runda 4\",'01'!AR21,IF($O$1=\"Runda 5\",'01'!BC21,0)))))","v":""},{"$f":"IF($O$1=\"Runda 1\",'01'!L21,IF($O$1=\"Runda 2\",'01'!W21,IF($O$1=\"Runda 3\",'01'!AH21,IF($O$1=\"Runda 4\",'01'!AS21,IF($O$1=\"Runda 5\",'01'!BD21,0)))))","v":""},0,{"$f":"IF(Z3>Z2,3,IF(Z3<Z2,0,1))","v":1}]
["Etapa",null,null,null,{"$f":"SL!E4","v":3},null,null,null,null,null,null,null,null,null,{"$f":"I10","v":"Phi"},{"$f":"IF($O$1=\"Runda 1\",'01'!C22,IF($O$1=\"Runda 2\",'01'!N22,IF($O$1=\"Runda 3\",'01'!Y22,IF($O$1=\"Runda 4\",'01'!AJ22,IF($O$1=\"Runda 5\",'01'!AU22,0)))))","v":""},{"$f":"IF($O$1=\"Runda 1\",'01'!D22,IF($O$1=\"Runda 2\",'01'!O22,IF($O$1=\"Runda 3\",'01'!Z22,IF($O$1=\"Runda 4\",'01'!AK22,IF($O$1=\"Runda 5\",'01'!AV22,0)))))","v":""},{"$f":"IF($O$1=\"Runda 1\",'01'!E22,IF($O$1=\"Runda 2\",'01'!P22,IF($O$1=\"Runda 3\",'01'!AA22,IF($O$1=\"Runda 4\",'01'!AL22,IF($O$1=\"Runda 5\",'01'!AW22,0)))))","v":""},{"$f":"IF($O$1=\"Runda 1\",'01'!F22,IF($O$1=\"Runda 2\",'01'!Q22,IF($O$1=\"Runda 3\",'01'!AB22,IF($O$1=\"Runda 4\",'01'!AM22,IF($O$1=\"Runda 5\",'01'!AX22,0)))))","v":""},{"$f":"IF($O$1=\"Runda 1\",'01'!G22,IF($O$1=\"Runda 2\",'01'!R22,IF($O$1=\"Runda 3\",'01'!AC22,IF($O$1=\"Runda 4\",'01'!AN22,IF($O$1=\"Runda 5\",'01'!AY22,0)))))","v":""},{"$f":"IF($O$1=\"Runda 1\",'01'!H22,IF($O$1=\"Runda 2\",'01'!S22,IF($O$1=\"Runda 3\",'01'!AD22,IF($O$1=\"Runda 4\",'01'!AO22,IF($O$1=\"Runda 5\",'01'!AZ22,0)))))","v":""},{"$f":"IF($O$1=\"Runda 1\",'01'!I22,IF($O$1=\"Runda 2\",'01'!T22,IF($O$1=\"Runda 3\",'01'!AE22,IF($O$1=\"Runda 4\",'01'!AP22,IF($O$1=\"Runda 5\",'01'!BA22,0)))))","v":""},{"$f":"IF($O$1=\"Runda 1\",'01'!J22,IF($O$1=\"Runda 2\",'01'!U22,IF($O$1=\"Runda 3\",'01'!AF22,IF($O$1=\"Runda 4\",'01'!AQ22,IF($O$1=\"Runda 5\",'01'!BB22,0)))))","v":""},{"$f":"IF($O$1=\"Runda 1\",'01'!K22,IF($O$1=\"Runda 2\",'01'!V22,IF($O$1=\"Runda 3\",'01'!AG22,IF($O$1=\"Runda 4\",'01'!AR22,IF($O$1=\"Runda 5\",'01'!BC22,0)))))","v":""},{"$f":"IF($O$1=\"Runda 1\",'01'!L22,IF($O$1=\"Runda 2\",'01'!W22,IF($O$1=\"Runda 3\",'01'!AH22,IF($O$1=\"Runda 4\",'01'!AS22,IF($O$1=\"Runda 5\",'01'!BD22,0)))))","v":""},0,{"$f":"IF(Z4>Z5,3,IF(Z4<Z5,0,1))","v":1}]
["Data desfasurarii",null,null,null,{"$f":"SL!E5","v":"2015-03-15"},null,null,null,null,null,null,null,null,null,{"$f":"A17","v":"Beleizis"},{"$f":"IF($O$1=\"Runda 1\",'01'!C23,IF($O$1=\"Runda 2\",'01'!N23,IF($O$1=\"Runda 3\",'01'!Y23,IF($O$1=\"Runda 4\",'01'!AJ23,IF($O$1=\"Runda 5\",'01'!AU23,0)))))","v":""},{"$f":"IF($O$1=\"Runda 1\",'01'!D23,IF($O$1=\"Runda 2\",'01'!O23,IF($O$1=\"Runda 3\",'01'!Z23,IF($O$1=\"Runda 4\",'01'!AK23,IF($O$1=\"Runda 5\",'01'!AV23,0)))))","v":""},{"$f":"IF($O$1=\"Runda 1\",'01'!E23,IF($O$1=\"Runda 2\",'01'!P23,IF($O$1=\"Runda 3\",'01'!AA23,IF($O$1=\"Runda 4\",'01'!AL23,IF($O$1=\"Runda 5\",'01'!AW23,0)))))","v":""},{"$f":"IF($O$1=\"Runda 1\",'01'!F23,IF($O$1=\"Runda 2\",'01'!Q23,IF($O$1=\"Runda 3\",'01'!AB23,IF($O$1=\"Runda 4\",'01'!AM23,IF($O$1=\"Runda 5\",'01'!AX23,0)))))","v":""},{"$f":"IF($O$1=\"Runda 1\",'01'!G23,IF($O$1=\"Runda 2\",'01'!R23,IF($O$1=\"Runda 3\",'01'!AC23,IF($O$1=\"Runda 4\",'01'!AN23,IF($O$1=\"Runda 5\",'01'!AY23,0)))))","v":""},{"$f":"IF($O$1=\"Runda 1\",'01'!H23,IF($O$1=\"Runda 2\",'01'!S23,IF($O$1=\"Runda 3\",'01'!AD23,IF($O$1=\"Runda 4\",'01'!AO23,IF($O$1=\"Runda 5\",'01'!AZ23,0)))))","v":""},{"$f":"IF($O$1=\"Runda 1\",'01'!I23,IF($O$1=\"Runda 2\",'01'!T23,IF($O$1=\"Runda 3\",'01'!AE23,IF($O$1=\"Runda 4\",'01'!AP23,IF($O$1=\"Runda 5\",'01'!BA23,0)))))","v":""},{"$f":"IF($O$1=\"Runda 1\",'01'!J23,IF($O$1=\"Runda 2\",'01'!U23,IF($O$1=\"Runda 3\",'01'!AF23,IF($O$1=\"Runda 4\",'01'!AQ23,IF($O$1=\"Runda 5\",'01'!BB23,0)))))","v":""},{"$f":"IF($O$1=\"Runda 1\",'01'!K23,IF($O$1=\"Runda 2\",'01'!V23,IF($O$1=\"Runda 3\",'01'!AG23,IF($O$1=\"Runda 4\",'01'!AR23,IF($O$1=\"Runda 5\",'01'!BC23,0)))))","v":""},{"$f":"IF($O$1=\"Runda 1\",'01'!L23,IF($O$1=\"Runda 2\",'01'!W23,IF($O$1=\"Runda 3\",'01'!AH23,IF($O$1=\"Runda 4\",'01'!AS23,IF($O$1=\"Runda 5\",'01'!BD23,0)))))","v":""},0,{"$f":"IF(Z5>Z4,3,IF(Z5<Z4,0,1))","v":1}]
["Locul desfasurarii",null,null,null,{"$f":"SL!E6","v":"INCE"},null,null,null,null,null,null,null,null,null,{"$f":"E17","v":"Alunecarea F."},{"$f":"IF($O$1=\"Runda 1\",'01'!C24,IF($O$1=\"Runda 2\",'01'!N24,IF($O$1=\"Runda 3\",'01'!Y24,IF($O$1=\"Runda 4\",'01'!AJ24,IF($O$1=\"Runda 5\",'01'!AU24,0)))))","v":""},{"$f":"IF($O$1=\"Runda 1\",'01'!D24,IF($O$1=\"Runda 2\",'01'!O24,IF($O$1=\"Runda 3\",'01'!Z24,IF($O$1=\"Runda 4\",'01'!AK24,IF($O$1=\"Runda 5\",'01'!AV24,0)))))","v":""},{"$f":"IF($O$1=\"Runda 1\",'01'!E24,IF($O$1=\"Runda 2\",'01'!P24,IF($O$1=\"Runda 3\",'01'!AA24,IF($O$1=\"Runda 4\",'01'!AL24,IF($O$1=\"Runda 5\",'01'!AW24,0)))))","v":""},{"$f":"IF($O$1=\"Runda 1\",'01'!F24,IF($O$1=\"Runda 2\",'01'!Q24,IF($O$1=\"Runda 3\",'01'!AB24,IF($O$1=\"Runda 4\",'01'!AM24,IF($O$1=\"Runda 5\",'01'!AX24,0)))))","v":""},{"$f":"IF($O$1=\"Runda 1\",'01'!G24,IF($O$1=\"Runda 2\",'01'!R24,IF($O$1=\"Runda 3\",'01'!AC24,IF($O$1=\"Runda 4\",'01'!AN24,IF($O$1=\"Runda 5\",'01'!AY24,0)))))","v":""},{"$f":"IF($O$1=\"Runda 1\",'01'!H24,IF($O$1=\"Runda 2\",'01'!S24,IF($O$1=\"Runda 3\",'01'!AD24,IF($O$1=\"Runda 4\",'01'!AO24,IF($O$1=\"Runda 5\",'01'!AZ24,0)))))","v":""},{"$f":"IF($O$1=\"Runda 1\",'01'!I24,IF($O$1=\"Runda 2\",'01'!T24,IF($O$1=\"Runda 3\",'01'!AE24,IF($O$1=\"Runda 4\",'01'!AP24,IF($O$1=\"Runda 5\",'01'!BA24,0)))))","v":""},{"$f":"IF($O$1=\"Runda 1\",'01'!J24,IF($O$1=\"Runda 2\",'01'!U24,IF($O$1=\"Runda 3\",'01'!AF24,IF($O$1=\"Runda 4\",'01'!AQ24,IF($O$1=\"Runda 5\",'01'!BB24,0)))))","v":""},{"$f":"IF($O$1=\"Runda 1\",'01'!K24,IF($O$1=\"Runda 2\",'01'!V24,IF($O$1=\"Runda 3\",'01'!AG24,IF($O$1=\"Runda 4\",'01'!AR24,IF($O$1=\"Runda 5\",'01'!BC24,0)))))","v":""},{"$f":"IF($O$1=\"Runda 1\",'01'!L24,IF($O$1=\"Runda 2\",'01'!W24,IF($O$1=\"Runda 3\",'01'!AH24,IF($O$1=\"Runda 4\",'01'!AS24,IF($O$1=\"Runda 5\",'01'!BD24,0)))))","v":""},0,{"$f":"IF(Z6>Z7,3,IF(Z6<Z7,0,1))","v":1}]
["Organizatori",null,null,null,{"$f":"IF(E4=1,Tragere!E12,IF(E4=2,Tragere!E13,IF(E4=3,Tragere!E14,IF(E4=4,Tragere!E15,IF(E4=5,Tragere!E16,IF(E4=6,Tragere!E17,IF(E4=7,Tragere!E18)))))))","v":"Apeiron"},null,null,null,null,null,null,null,null,null,{"$f":"I17","v":"WTH"},{"$f":"IF($O$1=\"Runda 1\",'01'!C25,IF($O$1=\"Runda 2\",'01'!N25,IF($O$1=\"Runda 3\",'01'!Y25,IF($O$1=\"Runda 4\",'01'!AJ25,IF($O$1=\"Runda 5\",'01'!AU25,0)))))","v":""},{"$f":"IF($O$1=\"Runda 1\",'01'!D25,IF($O$1=\"Runda 2\",'01'!O25,IF($O$1=\"Runda 3\",'01'!Z25,IF($O$1=\"Runda 4\",'01'!AK25,IF($O$1=\"Runda 5\",'01'!AV25,0)))))","v":""},{"$f":"IF($O$1=\"Runda 1\",'01'!E25,IF($O$1=\"Runda 2\",'01'!P25,IF($O$1=\"Runda 3\",'01'!AA25,IF($O$1=\"Runda 4\",'01'!AL25,IF($O$1=\"Runda 5\",'01'!AW25,0)))))","v":""},{"$f":"IF($O$1=\"Runda 1\",'01'!F25,IF($O$1=\"Runda 2\",'01'!Q25,IF($O$1=\"Runda 3\",'01'!AB25,IF($O$1=\"Runda 4\",'01'!AM25,IF($O$1=\"Runda 5\",'01'!AX25,0)))))","v":""},{"$f":"IF($O$1=\"Runda 1\",'01'!G25,IF($O$1=\"Runda 2\",'01'!R25,IF($O$1=\"Runda 3\",'01'!AC25,IF($O$1=\"Runda 4\",'01'!AN25,IF($O$1=\"Runda 5\",'01'!AY25,0)))))","v":""},{"$f":"IF($O$1=\"Runda 1\",'01'!H25,IF($O$1=\"Runda 2\",'01'!S25,IF($O$1=\"Runda 3\",'01'!AD25,IF($O$1=\"Runda 4\",'01'!AO25,IF($O$1=\"Runda 5\",'01'!AZ25,0)))))","v":""},{"$f":"IF($O$1=\"Runda 1\",'01'!I25,IF($O$1=\"Runda 2\",'01'!T25,IF($O$1=\"Runda 3\",'01'!AE25,IF($O$1=\"Runda 4\",'01'!AP25,IF($O$1=\"Runda 5\",'01'!BA25,0)))))","v":""},{"$f":"IF($O$1=\"Runda 1\",'01'!J25,IF($O$1=\"Runda 2\",'01'!U25,IF($O$1=\"Runda 3\",'01'!AF25,IF($O$1=\"Runda 4\",'01'!AQ25,IF($O$1=\"Runda 5\",'01'!BB25,0)))))","v":""},{"$f":"IF($O$1=\"Runda 1\",'01'!K25,IF($O$1=\"Runda 2\",'01'!V25,IF($O$1=\"Runda 3\",'01'!AG25,IF($O$1=\"Runda 4\",'01'!AR25,IF($O$1=\"Runda 5\",'01'!BC25,0)))))","v":""},{"$f":"IF($O$1=\"Runda 1\",'01'!L25,IF($O$1=\"Runda 2\",'01'!W25,IF($O$1=\"Runda 3\",'01'!AH25,IF($O$1=\"Runda 4\",'01'!AS25,IF($O$1=\"Runda 5\",'01'!BD25,0)))))","v":""},0,{"$f":"IF(Z7>Z6,3,IF(Z7<Z6,0,1))","v":1}]
[null,null,null,null,null,null,null,null,null,null,null,null,null,null,null,null,null,null,null,null,null,null,null,null,null,null,null,null,{"$f":"E7","v":"Apeiron"},14]
["Componentele echipelor",null,null,null,null,null,null,null,null,null,null,null,null,null,"Runda 1",1,2,3,4,5,6,7,8,9,10,"R","P",null,{"$f":"A34","v":"H5N1"},19,{"$f":"AD9+J34","v":24}]
[{"$f":"IF(E4=1,Tragere!E13,IF(E4=2,Tragere!E18,IF(E4=3,Tragere!E17,IF(E4=4,Tragere!E16,IF(E4=5,Tragere!E14,IF(E4=6,Tragere!E13,IF(E4=7,Tragere!E12)))))))","v":"H5N1"},null,null,null,{"$f":"IF(E4=1,Tragere!E14,IF(E4=2,Tragere!E15,IF(E4=3,Tragere!E15,IF(E4=4,Tragere!E17,IF(E4=5,Tragere!E18,IF(E4=6,Tragere!E16,IF(E4=7,Tragere!E16)))))))","v":"Pokerface"},null,null,null,{"$f":"IF(E4=1,Tragere!E15,IF(E4=2,Tragere!E14,IF(E4=3,Tragere!E12,IF(E4=4,Tragere!E14,IF(E4=5,Tragere!E12,IF(E4=6,Tragere!E15,IF(E4=7,Tragere!E17)))))))","v":"Phi"},null,null,null,null,null,{"$f":"A10","v":"H5N1"},{"$f":"IF($O$9=\"Runda 1\",'01'!C20,IF($O$9=\"Runda 2\",'01'!N20,IF($O$9=\"Runda 3\",'01'!Y20,IF($O$9=\"Runda 4\",'01'!AJ20,IF($O$9=\"Runda 5\",'01'!AU20,0)))))","v":""},{"$f":"IF($O$9=\"Runda 1\",'01'!D20,IF($O$9=\"Runda 2\",'01'!O20,IF($O$9=\"Runda 3\",'01'!Z20,IF($O$9=\"Runda 4\",'01'!AK20,IF($O$9=\"Runda 5\",'01'!AV20,0)))))","v":""},{"$f":"IF($O$9=\"Runda 1\",'01'!E20,IF($O$9=\"Runda 2\",'01'!P20,IF($O$9=\"Runda 3\",'01'!AA20,IF($O$9=\"Runda 4\",'01'!AL20,IF($O$9=\"Runda 5\",'01'!AW20,0)))))","v":""},{"$f":"IF($O$9=\"Runda 1\",'01'!F20,IF($O$9=\"Runda 2\",'01'!Q20,IF($O$9=\"Runda 3\",'01'!AB20,IF($O$9=\"Runda 4\",'01'!AM20,IF($O$9=\"Runda 5\",'01'!AX20,0)))))","v":""},{"$f":"IF($O$9=\"Runda 1\",'01'!G20,IF($O$9=\"Runda 2\",'01'!R20,IF($O$9=\"Runda 3\",'01'!AC20,IF($O$9=\"Runda 4\",'01'!AN20,IF($O$9=\"Runda 5\",'01'!AY20,0)))))","v":""},{"$f":"IF($O$9=\"Runda 1\",'01'!H20,IF($O$9=\"Runda 2\",'01'!S20,IF($O$9=\"Runda 3\",'01'!AD20,IF($O$9=\"Runda 4\",'01'!AO20,IF($O$9=\"Runda 5\",'01'!AZ20,0)))))","v":""},{"$f":"IF($O$9=\"Runda 1\",'01'!I20,IF($O$9=\"Runda 2\",'01'!T20,IF($O$9=\"Runda 3\",'01'!AE20,IF($O$9=\"Runda 4\",'01'!AP20,IF($O$9=\"Runda 5\",'01'!BA20,0)))))","v":""},{"$f":"IF($O$9=\"Runda 1\",'01'!J20,IF($O$9=\"Runda 2\",'01'!U20,IF($O$9=\"Runda 3\",'01'!AF20,IF($O$9=\"Runda 4\",'01'!AQ20,IF($O$9=\"Runda 5\",'01'!BB20,0)))))","v":""},{"$f":"IF($O$9=\"Runda 1\",'01'!K20,IF($O$9=\"Runda 2\",'01'!V20,IF($O$9=\"Runda 3\",'01'!AG20,IF($O$9=\"Runda 4\",'01'!AR20,IF($O$9=\"Runda 5\",'01'!BC20,0)))))","v":""},{"$f":"IF($O$9=\"Runda 1\",'01'!L20,IF($O$9=\"Runda 2\",'01'!W20,IF($O$9=\"Runda 3\",'01'!AH20,IF($O$9=\"Runda 4\",'01'!AS20,IF($O$9=\"Runda 5\",'01'!BD20,0)))))","v":""},{"$f":"SUM(P10:Y10)","v":0},{"$f":"IF(Z10>Z11,3,IF(Z10<Z11,0,1))","v":1},null,"Pokerface",20,25]
[null,null,null,null,null,null,null,null,null,null,null,null,null,null,{"$f":"I10","v":"Phi"},{"$f":"IF($O9=\"Runda 1\",'01'!C22,IF($O9=\"Runda 2\",'01'!N22,IF($O9=\"Runda 3\",'01'!Y22,IF($O9=\"Runda 4\",'01'!AJ22,IF($O9=\"Runda 5\",'01'!AU22,0)))))","v":""},{"$f":"IF($O9=\"Runda 1\",'01'!D22,IF($O9=\"Runda 2\",'01'!O22,IF($O9=\"Runda 3\",'01'!Z22,IF($O9=\"Runda 4\",'01'!AK22,IF($O9=\"Runda 5\",'01'!AV22,0)))))","v":""},{"$f":"IF($O9=\"Runda 1\",'01'!E22,IF($O9=\"Runda 2\",'01'!P22,IF($O9=\"Runda 3\",'01'!AA22,IF($O9=\"Runda 4\",'01'!AL22,IF($O9=\"Runda 5\",'01'!AW22,0)))))","v":""},{"$f":"IF($O9=\"Runda 1\",'01'!F22,IF($O9=\"Runda 2\",'01'!Q22,IF($O9=\"Runda 3\",'01'!AB22,IF($O9=\"Runda 4\",'01'!AM22,IF($O9=\"Runda 5\",'01'!AX22,0)))))","v":""},{"$f":"IF($O9=\"Runda 1\",'01'!G22,IF($O9=\"Runda 2\",'01'!R22,IF($O9=\"Runda 3\",'01'!AC22,IF($O9=\"Runda 4\",'01'!AN22,IF($O9=\"Runda 5\",'01'!AY22,0)))))","v":""},{"$f":"IF($O9=\"Runda 1\",'01'!H22,IF($O9=\"Runda 2\",'01'!S22,IF($O9=\"Runda 3\",'01'!AD22,IF($O9=\"Runda 4\",'01'!AO22,IF($O9=\"Runda 5\",'01'!AZ22,0)))))","v":""},{"$f":"IF($O9=\"Runda 1\",'01'!I22,IF($O9=\"Runda 2\",'01'!T22,IF($O9=\"Runda 3\",'01'!AE22,IF($O9=\"Runda 4\",'01'!AP22,IF($O9=\"Runda 5\",'01'!BA22,0)))))","v":""},{"$f":"IF($O9=\"Runda 1\",'01'!J22,IF($O9=\"Runda 2\",'01'!U22,IF($O9=\"Runda 3\",'01'!AF22,IF($O9=\"Runda 4\",'01'!AQ22,IF($O9=\"Runda 5\",'01'!BB22,0)))))","v":""},{"$f":"IF($O9=\"Runda 1\",'01'!K22,IF($O9=\"Runda 2\",'01'!V22,IF($O9=\"Runda 3\",'01'!AG22,IF($O9=\"Runda 4\",'01'!AR22,IF($O9=\"Runda 5\",'01'!BC22,0)))))","v":""},{"$f":"IF($O9=\"Runda 1\",'01'!L22,IF($O9=\"Runda 2\",'01'!W22,IF($O9=\"Runda 3\",'01'!AH22,IF($O9=\"Runda 4\",'01'!AS22,IF($O9=\"Runda 5\",'01'!BD22,0)))))","v":""},0,{"$f":"IF(Z11>Z10,3,IF(Z11<Z10,0,1))","v":1},null,"Phi",7,12]
[null,null,null,null,null,null,null,null,null,null,null,null,null,null,{"$f":"E10","v":"Pokerface"},{"$f":"IF($O$9=\"Runda 1\",'01'!C21,IF($O$9=\"Runda 2\",'01'!N21,IF($O$9=\"Runda 3\",'01'!Y21,IF($O$9=\"Runda 4\",'01'!AJ21,IF($O$9=\"Runda 5\",'01'!AU21,0)))))","v":""},{"$f":"IF($O$9=\"Runda 1\",'01'!D21,IF($O$9=\"Runda 2\",'01'!O21,IF($O$9=\"Runda 3\",'01'!Z21,IF($O$9=\"Runda 4\",'01'!AK21,IF($O$9=\"Runda 5\",'01'!AV21,0)))))","v":""},{"$f":"IF($O$9=\"Runda 1\",'01'!E21,IF($O$9=\"Runda 2\",'01'!P21,IF($O$9=\"Runda 3\",'01'!AA21,IF($O$9=\"Runda 4\",'01'!AL21,IF($O$9=\"Runda 5\",'01'!AW21,0)))))","v":""},{"$f":"IF($O$9=\"Runda 1\",'01'!F21,IF($O$9=\"Runda 2\",'01'!Q21,IF($O$9=\"Runda 3\",'01'!AB21,IF($O$9=\"Runda 4\",'01'!AM21,IF($O$9=\"Runda 5\",'01'!AX21,0)))))","v":""},{"$f":"IF($O$9=\"Runda 1\",'01'!G21,IF($O$9=\"Runda 2\",'01'!R21,IF($O$9=\"Runda 3\",'01'!AC21,IF($O$9=\"Runda 4\",'01'!AN21,IF($O$9=\"Runda 5\",'01'!AY21,0)))))","v":""},{"$f":"IF($O$9=\"Runda 1\",'01'!H21,IF($O$9=\"Runda 2\",'01'!S21,IF($O$9=\"Runda 3\",'01'!AD21,IF($O$9=\"Runda 4\",'01'!AO21,IF($O$9=\"Runda 5\",'01'!AZ21,0)))))","v":""},{"$f":"IF($O$9=\"Runda 1\",'01'!I21,IF($O$9=\"Runda 2\",'01'!T21,IF($O$9=\"Runda 3\",'01'!AE21,IF($O$9=\"Runda 4\",'01'!AP21,IF($O$9=\"Runda 5\",'01'!BA21,0)))))","v":""},{"$f":"IF($O$9=\"Runda 1\",'01'!J21,IF($O$9=\"Runda 2\",'01'!U21,IF($O$9=\"Runda 3\",'01'!AF21,IF($O$9=\"Runda 4\",'01'!AQ21,IF($O$9=\"Runda 5\",'01'!BB21,0)))))","v":""},{"$f":"IF($O$9=\"Runda 1\",'01'!K21,IF($O$9=\"Runda 2\",'01'!V21,IF($O$9=\"Runda 3\",'01'!AG21,IF($O$9=\"Runda 4\",'01'!AR21,IF($O$9=\"Runda 5\",'01'!BC21,0)))))","v":""},{"$f":"IF($O$9=\"Runda 1\",'01'!L21,IF($O$9=\"Runda 2\",'01'!W21,IF($O$9=\"Runda 3\",'01'!AH21,IF($O$9=\"Runda 4\",'01'!AS21,IF($O$9=\"Runda 5\",'01'!BD21,0)))))","v":""},0,{"$f":"IF(Z12>Z13,3,IF(Z12<Z13,0,1))","v":1},null,"Beleizis",5,10]
[null,null,null,null,null,null,null,null,null,null,null,null,null,null,{"$f":"E17","v":"Alunecarea F."},{"$f":"IF($O$9=\"Runda 1\",'01'!C24,IF($O$9=\"Runda 2\",'01'!N24,IF($O$9=\"Runda 3\",'01'!Y24,IF($O$9=\"Runda 4\",'01'!AJ24,IF($O$9=\"Runda 5\",'01'!AU24,0)))))","v":""},{"$f":"IF($O$9=\"Runda 1\",'01'!D24,IF($O$9=\"Runda 2\",'01'!O24,IF($O$9=\"Runda 3\",'01'!Z24,IF($O$9=\"Runda 4\",'01'!AK24,IF($O$9=\"Runda 5\",'01'!AV24,0)))))","v":""},{"$f":"IF($O$9=\"Runda 1\",'01'!E24,IF($O$9=\"Runda 2\",'01'!P24,IF($O$9=\"Runda 3\",'01'!AA24,IF($O$9=\"Runda 4\",'01'!AL24,IF($O$9=\"Runda 5\",'01'!AW24,0)))))","v":""},{"$f":"IF($O$9=\"Runda 1\",'01'!F24,IF($O$9=\"Runda 2\",'01'!Q24,IF($O$9=\"Runda 3\",'01'!AB24,IF($O$9=\"Runda 4\",'01'!AM24,IF($O$9=\"Runda 5\",'01'!AX24,0)))))","v":""},{"$f":"IF($O$9=\"Runda 1\",'01'!G24,IF($O$9=\"Runda 2\",'01'!R24,IF($O$9=\"Runda 3\",'01'!AC24,IF($O$9=\"Runda 4\",'01'!AN24,IF($O$9=\"Runda 5\",'01'!AY24,0)))))","v":""},{"$f":"IF($O$9=\"Runda 1\",'01'!H24,IF($O$9=\"Runda 2\",'01'!S24,IF($O$9=\"Runda 3\",'01'!AD24,IF($O$9=\"Runda 4\",'01'!AO24,IF($O$9=\"Runda 5\",'01'!AZ24,0)))))","v":""},{"$f":"IF($O$9=\"Runda 1\",'01'!I24,IF($O$9=\"Runda 2\",'01'!T24,IF($O$9=\"Runda 3\",'01'!AE24,IF($O$9=\"Runda 4\",'01'!AP24,IF($O$9=\"Runda 5\",'01'!BA24,0)))))","v":""},{"$f":"IF($O$9=\"Runda 1\",'01'!J24,IF($O$9=\"Runda 2\",'01'!U24,IF($O$9=\"Runda 3\",'01'!AF24,IF($O$9=\"Runda 4\",'01'!AQ24,IF($O$9=\"Runda 5\",'01'!BB24,0)))))","v":""},{"$f":"IF($O$9=\"Runda 1\",'01'!K24,IF($O$9=\"Runda 2\",'01'!V24,IF($O$9=\"Runda 3\",'01'!AG24,IF($O$9=\"Runda 4\",'01'!AR24,IF($O$9=\"Runda 5\",'01'!BC24,0)))))","v":""},{"$f":"IF($O$9=\"Runda 1\",'01'!L24,IF($O$9=\"Runda 2\",'01'!W24,IF($O$9=\"Runda 3\",'01'!AH24,IF($O$9=\"Runda 4\",'01'!AS24,IF($O$9=\"Runda 5\",'01'!BD24,0)))))","v":""},0,{"$f":"IF(Z13>Z12,3,IF(Z13<Z12,0,1))","v":1},null,"Alunecarea F.",1,6]
[null,null,null,null,null,null,null,null,null,null,null,null,null,null,{"$f":"A17","v":"Beleizis"},{"$f":"IF($O$9=\"Runda 1\",'01'!C23,IF($O$9=\"Runda 2\",'01'!N23,IF($O$9=\"Runda 3\",'01'!Y23,IF($O$9=\"Runda 4\",'01'!AJ23,IF($O$9=\"Runda 5\",'01'!AU23,0)))))","v":""},{"$f":"IF($O$9=\"Runda 1\",'01'!D23,IF($O$9=\"Runda 2\",'01'!O23,IF($O$9=\"Runda 3\",'01'!Z23,IF($O$9=\"Runda 4\",'01'!AK23,IF($O$9=\"Runda 5\",'01'!AV23,0)))))","v":""},{"$f":"IF($O$9=\"Runda 1\",'01'!E23,IF($O$9=\"Runda 2\",'01'!P23,IF($O$9=\"Runda 3\",'01'!AA23,IF($O$9=\"Runda 4\",'01'!AL23,IF($O$9=\"Runda 5\",'01'!AW23,0)))))","v":""},{"$f":"IF($O$9=\"Runda 1\",'01'!F23,IF($O$9=\"Runda 2\",'01'!Q23,IF($O$9=\"Runda 3\",'01'!AB23,IF($O$9=\"Runda 4\",'01'!AM23,IF($O$9=\"Runda 5\",'01'!AX23,0)))))","v":""},{"$f":"IF($O$9=\"Runda 1\",'01'!G23,IF($O$9=\"Runda 2\",'01'!R23,IF($O$9=\"Runda 3\",'01'!AC23,IF($O$9=\"Runda 4\",'01'!AN23,IF($O$9=\"Runda 5\",'01'!AY23,0)))))","v":""},{"$f":"IF($O$9=\"Runda 1\",'01'!H23,IF($O$9=\"Runda 2\",'01'!S23,IF($O$9=\"Runda 3\",'01'!AD23,IF($O$9=\"Runda 4\",'01'!AO23,IF($O$9=\"Runda 5\",'01'!AZ23,0)))))","v":""},{"$f":"IF($O$9=\"Runda 1\",'01'!I23,IF($O$9=\"Runda 2\",'01'!T23,IF($O$9=\"Runda 3\",'01'!AE23,IF($O$9=\"Runda 4\",'01'!AP23,IF($O$9=\"Runda 5\",'01'!BA23,0)))))","v":""},{"$f":"IF($O$9=\"Runda 1\",'01'!J23,IF($O$9=\"Runda 2\",'01'!U23,IF($O$9=\"Runda 3\",'01'!AF23,IF($O$9=\"Runda 4\",'01'!AQ23,IF($O$9=\"Runda 5\",'01'!BB23,0)))))","v":""},{"$f":"IF($O$9=\"Runda 1\",'01'!K23,IF($O$9=\"Runda 2\",'01'!V23,IF($O$9=\"Runda 3\",'01'!AG23,IF($O$9=\"Runda 4\",'01'!AR23,IF($O$9=\"Runda 5\",'01'!BC23,0)))))","v":""},{"$f":"IF($O$9=\"Runda 1\",'01'!L23,IF($O$9=\"Runda 2\",'01'!W23,IF($O$9=\"Runda 3\",'01'!AH23,IF($O$9=\"Runda 4\",'01'!AS23,IF($O$9=\"Runda 5\",'01'!BD23,0)))))","v":""},0,{"$f":"IF(Z14>Z15,3,IF(Z14<Z15,0,1))","v":1},null,"WTH",15,20]
[null,null,null,null,null,null,null,null,null,null,null,null,null,null,{"$f":"I17","v":"WTH"},{"$f":"IF($O$9=\"Runda 1\",'01'!C25,IF($O$9=\"Runda 2\",'01'!N25,IF($O$9=\"Runda 3\",'01'!Y25,IF($O$9=\"Runda 4\",'01'!AJ25,IF($O$9=\"Runda 5\",'01'!AU25,0)))))","v":""},{"$f":"IF($O$9=\"Runda 1\",'01'!D25,IF($O$9=\"Runda 2\",'01'!O25,IF($O$9=\"Runda 3\",'01'!Z25,IF($O$9=\"Runda 4\",'01'!AK25,IF($O$9=\"Runda 5\",'01'!AV25,0)))))","v":""},{"$f":"IF($O$9=\"Runda 1\",'01'!E25,IF($O$9=\"Runda 2\",'01'!P25,IF($O$9=\"Runda 3\",'01'!AA25,IF($O$9=\"Runda 4\",'01'!AL25,IF($O$9=\"Runda 5\",'01'!AW25,0)))))","v":""},{"$f":"IF($O$9=\"Runda 1\",'01'!F25,IF($O$9=\"Runda 2\",'01'!Q25,IF($O$9=\"Runda 3\",'01'!AB25,IF($O$9=\"Runda 4\",'01'!AM25,IF($O$9=\"Runda 5\",'01'!AX25,0)))))","v":""},{"$f":"IF($O$9=\"Runda 1\",'01'!G25,IF($O$9=\"Runda 2\",'01'!R25,IF($O$9=\"Runda 3\",'01'!AC25,IF($O$9=\"Runda 4\",'01'!AN25,IF($O$9=\"Runda 5\",'01'!AY25,0)))))","v":""},{"$f":"IF($O$9=\"Runda 1\",'01'!H25,IF($O$9=\"Runda 2\",'01'!S25,IF($O$9=\"Runda 3\",'01'!AD25,IF($O$9=\"Runda 4\",'01'!AO25,IF($O$9=\"Runda 5\",'01'!AZ25,0)))))","v":""},{"$f":"IF($O$9=\"Runda 1\",'01'!I25,IF($O$9=\"Runda 2\",'01'!T25,IF($O$9=\"Runda 3\",'01'!AE25,IF($O$9=\"Runda 4\",'01'!AP25,IF($O$9=\"Runda 5\",'01'!BA25,0)))))","v":""},{"$f":"IF($O$9=\"Runda 1\",'01'!J25,IF($O$9=\"Runda 2\",'01'!U25,IF($O$9=\"Runda 3\",'01'!AF25,IF($O$9=\"Runda 4\",'01'!AQ25,IF($O$9=\"Runda 5\",'01'!BB25,0)))))","v":""},{"$f":"IF($O$9=\"Runda 1\",'01'!K25,IF($O$9=\"Runda 2\",'01'!V25,IF($O$9=\"Runda 3\",'01'!AG25,IF($O$9=\"Runda 4\",'01'!AR25,IF($O$9=\"Runda 5\",'01'!BC25,0)))))","v":""},{"$f":"IF($O$9=\"Runda 1\",'01'!L25,IF($O$9=\"Runda 2\",'01'!W25,IF($O$9=\"Runda 3\",'01'!AH25,IF($O$9=\"Runda 4\",'01'!AS25,IF($O$9=\"Runda 5\",'01'!BD25,0)))))","v":""},0,{"$f":"IF(Z15>Z14,3,IF(Z15<Z14,0,1))","v":1}]
[]
[{"$f":"IF(E4=1,Tragere!E16,IF(E4=2,Tragere!E16,IF(E4=3,Tragere!E13,IF(E4=4,Tragere!E12,IF(E4=5,Tragere!E15,IF(E4=6,Tragere!E14,IF(E4=7,Tragere!E14)))))))","v":"Beleizis"},null,null,null,{"$f":"IF(E4=1,Tragere!E17,IF(E4=2,Tragere!E12,IF(E4=3,Tragere!E18,IF(E4=4,Tragere!E13,IF(E4=5,Tragere!E17,IF(E4=6,Tragere!E18,IF(E4=7,Tragere!E13)))))))","v":"Alunecarea F."},null,null,null,{"$f":"IF(E4=1,Tragere!E18,IF(E4=2,Tragere!E17,IF(E4=3,Tragere!E16,IF(E4=4,Tragere!E18,IF(E4=5,Tragere!E13,IF(E4=6,Tragere!E12,IF(E4=7,Tragere!E15)))))))","v":"WTH"},null,null,null,null,null,"Runda 4",1,2,3,4,5,6,7,8,9,10,"R","P"]
[null,null,null,null,null,null,null,null,null,null,null,null,null,null,{"$f":"A10","v":"H5N1"},{"$f":"IF($O$17=\"Runda 1\",'01'!C20,IF($O$17=\"Runda 2\",'01'!N20,IF($O$17=\"Runda 3\",'01'!Y20,IF($O$17=\"Runda 4\",'01'!AJ20,IF($O$17=\"Runda 5\",'01'!AU20,0)))))","v":""},{"$f":"IF($O$17=\"Runda 1\",'01'!D20,IF($O$17=\"Runda 2\",'01'!O20,IF($O$17=\"Runda 3\",'01'!Z20,IF($O$17=\"Runda 4\",'01'!AK20,IF($O$17=\"Runda 5\",'01'!AV20,0)))))","v":""},{"$f":"IF($O$17=\"Runda 1\",'01'!E20,IF($O$17=\"Runda 2\",'01'!P20,IF($O$17=\"Runda 3\",'01'!AA20,IF($O$17=\"Runda 4\",'01'!AL20,IF($O$17=\"Runda 5\",'01'!AW20,0)))))","v":""},{"$f":"IF($O$17=\"Runda 1\",'01'!F20,IF($O$17=\"Runda 2\",'01'!Q20,IF($O$17=\"Runda 3\",'01'!AB20,IF($O$17=\"Runda 4\",'01'!AM20,IF($O$17=\"Runda 5\",'01'!AX20,0)))))","v":""},{"$f":"IF($O$17=\"Runda 1\",'01'!G20,IF($O$17=\"Runda 2\",'01'!R20,IF($O$17=\"Runda 3\",'01'!AC20,IF($O$17=\"Runda 4\",'01'!AN20,IF($O$17=\"Runda 5\",'01'!AY20,0)))))","v":""},{"$f":"IF($O$17=\"Runda 1\",'01'!H20,IF($O$17=\"Runda 2\",'01'!S20,IF($O$17=\"Runda 3\",'01'!AD20,IF($O$17=\"Runda 4\",'01'!AO20,IF($O$17=\"Runda 5\",'01'!AZ20,0)))))","v":""},{"$f":"IF($O$17=\"Runda 1\",'01'!I20,IF($O$17=\"Runda 2\",'01'!T20,IF($O$17=\"Runda 3\",'01'!AE20,IF($O$17=\"Runda 4\",'01'!AP20,IF($O$17=\"Runda 5\",'01'!BA20,0)))))","v":""},{"$f":"IF($O$17=\"Runda 1\",'01'!J20,IF($O$17=\"Runda 2\",'01'!U20,IF($O$17=\"Runda 3\",'01'!AF20,IF($O$17=\"Runda 4\",'01'!AQ20,IF($O$17=\"Runda 5\",'01'!BB20,0)))))","v":""},{"$f":"IF($O$17=\"Runda 1\",'01'!K20,IF($O$17=\"Runda 2\",'01'!V20,IF($O$17=\"Runda 3\",'01'!AG20,IF($O$17=\"Runda 4\",'01'!AR20,IF($O$17=\"Runda 5\",'01'!BC20,0)))))","v":""},{"$f":"IF($O$17=\"Runda 1\",'01'!L20,IF($O$17=\"Runda 2\",'01'!W20,IF($O$17=\"Runda 3\",'01'!AH20,IF($O$17=\"Runda 4\",'01'!AS20,IF($O$17=\"Runda 5\",'01'!BD20,0)))))","v":""},{"$f":"SUM(P18:Y18)","v":0},{"$f":"IF(Z18>Z19,3,IF(Z18<Z19,0,1))","v":1}]
[null,null,null,null,null,null,null,null,null,null,null,null,null,null,{"$f":"A17","v":"Beleizis"},{"$f":"IF($O$17=\"Runda 1\",'01'!C23,IF($O$17=\"Runda 2\",'01'!N23,IF($O$17=\"Runda 3\",'01'!Y23,IF($O$17=\"Runda 4\",'01'!AJ23,IF($O$17=\"Runda 5\",'01'!AU23,0)))))","v":""},{"$f":"IF($O$17=\"Runda 1\",'01'!D23,IF($O$17=\"Runda 2\",'01'!O23,IF($O$17=\"Runda 3\",'01'!Z23,IF($O$17=\"Runda 4\",'01'!AK23,IF($O$17=\"Runda 5\",'01'!AV23,0)))))","v":""},{"$f":"IF($O$17=\"Runda 1\",'01'!E23,IF($O$17=\"Runda 2\",'01'!P23,IF($O$17=\"Runda 3\",'01'!AA23,IF($O$17=\"Runda 4\",'01'!AL23,IF($O$17=\"Runda 5\",'01'!AW23,0)))))","v":""},{"$f":"IF($O$17=\"Runda 1\",'01'!F23,IF($O$17=\"Runda 2\",'01'!Q23,IF($O$17=\"Runda 3\",'01'!AB23,IF($O$17=\"Runda 4\",'01'!AM23,IF($O$17=\"Runda 5\",'01'!AX23,0)))))","v":""},{"$f":"IF($O$17=\"Runda 1\",'01'!G23,IF($O$17=\"Runda 2\",'01'!R23,IF($O$17=\"Runda 3\",'01'!AC23,IF($O$17=\"Runda 4\",'01'!AN23,IF($O$17=\"Runda 5\",'01'!AY23,0)))))","v":""},{"$f":"IF($O$17=\"Runda 1\",'01'!H23,IF($O$17=\"Runda 2\",'01'!S23,IF($O$17=\"Runda 3\",'01'!AD23,IF($O$17=\"Runda 4\",'01'!AO23,IF($O$17=\"Runda 5\",'01'!AZ23,0)))))","v":""},{"$f":"IF($O$17=\"Runda 1\",'01'!I23,IF($O$17=\"Runda 2\",'01'!T23,IF($O$17=\"Runda 3\",'01'!AE23,IF($O$17=\"Runda 4\",'01'!AP23,IF($O$17=\"Runda 5\",'01'!BA23,0)))))","v":""},{"$f":"IF($O$17=\"Runda 1\",'01'!J23,IF($O$17=\"Runda 2\",'01'!U23,IF($O$17=\"Runda 3\",'01'!AF23,IF($O$17=\"Runda 4\",'01'!AQ23,IF($O$17=\"Runda 5\",'01'!BB23,0)))))","v":""},{"$f":"IF($O$17=\"Runda 1\",'01'!K23,IF($O$17=\"Runda 2\",'01'!V23,IF($O$17=\"Runda 3\",'01'!AG23,IF($O$17=\"Runda 4\",'01'!AR23,IF($O$17=\"Runda 5\",'01'!BC23,0)))))","v":""},{"$f":"IF($O$17=\"Runda 1\",'01'!L23,IF($O$17=\"Runda 2\",'01'!W23,IF($O$17=\"Runda 3\",'01'!AH23,IF($O$17=\"Runda 4\",'01'!AS23,IF($O$17=\"Runda 5\",'01'!BD23,0)))))","v":""},0,{"$f":"IF(Z19>Z18,3,IF(Z19<Z18,0,1))","v":1}]
[null,null,null,null,null,null,null,null,null,null,null,null,null,null,{"$f":"E10","v":"Pokerface"},{"$f":"IF($O$17=\"Runda 1\",'01'!C21,IF($O$17=\"Runda 2\",'01'!N21,IF($O$17=\"Runda 3\",'01'!Y21,IF($O$17=\"Runda 4\",'01'!AJ21,IF($O$17=\"Runda 5\",'01'!AU21,0)))))","v":""},{"$f":"IF($O$17=\"Runda 1\",'01'!D21,IF($O$17=\"Runda 2\",'01'!O21,IF($O$17=\"Runda 3\",'01'!Z21,IF($O$17=\"Runda 4\",'01'!AK21,IF($O$17=\"Runda 5\",'01'!AV21,0)))))","v":""},{"$f":"IF($O$17=\"Runda 1\",'01'!E21,IF($O$17=\"Runda 2\",'01'!P21,IF($O$17=\"Runda 3\",'01'!AA21,IF($O$17=\"Runda 4\",'01'!AL21,IF($O$17=\"Runda 5\",'01'!AW21,0)))))","v":""},{"$f":"IF($O$17=\"Runda 1\",'01'!F21,IF($O$17=\"Runda 2\",'01'!Q21,IF($O$17=\"Runda 3\",'01'!AB21,IF($O$17=\"Runda 4\",'01'!AM21,IF($O$17=\"Runda 5\",'01'!AX21,0)))))","v":""},{"$f":"IF($O$17=\"Runda 1\",'01'!G21,IF($O$17=\"Runda 2\",'01'!R21,IF($O$17=\"Runda 3\",'01'!AC21,IF($O$17=\"Runda 4\",'01'!AN21,IF($O$17=\"Runda 5\",'01'!AY21,0)))))","v":""},{"$f":"IF($O$17=\"Runda 1\",'01'!H21,IF($O$17=\"Runda 2\",'01'!S21,IF($O$17=\"Runda 3\",'01'!AD21,IF($O$17=\"Runda 4\",'01'!AO21,IF($O$17=\"Runda 5\",'01'!AZ21,0)))))","v":""},{"$f":"IF($O$17=\"Runda 1\",'01'!I21,IF($O$17=\"Runda 2\",'01'!T21,IF($O$17=\"Runda 3\",'01'!AE21,IF($O$17=\"Runda 4\",'01'!AP21,IF($O$17=\"Runda 5\",'01'!BA21,0)))))","v":""},{"$f":"IF($O$17=\"Runda 1\",'01'!J21,IF($O$17=\"Runda 2\",'01'!U21,IF($O$17=\"Runda 3\",'01'!AF21,IF($O$17=\"Runda 4\",'01'!AQ21,IF($O$17=\"Runda 5\",'01'!BB21,0)))))","v":""},{"$f":"IF($O$17=\"Runda 1\",'01'!K21,IF($O$17=\"Runda 2\",'01'!V21,IF($O$17=\"Runda 3\",'01'!AG21,IF($O$17=\"Runda 4\",'01'!AR21,IF($O$17=\"Runda 5\",'01'!BC21,0)))))","v":""},{"$f":"IF($O$17=\"Runda 1\",'01'!L21,IF($O$17=\"Runda 2\",'01'!W21,IF($O$17=\"Runda 3\",'01'!AH21,IF($O$17=\"Runda 4\",'01'!AS21,IF($O$17=\"Runda 5\",'01'!BD21,0)))))","v":""},0,{"$f":"IF(Z20>Z21,3,IF(Z20<Z21,0,1))","v":1}]
[null,null,null,null,null,null,null,null,null,null,null,null,null,null,{"$f":"I17","v":"WTH"},{"$f":"IF($O$17=\"Runda 1\",'01'!C25,IF($O$17=\"Runda 2\",'01'!N25,IF($O$17=\"Runda 3\",'01'!Y25,IF($O$17=\"Runda 4\",'01'!AJ25,IF($O$17=\"Runda 5\",'01'!AU25,0)))))","v":""},{"$f":"IF($O$17=\"Runda 1\",'01'!D25,IF($O$17=\"Runda 2\",'01'!O25,IF($O$17=\"Runda 3\",'01'!Z25,IF($O$17=\"Runda 4\",'01'!AK25,IF($O$17=\"Runda 5\",'01'!AV25,0)))))","v":""},{"$f":"IF($O$17=\"Runda 1\",'01'!E25,IF($O$17=\"Runda 2\",'01'!P25,IF($O$17=\"Runda 3\",'01'!AA25,IF($O$17=\"Runda 4\",'01'!AL25,IF($O$17=\"Runda 5\",'01'!AW25,0)))))","v":""},{"$f":"IF($O$17=\"Runda 1\",'01'!F25,IF($O$17=\"Runda 2\",'01'!Q25,IF($O$17=\"Runda 3\",'01'!AB25,IF($O$17=\"Runda 4\",'01'!AM25,IF($O$17=\"Runda 5\",'01'!AX25,0)))))","v":""},{"$f":"IF($O$17=\"Runda 1\",'01'!G25,IF($O$17=\"Runda 2\",'01'!R25,IF($O$17=\"Runda 3\",'01'!AC25,IF($O$17=\"Runda 4\",'01'!AN25,IF($O$17=\"Runda 5\",'01'!AY25,0)))))","v":""},{"$f":"IF($O$17=\"Runda 1\",'01'!H25,IF($O$17=\"Runda 2\",'01'!S25,IF($O$17=\"Runda 3\",'01'!AD25,IF($O$17=\"Runda 4\",'01'!AO25,IF($O$17=\"Runda 5\",'01'!AZ25,0)))))","v":""},{"$f":"IF($O$17=\"Runda 1\",'01'!I25,IF($O$17=\"Runda 2\",'01'!T25,IF($O$17=\"Runda 3\",'01'!AE25,IF($O$17=\"Runda 4\",'01'!AP25,IF($O$17=\"Runda 5\",'01'!BA25,0)))))","v":""},{"$f":"IF($O$17=\"Runda 1\",'01'!J25,IF($O$17=\"Runda 2\",'01'!U25,IF($O$17=\"Runda 3\",'01'!AF25,IF($O$17=\"Runda 4\",'01'!AQ25,IF($O$17=\"Runda 5\",'01'!BB25,0)))))","v":""},{"$f":"IF($O$17=\"Runda 1\",'01'!K25,IF($O$17=\"Runda 2\",'01'!V25,IF($O$17=\"Runda 3\",'01'!AG25,IF($O$17=\"Runda 4\",'01'!AR25,IF($O$17=\"Runda 5\",'01'!BC25,0)))))","v":""},{"$f":"IF($O$17=\"Runda 1\",'01'!L25,IF($O$17=\"Runda 2\",'01'!W25,IF($O$17=\"Runda 3\",'01'!AH25,IF($O$17=\"Runda 4\",'01'!AS25,IF($O$17=\"Runda 5\",'01'!BD25,0)))))","v":""},0,{"$f":"IF(Z21>Z20,3,IF(Z21<Z20,0,1))","v":1}]
[null,null,null,null,null,null,null,null,null,null,null,null,null,null,{"$f":"I10","v":"Phi"},{"$f":"IF($O$17=\"Runda 1\",'01'!C22,IF($O$17=\"Runda 2\",'01'!N22,IF($O$17=\"Runda 3\",'01'!Y22,IF($O$17=\"Runda 4\",'01'!AJ22,IF($O$17=\"Runda 5\",'01'!AU22,0)))))","v":""},{"$f":"IF($O$17=\"Runda 1\",'01'!D22,IF($O$17=\"Runda 2\",'01'!O22,IF($O$17=\"Runda 3\",'01'!Z22,IF($O$17=\"Runda 4\",'01'!AK22,IF($O$17=\"Runda 5\",'01'!AV22,0)))))","v":""},{"$f":"IF($O$17=\"Runda 1\",'01'!E22,IF($O$17=\"Runda 2\",'01'!P22,IF($O$17=\"Runda 3\",'01'!AA22,IF($O$17=\"Runda 4\",'01'!AL22,IF($O$17=\"Runda 5\",'01'!AW22,0)))))","v":""},{"$f":"IF($O$17=\"Runda 1\",'01'!F22,IF($O$17=\"Runda 2\",'01'!Q22,IF($O$17=\"Runda 3\",'01'!AB22,IF($O$17=\"Runda 4\",'01'!AM22,IF($O$17=\"Runda 5\",'01'!AX22,0)))))","v":""},{"$f":"IF($O$17=\"Runda 1\",'01'!G22,IF($O$17=\"Runda 2\",'01'!R22,IF($O$17=\"Runda 3\",'01'!AC22,IF($O$17=\"Runda 4\",'01'!AN22,IF($O$17=\"Runda 5\",'01'!AY22,0)))))","v":""},{"$f":"IF($O$17=\"Runda 1\",'01'!H22,IF($O$17=\"Runda 2\",'01'!S22,IF($O$17=\"Runda 3\",'01'!AD22,IF($O$17=\"Runda 4\",'01'!AO22,IF($O$17=\"Runda 5\",'01'!AZ22,0)))))","v":""},{"$f":"IF($O$17=\"Runda 1\",'01'!I22,IF($O$17=\"Runda 2\",'01'!T22,IF($O$17=\"Runda 3\",'01'!AE22,IF($O$17=\"Runda 4\",'01'!AP22,IF($O$17=\"Runda 5\",'01'!BA22,0)))))","v":""},{"$f":"IF($O$17=\"Runda 1\",'01'!J22,IF($O$17=\"Runda 2\",'01'!U22,IF($O$17=\"Runda 3\",'01'!AF22,IF($O$17=\"Runda 4\",'01'!AQ22,IF($O$17=\"Runda 5\",'01'!BB22,0)))))","v":""},{"$f":"IF($O$17=\"Runda 1\",'01'!K22,IF($O$17=\"Runda 2\",'01'!V22,IF($O$17=\"Runda 3\",'01'!AG22,IF($O$17=\"Runda 4\",'01'!AR22,IF($O$17=\"Runda 5\",'01'!BC22,0)))))","v":""},{"$f":"IF($O$17=\"Runda 1\",'01'!L22,IF($O$17=\"Runda 2\",'01'!W22,IF($O$17=\"Runda 3\",'01'!AH22,IF($O$17=\"Runda 4\",'01'!AS22,IF($O$17=\"Runda 5\",'01'!BD22,0)))))","v":""},0,{"$f":"IF(Z22>Z23,3,IF(Z22<Z23,0,1))","v":1}]
[null,null,null,null,null,null,null,null,null,null,null,null,null,null,{"$f":"E17","v":"Alunecarea F."},{"$f":"IF($O$17=\"Runda 1\",'01'!C24,IF($O$17=\"Runda 2\",'01'!N24,IF($O$17=\"Runda 3\",'01'!Y24,IF($O$17=\"Runda 4\",'01'!AJ24,IF($O$17=\"Runda 5\",'01'!AU24,0)))))","v":""},{"$f":"IF($O$17=\"Runda 1\",'01'!D24,IF($O$17=\"Runda 2\",'01'!O24,IF($O$17=\"Runda 3\",'01'!Z24,IF($O$17=\"Runda 4\",'01'!AK24,IF($O$17=\"Runda 5\",'01'!AV24,0)))))","v":""},{"$f":"IF($O$17=\"Runda 1\",'01'!E24,IF($O$17=\"Runda 2\",'01'!P24,IF($O$17=\"Runda 3\",'01'!AA24,IF($O$17=\"Runda 4\",'01'!AL24,IF($O$17=\"Runda 5\",'01'!AW24,0)))))","v":""},{"$f":"IF($O$17=\"Runda 1\",'01'!F24,IF($O$17=\"Runda 2\",'01'!Q24,IF($O$17=\"Runda 3\",'01'!AB24,IF($O$17=\"Runda 4\",'01'!AM24,IF($O$17=\"Runda 5\",'01'!AX24,0)))))","v":""},{"$f":"IF($O$17=\"Runda 1\",'01'!G24,IF($O$17=\"Runda 2\",'01'!R24,IF($O$17=\"Runda 3\",'01'!AC24,IF($O$17=\"Runda 4\",'01'!AN24,IF($O$17=\"Runda 5\",'01'!AY24,0)))))","v":""},{"$f":"IF($O$17=\"Runda 1\",'01'!H24,IF($O$17=\"Runda 2\",'01'!S24,IF($O$17=\"Runda 3\",'01'!AD24,IF($O$17=\"Runda 4\",'01'!AO24,IF($O$17=\"Runda 5\",'01'!AZ24,0)))))","v":""},{"$f":"IF($O$17=\"Runda 1\",'01'!I24,IF($O$17=\"Runda 2\",'01'!T24,IF($O$17=\"Runda 3\",'01'!AE24,IF($O$17=\"Runda 4\",'01'!AP24,IF($O$17=\"Runda 5\",'01'!BA24,0)))))","v":""},{"$f":"IF($O$17=\"Runda 1\",'01'!J24,IF($O$17=\"Runda 2\",'01'!U24,IF($O$17=\"Runda 3\",'01'!AF24,IF($O$17=\"Runda 4\",'01'!AQ24,IF($O$17=\"Runda 5\",'01'!BB24,0)))))","v":""},{"$f":"IF($O$17=\"Runda 1\",'01'!K24,IF($O$17=\"Runda 2\",'01'!V24,IF($O$17=\"Runda 3\",'01'!AG24,IF($O$17=\"Runda 4\",'01'!AR24,IF($O$17=\"Runda 5\",'01'!BC24,0)))))","v":""},{"$f":"IF($O$17=\"Runda 1\",'01'!L24,IF($O$17=\"Runda 2\",'01'!W24,IF($O$17=\"Runda 3\",'01'!AH24,IF($O$17=\"Runda 4\",'01'!AS24,IF($O$17=\"Runda 5\",'01'!BD24,0)))))","v":""},0,{"$f":"IF(Z23>Z22,3,IF(Z23<Z22,0,1))","v":1}]
[]
["Contestatii",null,null,null,"Numarul intrebarii",null,null,null,null,null,null,null,null,null,"Runda 2",1,2,3,4,5,6,7,8,9,10,"R","P"]
[{"$f":"A10","v":"H5N1"},null,null,null,null,null,null,null,null,null,null,null,null,null,{"$f":"A10","v":"H5N1"},{"$f":"IF($O$25=\"Runda 1\",'01'!C20,IF($O$25=\"Runda 2\",'01'!N20,IF($O$25=\"Runda 3\",'01'!Y20,IF($O$25=\"Runda 4\",'01'!AJ20,IF($O$25=\"Runda 5\",'01'!AU20,0)))))","v":""},{"$f":"IF($O$25=\"Runda 1\",'01'!D20,IF($O$25=\"Runda 2\",'01'!O20,IF($O$25=\"Runda 3\",'01'!Z20,IF($O$25=\"Runda 4\",'01'!AK20,IF($O$25=\"Runda 5\",'01'!AV20,0)))))","v":""},{"$f":"IF($O$25=\"Runda 1\",'01'!E20,IF($O$25=\"Runda 2\",'01'!P20,IF($O$25=\"Runda 3\",'01'!AA20,IF($O$25=\"Runda 4\",'01'!AL20,IF($O$25=\"Runda 5\",'01'!AW20,0)))))","v":""},{"$f":"IF($O$25=\"Runda 1\",'01'!F20,IF($O$25=\"Runda 2\",'01'!Q20,IF($O$25=\"Runda 3\",'01'!AB20,IF($O$25=\"Runda 4\",'01'!AM20,IF($O$25=\"Runda 5\",'01'!AX20,0)))))","v":""},{"$f":"IF($O$25=\"Runda 1\",'01'!G20,IF($O$25=\"Runda 2\",'01'!R20,IF($O$25=\"Runda 3\",'01'!AC20,IF($O$25=\"Runda 4\",'01'!AN20,IF($O$25=\"Runda 5\",'01'!AY20,0)))))","v":""},{"$f":"IF($O$25=\"Runda 1\",'01'!H20,IF($O$25=\"Runda 2\",'01'!S20,IF($O$25=\"Runda 3\",'01'!AD20,IF($O$25=\"Runda 4\",'01'!AO20,IF($O$25=\"Runda 5\",'01'!AZ20,0)))))","v":""},{"$f":"IF($O$25=\"Runda 1\",'01'!I20,IF($O$25=\"Runda 2\",'01'!T20,IF($O$25=\"Runda 3\",'01'!AE20,IF($O$25=\"Runda 4\",'01'!AP20,IF($O$25=\"Runda 5\",'01'!BA20,0)))))","v":""},{"$f":"IF($O$25=\"Runda 1\",'01'!J20,IF($O$25=\"Runda 2\",'01'!U20,IF($O$25=\"Runda 3\",'01'!AF20,IF($O$25=\"Runda 4\",'01'!AQ20,IF($O$25=\"Runda 5\",'01'!BB20,0)))))","v":""},{"$f":"IF($O$25=\"Runda 1\",'01'!K20,IF($O$25=\"Runda 2\",'01'!V20,IF($O$25=\"Runda 3\",'01'!AG20,IF($O$25=\"Runda 4\",'01'!AR20,IF($O$25=\"Runda 5\",'01'!BC20,0)))))","v":""},{"$f":"IF($O$25=\"Runda 1\",'01'!L20,IF($O$25=\"Runda 2\",'01'!W20,IF($O$25=\"Runda 3\",'01'!AH20,IF($O$25=\"Runda 4\",'01'!AS20,IF($O$25=\"Runda 5\",'01'!BD20,0)))))","v":""},{"$f":"SUM(P26:Y26)","v":0},{"$f":"IF(Z26>Z27,3,IF(Z26<Z27,0,1))","v":1}]
[{"$f":"E10","v":"Pokerface"},null,null,null,null,null,null,null,null,null,null,null,null,null,{"$f":"E17","v":"Alunecarea F."},{"$f":"IF($O$25=\"Runda 1\",'01'!C24,IF($O$25=\"Runda 2\",'01'!N24,IF($O$25=\"Runda 3\",'01'!Y24,IF($O$25=\"Runda 4\",'01'!AJ24,IF($O$25=\"Runda 5\",'01'!AU24,0)))))","v":""},{"$f":"IF($O$25=\"Runda 1\",'01'!D24,IF($O$25=\"Runda 2\",'01'!O24,IF($O$25=\"Runda 3\",'01'!Z24,IF($O$25=\"Runda 4\",'01'!AK24,IF($O$25=\"Runda 5\",'01'!AV24,0)))))","v":""},{"$f":"IF($O$25=\"Runda 1\",'01'!E24,IF($O$25=\"Runda 2\",'01'!P24,IF($O$25=\"Runda 3\",'01'!AA24,IF($O$25=\"Runda 4\",'01'!AL24,IF($O$25=\"Runda 5\",'01'!AW24,0)))))","v":""},{"$f":"IF($O$25=\"Runda 1\",'01'!F24,IF($O$25=\"Runda 2\",'01'!Q24,IF($O$25=\"Runda 3\",'01'!AB24,IF($O$25=\"Runda 4\",'01'!AM24,IF($O$25=\"Runda 5\",'01'!AX24,0)))))","v":""},{"$f":"IF($O$25=\"Runda 1\",'01'!G24,IF($O$25=\"Runda 2\",'01'!R24,IF($O$25=\"Runda 3\",'01'!AC24,IF($O$25=\"Runda 4\",'01'!AN24,IF($O$25=\"Runda 5\",'01'!AY24,0)))))","v":""},{"$f":"IF($O$25=\"Runda 1\",'01'!H24,IF($O$25=\"Runda 2\",'01'!S24,IF($O$25=\"Runda 3\",'01'!AD24,IF($O$25=\"Runda 4\",'01'!AO24,IF($O$25=\"Runda 5\",'01'!AZ24,0)))))","v":""},{"$f":"IF($O$25=\"Runda 1\",'01'!I24,IF($O$25=\"Runda 2\",'01'!T24,IF($O$25=\"Runda 3\",'01'!AE24,IF($O$25=\"Runda 4\",'01'!AP24,IF($O$25=\"Runda 5\",'01'!BA24,0)))))","v":""},{"$f":"IF($O$25=\"Runda 1\",'01'!J24,IF($O$25=\"Runda 2\",'01'!U24,IF($O$25=\"Runda 3\",'01'!AF24,IF($O$25=\"Runda 4\",'01'!AQ24,IF($O$25=\"Runda 5\",'01'!BB24,0)))))","v":""},{"$f":"IF($O$25=\"Runda 1\",'01'!K24,IF($O$25=\"Runda 2\",'01'!V24,IF($O$25=\"Runda 3\",'01'!AG24,IF($O$25=\"Runda 4\",'01'!AR24,IF($O$25=\"Runda 5\",'01'!BC24,0)))))","v":""},{"$f":"IF($O$25=\"Runda 1\",'01'!L24,IF($O$25=\"Runda 2\",'01'!W24,IF($O$25=\"Runda 3\",'01'!AH24,IF($O$25=\"Runda 4\",'01'!AS24,IF($O$25=\"Runda 5\",'01'!BD24,0)))))","v":""},0,{"$f":"IF(Z27>Z26,3,IF(Z27<Z26,0,1))","v":1}]
[{"$f":"I10","v":"Phi"},null,null,null,null,null,null,null,null,null,null,null,null,null,{"$f":"E10","v":"Pokerface"},{"$f":"IF($O$25=\"Runda 1\",'01'!C21,IF($O$25=\"Runda 2\",'01'!N21,IF($O$25=\"Runda 3\",'01'!Y21,IF($O$25=\"Runda 4\",'01'!AJ21,IF($O$25=\"Runda 5\",'01'!AU21,0)))))","v":""},{"$f":"IF($O$25=\"Runda 1\",'01'!D21,IF($O$25=\"Runda 2\",'01'!O21,IF($O$25=\"Runda 3\",'01'!Z21,IF($O$25=\"Runda 4\",'01'!AK21,IF($O$25=\"Runda 5\",'01'!AV21,0)))))","v":""},{"$f":"IF($O$25=\"Runda 1\",'01'!E21,IF($O$25=\"Runda 2\",'01'!P21,IF($O$25=\"Runda 3\",'01'!AA21,IF($O$25=\"Runda 4\",'01'!AL21,IF($O$25=\"Runda 5\",'01'!AW21,0)))))","v":""},{"$f":"IF($O$25=\"Runda 1\",'01'!F21,IF($O$25=\"Runda 2\",'01'!Q21,IF($O$25=\"Runda 3\",'01'!AB21,IF($O$25=\"Runda 4\",'01'!AM21,IF($O$25=\"Runda 5\",'01'!AX21,0)))))","v":""},{"$f":"IF($O$25=\"Runda 1\",'01'!G21,IF($O$25=\"Runda 2\",'01'!R21,IF($O$25=\"Runda 3\",'01'!AC21,IF($O$25=\"Runda 4\",'01'!AN21,IF($O$25=\"Runda 5\",'01'!AY21,0)))))","v":""},{"$f":"IF($O$25=\"Runda 1\",'01'!H21,IF($O$25=\"Runda 2\",'01'!S21,IF($O$25=\"Runda 3\",'01'!AD21,IF($O$25=\"Runda 4\",'01'!AO21,IF($O$25=\"Runda 5\",'01'!AZ21,0)))))","v":""},{"$f":"IF($O$25=\"Runda 1\",'01'!I21,IF($O$25=\"Runda 2\",'01'!T21,IF($O$25=\"Runda 3\",'01'!AE21,IF($O$25=\"Runda 4\",'01'!AP21,IF($O$25=\"Runda 5\",'01'!BA21,0)))))","v":""},{"$f":"IF($O$25=\"Runda 1\",'01'!J21,IF($O$25=\"Runda 2\",'01'!U21,IF($O$25=\"Runda 3\",'01'!AF21,IF($O$25=\"Runda 4\",'01'!AQ21,IF($O$25=\"Runda 5\",'01'!BB21,0)))))","v":""},{"$f":"IF($O$25=\"Runda 1\",'01'!K21,IF($O$25=\"Runda 2\",'01'!V21,IF($O$25=\"Runda 3\",'01'!AG21,IF($O$25=\"Runda 4\",'01'!AR21,IF($O$25=\"Runda 5\",'01'!BC21,0)))))","v":""},{"$f":"IF($O$25=\"Runda 1\",'01'!L21,IF($O$25=\"Runda 2\",'01'!W21,IF($O$25=\"Runda 3\",'01'!AH21,IF($O$25=\"Runda 4\",'01'!AS21,IF($O$25=\"Runda 5\",'01'!BD21,0)))))","v":""},0,{"$f":"IF(Z28>Z29,3,IF(Z28<Z29,0,1))","v":1}]
[{"$f":"A17","v":"Beleizis"},null,null,null,null,null,null,null,null,null,null,null,null,null,{"$f":"A17","v":"Beleizis"},{"$f":"IF($O$25=\"Runda 1\",'01'!C23,IF($O$25=\"Runda 2\",'01'!N23,IF($O$25=\"Runda 3\",'01'!Y23,IF($O$25=\"Runda 4\",'01'!AJ23,IF($O$25=\"Runda 5\",'01'!AU23,0)))))","v":""},{"$f":"IF($O$25=\"Runda 1\",'01'!D23,IF($O$25=\"Runda 2\",'01'!O23,IF($O$25=\"Runda 3\",'01'!Z23,IF($O$25=\"Runda 4\",'01'!AK23,IF($O$25=\"Runda 5\",'01'!AV23,0)))))","v":""},{"$f":"IF($O$25=\"Runda 1\",'01'!E23,IF($O$25=\"Runda 2\",'01'!P23,IF($O$25=\"Runda 3\",'01'!AA23,IF($O$25=\"Runda 4\",'01'!AL23,IF($O$25=\"Runda 5\",'01'!AW23,0)))))","v":""},{"$f":"IF($O$25=\"Runda 1\",'01'!F23,IF($O$25=\"Runda 2\",'01'!Q23,IF($O$25=\"Runda 3\",'01'!AB23,IF($O$25=\"Runda 4\",'01'!AM23,IF($O$25=\"Runda 5\",'01'!AX23,0)))))","v":""},{"$f":"IF($O$25=\"Runda 1\",'01'!G23,IF($O$25=\"Runda 2\",'01'!R23,IF($O$25=\"Runda 3\",'01'!AC23,IF($O$25=\"Runda 4\",'01'!AN23,IF($O$25=\"Runda 5\",'01'!AY23,0)))))","v":""},{"$f":"IF($O$25=\"Runda 1\",'01'!H23,IF($O$25=\"Runda 2\",'01'!S23,IF($O$25=\"Runda 3\",'01'!AD23,IF($O$25=\"Runda 4\",'01'!AO23,IF($O$25=\"Runda 5\",'01'!AZ23,0)))))","v":""},{"$f":"IF($O$25=\"Runda 1\",'01'!I23,IF($O$25=\"Runda 2\",'01'!T23,IF($O$25=\"Runda 3\",'01'!AE23,IF($O$25=\"Runda 4\",'01'!AP23,IF($O$25=\"Runda 5\",'01'!BA23,0)))))","v":""},{"$f":"IF($O$25=\"Runda 1\",'01'!J23,IF($O$25=\"Runda 2\",'01'!U23,IF($O$25=\"Runda 3\",'01'!AF23,IF($O$25=\"Runda 4\",'01'!AQ23,IF($O$25=\"Runda 5\",'01'!BB23,0)))))","v":""},{"$f":"IF($O$25=\"Runda 1\",'01'!K23,IF($O$25=\"Runda 2\",'01'!V23,IF($O$25=\"Runda 3\",'01'!AG23,IF($O$25=\"Runda 4\",'01'!AR23,IF($O$25=\"Runda 5\",'01'!BC23,0)))))","v":""},{"$f":"IF($O$25=\"Runda 1\",'01'!L23,IF($O$25=\"Runda 2\",'01'!W23,IF($O$25=\"Runda 3\",'01'!AH23,IF($O$25=\"Runda 4\",'01'!AS23,IF($O$25=\"Runda 5\",'01'!BD23,0)))))","v":""},0,{"$f":"IF(Z29>Z28,3,IF(Z29<Z28,0,1))","v":1}]
[{"$f":"E17","v":"Alunecarea F."},null,null,null,null,null,null,null,null,null,null,null,null,null,{"$f":"I10","v":"Phi"},{"$f":"IF($O$25=\"Runda 1\",'01'!C22,IF($O$25=\"Runda 2\",'01'!N22,IF($O$25=\"Runda 3\",'01'!Y22,IF($O$25=\"Runda 4\",'01'!AJ22,IF($O$25=\"Runda 5\",'01'!AU22,0)))))","v":""},{"$f":"IF($O$25=\"Runda 1\",'01'!D22,IF($O$25=\"Runda 2\",'01'!O22,IF($O$25=\"Runda 3\",'01'!Z22,IF($O$25=\"Runda 4\",'01'!AK22,IF($O$25=\"Runda 5\",'01'!AV22,0)))))","v":""},{"$f":"IF($O$25=\"Runda 1\",'01'!E22,IF($O$25=\"Runda 2\",'01'!P22,IF($O$25=\"Runda 3\",'01'!AA22,IF($O$25=\"Runda 4\",'01'!AL22,IF($O$25=\"Runda 5\",'01'!AW22,0)))))","v":""},{"$f":"IF($O$25=\"Runda 1\",'01'!F22,IF($O$25=\"Runda 2\",'01'!Q22,IF($O$25=\"Runda 3\",'01'!AB22,IF($O$25=\"Runda 4\",'01'!AM22,IF($O$25=\"Runda 5\",'01'!AX22,0)))))","v":""},{"$f":"IF($O$25=\"Runda 1\",'01'!G22,IF($O$25=\"Runda 2\",'01'!R22,IF($O$25=\"Runda 3\",'01'!AC22,IF($O$25=\"Runda 4\",'01'!AN22,IF($O$25=\"Runda 5\",'01'!AY22,0)))))","v":""},{"$f":"IF($O$25=\"Runda 1\",'01'!H22,IF($O$25=\"Runda 2\",'01'!S22,IF($O$25=\"Runda 3\",'01'!AD22,IF($O$25=\"Runda 4\",'01'!AO22,IF($O$25=\"Runda 5\",'01'!AZ22,0)))))","v":""},{"$f":"IF($O$25=\"Runda 1\",'01'!I22,IF($O$25=\"Runda 2\",'01'!T22,IF($O$25=\"Runda 3\",'01'!AE22,IF($O$25=\"Runda 4\",'01'!AP22,IF($O$25=\"Runda 5\",'01'!BA22,0)))))","v":""},{"$f":"IF($O$25=\"Runda 1\",'01'!J22,IF($O$25=\"Runda 2\",'01'!U22,IF($O$25=\"Runda 3\",'01'!AF22,IF($O$25=\"Runda 4\",'01'!AQ22,IF($O$25=\"Runda 5\",'01'!BB22,0)))))","v":""},{"$f":"IF($O$25=\"Runda 1\",'01'!K22,IF($O$25=\"Runda 2\",'01'!V22,IF($O$25=\"Runda 3\",'01'!AG22,IF($O$25=\"Runda 4\",'01'!AR22,IF($O$25=\"Runda 5\",'01'!BC22,0)))))","v":""},{"$f":"IF($O$25=\"Runda 1\",'01'!L22,IF($O$25=\"Runda 2\",'01'!W22,IF($O$25=\"Runda 3\",'01'!AH22,IF($O$25=\"Runda 4\",'01'!AS22,IF($O$25=\"Runda 5\",'01'!BD22,0)))))","v":""},0,{"$f":"IF(Z30>Z31,3,IF(Z30<Z31,0,1))","v":1}]
[{"$f":"I17","v":"WTH"},null,null,null,null,null,null,null,null,null,null,null,null,null,{"$f":"I17","v":"WTH"},{"$f":"IF($O$25=\"Runda 1\",'01'!C25,IF($O$25=\"Runda 2\",'01'!N25,IF($O$25=\"Runda 3\",'01'!Y25,IF($O$25=\"Runda 4\",'01'!AJ25,IF($O$25=\"Runda 5\",'01'!AU25,0)))))","v":""},{"$f":"IF($O$25=\"Runda 1\",'01'!D25,IF($O$25=\"Runda 2\",'01'!O25,IF($O$25=\"Runda 3\",'01'!Z25,IF($O$25=\"Runda 4\",'01'!AK25,IF($O$25=\"Runda 5\",'01'!AV25,0)))))","v":""},{"$f":"IF($O$25=\"Runda 1\",'01'!E25,IF($O$25=\"Runda 2\",'01'!P25,IF($O$25=\"Runda 3\",'01'!AA25,IF($O$25=\"Runda 4\",'01'!AL25,IF($O$25=\"Runda 5\",'01'!AW25,0)))))","v":""},{"$f":"IF($O$25=\"Runda 1\",'01'!F25,IF($O$25=\"Runda 2\",'01'!Q25,IF($O$25=\"Runda 3\",'01'!AB25,IF($O$25=\"Runda 4\",'01'!AM25,IF($O$25=\"Runda 5\",'01'!AX25,0)))))","v":""},{"$f":"IF($O$25=\"Runda 1\",'01'!G25,IF($O$25=\"Runda 2\",'01'!R25,IF($O$25=\"Runda 3\",'01'!AC25,IF($O$25=\"Runda 4\",'01'!AN25,IF($O$25=\"Runda 5\",'01'!AY25,0)))))","v":""},{"$f":"IF($O$25=\"Runda 1\",'01'!H25,IF($O$25=\"Runda 2\",'01'!S25,IF($O$25=\"Runda 3\",'01'!AD25,IF($O$25=\"Runda 4\",'01'!AO25,IF($O$25=\"Runda 5\",'01'!AZ25,0)))))","v":""},{"$f":"IF($O$25=\"Runda 1\",'01'!I25,IF($O$25=\"Runda 2\",'01'!T25,IF($O$25=\"Runda 3\",'01'!AE25,IF($O$25=\"Runda 4\",'01'!AP25,IF($O$25=\"Runda 5\",'01'!BA25,0)))))","v":""},{"$f":"IF($O$25=\"Runda 1\",'01'!J25,IF($O$25=\"Runda 2\",'01'!U25,IF($O$25=\"Runda 3\",'01'!AF25,IF($O$25=\"Runda 4\",'01'!AQ25,IF($O$25=\"Runda 5\",'01'!BB25,0)))))","v":""},{"$f":"IF($O$25=\"Runda 1\",'01'!K25,IF($O$25=\"Runda 2\",'01'!V25,IF($O$25=\"Runda 3\",'01'!AG25,IF($O$25=\"Runda 4\",'01'!AR25,IF($O$25=\"Runda 5\",'01'!BC25,0)))))","v":""},{"$f":"IF($O$25=\"Runda 1\",'01'!L25,IF($O$25=\"Runda 2\",'01'!W25,IF($O$25=\"Runda 3\",'01'!AH25,IF($O$25=\"Runda 4\",'01'!AS25,IF($O$25=\"Runda 5\",'01'!BD25,0)))))","v":""},0,{"$f":"IF(Z31>Z30,3,IF(Z31<Z30,0,1))","v":1}]
[]
["Rezultate etapa",null,null,null,"V","E","I","RASP",null,"PUNCTE",null,null,null,null,"Runda 5",1,2,3,4,5,6,7,8,9,10,"R","P"]
[{"$f":"A10","v":"H5N1"},null,null,null,{"$f":"SUM(IF(AA2=3,1,0),IF(AA10=3,1,0),IF(AA18=3,1,0),IF(AA26=3,1,0),IF(AA34=3,1,0))","v":0},{"$f":"SUM(IF(AA2=1,1,0),IF(AA10=1,1,0),IF(AA18=1,1,0),IF(AA26=1,1,0),IF(AA34=1,1,0))","v":5},{"$f":"SUM(IF(AA2=0,1,0),IF(AA10=0,1,0),IF(AA18=0,1,0),IF(AA26=0,1,0),IF(AA34=0,1,0))","v":0},{"$f":"SUM(Z2,Z10,Z18,Z26,Z34)","v":0},null,{"$f":"SUM(AA2,AA10,AA18,AA26,AA34)","v":5},null,null,null,null,{"$f":"A10","v":"H5N1"},{"$f":"IF($O$33=\"Runda 1\",'01'!C20,IF($O$33=\"Runda 2\",'01'!N20,IF($O$33=\"Runda 3\",'01'!Y20,IF($O$33=\"Runda 4\",'01'!AJ20,IF($O$33=\"Runda 5\",'01'!AU20,0)))))","v":""},{"$f":"IF($O$33=\"Runda 1\",'01'!D20,IF($O$33=\"Runda 2\",'01'!O20,IF($O$33=\"Runda 3\",'01'!Z20,IF($O$33=\"Runda 4\",'01'!AK20,IF($O$33=\"Runda 5\",'01'!AV20,0)))))","v":""},{"$f":"IF($O$33=\"Runda 1\",'01'!E20,IF($O$33=\"Runda 2\",'01'!P20,IF($O$33=\"Runda 3\",'01'!AA20,IF($O$33=\"Runda 4\",'01'!AL20,IF($O$33=\"Runda 5\",'01'!AW20,0)))))","v":""},{"$f":"IF($O$33=\"Runda 1\",'01'!F20,IF($O$33=\"Runda 2\",'01'!Q20,IF($O$33=\"Runda 3\",'01'!AB20,IF($O$33=\"Runda 4\",'01'!AM20,IF($O$33=\"Runda 5\",'01'!AX20,0)))))","v":""},{"$f":"IF($O$33=\"Runda 1\",'01'!G20,IF($O$33=\"Runda 2\",'01'!R20,IF($O$33=\"Runda 3\",'01'!AC20,IF($O$33=\"Runda 4\",'01'!AN20,IF($O$33=\"Runda 5\",'01'!AY20,0)))))","v":""},{"$f":"IF($O$33=\"Runda 1\",'01'!H20,IF($O$33=\"Runda 2\",'01'!S20,IF($O$33=\"Runda 3\",'01'!AD20,IF($O$33=\"Runda 4\",'01'!AO20,IF($O$33=\"Runda 5\",'01'!AZ20,0)))))","v":""},{"$f":"IF($O$33=\"Runda 1\",'01'!I20,IF($O$33=\"Runda 2\",'01'!T20,IF($O$33=\"Runda 3\",'01'!AE20,IF($O$33=\"Runda 4\",'01'!AP20,IF($O$33=\"Runda 5\",'01'!BA20,0)))))","v":""},{"$f":"IF($O$33=\"Runda 1\",'01'!J20,IF($O$33=\"Runda 2\",'01'!U20,IF($O$33=\"Runda 3\",'01'!AF20,IF($O$33=\"Runda 4\",'01'!AQ20,IF($O$33=\"Runda 5\",'01'!BB20,0)))))","v":""},{"$f":"IF($O$33=\"Runda 1\",'01'!K20,IF($O$33=\"Runda 2\",'01'!V20,IF($O$33=\"Runda 3\",'01'!AG20,IF($O$33=\"Runda 4\",'01'!AR20,IF($O$33=\"Runda 5\",'01'!BC20,0)))))","v":""},{"$f":"IF($O$33=\"Runda 1\",'01'!L20,IF($O$33=\"Runda 2\",'01'!W20,IF($O$33=\"Runda 3\",'01'!AH20,IF($O$33=\"Runda 4\",'01'!AS20,IF($O$33=\"Runda 5\",'01'!BD20,0)))))","v":""},{"$f":"SUM(P34:Y34)","v":0},{"$f":"IF(Z34>Z35,3,IF(Z34<Z35,0,1))","v":1}]
[{"$f":"E10","v":"Pokerface"},null,null,null,{"$f":"SUM(IF(AA3=3,1,0),IF(AA12=3,1,0),IF(AA20=3,1,0),IF(AA28=3,1,0),IF(AA36=3,1,0))","v":0},{"$f":"SUM(IF(AA3=1,1,0),IF(AA12=1,1,0),IF(AA20=1,1,0),IF(AA28=1,1,0),IF(AA36=1,1,0))","v":5},{"$f":"SUM(IF(AA3=0,1,0),IF(AA12=0,1,0),IF(AA20=0,1,0),IF(AA28=0,1,0),IF(AA36=0,1,0))","v":0},{"$f":"SUM(Z3,Z12,Z20,Z28,Z36)","v":0},null,{"$f":"SUM(AA3,AA12,AA20,AA28,AA36)","v":5},null,null,null,null,{"$f":"I17","v":"WTH"},{"$f":"IF($O$33=\"Runda 1\",'01'!C25,IF($O$33=\"Runda 2\",'01'!N25,IF($O$33=\"Runda 3\",'01'!Y25,IF($O$33=\"Runda 4\",'01'!AJ25,IF($O$33=\"Runda 5\",'01'!AU25,0)))))","v":""},{"$f":"IF($O$33=\"Runda 1\",'01'!D25,IF($O$33=\"Runda 2\",'01'!O25,IF($O$33=\"Runda 3\",'01'!Z25,IF($O$33=\"Runda 4\",'01'!AK25,IF($O$33=\"Runda 5\",'01'!AV25,0)))))","v":""},{"$f":"IF($O$33=\"Runda 1\",'01'!E25,IF($O$33=\"Runda 2\",'01'!P25,IF($O$33=\"Runda 3\",'01'!AA25,IF($O$33=\"Runda 4\",'01'!AL25,IF($O$33=\"Runda 5\",'01'!AW25,0)))))","v":""},{"$f":"IF($O$33=\"Runda 1\",'01'!F25,IF($O$33=\"Runda 2\",'01'!Q25,IF($O$33=\"Runda 3\",'01'!AB25,IF($O$33=\"Runda 4\",'01'!AM25,IF($O$33=\"Runda 5\",'01'!AX25,0)))))","v":""},{"$f":"IF($O$33=\"Runda 1\",'01'!G25,IF($O$33=\"Runda 2\",'01'!R25,IF($O$33=\"Runda 3\",'01'!AC25,IF($O$33=\"Runda 4\",'01'!AN25,IF($O$33=\"Runda 5\",'01'!AY25,0)))))","v":""},{"$f":"IF($O$33=\"Runda 1\",'01'!H25,IF($O$33=\"Runda 2\",'01'!S25,IF($O$33=\"Runda 3\",'01'!AD25,IF($O$33=\"Runda 4\",'01'!AO25,IF($O$33=\"Runda 5\",'01'!AZ25,0)))))","v":""},{"$f":"IF($O$33=\"Runda 1\",'01'!I25,IF($O$33=\"Runda 2\",'01'!T25,IF($O$33=\"Runda 3\",'01'!AE25,IF($O$33=\"Runda 4\",'01'!AP25,IF($O$33=\"Runda 5\",'01'!BA25,0)))))","v":""},{"$f":"IF($O$33=\"Runda 1\",'01'!J25,IF($O$33=\"Runda 2\",'01'!U25,IF($O$33=\"Runda 3\",'01'!AF25,IF($O$33=\"Runda 4\",'01'!AQ25,IF($O$33=\"Runda 5\",'01'!BB25,0)))))","v":""},{"$f":"IF($O$33=\"Runda 1\",'01'!K25,IF($O$33=\"Runda 2\",'01'!V25,IF($O$33=\"Runda 3\",'01'!AG25,IF($O$33=\"Runda 4\",'01'!AR25,IF($O$33=\"Runda 5\",'01'!BC25,0)))))","v":""},{"$f":"IF($O$33=\"Runda 1\",'01'!L25,IF($O$33=\"Runda 2\",'01'!W25,IF($O$33=\"Runda 3\",'01'!AH25,IF($O$33=\"Runda 4\",'01'!AS25,IF($O$33=\"Runda 5\",'01'!BD25,0)))))","v":""},0,{"$f":"IF(Z35>Z34,3,IF(Z35<Z34,0,1))","v":1}]
[{"$f":"I10","v":"Phi"},null,null,null,{"$f":"SUM(IF(AA4=3,1,0),IF(AA11=3,1,0),IF(AA22=3,1,0),IF(AA30=3,1,0),IF(AA37=3,1,0))","v":0},{"$f":"SUM(IF(AA4=1,1,0),IF(AA11=1,1,0),IF(AA22=1,1,0),IF(AA30=1,1,0),IF(AA37=1,1,0))","v":5},{"$f":"SUM(IF(AA4=0,1,0),IF(AA11=0,1,0),IF(AA22=0,1,0),IF(AA30=0,1,0),IF(AA37=0,1,0))","v":0},{"$f":"SUM(Z4,Z11,Z22,Z30,Z37)","v":0},null,{"$f":"SUM(AA4,AA11,AA22,AA30,AA37)","v":5},null,null,null,null,{"$f":"E10","v":"Pokerface"},{"$f":"IF($O$33=\"Runda 1\",'01'!C21,IF($O$33=\"Runda 2\",'01'!N21,IF($O$33=\"Runda 3\",'01'!Y21,IF($O$33=\"Runda 4\",'01'!AJ21,IF($O$33=\"Runda 5\",'01'!AU21,0)))))","v":""},{"$f":"IF($O$33=\"Runda 1\",'01'!D21,IF($O$33=\"Runda 2\",'01'!O21,IF($O$33=\"Runda 3\",'01'!Z21,IF($O$33=\"Runda 4\",'01'!AK21,IF($O$33=\"Runda 5\",'01'!AV21,0)))))","v":""},{"$f":"IF($O$33=\"Runda 1\",'01'!E21,IF($O$33=\"Runda 2\",'01'!P21,IF($O$33=\"Runda 3\",'01'!AA21,IF($O$33=\"Runda 4\",'01'!AL21,IF($O$33=\"Runda 5\",'01'!AW21,0)))))","v":""},{"$f":"IF($O$33=\"Runda 1\",'01'!F21,IF($O$33=\"Runda 2\",'01'!Q21,IF($O$33=\"Runda 3\",'01'!AB21,IF($O$33=\"Runda 4\",'01'!AM21,IF($O$33=\"Runda 5\",'01'!AX21,0)))))","v":""},{"$f":"IF($O$33=\"Runda 1\",'01'!G21,IF($O$33=\"Runda 2\",'01'!R21,IF($O$33=\"Runda 3\",'01'!AC21,IF($O$33=\"Runda 4\",'01'!AN21,IF($O$33=\"Runda 5\",'01'!AY21,0)))))","v":""},{"$f":"IF($O$33=\"Runda 1\",'01'!H21,IF($O$33=\"Runda 2\",'01'!S21,IF($O$33=\"Runda 3\",'01'!AD21,IF($O$33=\"Runda 4\",'01'!AO21,IF($O$33=\"Runda 5\",'01'!AZ21,0)))))","v":""},{"$f":"IF($O$33=\"Runda 1\",'01'!I21,IF($O$33=\"Runda 2\",'01'!T21,IF($O$33=\"Runda 3\",'01'!AE21,IF($O$33=\"Runda 4\",'01'!AP21,IF($O$33=\"Runda 5\",'01'!BA21,0)))))","v":""},{"$f":"IF($O$33=\"Runda 1\",'01'!J21,IF($O$33=\"Runda 2\",'01'!U21,IF($O$33=\"Runda 3\",'01'!AF21,IF($O$33=\"Runda 4\",'01'!AQ21,IF($O$33=\"Runda 5\",'01'!BB21,0)))))","v":""},{"$f":"IF($O$33=\"Runda 1\",'01'!K21,IF($O$33=\"Runda 2\",'01'!V21,IF($O$33=\"Runda 3\",'01'!AG21,IF($O$33=\"Runda 4\",'01'!AR21,IF($O$33=\"Runda 5\",'01'!BC21,0)))))","v":""},{"$f":"IF($O$33=\"Runda 1\",'01'!L21,IF($O$33=\"Runda 2\",'01'!W21,IF($O$33=\"Runda 3\",'01'!AH21,IF($O$33=\"Runda 4\",'01'!AS21,IF($O$33=\"Runda 5\",'01'!BD21,0)))))","v":""},0,{"$f":"IF(Z36>Z37,3,IF(Z36<Z37,0,1))","v":1}]
[{"$f":"A17","v":"Beleizis"},null,null,null,{"$f":"SUM(IF(AA5=3,1,0),IF(AA14=3,1,0),IF(AA19=3,1,0),IF(AA29=3,1,0),IF(AA38=3,1,0))","v":0},{"$f":"SUM(IF(AA5=1,1,0),IF(AA14=1,1,0),IF(AA19=1,1,0),IF(AA29=1,1,0),IF(AA38=1,1,0))","v":5},{"$f":"SUM(IF(AA5=0,1,0),IF(AA14=0,1,0),IF(AA19=0,1,0),IF(AA29=0,1,0),IF(AA38=0,1,0))","v":0},{"$f":"SUM(Z5,Z14,Z19,Z29,Z38)","v":0},null,{"$f":"SUM(AA5,AA14,AA19,AA29,AA38)","v":5},null,null,null,null,{"$f":"I10","v":"Phi"},{"$f":"IF($O$33=\"Runda 1\",'01'!C22,IF($O$33=\"Runda 2\",'01'!N22,IF($O$33=\"Runda 3\",'01'!Y22,IF($O$33=\"Runda 4\",'01'!AJ22,IF($O$33=\"Runda 5\",'01'!AU22,0)))))","v":""},{"$f":"IF($O$33=\"Runda 1\",'01'!D22,IF($O$33=\"Runda 2\",'01'!O22,IF($O$33=\"Runda 3\",'01'!Z22,IF($O$33=\"Runda 4\",'01'!AK22,IF($O$33=\"Runda 5\",'01'!AV22,0)))))","v":""},{"$f":"IF($O$33=\"Runda 1\",'01'!E22,IF($O$33=\"Runda 2\",'01'!P22,IF($O$33=\"Runda 3\",'01'!AA22,IF($O$33=\"Runda 4\",'01'!AL22,IF($O$33=\"Runda 5\",'01'!AW22,0)))))","v":""},{"$f":"IF($O$33=\"Runda 1\",'01'!F22,IF($O$33=\"Runda 2\",'01'!Q22,IF($O$33=\"Runda 3\",'01'!AB22,IF($O$33=\"Runda 4\",'01'!AM22,IF($O$33=\"Runda 5\",'01'!AX22,0)))))","v":""},{"$f":"IF($O$33=\"Runda 1\",'01'!G22,IF($O$33=\"Runda 2\",'01'!R22,IF($O$33=\"Runda 3\",'01'!AC22,IF($O$33=\"Runda 4\",'01'!AN22,IF($O$33=\"Runda 5\",'01'!AY22,0)))))","v":""},{"$f":"IF($O$33=\"Runda 1\",'01'!H22,IF($O$33=\"Runda 2\",'01'!S22,IF($O$33=\"Runda 3\",'01'!AD22,IF($O$33=\"Runda 4\",'01'!AO22,IF($O$33=\"Runda 5\",'01'!AZ22,0)))))","v":""},{"$f":"IF($O$33=\"Runda 1\",'01'!I22,IF($O$33=\"Runda 2\",'01'!T22,IF($O$33=\"Runda 3\",'01'!AE22,IF($O$33=\"Runda 4\",'01'!AP22,IF($O$33=\"Runda 5\",'01'!BA22,0)))))","v":""},{"$f":"IF($O$33=\"Runda 1\",'01'!J22,IF($O$33=\"Runda 2\",'01'!U22,IF($O$33=\"Runda 3\",'01'!AF22,IF($O$33=\"Runda 4\",'01'!AQ22,IF($O$33=\"Runda 5\",'01'!BB22,0)))))","v":""},{"$f":"IF($O$33=\"Runda 1\",'01'!K22,IF($O$33=\"Runda 2\",'01'!V22,IF($O$33=\"Runda 3\",'01'!AG22,IF($O$33=\"Runda 4\",'01'!AR22,IF($O$33=\"Runda 5\",'01'!BC22,0)))))","v":""},{"$f":"IF($O$33=\"Runda 1\",'01'!L22,IF($O$33=\"Runda 2\",'01'!W22,IF($O$33=\"Runda 3\",'01'!AH22,IF($O$33=\"Runda 4\",'01'!AS22,IF($O$33=\"Runda 5\",'01'!BD22,0)))))","v":""},0,{"$f":"IF(Z37>Z36,3,IF(Z37<Z36,0,1))","v":1}]
[{"$f":"E17","v":"Alunecarea F."},null,null,null,{"$f":"SUM(IF(AA6=3,1,0),IF(AA13=3,1,0),IF(AA23=3,1,0),IF(AA27=3,1,0),IF(AA39=3,1,0))","v":0},{"$f":"SUM(IF(AA6=1,1,0),IF(AA13=1,1,0),IF(AA23=1,1,0),IF(AA27=1,1,0),IF(AA39=1,1,0))","v":5},{"$f":"SUM(IF(AA6=0,1,0),IF(AA13=0,1,0),IF(AA23=0,1,0),IF(AA27=0,1,0),IF(AA39=0,1,0))","v":0},{"$f":"SUM(Z6,Z13,Z23,Z27,Z39)","v":0},null,{"$f":"SUM(AA6,AA13,AA23,AA27,AA39)","v":5},null,null,null,null,{"$f":"A17","v":"Beleizis"},{"$f":"IF($O$33=\"Runda 1\",'01'!C23,IF($O$33=\"Runda 2\",'01'!N23,IF($O$33=\"Runda 3\",'01'!Y23,IF($O$33=\"Runda 4\",'01'!AJ23,IF($O$33=\"Runda 5\",'01'!AU23,0)))))","v":""},{"$f":"IF($O$33=\"Runda 1\",'01'!D23,IF($O$33=\"Runda 2\",'01'!O23,IF($O$33=\"Runda 3\",'01'!Z23,IF($O$33=\"Runda 4\",'01'!AK23,IF($O$33=\"Runda 5\",'01'!AV23,0)))))","v":""},{"$f":"IF($O$33=\"Runda 1\",'01'!E23,IF($O$33=\"Runda 2\",'01'!P23,IF($O$33=\"Runda 3\",'01'!AA23,IF($O$33=\"Runda 4\",'01'!AL23,IF($O$33=\"Runda 5\",'01'!AW23,0)))))","v":""},{"$f":"IF($O$33=\"Runda 1\",'01'!F23,IF($O$33=\"Runda 2\",'01'!Q23,IF($O$33=\"Runda 3\",'01'!AB23,IF($O$33=\"Runda 4\",'01'!AM23,IF($O$33=\"Runda 5\",'01'!AX23,0)))))","v":""},{"$f":"IF($O$33=\"Runda 1\",'01'!G23,IF($O$33=\"Runda 2\",'01'!R23,IF($O$33=\"Runda 3\",'01'!AC23,IF($O$33=\"Runda 4\",'01'!AN23,IF($O$33=\"Runda 5\",'01'!AY23,0)))))","v":""},{"$f":"IF($O$33=\"Runda 1\",'01'!H23,IF($O$33=\"Runda 2\",'01'!S23,IF($O$33=\"Runda 3\",'01'!AD23,IF($O$33=\"Runda 4\",'01'!AO23,IF($O$33=\"Runda 5\",'01'!AZ23,0)))))","v":""},{"$f":"IF($O$33=\"Runda 1\",'01'!I23,IF($O$33=\"Runda 2\",'01'!T23,IF($O$33=\"Runda 3\",'01'!AE23,IF($O$33=\"Runda 4\",'01'!AP23,IF($O$33=\"Runda 5\",'01'!BA23,0)))))","v":""},{"$f":"IF($O$33=\"Runda 1\",'01'!J23,IF($O$33=\"Runda 2\",'01'!U23,IF($O$33=\"Runda 3\",'01'!AF23,IF($O$33=\"Runda 4\",'01'!AQ23,IF($O$33=\"Runda 5\",'01'!BB23,0)))))","v":""},{"$f":"IF($O$33=\"Runda 1\",'01'!K23,IF($O$33=\"Runda 2\",'01'!V23,IF($O$33=\"Runda 3\",'01'!AG23,IF($O$33=\"Runda 4\",'01'!AR23,IF($O$33=\"Runda 5\",'01'!BC23,0)))))","v":""},{"$f":"IF($O$33=\"Runda 1\",'01'!L23,IF($O$33=\"Runda 2\",'01'!W23,IF($O$33=\"Runda 3\",'01'!AH23,IF($O$33=\"Runda 4\",'01'!AS23,IF($O$33=\"Runda 5\",'01'!BD23,0)))))","v":""},0,{"$f":"IF(Z38>Z39,3,IF(Z38<Z39,0,1))","v":1}]
[{"$f":"A31","v":"WTH"},null,null,null,{"$f":"SUM(IF(AA7=3,1,0),IF(AA15=3,1,0),IF(AA21=3,1,0),IF(AA31=3,1,0),IF(AA35=3,1,0))","v":0},{"$f":"SUM(IF(AA7=1,1,0),IF(AA15=1,1,0),IF(AA21=1,1,0),IF(AA31=1,1,0),IF(AA35=1,1,0))","v":5},{"$f":"SUM(IF(AA7=0,1,0),IF(AA15=0,1,0),IF(AA21=0,1,0),IF(AA31=0,1,0),IF(AA35=0,1,0))","v":0},{"$f":"SUM(Z7,Z15,Z21,Z31,Z35)","v":0},null,{"$f":"SUM(AA7,AA15,AA21,AA31,AA35)","v":5},null,null,null,null,{"$f":"E17","v":"Alunecarea F."},{"$f":"IF($O$33=\"Runda 1\",'01'!C24,IF($O$33=\"Runda 2\",'01'!N24,IF($O$33=\"Runda 3\",'01'!Y24,IF($O$33=\"Runda 4\",'01'!AJ24,IF($O$33=\"Runda 5\",'01'!AU24,0)))))","v":""},{"$f":"IF($O$33=\"Runda 1\",'01'!D24,IF($O$33=\"Runda 2\",'01'!O24,IF($O$33=\"Runda 3\",'01'!Z24,IF($O$33=\"Runda 4\",'01'!AK24,IF($O$33=\"Runda 5\",'01'!AV24,0)))))","v":""},{"$f":"IF($O$33=\"Runda 1\",'01'!E24,IF($O$33=\"Runda 2\",'01'!P24,IF($O$33=\"Runda 3\",'01'!AA24,IF($O$33=\"Runda 4\",'01'!AL24,IF($O$33=\"Runda 5\",'01'!AW24,0)))))","v":""},{"$f":"IF($O$33=\"Runda 1\",'01'!F24,IF($O$33=\"Runda 2\",'01'!Q24,IF($O$33=\"Runda 3\",'01'!AB24,IF($O$33=\"Runda 4\",'01'!AM24,IF($O$33=\"Runda 5\",'01'!AX24,0)))))","v":""},{"$f":"IF($O$33=\"Runda 1\",'01'!G24,IF($O$33=\"Runda 2\",'01'!R24,IF($O$33=\"Runda 3\",'01'!AC24,IF($O$33=\"Runda 4\",'01'!AN24,IF($O$33=\"Runda 5\",'01'!AY24,0)))))","v":""},{"$f":"IF($O$33=\"Runda 1\",'01'!H24,IF($O$33=\"Runda 2\",'01'!S24,IF($O$33=\"Runda 3\",'01'!AD24,IF($O$33=\"Runda 4\",'01'!AO24,IF($O$33=\"Runda 5\",'01'!AZ24,0)))))","v":""},{"$f":"IF($O$33=\"Runda 1\",'01'!I24,IF($O$33=\"Runda 2\",'01'!T24,IF($O$33=\"Runda 3\",'01'!AE24,IF($O$33=\"Runda 4\",'01'!AP24,IF($O$33=\"Runda 5\",'01'!BA24,0)))))","v":""},{"$f":"IF($O$33=\"Runda 1\",'01'!J24,IF($O$33=\"Runda 2\",'01'!U24,IF($O$33=\"Runda 3\",'01'!AF24,IF($O$33=\"Runda 4\",'01'!AQ24,IF($O$33=\"Runda 5\",'01'!BB24,0)))))","v":""},{"$f":"IF($O$33=\"Runda 1\",'01'!K24,IF($O$33=\"Runda 2\",'01'!V24,IF($O$33=\"Runda 3\",'01'!AG24,IF($O$33=\"Runda 4\",'01'!AR24,IF($O$33=\"Runda 5\",'01'!BC24,0)))))","v":""},{"$f":"IF($O$33=\"Runda 1\",'01'!L24,IF($O$33=\"Runda 2\",'01'!W24,IF($O$33=\"Runda 3\",'01'!AH24,IF($O$33=\"Runda 4\",'01'!AS24,IF($O$33=\"Runda 5\",'01'!BD24,0)))))","v":""},0,{"$f":"IF(Z39>Z38,3,IF(Z39<Z38,0,1))","v":1}]
["Pentru echipa organizatoare: Fisele trebuie sa contina componentele echipelor, rezultatele jocurilor si contestatiile care vor fi depuse de echipe"]

{"sheet":"01","index":5,"n_rows":72,"n_cols":57,"rows_kept":72,"cut":false,"hidden":true,"merged":[]}
["No","Team",1,2,3,4,5,6,7,8,9,10,null,11,12,13,14,15,16,17,18,19,20,null,21,22,23,24,25,26,27,28,29,30,null,31,32,33,34,35,36,37,38,39,40,null,41,42,43,44,45,46,47,48,49,50]
[1,{"$f":"IF(Clasament!B3=\"\",\"\",Clasament!B3)","v":"Asachi 0"},{"$f":"IF(Clasament!C3=\"+\",1,\"\")","v":""},{"$f":"IF(Clasament!D3=\"+\",1,\"\")","v":""},{"$f":"IF(Clasament!E3=\"+\",1,\"\")","v":""},{"$f":"IF(Clasament!F3=\"+\",1,\"\")","v":""},{"$f":"IF(Clasament!G3=\"+\",1,\"\")","v":""},{"$f":"IF(Clasament!H3=\"+\",1,\"\")","v":""},{"$f":"IF(Clasament!I3=\"+\",1,\"\")","v":""},{"$f":"IF(Clasament!J3=\"+\",1,\"\")","v":""},{"$f":"IF(Clasament!K3=\"+\",1,\"\")","v":""},{"$f":"IF(Clasament!L3=\"+\",1,\"\")","v":""},{"$f":"SUM(C2:L2)","v":0},{"$f":"IF(Clasament!N3=\"+\",1,\"\")","v":""},{"$f":"IF(Clasament!O3=\"+\",1,\"\")","v":""},{"$f":"IF(Clasament!P3=\"+\",1,\"\")","v":""},{"$f":"IF(Clasament!Q3=\"+\",1,\"\")","v":""},{"$f":"IF(Clasament!R3=\"+\",1,\"\")","v":""},{"$f":"IF(Clasament!S3=\"+\",1,\"\")","v":""},{"$f":"IF(Clasament!T3=\"+\",1,\"\")","v":""},{"$f":"IF(Clasament!U3=\"+\",1,\"\")","v":""},{"$f":"IF(Clasament!V3=\"+\",1,\"\")","v":""},{"$f":"IF(Clasament!W3=\"+\",1,\"\")","v":""},{"$f":"SUM(N2:W2)","v":0},{"$f":"IF(Clasament!Y3=\"+\",1,\"\")","v":""},{"$f":"IF(Clasament!Z3=\"+\",1,\"\")","v":""},{"$f":"IF(Clasament!AA3=\"+\",1,\"\")","v":""},{"$f":"IF(Clasament!AB3=\"+\",1,\"\")","v":""},{"$f":"IF(Clasament!AC3=\"+\",1,\"\")","v":""},{"$f":"IF(Clasament!AD3=\"+\",1,\"\")","v":""},{"$f":"IF(Clasament!AE3=\"+\",1,\"\")","v":""},{"$f":"IF(Clasament!AF3=\"+\",1,\"\")","v":""},{"$f":"IF(Clasament!AG3=\"+\",1,\"\")","v":""},{"$f":"IF(Clasament!AH3=\"+\",1,\"\")","v":""},{"$f":"SUM(Y2:AH2)","v":0},{"$f":"IF(Clasament!AJ3=\"+\",1,\"\")","v":""},{"$f":"IF(Clasament!AK3=\"+\",1,\"\")","v":""},{"$f":"IF(Clasament!AL3=\"+\",1,\"\")","v":""},{"$f":"IF(Clasament!AM3=\"+\",1,\"\")","v":""},{"$f":"IF(Clasament!AN3=\"+\",1,\"\")","v":""},{"$f":"IF(Clasament!AO3=\"+\",1,\"\")","v":""},{"$f":"IF(Clasament!AP3=\"+\",1,\"\")","v":""},{"$f":"IF(Clasament!AQ3=\"+\",1,\"\")","v":""},{"$f":"IF(Clasament!AR3=\"+\",1,\"\")","v":""},{"$f":"IF(Clasament!AS3=\"+\",1,\"\")","v":""},{"$f":"SUM(AJ2:AS2)","v":0},{"$f":"IF(Clasament!AU3=\"+\",1,\"\")","v":""},{"$f":"IF(Clasament!AV3=\"+\",1,\"\")","v":""},{"$f":"IF(Clasament!AW3=\"+\",1,\"\")","v":""},{"$f":"IF(Clasament!AX3=\"+\",1,\"\")","v":""},{"$f":"IF(Clasament!AY3=\"+\",1,\"\")","v":""},{"$f":"IF(Clasament!AZ3=\"+\",1,\"\")","v":""},{"$f":"IF(Clasament!BA3=\"+\",1,\"\")","v":""},{"$f":"IF(Clasament!BB3=\"+\",1,\"\")","v":""},{"$f":"IF(Clasament!BC3=\"+\",1,\"\")","v":""},{"$f":"IF(Clasament!BD3=\"+\",1,\"\")","v":""},{"$f":"SUM(AU2:BD2)","v":0}]
[2,{"$f":"IF(Clasament!B4=\"\",\"\",Clasament!B4)","v":"Maktub 0"},{"$f":"IF(Clasament!C4=\"+\",1,\"\")","v":""},{"$f":"IF(Clasament!D4=\"+\",1,\"\")","v":""},{"$f":"IF(Clasament!E4=\"+\",1,\"\")","v":""},{"$f":"IF(Clasament!F4=\"+\",1,\"\")","v":""},{"$f":"IF(Clasament!G4=\"+\",1,\"\")","v":""},{"$f":"IF(Clasament!H4=\"+\",1,\"\")","v":""},{"$f":"IF(Clasament!I4=\"+\",1,\"\")","v":""},{"$f":"IF(Clasament!J4=\"+\",1,\"\")","v":""},{"$f":"IF(Clasament!K4=\"+\",1,\"\")","v":""},{"$f":"IF(Clasament!L4=\"+\",1,\"\")","v":""},0,{"$f":"IF(Clasament!N4=\"+\",1,\"\")","v":""},{"$f":"IF(Clasament!O4=\"+\",1,\"\")","v":""},{"$f":"IF(Clasament!P4=\"+\",1,\"\")","v":""},{"$f":"IF(Clasament!Q4=\"+\",1,\"\")","v":""},{"$f":"IF(Clasament!R4=\"+\",1,\"\")","v":""},{"$f":"IF(Clasament!S4=\"+\",1,\"\")","v":""},{"$f":"IF(Clasament!T4=\"+\",1,\"\")","v":""},{"$f":"IF(Clasament!U4=\"+\",1,\"\")","v":""},{"$f":"IF(Clasament!V4=\"+\",1,\"\")","v":""},{"$f":"IF(Clasament!W4=\"+\",1,\"\")","v":""},0,{"$f":"IF(Clasament!Y4=\"+\",1,\"\")","v":""},{"$f":"IF(Clasament!Z4=\"+\",1,\"\")","v":""},{"$f":"IF(Clasament!AA4=\"+\",1,\"\")","v":""},{"$f":"IF(Clasament!AB4=\"+\",1,\"\")","v":""},{"$f":"IF(Clasament!AC4=\"+\",1,\"\")","v":""},{"$f":"IF(Clasament!AD4=\"+\",1,\"\")","v":""},{"$f":"IF(Clasament!AE4=\"+\",1,\"\")","v":""},{"$f":"IF(Clasament!AF4=\"+\",1,\"\")","v":""},{"$f":"IF(Clasament!AG4=\"+\",1,\"\")","v":""},{"$f":"IF(Clasament!AH4=\"+\",1,\"\")","v":""},0,{"$f":"IF(Clasament!AJ4=\"+\",1,\"\")","v":""},{"$f":"IF(Clasament!AK4=\"+\",1,\"\")","v":""},{"$f":"IF(Clasament!AL4=\"+\",1,\"\")","v":""},{"$f":"IF(Clasament!AM4=\"+\",1,\"\")","v":""},{"$f":"IF(Clasament!AN4=\"+\",1,\"\")","v":""},{"$f":"IF(Clasament!AO4=\"+\",1,\"\")","v":""},{"$f":"IF(Clasament!AP4=\"+\",1,\"\")","v":""},{"$f":"IF(Clasament!AQ4=\"+\",1,\"\")","v":""},{"$f":"IF(Clasament!AR4=\"+\",1,\"\")","v":""},{"$f":"IF(Clasament!AS4=\"+\",1,\"\")","v":""},0,{"$f":"IF(Clasament!AU4=\"+\",1,\"\")","v":""},{"$f":"IF(Clasament!AV4=\"+\",1,\"\")","v":""},{"$f":"IF(Clasament!AW4=\"+\",1,\"\")","v":""},{"$f":"IF(Clasament!AX4=\"+\",1,\"\")","v":""},{"$f":"IF(Clasament!AY4=\"+\",1,\"\")","v":""},{"$f":"IF(Clasament!AZ4=\"+\",1,\"\")","v":""},{"$f":"IF(Clasament!BA4=\"+\",1,\"\")","v":""},{"$f":"IF(Clasament!BB4=\"+\",1,\"\")","v":""},{"$f":"IF(Clasament!BC4=\"+\",1,\"\")","v":""},{"$f":"IF(Clasament!BD4=\"+\",1,\"\")","v":""},0]
[3,{"$f":"IF(Clasament!B5=\"\",\"\",Clasament!B5)","v":"Acord 0"},{"$f":"IF(Clasament!C5=\"+\",1,\"\")","v":""},{"$f":"IF(Clasament!D5=\"+\",1,\"\")","v":""},{"$f":"IF(Clasament!E5=\"+\",1,\"\")","v":""},{"$f":"IF(Clasament!F5=\"+\",1,\"\")","v":""},{"$f":"IF(Clasament!G5=\"+\",1,\"\")","v":""},{"$f":"IF(Clasament!H5=\"+\",1,\"\")","v":""},{"$f":"IF(Clasament!I5=\"+\",1,\"\")","v":""},{"$f":"IF(Clasament!J5=\"+\",1,\"\")","v":""},{"$f":"IF(Clasament!K5=\"+\",1,\"\")","v":""},{"$f":"IF(Clasament!L5=\"+\",1,\"\")","v":""},0,{"$f":"IF(Clasament!N5=\"+\",1,\"\")","v":""},{"$f":"IF(Clasament!O5=\"+\",1,\"\")","v":""},{"$f":"IF(Clasament!P5=\"+\",1,\"\")","v":""},{"$f":"IF(Clasament!Q5=\"+\",1,\"\")","v":""},{"$f":"IF(Clasament!R5=\"+\",1,\"\")","v":""},{"$f":"IF(Clasament!S5=\"+\",1,\"\")","v":""},{"$f":"IF(Clasament!T5=\"+\",1,\"\")","v":""},{"$f":"IF(Clasament!U5=\"+\",1,\"\")","v":""},{"$f":"IF(Clasament!V5=\"+\",1,\"\")","v":""},{"$f":"IF(Clasament!W5=\"+\",1,\"\")","v":""},0,{"$f":"IF(Clasament!Y5=\"+\",1,\"\")","v":""},{"$f":"IF(Clasament!Z5=\"+\",1,\"\")","v":""},{"$f":"IF(Clasament!AA5=\"+\",1,\"\")","v":""},{"$f":"IF(Clasament!AB5=\"+\",1,\"\")","v":""},{"$f":"IF(Clasament!AC5=\"+\",1,\"\")","v":""},{"$f":"IF(Clasament!AD5=\"+\",1,\"\")","v":""},{"$f":"IF(Clasament!AE5=\"+\",1,\"\")","v":""},{"$f":"IF(Clasament!AF5=\"+\",1,\"\")","v":""},{"$f":"IF(Clasament!AG5=\"+\",1,\"\")","v":""},{"$f":"IF(Clasament!AH5=\"+\",1,\"\")","v":""},0,{"$f":"IF(Clasament!AJ5=\"+\",1,\"\")","v":""},{"$f":"IF(Clasament!AK5=\"+\",1,\"\")","v":""},{"$f":"IF(Clasament!AL5=\"+\",1,\"\")","v":""},{"$f":"IF(Clasament!AM5=\"+\",1,\"\")","v":""},{"$f":"IF(Clasament!AN5=\"+\",1,\"\")","v":""},{"$f":"IF(Clasament!AO5=\"+\",1,\"\")","v":""},{"$f":"IF(Clasament!AP5=\"+\",1,\"\")","v":""},{"$f":"IF(Clasament!AQ5=\"+\",1,\"\")","v":""},{"$f":"IF(Clasament!AR5=\"+\",1,\"\")","v":""},{"$f":"IF(Clasament!AS5=\"+\",1,\"\")","v":""},0,{"$f":"IF(Clasament!AU5=\"+\",1,\"\")","v":""},{"$f":"IF(Clasament!AV5=\"+\",1,\"\")","v":""},{"$f":"IF(Clasament!AW5=\"+\",1,\"\")","v":""},{"$f":"IF(Clasament!AX5=\"+\",1,\"\")","v":""},{"$f":"IF(Clasament!AY5=\"+\",1,\"\")","v":""},{"$f":"IF(Clasament!AZ5=\"+\",1,\"\")","v":""},{"$f":"IF(Clasament!BA5=\"+\",1,\"\")","v":""},{"$f":"IF(Clasament!BB5=\"+\",1,\"\")","v":""},{"$f":"IF(Clasament!BC5=\"+\",1,\"\")","v":""},{"$f":"IF(Clasament!BD5=\"+\",1,\"\")","v":""},0]
[4,{"$f":"IF(Clasament!B6=\"\",\"\",Clasament!B6)","v":"O 0"},{"$f":"IF(Clasament!C6=\"+\",1,\"\")","v":""},{"$f":"IF(Clasament!D6=\"+\",1,\"\")","v":""},{"$f":"IF(Clasament!E6=\"+\",1,\"\")","v":""},{"$f":"IF(Clasament!F6=\"+\",1,\"\")","v":""},{"$f":"IF(Clasament!G6=\"+\",1,\"\")","v":""},{"$f":"IF(Clasament!H6=\"+\",1,\"\")","v":""},{"$f":"IF(Clasament!I6=\"+\",1,\"\")","v":""},{"$f":"IF(Clasament!J6=\"+\",1,\"\")","v":""},{"$f":"IF(Clasament!K6=\"+\",1,\"\")","v":""},{"$f":"IF(Clasament!L6=\"+\",1,\"\")","v":""},0,{"$f":"IF(Clasament!N6=\"+\",1,\"\")","v":""},{"$f":"IF(Clasament!O6=\"+\",1,\"\")","v":""},{"$f":"IF(Clasament!P6=\"+\",1,\"\")","v":""},{"$f":"IF(Clasament!Q6=\"+\",1,\"\")","v":""},{"$f":"IF(Clasament!R6=\"+\",1,\"\")","v":""},{"$f":"IF(Clasament!S6=\"+\",1,\"\")","v":""},{"$f":"IF(Clasament!T6=\"+\",1,\"\")","v":""},{"$f":"IF(Clasament!U6=\"+\",1,\"\")","v":""},{"$f":"IF(Clasament!V6=\"+\",1,\"\")","v":""},{"$f":"IF(Clasament!W6=\"+\",1,\"\")","v":""},0,{"$f":"IF(Clasament!Y6=\"+\",1,\"\")","v":""},{"$f":"IF(Clasament!Z6=\"+\",1,\"\")","v":""},{"$f":"IF(Clasament!AA6=\"+\",1,\"\")","v":""},{"$f":"IF(Clasament!AB6=\"+\",1,\"\")","v":""},{"$f":"IF(Clasament!AC6=\"+\",1,\"\")","v":""},{"$f":"IF(Clasament!AD6=\"+\",1,\"\")","v":""},{"$f":"IF(Clasament!AE6=\"+\",1,\"\")","v":""},{"$f":"IF(Clasament!AF6=\"+\",1,\"\")","v":""},{"$f":"IF(Clasament!AG6=\"+\",1,\"\")","v":""},{"$f":"IF(Clasament!AH6=\"+\",1,\"\")","v":""},0,{"$f":"IF(Clasament!AJ6=\"+\",1,\"\")","v":""},{"$f":"IF(Clasament!AK6=\"+\",1,\"\")","v":""},{"$f":"IF(Clasament!AL6=\"+\",1,\"\")","v":""},{"$f":"IF(Clasament!AM6=\"+\",1,\"\")","v":""},{"$f":"IF(Clasament!AN6=\"+\",1,\"\")","v":""},{"$f":"IF(Clasament!AO6=\"+\",1,\"\")","v":""},{"$f":"IF(Clasament!AP6=\"+\",1,\"\")","v":""},{"$f":"IF(Clasament!AQ6=\"+\",1,\"\")","v":""},{"$f":"IF(Clasament!AR6=\"+\",1,\"\")","v":""},{"$f":"IF(Clasament!AS6=\"+\",1,\"\")","v":""},0,{"$f":"IF(Clasament!AU6=\"+\",1,\"\")","v":""},{"$f":"IF(Clasament!AV6=\"+\",1,\"\")","v":""},{"$f":"IF(Clasament!AW6=\"+\",1,\"\")","v":""},{"$f":"IF(Clasament!AX6=\"+\",1,\"\")","v":""},{"$f":"IF(Clasament!AY6=\"+\",1,\"\")","v":""},{"$f":"IF(Clasament!AZ6=\"+\",1,\"\")","v":""},{"$f":"IF(Clasament!BA6=\"+\",1,\"\")","v":""},{"$f":"IF(Clasament!BB6=\"+\",1,\"\")","v":""},{"$f":"IF(Clasament!BC6=\"+\",1,\"\")","v":""},{"$f":"IF(Clasament!BD6=\"+\",1,\"\")","v":""},0]
[5,{"$f":"IF(Clasament!B7=\"\",\"\",Clasament!B7)","v":"10 Lei 0"},{"$f":"IF(Clasament!C7=\"+\",1,\"\")","v":""},{"$f":"IF(Clasament!D7=\"+\",1,\"\")","v":""},{"$f":"IF(Clasament!E7=\"+\",1,\"\")","v":""},{"$f":"IF(Clasament!F7=\"+\",1,\"\")","v":""},{"$f":"IF(Clasament!G7=\"+\",1,\"\")","v":""},{"$f":"IF(Clasament!H7=\"+\",1,\"\")","v":""},{"$f":"IF(Clasament!I7=\"+\",1,\"\")","v":""},{"$f":"IF(Clasament!J7=\"+\",1,\"\")","v":""},{"$f":"IF(Clasament!K7=\"+\",1,\"\")","v":""},{"$f":"IF(Clasament!L7=\"+\",1,\"\")","v":""},0,{"$f":"IF(Clasament!N7=\"+\",1,\"\")","v":""},{"$f":"IF(Clasament!O7=\"+\",1,\"\")","v":""},{"$f":"IF(Clasament!P7=\"+\",1,\"\")","v":""},{"$f":"IF(Clasament!Q7=\"+\",1,\"\")","v":""},{"$f":"IF(Clasament!R7=\"+\",1,\"\")","v":""},{"$f":"IF(Clasament!S7=\"+\",1,\"\")","v":""},{"$f":"IF(Clasament!T7=\"+\",1,\"\")","v":""},{"$f":"IF(Clasament!U7=\"+\",1,\"\")","v":""},{"$f":"IF(Clasament!V7=\"+\",1,\"\")","v":""},{"$f":"IF(Clasament!W7=\"+\",1,\"\")","v":""},0,{"$f":"IF(Clasament!Y7=\"+\",1,\"\")","v":""},{"$f":"IF(Clasament!Z7=\"+\",1,\"\")","v":""},{"$f":"IF(Clasament!AA7=\"+\",1,\"\")","v":""},{"$f":"IF(Clasament!AB7=\"+\",1,\"\")","v":""},{"$f":"IF(Clasament!AC7=\"+\",1,\"\")","v":""},{"$f":"IF(Clasament!AD7=\"+\",1,\"\")","v":""},{"$f":"IF(Clasament!AE7=\"+\",1,\"\")","v":""},{"$f":"IF(Clasament!AF7=\"+\",1,\"\")","v":""},{"$f":"IF(Clasament!AG7=\"+\",1,\"\")","v":""},{"$f":"IF(Clasament!AH7=\"+\",1,\"\")","v":""},0,{"$f":"IF(Clasament!AJ7=\"+\",1,\"\")","v":""},{"$f":"IF(Clasament!AK7=\"+\",1,\"\")","v":""},{"$f":"IF(Clasament!AL7=\"+\",1,\"\")","v":""},{"$f":"IF(Clasament!AM7=\"+\",1,\"\")","v":""},{"$f":"IF(Clasament!AN7=\"+\",1,\"\")","v":""},{"$f":"IF(Clasament!AO7=\"+\",1,\"\")","v":""},{"$f":"IF(Clasament!AP7=\"+\",1,\"\")","v":""},{"$f":"IF(Clasament!AQ7=\"+\",1,\"\")","v":""},{"$f":"IF(Clasament!AR7=\"+\",1,\"\")","v":""},{"$f":"IF(Clasament!AS7=\"+\",1,\"\")","v":""},0,{"$f":"IF(Clasament!AU7=\"+\",1,\"\")","v":""},{"$f":"IF(Clasament!AV7=\"+\",1,\"\")","v":""},{"$f":"IF(Clasament!AW7=\"+\",1,\"\")","v":""},{"$f":"IF(Clasament!AX7=\"+\",1,\"\")","v":""},{"$f":"IF(Clasament!AY7=\"+\",1,\"\")","v":""},{"$f":"IF(Clasament!AZ7=\"+\",1,\"\")","v":""},{"$f":"IF(Clasament!BA7=\"+\",1,\"\")","v":""},{"$f":"IF(Clasament!BB7=\"+\",1,\"\")","v":""},{"$f":"IF(Clasament!BC7=\"+\",1,\"\")","v":""},{"$f":"IF(Clasament!BD7=\"+\",1,\"\")","v":""},0]
[6,{"$f":"IF(Clasament!B8=\"\",\"\",Clasament!B8)","v":"GM 0"},{"$f":"IF(Clasament!C8=\"+\",1,\"\")","v":""},{"$f":"IF(Clasament!D8=\"+\",1,\"\")","v":""},{"$f":"IF(Clasament!E8=\"+\",1,\"\")","v":""},{"$f":"IF(Clasament!F8=\"+\",1,\"\")","v":""},{"$f":"IF(Clasament!G8=\"+\",1,\"\")","v":""},{"$f":"IF(Clasament!H8=\"+\",1,\"\")","v":""},{"$f":"IF(Clasament!I8=\"+\",1,\"\")","v":""},{"$f":"IF(Clasament!J8=\"+\",1,\"\")","v":""},{"$f":"IF(Clasament!K8=\"+\",1,\"\")","v":""},{"$f":"IF(Clasament!L8=\"+\",1,\"\")","v":""},0,{"$f":"IF(Clasament!N8=\"+\",1,\"\")","v":""},{"$f":"IF(Clasament!O8=\"+\",1,\"\")","v":""},{"$f":"IF(Clasament!P8=\"+\",1,\"\")","v":""},{"$f":"IF(Clasament!Q8=\"+\",1,\"\")","v":""},{"$f":"IF(Clasament!R8=\"+\",1,\"\")","v":""},{"$f":"IF(Clasament!S8=\"+\",1,\"\")","v":""},{"$f":"IF(Clasament!T8=\"+\",1,\"\")","v":""},{"$f":"IF(Clasament!U8=\"+\",1,\"\")","v":""},{"$f":"IF(Clasament!V8=\"+\",1,\"\")","v":""},{"$f":"IF(Clasament!W8=\"+\",1,\"\")","v":""},0,{"$f":"IF(Clasament!Y8=\"+\",1,\"\")","v":""},{"$f":"IF(Clasament!Z8=\"+\",1,\"\")","v":""},{"$f":"IF(Clasament!AA8=\"+\",1,\"\")","v":""},{"$f":"IF(Clasament!AB8=\"+\",1,\"\")","v":""},{"$f":"IF(Clasament!AC8=\"+\",1,\"\")","v":""},{"$f":"IF(Clasament!AD8=\"+\",1,\"\")","v":""},{"$f":"IF(Clasament!AE8=\"+\",1,\"\")","v":""},{"$f":"IF(Clasament!AF8=\"+\",1,\"\")","v":""},{"$f":"IF(Clasament!AG8=\"+\",1,\"\")","v":""},{"$f":"IF(Clasament!AH8=\"+\",1,\"\")","v":""},0,{"$f":"IF(Clasament!AJ8=\"+\",1,\"\")","v":""},{"$f":"IF(Clasament!AK8=\"+\",1,\"\")","v":""},{"$f":"IF(Clasament!AL8=\"+\",1,\"\")","v":""},{"$f":"IF(Clasament!AM8=\"+\",1,\"\")","v":""},{"$f":"IF(Clasament!AN8=\"+\",1,\"\")","v":""},{"$f":"IF(Clasament!AO8=\"+\",1,\"\")","v":""},{"$f":"IF(Clasament!AP8=\"+\",1,\"\")","v":""},{"$f":"IF(Clasament!AQ8=\"+\",1,\"\")","v":""},{"$f":"IF(Clasament!AR8=\"+\",1,\"\")","v":""},{"$f":"IF(Clasament!AS8=\"+\",1,\"\")","v":""},0,{"$f":"IF(Clasament!AU8=\"+\",1,\"\")","v":""},{"$f":"IF(Clasament!AV8=\"+\",1,\"\")","v":""},{"$f":"IF(Clasament!AW8=\"+\",1,\"\")","v":""},{"$f":"IF(Clasament!AX8=\"+\",1,\"\")","v":""},{"$f":"IF(Clasament!AY8=\"+\",1,\"\")","v":""},{"$f":"IF(Clasament!AZ8=\"+\",1,\"\")","v":""},{"$f":"IF(Clasament!BA8=\"+\",1,\"\")","v":""},{"$f":"IF(Clasament!BB8=\"+\",1,\"\")","v":""},{"$f":"IF(Clasament!BC8=\"+\",1,\"\")","v":""},{"$f":"IF(Clasament!BD8=\"+\",1,\"\")","v":""},0]
[7,{"$f":"IF(Clasament!B9=\"\",\"\",Clasament!B9)","v":"Wrigley's S. 0"},{"$f":"IF(Clasament!C9=\"+\",1,\"\")","v":""},{"$f":"IF(Clasament!D9=\"+\",1,\"\")","v":""},{"$f":"IF(Clasament!E9=\"+\",1,\"\")","v":""},{"$f":"IF(Clasament!F9=\"+\",1,\"\")","v":""},{"$f":"IF(Clasament!G9=\"+\",1,\"\")","v":""},{"$f":"IF(Clasament!H9=\"+\",1,\"\")","v":""},{"$f":"IF(Clasament!I9=\"+\",1,\"\")","v":""},{"$f":"IF(Clasament!J9=\"+\",1,\"\")","v":""},{"$f":"IF(Clasament!K9=\"+\",1,\"\")","v":""},{"$f":"IF(Clasament!L9=\"+\",1,\"\")","v":""},0,{"$f":"IF(Clasament!N9=\"+\",1,\"\")","v":""},{"$f":"IF(Clasament!O9=\"+\",1,\"\")","v":""},{"$f":"IF(Clasament!P9=\"+\",1,\"\")","v":""},{"$f":"IF(Clasament!Q9=\"+\",1,\"\")","v":""},{"$f":"IF(Clasament!R9=\"+\",1,\"\")","v":""},{"$f":"IF(Clasament!S9=\"+\",1,\"\")","v":""},{"$f":"IF(Clasament!T9=\"+\",1,\"\")","v":""},{"$f":"IF(Clasament!U9=\"+\",1,\"\")","v":""},{"$f":"IF(Clasament!V9=\"+\",1,\"\")","v":""},{"$f":"IF(Clasament!W9=\"+\",1,\"\")","v":""},0,{"$f":"IF(Clasament!Y9=\"+\",1,\"\")","v":""},{"$f":"IF(Clasament!Z9=\"+\",1,\"\")","v":""},{"$f":"IF(Clasament!AA9=\"+\",1,\"\")","v":""},{"$f":"IF(Clasament!AB9=\"+\",1,\"\")","v":""},{"$f":"IF(Clasament!AC9=\"+\",1,\"\")","v":""},{"$f":"IF(Clasament!AD9=\"+\",1,\"\")","v":""},{"$f":"IF(Clasament!AE9=\"+\",1,\"\")","v":""},{"$f":"IF(Clasament!AF9=\"+\",1,\"\")","v":""},{"$f":"IF(Clasament!AG9=\"+\",1,\"\")","v":""},{"$f":"IF(Clasament!AH9=\"+\",1,\"\")","v":""},0,{"$f":"IF(Clasament!AJ9=\"+\",1,\"\")","v":""},{"$f":"IF(Clasament!AK9=\"+\",1,\"\")","v":""},{"$f":"IF(Clasament!AL9=\"+\",1,\"\")","v":""},{"$f":"IF(Clasament!AM9=\"+\",1,\"\")","v":""},{"$f":"IF(Clasament!AN9=\"+\",1,\"\")","v":""},{"$f":"IF(Clasament!AO9=\"+\",1,\"\")","v":""},{"$f":"IF(Clasament!AP9=\"+\",1,\"\")","v":""},{"$f":"IF(Clasament!AQ9=\"+\",1,\"\")","v":""},{"$f":"IF(Clasament!AR9=\"+\",1,\"\")","v":""},{"$f":"IF(Clasament!AS9=\"+\",1,\"\")","v":""},0,{"$f":"IF(Clasament!AU9=\"+\",1,\"\")","v":""},{"$f":"IF(Clasament!AV9=\"+\",1,\"\")","v":""},{"$f":"IF(Clasament!AW9=\"+\",1,\"\")","v":""},{"$f":"IF(Clasament!AX9=\"+\",1,\"\")","v":""},{"$f":"IF(Clasament!AY9=\"+\",1,\"\")","v":""},{"$f":"IF(Clasament!AZ9=\"+\",1,\"\")","v":""},{"$f":"IF(Clasament!BA9=\"+\",1,\"\")","v":""},{"$f":"IF(Clasament!BB9=\"+\",1,\"\")","v":""},{"$f":"IF(Clasament!BC9=\"+\",1,\"\")","v":""},{"$f":"IF(Clasament!BD9=\"+\",1,\"\")","v":""},0]
[8,{"$f":"IF(Clasament!B10=\"\",\"\",Clasament!B10)","v":"Kernel Panic 0"},{"$f":"IF(Clasament!C10=\"+\",1,\"\")","v":""},{"$f":"IF(Clasament!D10=\"+\",1,\"\")","v":""},{"$f":"IF(Clasament!E10=\"+\",1,\"\")","v":""},{"$f":"IF(Clasament!F10=\"+\",1,\"\")","v":""},{"$f":"IF(Clasament!G10=\"+\",1,\"\")","v":""},{"$f":"IF(Clasament!H10=\"+\",1,\"\")","v":""},{"$f":"IF(Clasament!I10=\"+\",1,\"\")","v":""},{"$f":"IF(Clasament!J10=\"+\",1,\"\")","v":""},{"$f":"IF(Clasament!K10=\"+\",1,\"\")","v":""},{"$f":"IF(Clasament!L10=\"+\",1,\"\")","v":""},0,{"$f":"IF(Clasament!N10=\"+\",1,\"\")","v":""},{"$f":"IF(Clasament!O10=\"+\",1,\"\")","v":""},{"$f":"IF(Clasament!P10=\"+\",1,\"\")","v":""},{"$f":"IF(Clasament!Q10=\"+\",1,\"\")","v":""},{"$f":"IF(Clasament!R10=\"+\",1,\"\")","v":""},{"$f":"IF(Clasament!S10=\"+\",1,\"\")","v":""},{"$f":"IF(Clasament!T10=\"+\",1,\"\")","v":""},{"$f":"IF(Clasament!U10=\"+\",1,\"\")","v":""},{"$f":"IF(Clasament!V10=\"+\",1,\"\")","v":""},{"$f":"IF(Clasament!W10=\"+\",1,\"\")","v":""},0,{"$f":"IF(Clasament!Y10=\"+\",1,\"\")","v":""},{"$f":"IF(Clasament!Z10=\"+\",1,\"\")","v":""},{"$f":"IF(Clasament!AA10=\"+\",1,\"\")","v":""},{"$f":"IF(Clasament!AB10=\"+\",1,\"\")","v":""},{"$f":"IF(Clasament!AC10=\"+\",1,\"\")","v":""},{"$f":"IF(Clasament!AD10=\"+\",1,\"\")","v":""},{"$f":"IF(Clasament!AE10=\"+\",1,\"\")","v":""},{"$f":"IF(Clasament!AF10=\"+\",1,\"\")","v":""},{"$f":"IF(Clasament!AG10=\"+\",1,\"\")","v":""},{"$f":"IF(Clasament!AH10=\"+\",1,\"\")","v":""},0,{"$f":"IF(Clasament!AJ10=\"+\",1,\"\")","v":""},{"$f":"IF(Clasament!AK10=\"+\",1,\"\")","v":""},{"$f":"IF(Clasament!AL10=\"+\",1,\"\")","v":""},{"$f":"IF(Clasament!AM10=\"+\",1,\"\")","v":""},{"$f":"IF(Clasament!AN10=\"+\",1,\"\")","v":""},{"$f":"IF(Clasament!AO10=\"+\",1,\"\")","v":""},{"$f":"IF(Clasament!AP10=\"+\",1,\"\")","v":""},{"$f":"IF(Clasament!AQ10=\"+\",1,\"\")","v":""},{"$f":"IF(Clasament!AR10=\"+\",1,\"\")","v":""},{"$f":"IF(Clasament!AS10=\"+\",1,\"\")","v":""},0,{"$f":"IF(Clasament!AU10=\"+\",1,\"\")","v":""},{"$f":"IF(Clasament!AV10=\"+\",1,\"\")","v":""},{"$f":"IF(Clasament!AW10=\"+\",1,\"\")","v":""},{"$f":"IF(Clasament!AX10=\"+\",1,\"\")","v":""},{"$f":"IF(Clasament!AY10=\"+\",1,\"\")","v":""},{"$f":"IF(Clasament!AZ10=\"+\",1,\"\")","v":""},{"$f":"IF(Clasament!BA10=\"+\",1,\"\")","v":""},{"$f":"IF(Clasament!BB10=\"+\",1,\"\")","v":""},{"$f":"IF(Clasament!BC10=\"+\",1,\"\")","v":""},{"$f":"IF(Clasament!BD10=\"+\",1,\"\")","v":""},0]
[9,{"$f":"IF(Clasament!B11=\"\",\"\",Clasament!B11)","v":"A-Team 0"},{"$f":"IF(Clasament!C11=\"+\",1,\"\")","v":""},{"$f":"IF(Clasament!D11=\"+\",1,\"\")","v":""},{"$f":"IF(Clasament!E11=\"+\",1,\"\")","v":""},{"$f":"IF(Clasament!F11=\"+\",1,\"\")","v":""},{"$f":"IF(Clasament!G11=\"+\",1,\"\")","v":""},{"$f":"IF(Clasament!H11=\"+\",1,\"\")","v":""},{"$f":"IF(Clasament!I11=\"+\",1,\"\")","v":""},{"$f":"IF(Clasament!J11=\"+\",1,\"\")","v":""},{"$f":"IF(Clasament!K11=\"+\",1,\"\")","v":""},{"$f":"IF(Clasament!L11=\"+\",1,\"\")","v":""},0,{"$f":"IF(Clasament!N11=\"+\",1,\"\")","v":""},{"$f":"IF(Clasament!O11=\"+\",1,\"\")","v":""},{"$f":"IF(Clasament!P11=\"+\",1,\"\")","v":""},{"$f":"IF(Clasament!Q11=\"+\",1,\"\")","v":""},{"$f":"IF(Clasament!R11=\"+\",1,\"\")","v":""},{"$f":"IF(Clasament!S11=\"+\",1,\"\")","v":""},{"$f":"IF(Clasament!T11=\"+\",1,\"\")","v":""},{"$f":"IF(Clasament!U11=\"+\",1,\"\")","v":""},{"$f":"IF(Clasament!V11=\"+\",1,\"\")","v":""},{"$f":"IF(Clasament!W11=\"+\",1,\"\")","v":""},0,{"$f":"IF(Clasament!Y11=\"+\",1,\"\")","v":""},{"$f":"IF(Clasament!Z11=\"+\",1,\"\")","v":""},{"$f":"IF(Clasament!AA11=\"+\",1,\"\")","v":""},{"$f":"IF(Clasament!AB11=\"+\",1,\"\")","v":""},{"$f":"IF(Clasament!AC11=\"+\",1,\"\")","v":""},{"$f":"IF(Clasament!AD11=\"+\",1,\"\")","v":""},{"$f":"IF(Clasament!AE11=\"+\",1,\"\")","v":""},{"$f":"IF(Clasament!AF11=\"+\",1,\"\")","v":""},{"$f":"IF(Clasament!AG11=\"+\",1,\"\")","v":""},{"$f":"IF(Clasament!AH11=\"+\",1,\"\")","v":""},0,{"$f":"IF(Clasament!AJ11=\"+\",1,\"\")","v":""},{"$f":"IF(Clasament!AK11=\"+\",1,\"\")","v":""},{"$f":"IF(Clasament!AL11=\"+\",1,\"\")","v":""},{"$f":"IF(Clasament!AM11=\"+\",1,\"\")","v":""},{"$f":"IF(Clasament!AN11=\"+\",1,\"\")","v":""},{"$f":"IF(Clasament!AO11=\"+\",1,\"\")","v":""},{"$f":"IF(Clasament!AP11=\"+\",1,\"\")","v":""},{"$f":"IF(Clasament!AQ11=\"+\",1,\"\")","v":""},{"$f":"IF(Clasament!AR11=\"+\",1,\"\")","v":""},{"$f":"IF(Clasament!AS11=\"+\",1,\"\")","v":""},0,{"$f":"IF(Clasament!AU11=\"+\",1,\"\")","v":""},{"$f":"IF(Clasament!AV11=\"+\",1,\"\")","v":""},{"$f":"IF(Clasament!AW11=\"+\",1,\"\")","v":""},{"$f":"IF(Clasament!AX11=\"+\",1,\"\")","v":""},{"$f":"IF(Clasament!AY11=\"+\",1,\"\")","v":""},{"$f":"IF(Clasament!AZ11=\"+\",1,\"\")","v":""},{"$f":"IF(Clasament!BA11=\"+\",1,\"\")","v":""},{"$f":"IF(Clasament!BB11=\"+\",1,\"\")","v":""},{"$f":"IF(Clasament!BC11=\"+\",1,\"\")","v":""},{"$f":"IF(Clasament!BD11=\"+\",1,\"\")","v":""},0]
[10,{"$f":"IF(Clasament!B12=\"\",\"\",Clasament!B12)","v":"CLCT 0"},{"$f":"IF(Clasament!C12=\"+\",1,\"\")","v":""},{"$f":"IF(Clasament!D12=\"+\",1,\"\")","v":""},{"$f":"IF(Clasament!E12=\"+\",1,\"\")","v":""},{"$f":"IF(Clasament!F12=\"+\",1,\"\")","v":""},{"$f":"IF(Clasament!G12=\"+\",1,\"\")","v":""},{"$f":"IF(Clasament!H12=\"+\",1,\"\")","v":""},{"$f":"IF(Clasament!I12=\"+\",1,\"\")","v":""},{"$f":"IF(Clasament!J12=\"+\",1,\"\")","v":""},{"$f":"IF(Clasament!K12=\"+\",1,\"\")","v":""},{"$f":"IF(Clasament!L12=\"+\",1,\"\")","v":""},0,{"$f":"IF(Clasament!N12=\"+\",1,\"\")","v":""},{"$f":"IF(Clasament!O12=\"+\",1,\"\")","v":""},{"$f":"IF(Clasament!P12=\"+\",1,\"\")","v":""},{"$f":"IF(Clasament!Q12=\"+\",1,\"\")","v":""},{"$f":"IF(Clasament!R12=\"+\",1,\"\")","v":""},{"$f":"IF(Clasament!S12=\"+\",1,\"\")","v":""},{"$f":"IF(Clasament!T12=\"+\",1,\"\")","v":""},{"$f":"IF(Clasament!U12=\"+\",1,\"\")","v":""},{"$f":"IF(Clasament!V12=\"+\",1,\"\")","v":""},{"$f":"IF(Clasament!W12=\"+\",1,\"\")","v":""},0,{"$f":"IF(Clasament!Y12=\"+\",1,\"\")","v":""},{"$f":"IF(Clasament!Z12=\"+\",1,\"\")","v":""},{"$f":"IF(Clasament!AA12=\"+\",1,\"\")","v":""},{"$f":"IF(Clasament!AB12=\"+\",1,\"\")","v":""},{"$f":"IF(Clasament!AC12=\"+\",1,\"\")","v":""},{"$f":"IF(Clasament!AD12=\"+\",1,\"\")","v":""},{"$f":"IF(Clasament!AE12=\"+\",1,\"\")","v":""},{"$f":"IF(Clasament!AF12=\"+\",1,\"\")","v":""},{"$f":"IF(Clasament!AG12=\"+\",1,\"\")","v":""},{"$f":"IF(Clasament!AH12=\"+\",1,\"\")","v":""},0,{"$f":"IF(Clasament!AJ12=\"+\",1,\"\")","v":""},{"$f":"IF(Clasament!AK12=\"+\",1,\"\")","v":""},{"$f":"IF(Clasament!AL12=\"+\",1,\"\")","v":""},{"$f":"IF(Clasament!AM12=\"+\",1,\"\")","v":""},{"$f":"IF(Clasament!AN12=\"+\",1,\"\")","v":""},{"$f":"IF(Clasament!AO12=\"+\",1,\"\")","v":""},{"$f":"IF(Clasament!AP12=\"+\",1,\"\")","v":""},{"$f":"IF(Clasament!AQ12=\"+\",1,\"\")","v":""},{"$f":"IF(Clasament!AR12=\"+\",1,\"\")","v":""},{"$f":"IF(Clasament!AS12=\"+\",1,\"\")","v":""},0,{"$f":"IF(Clasament!AU12=\"+\",1,\"\")","v":""},{"$f":"IF(Clasament!AV12=\"+\",1,\"\")","v":""},{"$f":"IF(Clasament!AW12=\"+\",1,\"\")","v":""},{"$f":"IF(Clasament!AX12=\"+\",1,\"\")","v":""},{"$f":"IF(Clasament!AY12=\"+\",1,\"\")","v":""},{"$f":"IF(Clasament!AZ12=\"+\",1,\"\")","v":""},{"$f":"IF(Clasament!BA12=\"+\",1,\"\")","v":""},{"$f":"IF(Clasament!BB12=\"+\",1,\"\")","v":""},{"$f":"IF(Clasament!BC12=\"+\",1,\"\")","v":""},{"$f":"IF(Clasament!BD12=\"+\",1,\"\")","v":""},0]
[11,{"$f":"IF(Clasament!B13=\"\",\"\",Clasament!B13)","v":"Busuioc 0"},{"$f":"IF(Clasament!C13=\"+\",1,\"\")","v":""},{"$f":"IF(Clasament!D13=\"+\",1,\"\")","v":""},{"$f":"IF(Clasament!E13=\"+\",1,\"\")","v":""},{"$f":"IF(Clasament!F13=\"+\",1,\"\")","v":""},{"$f":"IF(Clasament!G13=\"+\",1,\"\")","v":""},{"$f":"IF(Clasament!H13=\"+\",1,\"\")","v":""},{"$f":"IF(Clasament!I13=\"+\",1,\"\")","v":""},{"$f":"IF(Clasament!J13=\"+\",1,\"\")","v":""},{"$f":"IF(Clasament!K13=\"+\",1,\"\")","v":""},{"$f":"IF(Clasament!L13=\"+\",1,\"\")","v":""},0,{"$f":"IF(Clasament!N13=\"+\",1,\"\")","v":""},{"$f":"IF(Clasament!O13=\"+\",1,\"\")","v":""},{"$f":"IF(Clasament!P13=\"+\",1,\"\")","v":""},{"$f":"IF(Clasament!Q13=\"+\",1,\"\")","v":""},{"$f":"IF(Clasament!R13=\"+\",1,\"\")","v":""},{"$f":"IF(Clasament!S13=\"+\",1,\"\")","v":""},{"$f":"IF(Clasament!T13=\"+\",1,\"\")","v":""},{"$f":"IF(Clasament!U13=\"+\",1,\"\")","v":""},{"$f":"IF(Clasament!V13=\"+\",1,\"\")","v":""},{"$f":"IF(Clasament!W13=\"+\",1,\"\")","v":""},0,{"$f":"IF(Clasament!Y13=\"+\",1,\"\")","v":""},{"$f":"IF(Clasament!Z13=\"+\",1,\"\")","v":""},{"$f":"IF(Clasament!AA13=\"+\",1,\"\")","v":""},{"$f":"IF(Clasament!AB13=\"+\",1,\"\")","v":""},{"$f":"IF(Clasament!AC13=\"+\",1,\"\")","v":""},{"$f":"IF(Clasament!AD13=\"+\",1,\"\")","v":""},{"$f":"IF(Clasament!AE13=\"+\",1,\"\")","v":""},{"$f":"IF(Clasament!AF13=\"+\",1,\"\")","v":""},{"$f":"IF(Clasament!AG13=\"+\",1,\"\")","v":""},{"$f":"IF(Clasament!AH13=\"+\",1,\"\")","v":""},0,{"$f":"IF(Clasament!AJ13=\"+\",1,\"\")","v":""},{"$f":"IF(Clasament!AK13=\"+\",1,\"\")","v":""},{"$f":"IF(Clasament!AL13=\"+\",1,\"\")","v":""},{"$f":"IF(Clasament!AM13=\"+\",1,\"\")","v":""},{"$f":"IF(Clasament!AN13=\"+\",1,\"\")","v":""},{"$f":"IF(Clasament!AO13=\"+\",1,\"\")","v":""},{"$f":"IF(Clasament!AP13=\"+\",1,\"\")","v":""},{"$f":"IF(Clasament!AQ13=\"+\",1,\"\")","v":""},{"$f":"IF(Clasament!AR13=\"+\",1,\"\")","v":""},{"$f":"IF(Clasament!AS13=\"+\",1,\"\")","v":""},0,{"$f":"IF(Clasament!AU13=\"+\",1,\"\")","v":""},{"$f":"IF(Clasament!AV13=\"+\",1,\"\")","v":""},{"$f":"IF(Clasament!AW13=\"+\",1,\"\")","v":""},{"$f":"IF(Clasament!AX13=\"+\",1,\"\")","v":""},{"$f":"IF(Clasament!AY13=\"+\",1,\"\")","v":""},{"$f":"IF(Clasament!AZ13=\"+\",1,\"\")","v":""},{"$f":"IF(Clasament!BA13=\"+\",1,\"\")","v":""},{"$f":"IF(Clasament!BB13=\"+\",1,\"\")","v":""},{"$f":"IF(Clasament!BC13=\"+\",1,\"\")","v":""},{"$f":"IF(Clasament!BD13=\"+\",1,\"\")","v":""},0]
[12,{"$f":"IF(Clasament!B14=\"\",\"\",Clasament!B14)","v":"Moon Power 0"},{"$f":"IF(Clasament!C14=\"+\",1,\"\")","v":""},{"$f":"IF(Clasament!D14=\"+\",1,\"\")","v":""},{"$f":"IF(Clasament!E14=\"+\",1,\"\")","v":""},{"$f":"IF(Clasament!F14=\"+\",1,\"\")","v":""},{"$f":"IF(Clasament!G14=\"+\",1,\"\")","v":""},{"$f":"IF(Clasament!H14=\"+\",1,\"\")","v":""},{"$f":"IF(Clasament!I14=\"+\",1,\"\")","v":""},{"$f":"IF(Clasament!J14=\"+\",1,\"\")","v":""},{"$f":"IF(Clasament!K14=\"+\",1,\"\")","v":""},{"$f":"IF(Clasament!L14=\"+\",1,\"\")","v":""},0,{"$f":"IF(Clasament!N14=\"+\",1,\"\")","v":""},{"$f":"IF(Clasament!O14=\"+\",1,\"\")","v":""},{"$f":"IF(Clasament!P14=\"+\",1,\"\")","v":""},{"$f":"IF(Clasament!Q14=\"+\",1,\"\")","v":""},{"$f":"IF(Clasament!R14=\"+\",1,\"\")","v":""},{"$f":"IF(Clasament!S14=\"+\",1,\"\")","v":""},{"$f":"IF(Clasament!T14=\"+\",1,\"\")","v":""},{"$f":"IF(Clasament!U14=\"+\",1,\"\")","v":""},{"$f":"IF(Clasament!V14=\"+\",1,\"\")","v":""},{"$f":"IF(Clasament!W14=\"+\",1,\"\")","v":""},0,{"$f":"IF(Clasament!Y14=\"+\",1,\"\")","v":""},{"$f":"IF(Clasament!Z14=\"+\",1,\"\")","v":""},{"$f":"IF(Clasament!AA14=\"+\",1,\"\")","v":""},{"$f":"IF(Clasament!AB14=\"+\",1,\"\")","v":""},{"$f":"IF(Clasament!AC14=\"+\",1,\"\")","v":""},{"$f":"IF(Clasament!AD14=\"+\",1,\"\")","v":""},{"$f":"IF(Clasament!AE14=\"+\",1,\"\")","v":""},{"$f":"IF(Clasament!AF14=\"+\",1,\"\")","v":""},{"$f":"IF(Clasament!AG14=\"+\",1,\"\")","v":""},{"$f":"IF(Clasament!AH14=\"+\",1,\"\")","v":""},0,{"$f":"IF(Clasament!AJ14=\"+\",1,\"\")","v":""},{"$f":"IF(Clasament!AK14=\"+\",1,\"\")","v":""},{"$f":"IF(Clasament!AL14=\"+\",1,\"\")","v":""},{"$f":"IF(Clasament!AM14=\"+\",1,\"\")","v":""},{"$f":"IF(Clasament!AN14=\"+\",1,\"\")","v":""},{"$f":"IF(Clasament!AO14=\"+\",1,\"\")","v":""},{"$f":"IF(Clasament!AP14=\"+\",1,\"\")","v":""},{"$f":"IF(Clasament!AQ14=\"+\",1,\"\")","v":""},{"$f":"IF(Clasament!AR14=\"+\",1,\"\")","v":""},{"$f":"IF(Clasament!AS14=\"+\",1,\"\")","v":""},0,{"$f":"IF(Clasament!AU14=\"+\",1,\"\")","v":""},{"$f":"IF(Clasament!AV14=\"+\",1,\"\")","v":""},{"$f":"IF(Clasament!AW14=\"+\",1,\"\")","v":""},{"$f":"IF(Clasament!AX14=\"+\",1,\"\")","v":""},{"$f":"IF(Clasament!AY14=\"+\",1,\"\")","v":""},{"$f":"IF(Clasament!AZ14=\"+\",1,\"\")","v":""},{"$f":"IF(Clasament!BA14=\"+\",1,\"\")","v":""},{"$f":"IF(Clasament!BB14=\"+\",1,\"\")","v":""},{"$f":"IF(Clasament!BC14=\"+\",1,\"\")","v":""},{"$f":"IF(Clasament!BD14=\"+\",1,\"\")","v":""},0]
[13,{"$f":"IF(Clasament!B15=\"\",\"\",Clasament!B15)","v":"Punctul pe H 0"},{"$f":"IF(Clasament!C15=\"+\",1,\"\")","v":""},{"$f":"IF(Clasament!D15=\"+\",1,\"\")","v":""},{"$f":"IF(Clasament!E15=\"+\",1,\"\")","v":""},{"$f":"IF(Clasament!F15=\"+\",1,\"\")","v":""},{"$f":"IF(Clasament!G15=\"+\",1,\"\")","v":""},{"$f":"IF(Clasament!H15=\"+\",1,\"\")","v":""},{"$f":"IF(Clasament!I15=\"+\",1,\"\")","v":""},{"$f":"IF(Clasament!J15=\"+\",1,\"\")","v":""},{"$f":"IF(Clasament!K15=\"+\",1,\"\")","v":""},{"$f":"IF(Clasament!L15=\"+\",1,\"\")","v":""},0,{"$f":"IF(Clasament!N15=\"+\",1,\"\")","v":""},{"$f":"IF(Clasament!O15=\"+\",1,\"\")","v":""},{"$f":"IF(Clasament!P15=\"+\",1,\"\")","v":""},{"$f":"IF(Clasament!Q15=\"+\",1,\"\")","v":""},{"$f":"IF(Clasament!R15=\"+\",1,\"\")","v":""},{"$f":"IF(Clasament!S15=\"+\",1,\"\")","v":""},{"$f":"IF(Clasament!T15=\"+\",1,\"\")","v":""},{"$f":"IF(Clasament!U15=\"+\",1,\"\")","v":""},{"$f":"IF(Clasament!V15=\"+\",1,\"\")","v":""},{"$f":"IF(Clasament!W15=\"+\",1,\"\")","v":""},0,{"$f":"IF(Clasament!Y15=\"+\",1,\"\")","v":""},{"$f":"IF(Clasament!Z15=\"+\",1,\"\")","v":""},{"$f":"IF(Clasament!AA15=\"+\",1,\"\")","v":""},{"$f":"IF(Clasament!AB15=\"+\",1,\"\")","v":""},{"$f":"IF(Clasament!AC15=\"+\",1,\"\")","v":""},{"$f":"IF(Clasament!AD15=\"+\",1,\"\")","v":""},{"$f":"IF(Clasament!AE15=\"+\",1,\"\")","v":""},{"$f":"IF(Clasament!AF15=\"+\",1,\"\")","v":""},{"$f":"IF(Clasament!AG15=\"+\",1,\"\")","v":""},{"$f":"IF(Clasament!AH15=\"+\",1,\"\")","v":""},0,{"$f":"IF(Clasament!AJ15=\"+\",1,\"\")","v":""},{"$f":"IF(Clasament!AK15=\"+\",1,\"\")","v":""},{"$f":"IF(Clasament!AL15=\"+\",1,\"\")","v":""},{"$f":"IF(Clasament!AM15=\"+\",1,\"\")","v":""},{"$f":"IF(Clasament!AN15=\"+\",1,\"\")","v":""},{"$f":"IF(Clasament!AO15=\"+\",1,\"\")","v":""},{"$f":"IF(Clasament!AP15=\"+\",1,\"\")","v":""},{"$f":"IF(Clasament!AQ15=\"+\",1,\"\")","v":""},{"$f":"IF(Clasament!AR15=\"+\",1,\"\")","v":""},{"$f":"IF(Clasament!AS15=\"+\",1,\"\")","v":""},0,{"$f":"IF(Clasament!AU15=\"+\",1,\"\")","v":""},{"$f":"IF(Clasament!AV15=\"+\",1,\"\")","v":""},{"$f":"IF(Clasament!AW15=\"+\",1,\"\")","v":""},{"$f":"IF(Clasament!AX15=\"+\",1,\"\")","v":""},{"$f":"IF(Clasament!AY15=\"+\",1,\"\")","v":""},{"$f":"IF(Clasament!AZ15=\"+\",1,\"\")","v":""},{"$f":"IF(Clasament!BA15=\"+\",1,\"\")","v":""},{"$f":"IF(Clasament!BB15=\"+\",1,\"\")","v":""},{"$f":"IF(Clasament!BC15=\"+\",1,\"\")","v":""},{"$f":"IF(Clasament!BD15=\"+\",1,\"\")","v":""},0]
[14,{"$f":"IF(Clasament!B16=\"\",\"\",Clasament!B16)","v":"SER 0"},{"$f":"IF(Clasament!C16=\"+\",1,\"\")","v":""},{"$f":"IF(Clasament!D16=\"+\",1,\"\")","v":""},{"$f":"IF(Clasament!E16=\"+\",1,\"\")","v":""},{"$f":"IF(Clasament!F16=\"+\",1,\"\")","v":""},{"$f":"IF(Clasament!G16=\"+\",1,\"\")","v":""},{"$f":"IF(Clasament!H16=\"+\",1,\"\")","v":""},{"$f":"IF(Clasament!I16=\"+\",1,\"\")","v":""},{"$f":"IF(Clasament!J16=\"+\",1,\"\")","v":""},{"$f":"IF(Clasament!K16=\"+\",1,\"\")","v":""},{"$f":"IF(Clasament!L16=\"+\",1,\"\")","v":""},0,{"$f":"IF(Clasament!N16=\"+\",1,\"\")","v":""},{"$f":"IF(Clasament!O16=\"+\",1,\"\")","v":""},{"$f":"IF(Clasament!P16=\"+\",1,\"\")","v":""},{"$f":"IF(Clasament!Q16=\"+\",1,\"\")","v":""},{"$f":"IF(Clasament!R16=\"+\",1,\"\")","v":""},{"$f":"IF(Clasament!S16=\"+\",1,\"\")","v":""},{"$f":"IF(Clasament!T16=\"+\",1,\"\")","v":""},{"$f":"IF(Clasament!U16=\"+\",1,\"\")","v":""},{"$f":"IF(Clasament!V16=\"+\",1,\"\")","v":""},{"$f":"IF(Clasament!W16=\"+\",1,\"\")","v":""},0,{"$f":"IF(Clasament!Y16=\"+\",1,\"\")","v":""},{"$f":"IF(Clasament!Z16=\"+\",1,\"\")","v":""},{"$f":"IF(Clasament!AA16=\"+\",1,\"\")","v":""},{"$f":"IF(Clasament!AB16=\"+\",1,\"\")","v":""},{"$f":"IF(Clasament!AC16=\"+\",1,\"\")","v":""},{"$f":"IF(Clasament!AD16=\"+\",1,\"\")","v":""},{"$f":"IF(Clasament!AE16=\"+\",1,\"\")","v":""},{"$f":"IF(Clasament!AF16=\"+\",1,\"\")","v":""},{"$f":"IF(Clasament!AG16=\"+\",1,\"\")","v":""},{"$f":"IF(Clasament!AH16=\"+\",1,\"\")","v":""},0,{"$f":"IF(Clasament!AJ16=\"+\",1,\"\")","v":""},{"$f":"IF(Clasament!AK16=\"+\",1,\"\")","v":""},{"$f":"IF(Clasament!AL16=\"+\",1,\"\")","v":""},{"$f":"IF(Clasament!AM16=\"+\",1,\"\")","v":""},{"$f":"IF(Clasament!AN16=\"+\",1,\"\")","v":""},{"$f":"IF(Clasament!AO16=\"+\",1,\"\")","v":""},{"$f":"IF(Clasament!AP16=\"+\",1,\"\")","v":""},{"$f":"IF(Clasament!AQ16=\"+\",1,\"\")","v":""},{"$f":"IF(Clasament!AR16=\"+\",1,\"\")","v":""},{"$f":"IF(Clasament!AS16=\"+\",1,\"\")","v":""},0,{"$f":"IF(Clasament!AU16=\"+\",1,\"\")","v":""},{"$f":"IF(Clasament!AV16=\"+\",1,\"\")","v":""},{"$f":"IF(Clasament!AW16=\"+\",1,\"\")","v":""},{"$f":"IF(Clasament!AX16=\"+\",1,\"\")","v":""},{"$f":"IF(Clasament!AY16=\"+\",1,\"\")","v":""},{"$f":"IF(Clasament!AZ16=\"+\",1,\"\")","v":""},{"$f":"IF(Clasament!BA16=\"+\",1,\"\")","v":""},{"$f":"IF(Clasament!BB16=\"+\",1,\"\")","v":""},{"$f":"IF(Clasament!BC16=\"+\",1,\"\")","v":""},{"$f":"IF(Clasament!BD16=\"+\",1,\"\")","v":""},0]
[15,{"$f":"IF(Clasament!B17=\"\",\"\",Clasament!B17)","v":"Afrodiziac 0"},{"$f":"IF(Clasament!C17=\"+\",1,\"\")","v":""},{"$f":"IF(Clasament!D17=\"+\",1,\"\")","v":""},{"$f":"IF(Clasament!E17=\"+\",1,\"\")","v":""},{"$f":"IF(Clasament!F17=\"+\",1,\"\")","v":""},{"$f":"IF(Clasament!G17=\"+\",1,\"\")","v":""},{"$f":"IF(Clasament!H17=\"+\",1,\"\")","v":""},{"$f":"IF(Clasament!I17=\"+\",1,\"\")","v":""},{"$f":"IF(Clasament!J17=\"+\",1,\"\")","v":""},{"$f":"IF(Clasament!K17=\"+\",1,\"\")","v":""},{"$f":"IF(Clasament!L17=\"+\",1,\"\")","v":""},0,{"$f":"IF(Clasament!N17=\"+\",1,\"\")","v":""},{"$f":"IF(Clasament!O17=\"+\",1,\"\")","v":""},{"$f":"IF(Clasament!P17=\"+\",1,\"\")","v":""},{"$f":"IF(Clasament!Q17=\"+\",1,\"\")","v":""},{"$f":"IF(Clasament!R17=\"+\",1,\"\")","v":""},{"$f":"IF(Clasament!S17=\"+\",1,\"\")","v":""},{"$f":"IF(Clasament!T17=\"+\",1,\"\")","v":""},{"$f":"IF(Clasament!U17=\"+\",1,\"\")","v":""},{"$f":"IF(Clasament!V17=\"+\",1,\"\")","v":""},{"$f":"IF(Clasament!W17=\"+\",1,\"\")","v":""},0,{"$f":"IF(Clasament!Y17=\"+\",1,\"\")","v":""},{"$f":"IF(Clasament!Z17=\"+\",1,\"\")","v":""},{"$f":"IF(Clasament!AA17=\"+\",1,\"\")","v":""},{"$f":"IF(Clasament!AB17=\"+\",1,\"\")","v":""},{"$f":"IF(Clasament!AC17=\"+\",1,\"\")","v":""},{"$f":"IF(Clasament!AD17=\"+\",1,\"\")","v":""},{"$f":"IF(Clasament!AE17=\"+\",1,\"\")","v":""},{"$f":"IF(Clasament!AF17=\"+\",1,\"\")","v":""},{"$f":"IF(Clasament!AG17=\"+\",1,\"\")","v":""},{"$f":"IF(Clasament!AH17=\"+\",1,\"\")","v":""},0,{"$f":"IF(Clasament!AJ17=\"+\",1,\"\")","v":""},{"$f":"IF(Clasament!AK17=\"+\",1,\"\")","v":""},{"$f":"IF(Clasament!AL17=\"+\",1,\"\")","v":""},{"$f":"IF(Clasament!AM17=\"+\",1,\"\")","v":""},{"$f":"IF(Clasament!AN17=\"+\",1,\"\")","v":""},{"$f":"IF(Clasament!AO17=\"+\",1,\"\")","v":""},{"$f":"IF(Clasament!AP17=\"+\",1,\"\")","v":""},{"$f":"IF(Clasament!AQ17=\"+\",1,\"\")","v":""},{"$f":"IF(Clasament!AR17=\"+\",1,\"\")","v":""},{"$f":"IF(Clasament!AS17=\"+\",1,\"\")","v":""},0,{"$f":"IF(Clasament!AU17=\"+\",1,\"\")","v":""},{"$f":"IF(Clasament!AV17=\"+\",1,\"\")","v":""},{"$f":"IF(Clasament!AW17=\"+\",1,\"\")","v":""},{"$f":"IF(Clasament!AX17=\"+\",1,\"\")","v":""},{"$f":"IF(Clasament!AY17=\"+\",1,\"\")","v":""},{"$f":"IF(Clasament!AZ17=\"+\",1,\"\")","v":""},{"$f":"IF(Clasament!BA17=\"+\",1,\"\")","v":""},{"$f":"IF(Clasament!BB17=\"+\",1,\"\")","v":""},{"$f":"IF(Clasament!BC17=\"+\",1,\"\")","v":""},{"$f":"IF(Clasament!BD17=\"+\",1,\"\")","v":""},0]
[16,{"$f":"IF(Clasament!B18=\"\",\"\",Clasament!B18)","v":"#hashtag 0"},{"$f":"IF(Clasament!C18=\"+\",1,\"\")","v":""},{"$f":"IF(Clasament!D18=\"+\",1,\"\")","v":""},{"$f":"IF(Clasament!E18=\"+\",1,\"\")","v":""},{"$f":"IF(Clasament!F18=\"+\",1,\"\")","v":""},{"$f":"IF(Clasament!G18=\"+\",1,\"\")","v":""},{"$f":"IF(Clasament!H18=\"+\",1,\"\")","v":""},{"$f":"IF(Clasament!I18=\"+\",1,\"\")","v":""},{"$f":"IF(Clasament!J18=\"+\",1,\"\")","v":""},{"$f":"IF(Clasament!K18=\"+\",1,\"\")","v":""},{"$f":"IF(Clasament!L18=\"+\",1,\"\")","v":""},0,{"$f":"IF(Clasament!N18=\"+\",1,\"\")","v":""},{"$f":"IF(Clasament!O18=\"+\",1,\"\")","v":""},{"$f":"IF(Clasament!P18=\"+\",1,\"\")","v":""},{"$f":"IF(Clasament!Q18=\"+\",1,\"\")","v":""},{"$f":"IF(Clasament!R18=\"+\",1,\"\")","v":""},{"$f":"IF(Clasament!S18=\"+\",1,\"\")","v":""},{"$f":"IF(Clasament!T18=\"+\",1,\"\")","v":""},{"$f":"IF(Clasament!U18=\"+\",1,\"\")","v":""},{"$f":"IF(Clasament!V18=\"+\",1,\"\")","v":""},{"$f":"IF(Clasament!W18=\"+\",1,\"\")","v":""},0,{"$f":"IF(Clasament!Y18=\"+\",1,\"\")","v":""},{"$f":"IF(Clasament!Z18=\"+\",1,\"\")","v":""},{"$f":"IF(Clasament!AA18=\"+\",1,\"\")","v":""},{"$f":"IF(Clasament!AB18=\"+\",1,\"\")","v":""},{"$f":"IF(Clasament!AC18=\"+\",1,\"\")","v":""},{"$f":"IF(Clasament!AD18=\"+\",1,\"\")","v":""},{"$f":"IF(Clasament!AE18=\"+\",1,\"\")","v":""},{"$f":"IF(Clasament!AF18=\"+\",1,\"\")","v":""},{"$f":"IF(Clasament!AG18=\"+\",1,\"\")","v":""},{"$f":"IF(Clasament!AH18=\"+\",1,\"\")","v":""},0,{"$f":"IF(Clasament!AJ18=\"+\",1,\"\")","v":""},{"$f":"IF(Clasament!AK18=\"+\",1,\"\")","v":""},{"$f":"IF(Clasament!AL18=\"+\",1,\"\")","v":""},{"$f":"IF(Clasament!AM18=\"+\",1,\"\")","v":""},{"$f":"IF(Clasament!AN18=\"+\",1,\"\")","v":""},{"$f":"IF(Clasament!AO18=\"+\",1,\"\")","v":""},{"$f":"IF(Clasament!AP18=\"+\",1,\"\")","v":""},{"$f":"IF(Clasament!AQ18=\"+\",1,\"\")","v":""},{"$f":"IF(Clasament!AR18=\"+\",1,\"\")","v":""},{"$f":"IF(Clasament!AS18=\"+\",1,\"\")","v":""},0,{"$f":"IF(Clasament!AU18=\"+\",1,\"\")","v":""},{"$f":"IF(Clasament!AV18=\"+\",1,\"\")","v":""},{"$f":"IF(Clasament!AW18=\"+\",1,\"\")","v":""},{"$f":"IF(Clasament!AX18=\"+\",1,\"\")","v":""},{"$f":"IF(Clasament!AY18=\"+\",1,\"\")","v":""},{"$f":"IF(Clasament!AZ18=\"+\",1,\"\")","v":""},{"$f":"IF(Clasament!BA18=\"+\",1,\"\")","v":""},{"$f":"IF(Clasament!BB18=\"+\",1,\"\")","v":""},{"$f":"IF(Clasament!BC18=\"+\",1,\"\")","v":""},{"$f":"IF(Clasament!BD18=\"+\",1,\"\")","v":""},0]
[17,{"$f":"IF(Clasament!B19=\"\",\"\",Clasament!B19)","v":"Zebra 0"},{"$f":"IF(Clasament!C19=\"+\",1,\"\")","v":""},{"$f":"IF(Clasament!D19=\"+\",1,\"\")","v":""},{"$f":"IF(Clasament!E19=\"+\",1,\"\")","v":""},{"$f":"IF(Clasament!F19=\"+\",1,\"\")","v":""},{"$f":"IF(Clasament!G19=\"+\",1,\"\")","v":""},{"$f":"IF(Clasament!H19=\"+\",1,\"\")","v":""},{"$f":"IF(Clasament!I19=\"+\",1,\"\")","v":""},{"$f":"IF(Clasament!J19=\"+\",1,\"\")","v":""},{"$f":"IF(Clasament!K19=\"+\",1,\"\")","v":""},{"$f":"IF(Clasament!L19=\"+\",1,\"\")","v":""},0,{"$f":"IF(Clasament!N19=\"+\",1,\"\")","v":""},{"$f":"IF(Clasament!O19=\"+\",1,\"\")","v":""},{"$f":"IF(Clasament!P19=\"+\",1,\"\")","v":""},{"$f":"IF(Clasament!Q19=\"+\",1,\"\")","v":""},{"$f":"IF(Clasament!R19=\"+\",1,\"\")","v":""},{"$f":"IF(Clasament!S19=\"+\",1,\"\")","v":""},{"$f":"IF(Clasament!T19=\"+\",1,\"\")","v":""},{"$f":"IF(Clasament!U19=\"+\",1,\"\")","v":""},{"$f":"IF(Clasament!V19=\"+\",1,\"\")","v":""},{"$f":"IF(Clasament!W19=\"+\",1,\"\")","v":""},0,{"$f":"IF(Clasament!Y19=\"+\",1,\"\")","v":""},{"$f":"IF(Clasament!Z19=\"+\",1,\"\")","v":""},{"$f":"IF(Clasament!AA19=\"+\",1,\"\")","v":""},{"$f":"IF(Clasament!AB19=\"+\",1,\"\")","v":""},{"$f":"IF(Clasament!AC19=\"+\",1,\"\")","v":""},{"$f":"IF(Clasament!AD19=\"+\",1,\"\")","v":""},{"$f":"IF(Clasament!AE19=\"+\",1,\"\")","v":""},{"$f":"IF(Clasament!AF19=\"+\",1,\"\")","v":""},{"$f":"IF(Clasament!AG19=\"+\",1,\"\")","v":""},{"$f":"IF(Clasament!AH19=\"+\",1,\"\")","v":""},0,{"$f":"IF(Clasament!AJ19=\"+\",1,\"\")","v":""},{"$f":"IF(Clasament!AK19=\"+\",1,\"\")","v":""},{"$f":"IF(Clasament!AL19=\"+\",1,\"\")","v":""},{"$f":"IF(Clasament!AM19=\"+\",1,\"\")","v":""},{"$f":"IF(Clasament!AN19=\"+\",1,\"\")","v":""},{"$f":"IF(Clasament!AO19=\"+\",1,\"\")","v":""},{"$f":"IF(Clasament!AP19=\"+\",1,\"\")","v":""},{"$f":"IF(Clasament!AQ19=\"+\",1,\"\")","v":""},{"$f":"IF(Clasament!AR19=\"+\",1,\"\")","v":""},{"$f":"IF(Clasament!AS19=\"+\",1,\"\")","v":""},0,{"$f":"IF(Clasament!AU19=\"+\",1,\"\")","v":""},{"$f":"IF(Clasament!AV19=\"+\",1,\"\")","v":""},{"$f":"IF(Clasament!AW19=\"+\",1,\"\")","v":""},{"$f":"IF(Clasament!AX19=\"+\",1,\"\")","v":""},{"$f":"IF(Clasament!AY19=\"+\",1,\"\")","v":""},{"$f":"IF(Clasament!AZ19=\"+\",1,\"\")","v":""},{"$f":"IF(Clasament!BA19=\"+\",1,\"\")","v":""},{"$f":"IF(Clasament!BB19=\"+\",1,\"\")","v":""},{"$f":"IF(Clasament!BC19=\"+\",1,\"\")","v":""},{"$f":"IF(Clasament!BD19=\"+\",1,\"\")","v":""},0]
[18,{"$f":"IF(Clasament!B20=\"\",\"\",Clasament!B20)","v":"Turnul Alb 0"},{"$f":"IF(Clasament!C20=\"+\",1,\"\")","v":""},{"$f":"IF(Clasament!D20=\"+\",1,\"\")","v":""},{"$f":"IF(Clasament!E20=\"+\",1,\"\")","v":""},{"$f":"IF(Clasament!F20=\"+\",1,\"\")","v":""},{"$f":"IF(Clasament!G20=\"+\",1,\"\")","v":""},{"$f":"IF(Clasament!H20=\"+\",1,\"\")","v":""},{"$f":"IF(Clasament!I20=\"+\",1,\"\")","v":""},{"$f":"IF(Clasament!J20=\"+\",1,\"\")","v":""},{"$f":"IF(Clasament!K20=\"+\",1,\"\")","v":""},{"$f":"IF(Clasament!L20=\"+\",1,\"\")","v":""},0,{"$f":"IF(Clasament!N20=\"+\",1,\"\")","v":""},{"$f":"IF(Clasament!O20=\"+\",1,\"\")","v":""},{"$f":"IF(Clasament!P20=\"+\",1,\"\")","v":""},{"$f":"IF(Clasament!Q20=\"+\",1,\"\")","v":""},{"$f":"IF(Clasament!R20=\"+\",1,\"\")","v":""},{"$f":"IF(Clasament!S20=\"+\",1,\"\")","v":""},{"$f":"IF(Clasament!T20=\"+\",1,\"\")","v":""},{"$f":"IF(Clasament!U20=\"+\",1,\"\")","v":""},{"$f":"IF(Clasament!V20=\"+\",1,\"\")","v":""},{"$f":"IF(Clasament!W20=\"+\",1,\"\")","v":""},0,{"$f":"IF(Clasament!Y20=\"+\",1,\"\")","v":""},{"$f":"IF(Clasament!Z20=\"+\",1,\"\")","v":""},{"$f":"IF(Clasament!AA20=\"+\",1,\"\")","v":""},{"$f":"IF(Clasament!AB20=\"+\",1,\"\")","v":""},{"$f":"IF(Clasament!AC20=\"+\",1,\"\")","v":""},{"$f":"IF(Clasament!AD20=\"+\",1,\"\")","v":""},{"$f":"IF(Clasament!AE20=\"+\",1,\"\")","v":""},{"$f":"IF(Clasament!AF20=\"+\",1,\"\")","v":""},{"$f":"IF(Clasament!AG20=\"+\",1,\"\")","v":""},{"$f":"IF(Clasament!AH20=\"+\",1,\"\")","v":""},0,{"$f":"IF(Clasament!AJ20=\"+\",1,\"\")","v":""},{"$f":"IF(Clasament!AK20=\"+\",1,\"\")","v":""},{"$f":"IF(Clasament!AL20=\"+\",1,\"\")","v":""},{"$f":"IF(Clasament!AM20=\"+\",1,\"\")","v":""},{"$f":"IF(Clasament!AN20=\"+\",1,\"\")","v":""},{"$f":"IF(Clasament!AO20=\"+\",1,\"\")","v":""},{"$f":"IF(Clasament!AP20=\"+\",1,\"\")","v":""},{"$f":"IF(Clasament!AQ20=\"+\",1,\"\")","v":""},{"$f":"IF(Clasament!AR20=\"+\",1,\"\")","v":""},{"$f":"IF(Clasament!AS20=\"+\",1,\"\")","v":""},0,{"$f":"IF(Clasament!AU20=\"+\",1,\"\")","v":""},{"$f":"IF(Clasament!AV20=\"+\",1,\"\")","v":""},{"$f":"IF(Clasament!AW20=\"+\",1,\"\")","v":""},{"$f":"IF(Clasament!AX20=\"+\",1,\"\")","v":""},{"$f":"IF(Clasament!AY20=\"+\",1,\"\")","v":""},{"$f":"IF(Clasament!AZ20=\"+\",1,\"\")","v":""},{"$f":"IF(Clasament!BA20=\"+\",1,\"\")","v":""},{"$f":"IF(Clasament!BB20=\"+\",1,\"\")","v":""},{"$f":"IF(Clasament!BC20=\"+\",1,\"\")","v":""},{"$f":"IF(Clasament!BD20=\"+\",1,\"\")","v":""},0]
[19,{"$f":"IF(Clasament!B21=\"\",\"\",Clasament!B21)","v":"H5N1 0"},{"$f":"IF(Clasament!C21=\"+\",1,\"\")","v":""},{"$f":"IF(Clasament!D21=\"+\",1,\"\")","v":""},{"$f":"IF(Clasament!E21=\"+\",1,\"\")","v":""},{"$f":"IF(Clasament!F21=\"+\",1,\"\")","v":""},{"$f":"IF(Clasament!G21=\"+\",1,\"\")","v":""},{"$f":"IF(Clasament!H21=\"+\",1,\"\")","v":""},{"$f":"IF(Clasament!I21=\"+\",1,\"\")","v":""},{"$f":"IF(Clasament!J21=\"+\",1,\"\")","v":""},{"$f":"IF(Clasament!K21=\"+\",1,\"\")","v":""},{"$f":"IF(Clasament!L21=\"+\",1,\"\")","v":""},0,{"$f":"IF(Clasament!N21=\"+\",1,\"\")","v":""},{"$f":"IF(Clasament!O21=\"+\",1,\"\")","v":""},{"$f":"IF(Clasament!P21=\"+\",1,\"\")","v":""},{"$f":"IF(Clasament!Q21=\"+\",1,\"\")","v":""},{"$f":"IF(Clasament!R21=\"+\",1,\"\")","v":""},{"$f":"IF(Clasament!S21=\"+\",1,\"\")","v":""},{"$f":"IF(Clasament!T21=\"+\",1,\"\")","v":""},{"$f":"IF(Clasament!U21=\"+\",1,\"\")","v":""},{"$f":"IF(Clasament!V21=\"+\",1,\"\")","v":""},{"$f":"IF(Clasament!W21=\"+\",1,\"\")","v":""},0,{"$f":"IF(Clasament!Y21=\"+\",1,\"\")","v":""},{"$f":"IF(Clasament!Z21=\"+\",1,\"\")","v":""},{"$f":"IF(Clasament!AA21=\"+\",1,\"\")","v":""},{"$f":"IF(Clasament!AB21=\"+\",1,\"\")","v":""},{"$f":"IF(Clasament!AC21=\"+\",1,\"\")","v":""},{"$f":"IF(Clasament!AD21=\"+\",1,\"\")","v":""},{"$f":"IF(Clasament!AE21=\"+\",1,\"\")","v":""},{"$f":"IF(Clasament!AF21=\"+\",1,\"\")","v":""},{"$f":"IF(Clasament!AG21=\"+\",1,\"\")","v":""},{"$f":"IF(Clasament!AH21=\"+\",1,\"\")","v":""},0,{"$f":"IF(Clasament!AJ21=\"+\",1,\"\")","v":""},{"$f":"IF(Clasament!AK21=\"+\",1,\"\")","v":""},{"$f":"IF(Clasament!AL21=\"+\",1,\"\")","v":""},{"$f":"IF(Clasament!AM21=\"+\",1,\"\")","v":""},{"$f":"IF(Clasament!AN21=\"+\",1,\"\")","v":""},{"$f":"IF(Clasament!AO21=\"+\",1,\"\")","v":""},{"$f":"IF(Clasament!AP21=\"+\",1,\"\")","v":""},{"$f":"IF(Clasament!AQ21=\"+\",1,\"\")","v":""},{"$f":"IF(Clasament!AR21=\"+\",1,\"\")","v":""},{"$f":"IF(Clasament!AS21=\"+\",1,\"\")","v":""},0,{"$f":"IF(Clasament!AU21=\"+\",1,\"\")","v":""},{"$f":"IF(Clasament!AV21=\"+\",1,\"\")","v":""},{"$f":"IF(Clasament!AW21=\"+\",1,\"\")","v":""},{"$f":"IF(Clasament!AX21=\"+\",1,\"\")","v":""},{"$f":"IF(Clasament!AY21=\"+\",1,\"\")","v":""},{"$f":"IF(Clasament!AZ21=\"+\",1,\"\")","v":""},{"$f":"IF(Clasament!BA21=\"+\",1,\"\")","v":""},{"$f":"IF(Clasament!BB21=\"+\",1,\"\")","v":""},{"$f":"IF(Clasament!BC21=\"+\",1,\"\")","v":""},{"$f":"IF(Clasament!BD21=\"+\",1,\"\")","v":""},0]
[20,{"$f":"IF(Clasament!B22=\"\",\"\",Clasament!B22)","v":"Pokerface 0"},{"$f":"IF(Clasament!C22=\"+\",1,\"\")","v":""},{"$f":"IF(Clasament!D22=\"+\",1,\"\")","v":""},{"$f":"IF(Clasament!E22=\"+\",1,\"\")","v":""},{"$f":"IF(Clasament!F22=\"+\",1,\"\")","v":""},{"$f":"IF(Clasament!G22=\"+\",1,\"\")","v":""},{"$f":"IF(Clasament!H22=\"+\",1,\"\")","v":""},{"$f":"IF(Clasament!I22=\"+\",1,\"\")","v":""},{"$f":"IF(Clasament!J22=\"+\",1,\"\")","v":""},{"$f":"IF(Clasament!K22=\"+\",1,\"\")","v":""},{"$f":"IF(Clasament!L22=\"+\",1,\"\")","v":""},0,{"$f":"IF(Clasament!N22=\"+\",1,\"\")","v":""},{"$f":"IF(Clasament!O22=\"+\",1,\"\")","v":""},{"$f":"IF(Clasament!P22=\"+\",1,\"\")","v":""},{"$f":"IF(Clasament!Q22=\"+\",1,\"\")","v":""},{"$f":"IF(Clasament!R22=\"+\",1,\"\")","v":""},{"$f":"IF(Clasament!S22=\"+\",1,\"\")","v":""},{"$f":"IF(Clasament!T22=\"+\",1,\"\")","v":""},{"$f":"IF(Clasament!U22=\"+\",1,\"\")","v":""},{"$f":"IF(Clasament!V22=\"+\",1,\"\")","v":""},{"$f":"IF(Clasament!W22=\"+\",1,\"\")","v":""},0,{"$f":"IF(Clasament!Y22=\"+\",1,\"\")","v":""},{"$f":"IF(Clasament!Z22=\"+\",1,\"\")","v":""},{"$f":"IF(Clasament!AA22=\"+\",1,\"\")","v":""},{"$f":"IF(Clasament!AB22=\"+\",1,\"\")","v":""},{"$f":"IF(Clasament!AC22=\"+\",1,\"\")","v":""},{"$f":"IF(Clasament!AD22=\"+\",1,\"\")","v":""},{"$f":"IF(Clasament!AE22=\"+\",1,\"\")","v":""},{"$f":"IF(Clasament!AF22=\"+\",1,\"\")","v":""},{"$f":"IF(Clasament!AG22=\"+\",1,\"\")","v":""},{"$f":"IF(Clasament!AH22=\"+\",1,\"\")","v":""},0,{"$f":"IF(Clasament!AJ22=\"+\",1,\"\")","v":""},{"$f":"IF(Clasament!AK22=\"+\",1,\"\")","v":""},{"$f":"IF(Clasament!AL22=\"+\",1,\"\")","v":""},{"$f":"IF(Clasament!AM22=\"+\",1,\"\")","v":""},{"$f":"IF(Clasament!AN22=\"+\",1,\"\")","v":""},{"$f":"IF(Clasament!AO22=\"+\",1,\"\")","v":""},{"$f":"IF(Clasament!AP22=\"+\",1,\"\")","v":""},{"$f":"IF(Clasament!AQ22=\"+\",1,\"\")","v":""},{"$f":"IF(Clasament!AR22=\"+\",1,\"\")","v":""},{"$f":"IF(Clasament!AS22=\"+\",1,\"\")","v":""},0,{"$f":"IF(Clasament!AU22=\"+\",1,\"\")","v":""},{"$f":"IF(Clasament!AV22=\"+\",1,\"\")","v":""},{"$f":"IF(Clasament!AW22=\"+\",1,\"\")","v":""},{"$f":"IF(Clasament!AX22=\"+\",1,\"\")","v":""},{"$f":"IF(Clasament!AY22=\"+\",1,\"\")","v":""},{"$f":"IF(Clasament!AZ22=\"+\",1,\"\")","v":""},{"$f":"IF(Clasament!BA22=\"+\",1,\"\")","v":""},{"$f":"IF(Clasament!BB22=\"+\",1,\"\")","v":""},{"$f":"IF(Clasament!BC22=\"+\",1,\"\")","v":""},{"$f":"IF(Clasament!BD22=\"+\",1,\"\")","v":""},0]
[21,{"$f":"IF(Clasament!B23=\"\",\"\",Clasament!B23)","v":"Phi 0"},{"$f":"IF(Clasament!C23=\"+\",1,\"\")","v":""},{"$f":"IF(Clasament!D23=\"+\",1,\"\")","v":""},{"$f":"IF(Clasament!E23=\"+\",1,\"\")","v":""},{"$f":"IF(Clasament!F23=\"+\",1,\"\")","v":""},{"$f":"IF(Clasament!G23=\"+\",1,\"\")","v":""},{"$f":"IF(Clasament!H23=\"+\",1,\"\")","v":""},{"$f":"IF(Clasament!I23=\"+\",1,\"\")","v":""},{"$f":"IF(Clasament!J23=\"+\",1,\"\")","v":""},{"$f":"IF(Clasament!K23=\"+\",1,\"\")","v":""},{"$f":"IF(Clasament!L23=\"+\",1,\"\")","v":""},0,{"$f":"IF(Clasament!N23=\"+\",1,\"\")","v":""},{"$f":"IF(Clasament!O23=\"+\",1,\"\")","v":""},{"$f":"IF(Clasament!P23=\"+\",1,\"\")","v":""},{"$f":"IF(Clasament!Q23=\"+\",1,\"\")","v":""},{"$f":"IF(Clasament!R23=\"+\",1,\"\")","v":""},{"$f":"IF(Clasament!S23=\"+\",1,\"\")","v":""},{"$f":"IF(Clasament!T23=\"+\",1,\"\")","v":""},{"$f":"IF(Clasament!U23=\"+\",1,\"\")","v":""},{"$f":"IF(Clasament!V23=\"+\",1,\"\")","v":""},{"$f":"IF(Clasament!W23=\"+\",1,\"\")","v":""},0,{"$f":"IF(Clasament!Y23=\"+\",1,\"\")","v":""},{"$f":"IF(Clasament!Z23=\"+\",1,\"\")","v":""},{"$f":"IF(Clasament!AA23=\"+\",1,\"\")","v":""},{"$f":"IF(Clasament!AB23=\"+\",1,\"\")","v":""},{"$f":"IF(Clasament!AC23=\"+\",1,\"\")","v":""},{"$f":"IF(Clasament!AD23=\"+\",1,\"\")","v":""},{"$f":"IF(Clasament!AE23=\"+\",1,\"\")","v":""},{"$f":"IF(Clasament!AF23=\"+\",1,\"\")","v":""},{"$f":"IF(Clasament!AG23=\"+\",1,\"\")","v":""},{"$f":"IF(Clasament!AH23=\"+\",1,\"\")","v":""},0,{"$f":"IF(Clasament!AJ23=\"+\",1,\"\")","v":""},{"$f":"IF(Clasament!AK23=\"+\",1,\"\")","v":""},{"$f":"IF(Clasament!AL23=\"+\",1,\"\")","v":""},{"$f":"IF(Clasament!AM23=\"+\",1,\"\")","v":""},{"$f":"IF(Clasament!AN23=\"+\",1,\"\")","v":""},{"$f":"IF(Clasament!AO23=\"+\",1,\"\")","v":""},{"$f":"IF(Clasament!AP23=\"+\",1,\"\")","v":""},{"$f":"IF(Clasament!AQ23=\"+\",1,\"\")","v":""},{"$f":"IF(Clasament!AR23=\"+\",1,\"\")","v":""},{"$f":"IF(Clasament!AS23=\"+\",1,\"\")","v":""},0,{"$f":"IF(Clasament!AU23=\"+\",1,\"\")","v":""},{"$f":"IF(Clasament!AV23=\"+\",1,\"\")","v":""},{"$f":"IF(Clasament!AW23=\"+\",1,\"\")","v":""},{"$f":"IF(Clasament!AX23=\"+\",1,\"\")","v":""},{"$f":"IF(Clasament!AY23=\"+\",1,\"\")","v":""},{"$f":"IF(Clasament!AZ23=\"+\",1,\"\")","v":""},{"$f":"IF(Clasament!BA23=\"+\",1,\"\")","v":""},{"$f":"IF(Clasament!BB23=\"+\",1,\"\")","v":""},{"$f":"IF(Clasament!BC23=\"+\",1,\"\")","v":""},{"$f":"IF(Clasament!BD23=\"+\",1,\"\")","v":""},0]
[22,{"$f":"IF(Clasament!B24=\"\",\"\",Clasament!B24)","v":"Beleizis 0"},{"$f":"IF(Clasament!C24=\"+\",1,\"\")","v":""},{"$f":"IF(Clasament!D24=\"+\",1,\"\")","v":""},{"$f":"IF(Clasament!E24=\"+\",1,\"\")","v":""},{"$f":"IF(Clasament!F24=\"+\",1,\"\")","v":""},{"$f":"IF(Clasament!G24=\"+\",1,\"\")","v":""},{"$f":"IF(Clasament!H24=\"+\",1,\"\")","v":""},{"$f":"IF(Clasament!I24=\"+\",1,\"\")","v":""},{"$f":"IF(Clasament!J24=\"+\",1,\"\")","v":""},{"$f":"IF(Clasament!K24=\"+\",1,\"\")","v":""},{"$f":"IF(Clasament!L24=\"+\",1,\"\")","v":""},0,{"$f":"IF(Clasament!N24=\"+\",1,\"\")","v":""},{"$f":"IF(Clasament!O24=\"+\",1,\"\")","v":""},{"$f":"IF(Clasament!P24=\"+\",1,\"\")","v":""},{"$f":"IF(Clasament!Q24=\"+\",1,\"\")","v":""},{"$f":"IF(Clasament!R24=\"+\",1,\"\")","v":""},{"$f":"IF(Clasament!S24=\"+\",1,\"\")","v":""},{"$f":"IF(Clasament!T24=\"+\",1,\"\")","v":""},{"$f":"IF(Clasament!U24=\"+\",1,\"\")","v":""},{"$f":"IF(Clasament!V24=\"+\",1,\"\")","v":""},{"$f":"IF(Clasament!W24=\"+\",1,\"\")","v":""},0,{"$f":"IF(Clasament!Y24=\"+\",1,\"\")","v":""},{"$f":"IF(Clasament!Z24=\"+\",1,\"\")","v":""},{"$f":"IF(Clasament!AA24=\"+\",1,\"\")","v":""},{"$f":"IF(Clasament!AB24=\"+\",1,\"\")","v":""},{"$f":"IF(Clasament!AC24=\"+\",1,\"\")","v":""},{"$f":"IF(Clasament!AD24=\"+\",1,\"\")","v":""},{"$f":"IF(Clasament!AE24=\"+\",1,\"\")","v":""},{"$f":"IF(Clasament!AF24=\"+\",1,\"\")","v":""},{"$f":"IF(Clasament!AG24=\"+\",1,\"\")","v":""},{"$f":"IF(Clasament!AH24=\"+\",1,\"\")","v":""},0,{"$f":"IF(Clasament!AJ24=\"+\",1,\"\")","v":""},{"$f":"IF(Clasament!AK24=\"+\",1,\"\")","v":""},{"$f":"IF(Clasament!AL24=\"+\",1,\"\")","v":""},{"$f":"IF(Clasament!AM24=\"+\",1,\"\")","v":""},{"$f":"IF(Clasament!AN24=\"+\",1,\"\")","v":""},{"$f":"IF(Clasament!AO24=\"+\",1,\"\")","v":""},{"$f":"IF(Clasament!AP24=\"+\",1,\"\")","v":""},{"$f":"IF(Clasament!AQ24=\"+\",1,\"\")","v":""},{"$f":"IF(Clasament!AR24=\"+\",1,\"\")","v":""},{"$f":"IF(Clasament!AS24=\"+\",1,\"\")","v":""},0,{"$f":"IF(Clasament!AU24=\"+\",1,\"\")","v":""},{"$f":"IF(Clasament!AV24=\"+\",1,\"\")","v":""},{"$f":"IF(Clasament!AW24=\"+\",1,\"\")","v":""},{"$f":"IF(Clasament!AX24=\"+\",1,\"\")","v":""},{"$f":"IF(Clasament!AY24=\"+\",1,\"\")","v":""},{"$f":"IF(Clasament!AZ24=\"+\",1,\"\")","v":""},{"$f":"IF(Clasament!BA24=\"+\",1,\"\")","v":""},{"$f":"IF(Clasament!BB24=\"+\",1,\"\")","v":""},{"$f":"IF(Clasament!BC24=\"+\",1,\"\")","v":""},{"$f":"IF(Clasament!BD24=\"+\",1,\"\")","v":""},0]
[23,{"$f":"IF(Clasament!B25=\"\",\"\",Clasament!B25)","v":"Alunecarea F. 0"},{"$f":"IF(Clasament!C25=\"+\",1,\"\")","v":""},{"$f":"IF(Clasament!D25=\"+\",1,\"\")","v":""},{"$f":"IF(Clasament!E25=\"+\",1,\"\")","v":""},{"$f":"IF(Clasament!F25=\"+\",1,\"\")","v":""},{"$f":"IF(Clasament!G25=\"+\",1,\"\")","v":""},{"$f":"IF(Clasament!H25=\"+\",1,\"\")","v":""},{"$f":"IF(Clasament!I25=\"+\",1,\"\")","v":""},{"$f":"IF(Clasament!J25=\"+\",1,\"\")","v":""},{"$f":"IF(Clasament!K25=\"+\",1,\"\")","v":""},{"$f":"IF(Clasament!L25=\"+\",1,\"\")","v":""},0,{"$f":"IF(Clasament!N25=\"+\",1,\"\")","v":""},{"$f":"IF(Clasament!O25=\"+\",1,\"\")","v":""},{"$f":"IF(Clasament!P25=\"+\",1,\"\")","v":""},{"$f":"IF(Clasament!Q25=\"+\",1,\"\")","v":""},{"$f":"IF(Clasament!R25=\"+\",1,\"\")","v":""},{"$f":"IF(Clasament!S25=\"+\",1,\"\")","v":""},{"$f":"IF(Clasament!T25=\"+\",1,\"\")","v":""},{"$f":"IF(Clasament!U25=\"+\",1,\"\")","v":""},{"$f":"IF(Clasament!V25=\"+\",1,\"\")","v":""},{"$f":"IF(Clasament!W25=\"+\",1,\"\")","v":""},0,{"$f":"IF(Clasament!Y25=\"+\",1,\"\")","v":""},{"$f":"IF(Clasament!Z25=\"+\",1,\"\")","v":""},{"$f":"IF(Clasament!AA25=\"+\",1,\"\")","v":""},{"$f":"IF(Clasament!AB25=\"+\",1,\"\")","v":""},{"$f":"IF(Clasament!AC25=\"+\",1,\"\")","v":""},{"$f":"IF(Clasament!AD25=\"+\",1,\"\")","v":""},{"$f":"IF(Clasament!AE25=\"+\",1,\"\")","v":""},{"$f":"IF(Clasament!AF25=\"+\",1,\"\")","v":""},{"$f":"IF(Clasament!AG25=\"+\",1,\"\")","v":""},{"$f":"IF(Clasament!AH25=\"+\",1,\"\")","v":""},0,{"$f":"IF(Clasament!AJ25=\"+\",1,\"\")","v":""},{"$f":"IF(Clasament!AK25=\"+\",1,\"\")","v":""},{"$f":"IF(Clasament!AL25=\"+\",1,\"\")","v":""},{"$f":"IF(Clasament!AM25=\"+\",1,\"\")","v":""},{"$f":"IF(Clasament!AN25=\"+\",1,\"\")","v":""},{"$f":"IF(Clasament!AO25=\"+\",1,\"\")","v":""},{"$f":"IF(Clasament!AP25=\"+\",1,\"\")","v":""},{"$f":"IF(Clasament!AQ25=\"+\",1,\"\")","v":""},{"$f":"IF(Clasament!AR25=\"+\",1,\"\")","v":""},{"$f":"IF(Clasament!AS25=\"+\",1,\"\")","v":""},0,{"$f":"IF(Clasament!AU25=\"+\",1,\"\")","v":""},{"$f":"IF(Clasament!AV25=\"+\",1,\"\")","v":""},{"$f":"IF(Clasament!AW25=\"+\",1,\"\")","v":""},{"$f":"IF(Clasament!AX25=\"+\",1,\"\")","v":""},{"$f":"IF(Clasament!AY25=\"+\",1,\"\")","v":""},{"$f":"IF(Clasament!AZ25=\"+\",1,\"\")","v":""},{"$f":"IF(Clasament!BA25=\"+\",1,\"\")","v":""},{"$f":"IF(Clasament!BB25=\"+\",1,\"\")","v":""},{"$f":"IF(Clasament!BC25=\"+\",1,\"\")","v":""},{"$f":"IF(Clasament!BD25=\"+\",1,\"\")","v":""},0]
[24,{"$f":"IF(Clasament!B26=\"\",\"\",Clasament!B26)","v":"WTH 0"},{"$f":"IF(Clasament!C26=\"+\",1,\"\")","v":""},{"$f":"IF(Clasament!D26=\"+\",1,\"\")","v":""},{"$f":"IF(Clasament!E26=\"+\",1,\"\")","v":""},{"$f":"IF(Clasament!F26=\"+\",1,\"\")","v":""},{"$f":"IF(Clasament!G26=\"+\",1,\"\")","v":""},{"$f":"IF(Clasament!H26=\"+\",1,\"\")","v":""},{"$f":"IF(Clasament!I26=\"+\",1,\"\")","v":""},{"$f":"IF(Clasament!J26=\"+\",1,\"\")","v":""},{"$f":"IF(Clasament!K26=\"+\",1,\"\")","v":""},{"$f":"IF(Clasament!L26=\"+\",1,\"\")","v":""},0,{"$f":"IF(Clasament!N26=\"+\",1,\"\")","v":""},{"$f":"IF(Clasament!O26=\"+\",1,\"\")","v":""},{"$f":"IF(Clasament!P26=\"+\",1,\"\")","v":""},{"$f":"IF(Clasament!Q26=\"+\",1,\"\")","v":""},{"$f":"IF(Clasament!R26=\"+\",1,\"\")","v":""},{"$f":"IF(Clasament!S26=\"+\",1,\"\")","v":""},{"$f":"IF(Clasament!T26=\"+\",1,\"\")","v":""},{"$f":"IF(Clasament!U26=\"+\",1,\"\")","v":""},{"$f":"IF(Clasament!V26=\"+\",1,\"\")","v":""},{"$f":"IF(Clasament!W26=\"+\",1,\"\")","v":""},0,{"$f":"IF(Clasament!Y26=\"+\",1,\"\")","v":""},{"$f":"IF(Clasament!Z26=\"+\",1,\"\")","v":""},{"$f":"IF(Clasament!AA26=\"+\",1,\"\")","v":""},{"$f":"IF(Clasament!AB26=\"+\",1,\"\")","v":""},{"$f":"IF(Clasament!AC26=\"+\",1,\"\")","v":""},{"$f":"IF(Clasament!AD26=\"+\",1,\"\")","v":""},{"$f":"IF(Clasament!AE26=\"+\",1,\"\")","v":""},{"$f":"IF(Clasament!AF26=\"+\",1,\"\")","v":""},{"$f":"IF(Clasament!AG26=\"+\",1,\"\")","v":""},{"$f":"IF(Clasament!AH26=\"+\",1,\"\")","v":""},0,{"$f":"IF(Clasament!AJ26=\"+\",1,\"\")","v":""},{"$f":"IF(Clasament!AK26=\"+\",1,\"\")","v":""},{"$f":"IF(Clasament!AL26=\"+\",1,\"\")","v":""},{"$f":"IF(Clasament!AM26=\"+\",1,\"\")","v":""},{"$f":"IF(Clasament!AN26=\"+\",1,\"\")","v":""},{"$f":"IF(Clasament!AO26=\"+\",1,\"\")","v":""},{"$f":"IF(Clasament!AP26=\"+\",1,\"\")","v":""},{"$f":"IF(Clasament!AQ26=\"+\",1,\"\")","v":""},{"$f":"IF(Clasament!AR26=\"+\",1,\"\")","v":""},{"$f":"IF(Clasament!AS26=\"+\",1,\"\")","v":""},0,{"$f":"IF(Clasament!AU26=\"+\",1,\"\")","v":""},{"$f":"IF(Clasament!AV26=\"+\",1,\"\")","v":""},{"$f":"IF(Clasament!AW26=\"+\",1,\"\")","v":""},{"$f":"IF(Clasament!AX26=\"+\",1,\"\")","v":""},{"$f":"IF(Clasament!AY26=\"+\",1,\"\")","v":""},{"$f":"IF(Clasament!AZ26=\"+\",1,\"\")","v":""},{"$f":"IF(Clasament!BA26=\"+\",1,\"\")","v":""},{"$f":"IF(Clasament!BB26=\"+\",1,\"\")","v":""},{"$f":"IF(Clasament!BC26=\"+\",1,\"\")","v":""},{"$f":"IF(Clasament!BD26=\"+\",1,\"\")","v":""},0]
[25,{"$f":"IF(Clasament!B27=\"\",\"\",Clasament!B27)","v":"KO"},{"$f":"IF(Clasament!C27=\"+\",1,\"\")","v":""},{"$f":"IF(Clasament!D27=\"+\",1,\"\")","v":""},{"$f":"IF(Clasament!E27=\"+\",1,\"\")","v":""},{"$f":"IF(Clasament!F27=\"+\",1,\"\")","v":""},{"$f":"IF(Clasament!G27=\"+\",1,\"\")","v":""},{"$f":"IF(Clasament!H27=\"+\",1,\"\")","v":""},{"$f":"IF(Clasament!I27=\"+\",1,\"\")","v":""},{"$f":"IF(Clasament!J27=\"+\",1,\"\")","v":""},{"$f":"IF(Clasament!K27=\"+\",1,\"\")","v":""},{"$f":"IF(Clasament!L27=\"+\",1,\"\")","v":""},0,{"$f":"IF(Clasament!N27=\"+\",1,\"\")","v":""},{"$f":"IF(Clasament!O27=\"+\",1,\"\")","v":""},{"$f":"IF(Clasament!P27=\"+\",1,\"\")","v":""},{"$f":"IF(Clasament!Q27=\"+\",1,\"\")","v":""},{"$f":"IF(Clasament!R27=\"+\",1,\"\")","v":""},{"$f":"IF(Clasament!S27=\"+\",1,\"\")","v":""},{"$f":"IF(Clasament!T27=\"+\",1,\"\")","v":""},{"$f":"IF(Clasament!U27=\"+\",1,\"\")","v":""},{"$f":"IF(Clasament!V27=\"+\",1,\"\")","v":""},{"$f":"IF(Clasament!W27=\"+\",1,\"\")","v":""},0,{"$f":"IF(Clasament!Y27=\"+\",1,\"\")","v":""},{"$f":"IF(Clasament!Z27=\"+\",1,\"\")","v":""},{"$f":"IF(Clasament!AA27=\"+\",1,\"\")","v":""},{"$f":"IF(Clasament!AB27=\"+\",1,\"\")","v":""},{"$f":"IF(Clasament!AC27=\"+\",1,\"\")","v":""},{"$f":"IF(Clasament!AD27=\"+\",1,\"\")","v":""},{"$f":"IF(Clasament!AE27=\"+\",1,\"\")","v":""},{"$f":"IF(Clasament!AF27=\"+\",1,\"\")","v":""},{"$f":"IF(Clasament!AG27=\"+\",1,\"\")","v":""},{"$f":"IF(Clasament!AH27=\"+\",1,\"\")","v":""},0,{"$f":"IF(Clasament!AJ27=\"+\",1,\"\")","v":""},{"$f":"IF(Clasament!AK27=\"+\",1,\"\")","v":""},{"$f":"IF(Clasament!AL27=\"+\",1,\"\")","v":""},{"$f":"IF(Clasament!AM27=\"+\",1,\"\")","v":""},{"$f":"IF(Clasament!AN27=\"+\",1,\"\")","v":""},{"$f":"IF(Clasament!AO27=\"+\",1,\"\")","v":""},{"$f":"IF(Clasament!AP27=\"+\",1,\"\")","v":""},{"$f":"IF(Clasament!AQ27=\"+\",1,\"\")","v":""},{"$f":"IF(Clasament!AR27=\"+\",1,\"\")","v":""},{"$f":"IF(Clasament!AS27=\"+\",1,\"\")","v":""},0,{"$f":"IF(Clasament!AU27=\"+\",1,\"\")","v":""},{"$f":"IF(Clasament!AV27=\"+\",1,\"\")","v":""},{"$f":"IF(Clasament!AW27=\"+\",1,\"\")","v":""},{"$f":"IF(Clasament!AX27=\"+\",1,\"\")","v":""},{"$f":"IF(Clasament!AY27=\"+\",1,\"\")","v":""},{"$f":"IF(Clasament!AZ27=\"+\",1,\"\")","v":""},{"$f":"IF(Clasament!BA27=\"+\",1,\"\")","v":""},{"$f":"IF(Clasament!BB27=\"+\",1,\"\")","v":""},{"$f":"IF(Clasament!BC27=\"+\",1,\"\")","v":""},{"$f":"IF(Clasament!BD27=\"+\",1,\"\")","v":""},0]
[26,{"$f":"IF(Clasament!B28=\"\",\"\",Clasament!B28)","v":"Printese si S."},{"$f":"IF(Clasament!C28=\"+\",1,\"\")","v":""},{"$f":"IF(Clasament!D28=\"+\",1,\"\")","v":""},{"$f":"IF(Clasament!E28=\"+\",1,\"\")","v":""},{"$f":"IF(Clasament!F28=\"+\",1,\"\")","v":""},{"$f":"IF(Clasament!G28=\"+\",1,\"\")","v":""},{"$f":"IF(Clasament!H28=\"+\",1,\"\")","v":""},{"$f":"IF(Clasament!I28=\"+\",1,\"\")","v":""},{"$f":"IF(Clasament!J28=\"+\",1,\"\")","v":""},{"$f":"IF(Clasament!K28=\"+\",1,\"\")","v":""},{"$f":"IF(Clasament!L28=\"+\",1,\"\")","v":""},0,{"$f":"IF(Clasament!N28=\"+\",1,\"\")","v":""},{"$f":"IF(Clasament!O28=\"+\",1,\"\")","v":""},{"$f":"IF(Clasament!P28=\"+\",1,\"\")","v":""},{"$f":"IF(Clasament!Q28=\"+\",1,\"\")","v":""},{"$f":"IF(Clasament!R28=\"+\",1,\"\")","v":""},{"$f":"IF(Clasament!S28=\"+\",1,\"\")","v":""},{"$f":"IF(Clasament!T28=\"+\",1,\"\")","v":""},{"$f":"IF(Clasament!U28=\"+\",1,\"\")","v":""},{"$f":"IF(Clasament!V28=\"+\",1,\"\")","v":""},{"$f":"IF(Clasament!W28=\"+\",1,\"\")","v":""},0,{"$f":"IF(Clasament!Y28=\"+\",1,\"\")","v":""},{"$f":"IF(Clasament!Z28=\"+\",1,\"\")","v":""},{"$f":"IF(Clasament!AA28=\"+\",1,\"\")","v":""},{"$f":"IF(Clasament!AB28=\"+\",1,\"\")","v":""},{"$f":"IF(Clasament!AC28=\"+\",1,\"\")","v":""},{"$f":"IF(Clasament!AD28=\"+\",1,\"\")","v":""},{"$f":"IF(Clasament!AE28=\"+\",1,\"\")","v":""},{"$f":"IF(Clasament!AF28=\"+\",1,\"\")","v":""},{"$f":"IF(Clasament!AG28=\"+\",1,\"\")","v":""},{"$f":"IF(Clasament!AH28=\"+\",1,\"\")","v":""},0,{"$f":"IF(Clasament!AJ28=\"+\",1,\"\")","v":""},{"$f":"IF(Clasament!AK28=\"+\",1,\"\")","v":""},{"$f":"IF(Clasament!AL28=\"+\",1,\"\")","v":""},{"$f":"IF(Clasament!AM28=\"+\",1,\"\")","v":""},{"$f":"IF(Clasament!AN28=\"+\",1,\"\")","v":""},{"$f":"IF(Clasament!AO28=\"+\",1,\"\")","v":""},{"$f":"IF(Clasament!AP28=\"+\",1,\"\")","v":""},{"$f":"IF(Clasament!AQ28=\"+\",1,\"\")","v":""},{"$f":"IF(Clasament!AR28=\"+\",1,\"\")","v":""},{"$f":"IF(Clasament!AS28=\"+\",1,\"\")","v":""},0,{"$f":"IF(Clasament!AU28=\"+\",1,\"\")","v":""},{"$f":"IF(Clasament!AV28=\"+\",1,\"\")","v":""},{"$f":"IF(Clasament!AW28=\"+\",1,\"\")","v":""},{"$f":"IF(Clasament!AX28=\"+\",1,\"\")","v":""},{"$f":"IF(Clasament!AY28=\"+\",1,\"\")","v":""},{"$f":"IF(Clasament!AZ28=\"+\",1,\"\")","v":""},{"$f":"IF(Clasament!BA28=\"+\",1,\"\")","v":""},{"$f":"IF(Clasament!BB28=\"+\",1,\"\")","v":""},{"$f":"IF(Clasament!BC28=\"+\",1,\"\")","v":""},{"$f":"IF(Clasament!BD28=\"+\",1,\"\")","v":""},0]
[27,{"$f":"IF(Clasament!B29=\"\",\"\",Clasament!B29)","v":"Zeii cucului"},{"$f":"IF(Clasament!C29=\"+\",1,\"\")","v":""},{"$f":"IF(Clasament!D29=\"+\",1,\"\")","v":""},{"$f":"IF(Clasament!E29=\"+\",1,\"\")","v":""},{"$f":"IF(Clasament!F29=\"+\",1,\"\")","v":""},{"$f":"IF(Clasament!G29=\"+\",1,\"\")","v":""},{"$f":"IF(Clasament!H29=\"+\",1,\"\")","v":""},{"$f":"IF(Clasament!I29=\"+\",1,\"\")","v":""},{"$f":"IF(Clasament!J29=\"+\",1,\"\")","v":""},{"$f":"IF(Clasament!K29=\"+\",1,\"\")","v":""},{"$f":"IF(Clasament!L29=\"+\",1,\"\")","v":""},0,{"$f":"IF(Clasament!N29=\"+\",1,\"\")","v":""},{"$f":"IF(Clasament!O29=\"+\",1,\"\")","v":""},{"$f":"IF(Clasament!P29=\"+\",1,\"\")","v":""},{"$f":"IF(Clasament!Q29=\"+\",1,\"\")","v":""},{"$f":"IF(Clasament!R29=\"+\",1,\"\")","v":""},{"$f":"IF(Clasament!S29=\"+\",1,\"\")","v":""},{"$f":"IF(Clasament!T29=\"+\",1,\"\")","v":""},{"$f":"IF(Clasament!U29=\"+\",1,\"\")","v":""},{"$f":"IF(Clasament!V29=\"+\",1,\"\")","v":""},{"$f":"IF(Clasament!W29=\"+\",1,\"\")","v":""},0,{"$f":"IF(Clasament!Y29=\"+\",1,\"\")","v":""},{"$f":"IF(Clasament!Z29=\"+\",1,\"\")","v":""},{"$f":"IF(Clasament!AA29=\"+\",1,\"\")","v":""},{"$f":"IF(Clasament!AB29=\"+\",1,\"\")","v":""},{"$f":"IF(Clasament!AC29=\"+\",1,\"\")","v":""},{"$f":"IF(Clasament!AD29=\"+\",1,\"\")","v":""},{"$f":"IF(Clasament!AE29=\"+\",1,\"\")","v":""},{"$f":"IF(Clasament!AF29=\"+\",1,\"\")","v":""},{"$f":"IF(Clasament!AG29=\"+\",1,\"\")","v":""},{"$f":"IF(Clasament!AH29=\"+\",1,\"\")","v":""},0,{"$f":"IF(Clasament!AJ29=\"+\",1,\"\")","v":""},{"$f":"IF(Clasament!AK29=\"+\",1,\"\")","v":""},{"$f":"IF(Clasament!AL29=\"+\",1,\"\")","v":""},{"$f":"IF(Clasament!AM29=\"+\",1,\"\")","v":""},{"$f":"IF(Clasament!AN29=\"+\",1,\"\")","v":""},{"$f":"IF(Clasament!AO29=\"+\",1,\"\")","v":""},{"$f":"IF(Clasament!AP29=\"+\",1,\"\")","v":""},{"$f":"IF(Clasament!AQ29=\"+\",1,\"\")","v":""},{"$f":"IF(Clasament!AR29=\"+\",1,\"\")","v":""},{"$f":"IF(Clasament!AS29=\"+\",1,\"\")","v":""},0,{"$f":"IF(Clasament!AU29=\"+\",1,\"\")","v":""},{"$f":"IF(Clasament!AV29=\"+\",1,\"\")","v":""},{"$f":"IF(Clasament!AW29=\"+\",1,\"\")","v":""},{"$f":"IF(Clasament!AX29=\"+\",1,\"\")","v":""},{"$f":"IF(Clasament!AY29=\"+\",1,\"\")","v":""},{"$f":"IF(Clasament!AZ29=\"+\",1,\"\")","v":""},{"$f":"IF(Clasament!BA29=\"+\",1,\"\")","v":""},{"$f":"IF(Clasament!BB29=\"+\",1,\"\")","v":""},{"$f":"IF(Clasament!BC29=\"+\",1,\"\")","v":""},{"$f":"IF(Clasament!BD29=\"+\",1,\"\")","v":""},0]
[28,{"$f":"IF(Clasament!B30=\"\",\"\",Clasament!B30)","v":"Ruby"},{"$f":"IF(Clasament!C30=\"+\",1,\"\")","v":""},{"$f":"IF(Clasament!D30=\"+\",1,\"\")","v":""},{"$f":"IF(Clasament!E30=\"+\",1,\"\")","v":""},{"$f":"IF(Clasament!F30=\"+\",1,\"\")","v":""},{"$f":"IF(Clasament!G30=\"+\",1,\"\")","v":""},{"$f":"IF(Clasament!H30=\"+\",1,\"\")","v":""},{"$f":"IF(Clasament!I30=\"+\",1,\"\")","v":""},{"$f":"IF(Clasament!J30=\"+\",1,\"\")","v":""},{"$f":"IF(Clasament!K30=\"+\",1,\"\")","v":""},{"$f":"IF(Clasament!L30=\"+\",1,\"\")","v":""},0,{"$f":"IF(Clasament!N30=\"+\",1,\"\")","v":""},{"$f":"IF(Clasament!O30=\"+\",1,\"\")","v":""},{"$f":"IF(Clasament!P30=\"+\",1,\"\")","v":""},{"$f":"IF(Clasament!Q30=\"+\",1,\"\")","v":""},{"$f":"IF(Clasament!R30=\"+\",1,\"\")","v":""},{"$f":"IF(Clasament!S30=\"+\",1,\"\")","v":""},{"$f":"IF(Clasament!T30=\"+\",1,\"\")","v":""},{"$f":"IF(Clasament!U30=\"+\",1,\"\")","v":""},{"$f":"IF(Clasament!V30=\"+\",1,\"\")","v":""},{"$f":"IF(Clasament!W30=\"+\",1,\"\")","v":""},0,{"$f":"IF(Clasament!Y30=\"+\",1,\"\")","v":""},{"$f":"IF(Clasament!Z30=\"+\",1,\"\")","v":""},{"$f":"IF(Clasament!AA30=\"+\",1,\"\")","v":""},{"$f":"IF(Clasament!AB30=\"+\",1,\"\")","v":""},{"$f":"IF(Clasament!AC30=\"+\",1,\"\")","v":""},{"$f":"IF(Clasament!AD30=\"+\",1,\"\")","v":""},{"$f":"IF(Clasament!AE30=\"+\",1,\"\")","v":""},{"$f":"IF(Clasament!AF30=\"+\",1,\"\")","v":""},{"$f":"IF(Clasament!AG30=\"+\",1,\"\")","v":""},{"$f":"IF(Clasament!AH30=\"+\",1,\"\")","v":""},0,{"$f":"IF(Clasament!AJ30=\"+\",1,\"\")","v":""},{"$f":"IF(Clasament!AK30=\"+\",1,\"\")","v":""},{"$f":"IF(Clasament!AL30=\"+\",1,\"\")","v":""},{"$f":"IF(Clasament!AM30=\"+\",1,\"\")","v":""},{"$f":"IF(Clasament!AN30=\"+\",1,\"\")","v":""},{"$f":"IF(Clasament!AO30=\"+\",1,\"\")","v":""},{"$f":"IF(Clasament!AP30=\"+\",1,\"\")","v":""},{"$f":"IF(Clasament!AQ30=\"+\",1,\"\")","v":""},{"$f":"IF(Clasament!AR30=\"+\",1,\"\")","v":""},{"$f":"IF(Clasament!AS30=\"+\",1,\"\")","v":""},0,{"$f":"IF(Clasament!AU30=\"+\",1,\"\")","v":""},{"$f":"IF(Clasament!AV30=\"+\",1,\"\")","v":""},{"$f":"IF(Clasament!AW30=\"+\",1,\"\")","v":""},{"$f":"IF(Clasament!AX30=\"+\",1,\"\")","v":""},{"$f":"IF(Clasament!AY30=\"+\",1,\"\")","v":""},{"$f":"IF(Clasament!AZ30=\"+\",1,\"\")","v":""},{"$f":"IF(Clasament!BA30=\"+\",1,\"\")","v":""},{"$f":"IF(Clasament!BB30=\"+\",1,\"\")","v":""},{"$f":"IF(Clasament!BC30=\"+\",1,\"\")","v":""},{"$f":"IF(Clasament!BD30=\"+\",1,\"\")","v":""},0]
[29,{"$f":"IF(Clasament!B32=\"\",\"\",Clasament!B32)","v":"Intel"},{"$f":"IF(Clasament!C31=\"+\",1,\"\")","v":""},{"$f":"IF(Clasament!D31=\"+\",1,\"\")","v":""},{"$f":"IF(Clasament!E31=\"+\",1,\"\")","v":""},{"$f":"IF(Clasament!F31=\"+\",1,\"\")","v":""},{"$f":"IF(Clasament!G31=\"+\",1,\"\")","v":""},{"$f":"IF(Clasament!H31=\"+\",1,\"\")","v":""},{"$f":"IF(Clasament!I31=\"+\",1,\"\")","v":""},{"$f":"IF(Clasament!J31=\"+\",1,\"\")","v":""},{"$f":"IF(Clasament!K31=\"+\",1,\"\")","v":""},{"$f":"IF(Clasament!L31=\"+\",1,\"\")","v":""},0,{"$f":"IF(Clasament!N31=\"+\",1,\"\")","v":""},{"$f":"IF(Clasament!O31=\"+\",1,\"\")","v":""},{"$f":"IF(Clasament!P31=\"+\",1,\"\")","v":""},{"$f":"IF(Clasament!Q31=\"+\",1,\"\")","v":""},{"$f":"IF(Clasament!R31=\"+\",1,\"\")","v":""},{"$f":"IF(Clasament!S31=\"+\",1,\"\")","v":""},{"$f":"IF(Clasament!T31=\"+\",1,\"\")","v":""},{"$f":"IF(Clasament!U31=\"+\",1,\"\")","v":""},{"$f":"IF(Clasament!V31=\"+\",1,\"\")","v":""},{"$f":"IF(Clasament!W31=\"+\",1,\"\")","v":""},0,{"$f":"IF(Clasament!Y31=\"+\",1,\"\")","v":""},{"$f":"IF(Clasament!Z31=\"+\",1,\"\")","v":""},{"$f":"IF(Clasament!AA31=\"+\",1,\"\")","v":""},{"$f":"IF(Clasament!AB31=\"+\",1,\"\")","v":""},{"$f":"IF(Clasament!AC31=\"+\",1,\"\")","v":""},{"$f":"IF(Clasament!AD31=\"+\",1,\"\")","v":""},{"$f":"IF(Clasament!AE31=\"+\",1,\"\")","v":""},{"$f":"IF(Clasament!AF31=\"+\",1,\"\")","v":""},{"$f":"IF(Clasament!AG31=\"+\",1,\"\")","v":""},{"$f":"IF(Clasament!AH31=\"+\",1,\"\")","v":""},0,{"$f":"IF(Clasament!AJ31=\"+\",1,\"\")","v":""},{"$f":"IF(Clasament!AK31=\"+\",1,\"\")","v":""},{"$f":"IF(Clasament!AL31=\"+\",1,\"\")","v":""},{"$f":"IF(Clasament!AM31=\"+\",1,\"\")","v":""},{"$f":"IF(Clasament!AN31=\"+\",1,\"\")","v":""},{"$f":"IF(Clasament!AO31=\"+\",1,\"\")","v":""},{"$f":"IF(Clasament!AP31=\"+\",1,\"\")","v":""},{"$f":"IF(Clasament!AQ31=\"+\",1,\"\")","v":""},{"$f":"IF(Clasament!AR31=\"+\",1,\"\")","v":""},{"$f":"IF(Clasament!AS31=\"+\",1,\"\")","v":""},0,{"$f":"IF(Clasament!AU31=\"+\",1,\"\")","v":""},{"$f":"IF(Clasament!AV31=\"+\",1,\"\")","v":""},{"$f":"IF(Clasament!AW31=\"+\",1,\"\")","v":""},{"$f":"IF(Clasament!AX31=\"+\",1,\"\")","v":""},{"$f":"IF(Clasament!AY31=\"+\",1,\"\")","v":""},{"$f":"IF(Clasament!AZ31=\"+\",1,\"\")","v":""},{"$f":"IF(Clasament!BA31=\"+\",1,\"\")","v":""},{"$f":"IF(Clasament!BB31=\"+\",1,\"\")","v":""},{"$f":"IF(Clasament!BC31=\"+\",1,\"\")","v":""},{"$f":"IF(Clasament!BD31=\"+\",1,\"\")","v":""},0]
[30,{"$f":"IF(Clasament!B33=\"\",\"\",Clasament!B33)","v":"Vegas"},{"$f":"IF(Clasament!C32=\"+\",1,\"\")","v":""},{"$f":"IF(Clasament!D32=\"+\",1,\"\")","v":""},{"$f":"IF(Clasament!E32=\"+\",1,\"\")","v":""},{"$f":"IF(Clasament!F32=\"+\",1,\"\")","v":""},{"$f":"IF(Clasament!G32=\"+\",1,\"\")","v":""},{"$f":"IF(Clasament!H32=\"+\",1,\"\")","v":""},{"$f":"IF(Clasament!I32=\"+\",1,\"\")","v":""},{"$f":"IF(Clasament!J32=\"+\",1,\"\")","v":""},{"$f":"IF(Clasament!K32=\"+\",1,\"\")","v":""},{"$f":"IF(Clasament!L32=\"+\",1,\"\")","v":""},0,{"$f":"IF(Clasament!N32=\"+\",1,\"\")","v":""},{"$f":"IF(Clasament!O32=\"+\",1,\"\")","v":""},{"$f":"IF(Clasament!P32=\"+\",1,\"\")","v":""},{"$f":"IF(Clasament!Q32=\"+\",1,\"\")","v":""},{"$f":"IF(Clasament!R32=\"+\",1,\"\")","v":""},{"$f":"IF(Clasament!S32=\"+\",1,\"\")","v":""},{"$f":"IF(Clasament!T32=\"+\",1,\"\")","v":""},{"$f":"IF(Clasament!U32=\"+\",1,\"\")","v":""},{"$f":"IF(Clasament!V32=\"+\",1,\"\")","v":""},{"$f":"IF(Clasament!W32=\"+\",1,\"\")","v":""},0,{"$f":"IF(Clasament!Y32=\"+\",1,\"\")","v":""},{"$f":"IF(Clasament!Z32=\"+\",1,\"\")","v":""},{"$f":"IF(Clasament!AA32=\"+\",1,\"\")","v":""},{"$f":"IF(Clasament!AB32=\"+\",1,\"\")","v":""},{"$f":"IF(Clasament!AC32=\"+\",1,\"\")","v":""},{"$f":"IF(Clasament!AD32=\"+\",1,\"\")","v":""},{"$f":"IF(Clasament!AE32=\"+\",1,\"\")","v":""},{"$f":"IF(Clasament!AF32=\"+\",1,\"\")","v":""},{"$f":"IF(Clasament!AG32=\"+\",1,\"\")","v":""},{"$f":"IF(Clasament!AH32=\"+\",1,\"\")","v":""},0,{"$f":"IF(Clasament!AJ32=\"+\",1,\"\")","v":""},{"$f":"IF(Clasament!AK32=\"+\",1,\"\")","v":""},{"$f":"IF(Clasament!AL32=\"+\",1,\"\")","v":""},{"$f":"IF(Clasament!AM32=\"+\",1,\"\")","v":""},{"$f":"IF(Clasament!AN32=\"+\",1,\"\")","v":""},{"$f":"IF(Clasament!AO32=\"+\",1,\"\")","v":""},{"$f":"IF(Clasament!AP32=\"+\",1,\"\")","v":""},{"$f":"IF(Clasament!AQ32=\"+\",1,\"\")","v":""},{"$f":"IF(Clasament!AR32=\"+\",1,\"\")","v":""},{"$f":"IF(Clasament!AS32=\"+\",1,\"\")","v":""},0,{"$f":"IF(Clasament!AU32=\"+\",1,\"\")","v":""},{"$f":"IF(Clasament!AV32=\"+\",1,\"\")","v":""},{"$f":"IF(Clasament!AW32=\"+\",1,\"\")","v":""},{"$f":"IF(Clasament!AX32=\"+\",1,\"\")","v":""},{"$f":"IF(Clasament!AY32=\"+\",1,\"\")","v":""},{"$f":"IF(Clasament!AZ32=\"+\",1,\"\")","v":""},{"$f":"IF(Clasament!BA32=\"+\",1,\"\")","v":""},{"$f":"IF(Clasament!BB32=\"+\",1,\"\")","v":""},{"$f":"IF(Clasament!BC32=\"+\",1,\"\")","v":""},{"$f":"IF(Clasament!BD32=\"+\",1,\"\")","v":""},0]
[31,{"$f":"IF(Clasament!B35=\"\",\"\",Clasament!B35)","v":"Chimkadze"},{"$f":"IF(Clasament!C33=\"+\",1,\"\")","v":""},{"$f":"IF(Clasament!D33=\"+\",1,\"\")","v":""},{"$f":"IF(Clasament!E33=\"+\",1,\"\")","v":""},{"$f":"IF(Clasament!F33=\"+\",1,\"\")","v":""},{"$f":"IF(Clasament!G33=\"+\",1,\"\")","v":""},{"$f":"IF(Clasament!H33=\"+\",1,\"\")","v":""},{"$f":"IF(Clasament!I33=\"+\",1,\"\")","v":""},{"$f":"IF(Clasament!J33=\"+\",1,\"\")","v":""},{"$f":"IF(Clasament!K33=\"+\",1,\"\")","v":""},{"$f":"IF(Clasament!L33=\"+\",1,\"\")","v":""},0,{"$f":"IF(Clasament!N33=\"+\",1,\"\")","v":""},{"$f":"IF(Clasament!O33=\"+\",1,\"\")","v":""},{"$f":"IF(Clasament!P33=\"+\",1,\"\")","v":""},{"$f":"IF(Clasament!Q33=\"+\",1,\"\")","v":""},{"$f":"IF(Clasament!R33=\"+\",1,\"\")","v":""},{"$f":"IF(Clasament!S33=\"+\",1,\"\")","v":""},{"$f":"IF(Clasament!T33=\"+\",1,\"\")","v":""},{"$f":"IF(Clasament!U33=\"+\",1,\"\")","v":""},{"$f":"IF(Clasament!V33=\"+\",1,\"\")","v":""},{"$f":"IF(Clasament!W33=\"+\",1,\"\")","v":""},0,{"$f":"IF(Clasament!Y33=\"+\",1,\"\")","v":""},{"$f":"IF(Clasament!Z33=\"+\",1,\"\")","v":""},{"$f":"IF(Clasament!AA33=\"+\",1,\"\")","v":""},{"$f":"IF(Clasament!AB33=\"+\",1,\"\")","v":""},{"$f":"IF(Clasament!AC33=\"+\",1,\"\")","v":""},{"$f":"IF(Clasament!AD33=\"+\",1,\"\")","v":""},{"$f":"IF(Clasament!AE33=\"+\",1,\"\")","v":""},{"$f":"IF(Clasament!AF33=\"+\",1,\"\")","v":""},{"$f":"IF(Clasament!AG33=\"+\",1,\"\")","v":""},{"$f":"IF(Clasament!AH33=\"+\",1,\"\")","v":""},0,{"$f":"IF(Clasament!AJ33=\"+\",1,\"\")","v":""},{"$f":"IF(Clasament!AK33=\"+\",1,\"\")","v":""},{"$f":"IF(Clasament!AL33=\"+\",1,\"\")","v":""},{"$f":"IF(Clasament!AM33=\"+\",1,\"\")","v":""},{"$f":"IF(Clasament!AN33=\"+\",1,\"\")","v":""},{"$f":"IF(Clasament!AO33=\"+\",1,\"\")","v":""},{"$f":"IF(Clasament!AP33=\"+\",1,\"\")","v":""},{"$f":"IF(Clasament!AQ33=\"+\",1,\"\")","v":""},{"$f":"IF(Clasament!AR33=\"+\",1,\"\")","v":""},{"$f":"IF(Clasament!AS33=\"+\",1,\"\")","v":""},0,{"$f":"IF(Clasament!AU33=\"+\",1,\"\")","v":""},{"$f":"IF(Clasament!AV33=\"+\",1,\"\")","v":""},{"$f":"IF(Clasament!AW33=\"+\",1,\"\")","v":""},{"$f":"IF(Clasament!AX33=\"+\",1,\"\")","v":""},{"$f":"IF(Clasament!AY33=\"+\",1,\"\")","v":""},{"$f":"IF(Clasament!AZ33=\"+\",1,\"\")","v":""},{"$f":"IF(Clasament!BA33=\"+\",1,\"\")","v":""},{"$f":"IF(Clasament!BB33=\"+\",1,\"\")","v":""},{"$f":"IF(Clasament!BC33=\"+\",1,\"\")","v":""},{"$f":"IF(Clasament!BD33=\"+\",1,\"\")","v":""},0]
[32,{"$f":"IF(Clasament!B36=\"\",\"\",Clasament!B36)","v":"Luftwafe"},{"$f":"IF(Clasament!C34=\"+\",1,\"\")","v":""},{"$f":"IF(Clasament!D34=\"+\",1,\"\")","v":""},{"$f":"IF(Clasament!E34=\"+\",1,\"\")","v":""},{"$f":"IF(Clasament!F34=\"+\",1,\"\")","v":""},{"$f":"IF(Clasament!G34=\"+\",1,\"\")","v":""},{"$f":"IF(Clasament!H34=\"+\",1,\"\")","v":""},{"$f":"IF(Clasament!I34=\"+\",1,\"\")","v":""},{"$f":"IF(Clasament!J34=\"+\",1,\"\")","v":""},{"$f":"IF(Clasament!K34=\"+\",1,\"\")","v":""},{"$f":"IF(Clasament!L34=\"+\",1,\"\")","v":""},0,{"$f":"IF(Clasament!N34=\"+\",1,\"\")","v":""},{"$f":"IF(Clasament!O34=\"+\",1,\"\")","v":""},{"$f":"IF(Clasament!P34=\"+\",1,\"\")","v":""},{"$f":"IF(Clasament!Q34=\"+\",1,\"\")","v":""},{"$f":"IF(Clasament!R34=\"+\",1,\"\")","v":""},{"$f":"IF(Clasament!S34=\"+\",1,\"\")","v":""},{"$f":"IF(Clasament!T34=\"+\",1,\"\")","v":""},{"$f":"IF(Clasament!U34=\"+\",1,\"\")","v":""},{"$f":"IF(Clasament!V34=\"+\",1,\"\")","v":""},{"$f":"IF(Clasament!W34=\"+\",1,\"\")","v":""},0,{"$f":"IF(Clasament!Y34=\"+\",1,\"\")","v":""},{"$f":"IF(Clasament!Z34=\"+\",1,\"\")","v":""},{"$f":"IF(Clasament!AA34=\"+\",1,\"\")","v":""},{"$f":"IF(Clasament!AB34=\"+\",1,\"\")","v":""},{"$f":"IF(Clasament!AC34=\"+\",1,\"\")","v":""},{"$f":"IF(Clasament!AD34=\"+\",1,\"\")","v":""},{"$f":"IF(Clasament!AE34=\"+\",1,\"\")","v":""},{"$f":"IF(Clasament!AF34=\"+\",1,\"\")","v":""},{"$f":"IF(Clasament!AG34=\"+\",1,\"\")","v":""},{"$f":"IF(Clasament!AH34=\"+\",1,\"\")","v":""},0,{"$f":"IF(Clasament!AJ34=\"+\",1,\"\")","v":""},{"$f":"IF(Clasament!AK34=\"+\",1,\"\")","v":""},{"$f":"IF(Clasament!AL34=\"+\",1,\"\")","v":""},{"$f":"IF(Clasament!AM34=\"+\",1,\"\")","v":""},{"$f":"IF(Clasament!AN34=\"+\",1,\"\")","v":""},{"$f":"IF(Clasament!AO34=\"+\",1,\"\")","v":""},{"$f":"IF(Clasament!AP34=\"+\",1,\"\")","v":""},{"$f":"IF(Clasament!AQ34=\"+\",1,\"\")","v":""},{"$f":"IF(Clasament!AR34=\"+\",1,\"\")","v":""},{"$f":"IF(Clasament!AS34=\"+\",1,\"\")","v":""},0,{"$f":"IF(Clasament!AU34=\"+\",1,\"\")","v":""},{"$f":"IF(Clasament!AV34=\"+\",1,\"\")","v":""},{"$f":"IF(Clasament!AW34=\"+\",1,\"\")","v":""},{"$f":"IF(Clasament!AX34=\"+\",1,\"\")","v":""},{"$f":"IF(Clasament!AY34=\"+\",1,\"\")","v":""},{"$f":"IF(Clasament!AZ34=\"+\",1,\"\")","v":""},{"$f":"IF(Clasament!BA34=\"+\",1,\"\")","v":""},{"$f":"IF(Clasament!BB34=\"+\",1,\"\")","v":""},{"$f":"IF(Clasament!BC34=\"+\",1,\"\")","v":""},{"$f":"IF(Clasament!BD34=\"+\",1,\"\")","v":""},0]
[33,{"$f":"IF(Clasament!B38=\"\",\"\",Clasament!B38)","v":"Type mism."},{"$f":"IF(Clasament!C35=\"+\",1,\"\")","v":""},{"$f":"IF(Clasament!D35=\"+\",1,\"\")","v":""},{"$f":"IF(Clasament!E35=\"+\",1,\"\")","v":""},{"$f":"IF(Clasament!F35=\"+\",1,\"\")","v":""},{"$f":"IF(Clasament!G35=\"+\",1,\"\")","v":""},{"$f":"IF(Clasament!H35=\"+\",1,\"\")","v":""},{"$f":"IF(Clasament!I35=\"+\",1,\"\")","v":""},{"$f":"IF(Clasament!J35=\"+\",1,\"\")","v":""},{"$f":"IF(Clasament!K35=\"+\",1,\"\")","v":""},{"$f":"IF(Clasament!L35=\"+\",1,\"\")","v":""},{"$f":"SUM(C34:L34)","v":0},{"$f":"IF(Clasament!N35=\"+\",1,\"\")","v":""},{"$f":"IF(Clasament!O35=\"+\",1,\"\")","v":""},{"$f":"IF(Clasament!P35=\"+\",1,\"\")","v":""},{"$f":"IF(Clasament!Q35=\"+\",1,\"\")","v":""},{"$f":"IF(Clasament!R35=\"+\",1,\"\")","v":""},{"$f":"IF(Clasament!S35=\"+\",1,\"\")","v":""},{"$f":"IF(Clasament!T35=\"+\",1,\"\")","v":""},{"$f":"IF(Clasament!U35=\"+\",1,\"\")","v":""},{"$f":"IF(Clasament!V35=\"+\",1,\"\")","v":""},{"$f":"IF(Clasament!W35=\"+\",1,\"\")","v":""},{"$f":"SUM(N34:W34)","v":0},{"$f":"IF(Clasament!Y35=\"+\",1,\"\")","v":""},{"$f":"IF(Clasament!Z35=\"+\",1,\"\")","v":""},{"$f":"IF(Clasament!AA35=\"+\",1,\"\")","v":""},{"$f":"IF(Clasament!AB35=\"+\",1,\"\")","v":""},{"$f":"IF(Clasament!AC35=\"+\",1,\"\")","v":""},{"$f":"IF(Clasament!AD35=\"+\",1,\"\")","v":""},{"$f":"IF(Clasament!AE35=\"+\",1,\"\")","v":""},{"$f":"IF(Clasament!AF35=\"+\",1,\"\")","v":""},{"$f":"IF(Clasament!AG35=\"+\",1,\"\")","v":""},{"$f":"IF(Clasament!AH35=\"+\",1,\"\")","v":""},{"$f":"SUM(Y34:AH34)","v":0},{"$f":"IF(Clasament!AJ35=\"+\",1,\"\")","v":""},{"$f":"IF(Clasament!AK35=\"+\",1,\"\")","v":""},{"$f":"IF(Clasament!AL35=\"+\",1,\"\")","v":""},{"$f":"IF(Clasament!AM35=\"+\",1,\"\")","v":""},{"$f":"IF(Clasament!AN35=\"+\",1,\"\")","v":""},{"$f":"IF(Clasament!AO35=\"+\",1,\"\")","v":""},{"$f":"IF(Clasament!AP35=\"+\",1,\"\")","v":""},{"$f":"IF(Clasament!AQ35=\"+\",1,\"\")","v":""},{"$f":"IF(Clasament!AR35=\"+\",1,\"\")","v":""},{"$f":"IF(Clasament!AS35=\"+\",1,\"\")","v":""},{"$f":"SUM(AJ34:AS34)","v":0},{"$f":"IF(Clasament!AU35=\"+\",1,\"\")","v":""},{"$f":"IF(Clasament!AV35=\"+\",1,\"\")","v":""},{"$f":"IF(Clasament!AW35=\"+\",1,\"\")","v":""},{"$f":"IF(Clasament!AX35=\"+\",1,\"\")","v":""},{"$f":"IF(Clasament!AY35=\"+\",1,\"\")","v":""},{"$f":"IF(Clasament!AZ35=\"+\",1,\"\")","v":""},{"$f":"IF(Clasament!BA35=\"+\",1,\"\")","v":""},{"$f":"IF(Clasament!BB35=\"+\",1,\"\")","v":""},{"$f":"IF(Clasament!BC35=\"+\",1,\"\")","v":""},{"$f":"IF(Clasament!BD35=\"+\",1,\"\")","v":""},{"$f":"SUM(AU34:BD34)","v":0}]
[34,{"$f":"IF(Clasament!B39=\"\",\"\",Clasament!B39)","v":"Legiuitorii"},{"$f":"IF(Clasament!C36=\"+\",1,\"\")","v":""},{"$f":"IF(Clasament!D36=\"+\",1,\"\")","v":""},{"$f":"IF(Clasament!E36=\"+\",1,\"\")","v":""},{"$f":"IF(Clasament!F36=\"+\",1,\"\")","v":""},{"$f":"IF(Clasament!G36=\"+\",1,\"\")","v":""},{"$f":"IF(Clasament!H36=\"+\",1,\"\")","v":""},{"$f":"IF(Clasament!I36=\"+\",1,\"\")","v":""},{"$f":"IF(Clasament!J36=\"+\",1,\"\")","v":""},{"$f":"IF(Clasament!K36=\"+\",1,\"\")","v":""},{"$f":"IF(Clasament!L36=\"+\",1,\"\")","v":""},0,{"$f":"IF(Clasament!N36=\"+\",1,\"\")","v":""},{"$f":"IF(Clasament!O36=\"+\",1,\"\")","v":""},{"$f":"IF(Clasament!P36=\"+\",1,\"\")","v":""},{"$f":"IF(Clasament!Q36=\"+\",1,\"\")","v":""},{"$f":"IF(Clasament!R36=\"+\",1,\"\")","v":""},{"$f":"IF(Clasament!S36=\"+\",1,\"\")","v":""},{"$f":"IF(Clasament!T36=\"+\",1,\"\")","v":""},{"$f":"IF(Clasament!U36=\"+\",1,\"\")","v":""},{"$f":"IF(Clasament!V36=\"+\",1,\"\")","v":""},{"$f":"IF(Clasament!W36=\"+\",1,\"\")","v":""},0,{"$f":"IF(Clasament!Y36=\"+\",1,\"\")","v":""},{"$f":"IF(Clasament!Z36=\"+\",1,\"\")","v":""},{"$f":"IF(Clasament!AA36=\"+\",1,\"\")","v":""},{"$f":"IF(Clasament!AB36=\"+\",1,\"\")","v":""},{"$f":"IF(Clasament!AC36=\"+\",1,\"\")","v":""},{"$f":"IF(Clasament!AD36=\"+\",1,\"\")","v":""},{"$f":"IF(Clasament!AE36=\"+\",1,\"\")","v":""},{"$f":"IF(Clasament!AF36=\"+\",1,\"\")","v":""},{"$f":"IF(Clasament!AG36=\"+\",1,\"\")","v":""},{"$f":"IF(Clasament!AH36=\"+\",1,\"\")","v":""},0,{"$f":"IF(Clasament!AJ36=\"+\",1,\"\")","v":""},{"$f":"IF(Clasament!AK36=\"+\",1,\"\")","v":""},{"$f":"IF(Clasament!AL36=\"+\",1,\"\")","v":""},{"$f":"IF(Clasament!AM36=\"+\",1,\"\")","v":""},{"$f":"IF(Clasament!AN36=\"+\",1,\"\")","v":""},{"$f":"IF(Clasament!AO36=\"+\",1,\"\")","v":""},{"$f":"IF(Clasament!AP36=\"+\",1,\"\")","v":""},{"$f":"IF(Clasament!AQ36=\"+\",1,\"\")","v":""},{"$f":"IF(Clasament!AR36=\"+\",1,\"\")","v":""},{"$f":"IF(Clasament!AS36=\"+\",1,\"\")","v":""},0,{"$f":"IF(Clasament!AU36=\"+\",1,\"\")","v":""},{"$f":"IF(Clasament!AV36=\"+\",1,\"\")","v":""},{"$f":"IF(Clasament!AW36=\"+\",1,\"\")","v":""},{"$f":"IF(Clasament!AX36=\"+\",1,\"\")","v":""},{"$f":"IF(Clasament!AY36=\"+\",1,\"\")","v":""},{"$f":"IF(Clasament!AZ36=\"+\",1,\"\")","v":""},{"$f":"IF(Clasament!BA36=\"+\",1,\"\")","v":""},{"$f":"IF(Clasament!BB36=\"+\",1,\"\")","v":""},{"$f":"IF(Clasament!BC36=\"+\",1,\"\")","v":""},{"$f":"IF(Clasament!BD36=\"+\",1,\"\")","v":""},0]
[35,{"$f":"IF(Clasament!B40=\"\",\"\",Clasament!B40)","v":"Decebal"},{"$f":"IF(Clasament!C37=\"+\",1,\"\")","v":""},{"$f":"IF(Clasament!D37=\"+\",1,\"\")","v":""},{"$f":"IF(Clasament!E37=\"+\",1,\"\")","v":""},{"$f":"IF(Clasament!F37=\"+\",1,\"\")","v":""},{"$f":"IF(Clasament!G37=\"+\",1,\"\")","v":""},{"$f":"IF(Clasament!H37=\"+\",1,\"\")","v":""},{"$f":"IF(Clasament!I37=\"+\",1,\"\")","v":""},{"$f":"IF(Clasament!J37=\"+\",1,\"\")","v":""},{"$f":"IF(Clasament!K37=\"+\",1,\"\")","v":""},{"$f":"IF(Clasament!L37=\"+\",1,\"\")","v":""},0,{"$f":"IF(Clasament!N37=\"+\",1,\"\")","v":""},{"$f":"IF(Clasament!O37=\"+\",1,\"\")","v":""},{"$f":"IF(Clasament!P37=\"+\",1,\"\")","v":""},{"$f":"IF(Clasament!Q37=\"+\",1,\"\")","v":""},{"$f":"IF(Clasament!R37=\"+\",1,\"\")","v":""},{"$f":"IF(Clasament!S37=\"+\",1,\"\")","v":""},{"$f":"IF(Clasament!T37=\"+\",1,\"\")","v":""},{"$f":"IF(Clasament!U37=\"+\",1,\"\")","v":""},{"$f":"IF(Clasament!V37=\"+\",1,\"\")","v":""},{"$f":"IF(Clasament!W37=\"+\",1,\"\")","v":""},0,{"$f":"IF(Clasament!Y37=\"+\",1,\"\")","v":""},{"$f":"IF(Clasament!Z37=\"+\",1,\"\")","v":""},{"$f":"IF(Clasament!AA37=\"+\",1,\"\")","v":""},{"$f":"IF(Clasament!AB37=\"+\",1,\"\")","v":""},{"$f":"IF(Clasament!AC37=\"+\",1,\"\")","v":""},{"$f":"IF(Clasament!AD37=\"+\",1,\"\")","v":""},{"$f":"IF(Clasament!AE37=\"+\",1,\"\")","v":""},{"$f":"IF(Clasament!AF37=\"+\",1,\"\")","v":""},{"$f":"IF(Clasament!AG37=\"+\",1,\"\")","v":""},{"$f":"IF(Clasament!AH37=\"+\",1,\"\")","v":""},0,{"$f":"IF(Clasament!AJ37=\"+\",1,\"\")","v":""},{"$f":"IF(Clasament!AK37=\"+\",1,\"\")","v":""},{"$f":"IF(Clasament!AL37=\"+\",1,\"\")","v":""},{"$f":"IF(Clasament!AM37=\"+\",1,\"\")","v":""},{"$f":"IF(Clasament!AN37=\"+\",1,\"\")","v":""},{"$f":"IF(Clasament!AO37=\"+\",1,\"\")","v":""},{"$f":"IF(Clasament!AP37=\"+\",1,\"\")","v":""},{"$f":"IF(Clasament!AQ37=\"+\",1,\"\")","v":""},{"$f":"IF(Clasament!AR37=\"+\",1,\"\")","v":""},{"$f":"IF(Clasament!AS37=\"+\",1,\"\")","v":""},0,{"$f":"IF(Clasament!AU37=\"+\",1,\"\")","v":""},{"$f":"IF(Clasament!AV37=\"+\",1,\"\")","v":""},{"$f":"IF(Clasament!AW37=\"+\",1,\"\")","v":""},{"$f":"IF(Clasament!AX37=\"+\",1,\"\")","v":""},{"$f":"IF(Clasament!AY37=\"+\",1,\"\")","v":""},{"$f":"IF(Clasament!AZ37=\"+\",1,\"\")","v":""},{"$f":"IF(Clasament!BA37=\"+\",1,\"\")","v":""},{"$f":"IF(Clasament!BB37=\"+\",1,\"\")","v":""},{"$f":"IF(Clasament!BC37=\"+\",1,\"\")","v":""},{"$f":"IF(Clasament!BD37=\"+\",1,\"\")","v":""},0]
[36,{"$f":"IF(Clasament!B41=\"\",\"\",Clasament!B41)","v":"4Fun"},{"$f":"IF(Clasament!C38=\"+\",1,\"\")","v":""},{"$f":"IF(Clasament!D38=\"+\",1,\"\")","v":""},{"$f":"IF(Clasament!E38=\"+\",1,\"\")","v":""},{"$f":"IF(Clasament!F38=\"+\",1,\"\")","v":""},{"$f":"IF(Clasament!G38=\"+\",1,\"\")","v":""},{"$f":"IF(Clasament!H38=\"+\",1,\"\")","v":""},{"$f":"IF(Clasament!I38=\"+\",1,\"\")","v":""},{"$f":"IF(Clasament!J38=\"+\",1,\"\")","v":""},{"$f":"IF(Clasament!K38=\"+\",1,\"\")","v":""},{"$f":"IF(Clasament!L38=\"+\",1,\"\")","v":""},0,{"$f":"IF(Clasament!N38=\"+\",1,\"\")","v":""},{"$f":"IF(Clasament!O38=\"+\",1,\"\")","v":""},{"$f":"IF(Clasament!P38=\"+\",1,\"\")","v":""},{"$f":"IF(Clasament!Q38=\"+\",1,\"\")","v":""},{"$f":"IF(Clasament!R38=\"+\",1,\"\")","v":""},{"$f":"IF(Clasament!S38=\"+\",1,\"\")","v":""},{"$f":"IF(Clasament!T38=\"+\",1,\"\")","v":""},{"$f":"IF(Clasament!U38=\"+\",1,\"\")","v":""},{"$f":"IF(Clasament!V38=\"+\",1,\"\")","v":""},{"$f":"IF(Clasament!W38=\"+\",1,\"\")","v":""},0,{"$f":"IF(Clasament!Y38=\"+\",1,\"\")","v":""},{"$f":"IF(Clasament!Z38=\"+\",1,\"\")","v":""},{"$f":"IF(Clasament!AA38=\"+\",1,\"\")","v":""},{"$f":"IF(Clasament!AB38=\"+\",1,\"\")","v":""},{"$f":"IF(Clasament!AC38=\"+\",1,\"\")","v":""},{"$f":"IF(Clasament!AD38=\"+\",1,\"\")","v":""},{"$f":"IF(Clasament!AE38=\"+\",1,\"\")","v":""},{"$f":"IF(Clasament!AF38=\"+\",1,\"\")","v":""},{"$f":"IF(Clasament!AG38=\"+\",1,\"\")","v":""},{"$f":"IF(Clasament!AH38=\"+\",1,\"\")","v":""},0,{"$f":"IF(Clasament!AJ38=\"+\",1,\"\")","v":""},{"$f":"IF(Clasament!AK38=\"+\",1,\"\")","v":""},{"$f":"IF(Clasament!AL38=\"+\",1,\"\")","v":""},{"$f":"IF(Clasament!AM38=\"+\",1,\"\")","v":""},{"$f":"IF(Clasament!AN38=\"+\",1,\"\")","v":""},{"$f":"IF(Clasament!AO38=\"+\",1,\"\")","v":""},{"$f":"IF(Clasament!AP38=\"+\",1,\"\")","v":""},{"$f":"IF(Clasament!AQ38=\"+\",1,\"\")","v":""},{"$f":"IF(Clasament!AR38=\"+\",1,\"\")","v":""},{"$f":"IF(Clasament!AS38=\"+\",1,\"\")","v":""},0,{"$f":"IF(Clasament!AU38=\"+\",1,\"\")","v":""},{"$f":"IF(Clasament!AV38=\"+\",1,\"\")","v":""},{"$f":"IF(Clasament!AW38=\"+\",1,\"\")","v":""},{"$f":"IF(Clasament!AX38=\"+\",1,\"\")","v":""},{"$f":"IF(Clasament!AY38=\"+\",1,\"\")","v":""},{"$f":"IF(Clasament!AZ38=\"+\",1,\"\")","v":""},{"$f":"IF(Clasament!BA38=\"+\",1,\"\")","v":""},{"$f":"IF(Clasament!BB38=\"+\",1,\"\")","v":""},{"$f":"IF(Clasament!BC38=\"+\",1,\"\")","v":""},{"$f":"IF(Clasament!BD38=\"+\",1,\"\")","v":""},0]
[37,{"$f":"IF(Clasament!B42=\"\",\"\",Clasament!B42)","v":"Brainstorm"},{"$f":"IF(Clasament!C39=\"+\",1,\"\")","v":""},{"$f":"IF(Clasament!D39=\"+\",1,\"\")","v":""},{"$f":"IF(Clasament!E39=\"+\",1,\"\")","v":""},{"$f":"IF(Clasament!F39=\"+\",1,\"\")","v":""},{"$f":"IF(Clasament!G39=\"+\",1,\"\")","v":""},{"$f":"IF(Clasament!H39=\"+\",1,\"\")","v":""},{"$f":"IF(Clasament!I39=\"+\",1,\"\")","v":""},{"$f":"IF(Clasament!J39=\"+\",1,\"\")","v":""},{"$f":"IF(Clasament!K39=\"+\",1,\"\")","v":""},{"$f":"IF(Clasament!L39=\"+\",1,\"\")","v":""},0,{"$f":"IF(Clasament!N39=\"+\",1,\"\")","v":""},{"$f":"IF(Clasament!O39=\"+\",1,\"\")","v":""},{"$f":"IF(Clasament!P39=\"+\",1,\"\")","v":""},{"$f":"IF(Clasament!Q39=\"+\",1,\"\")","v":""},{"$f":"IF(Clasament!R39=\"+\",1,\"\")","v":""},{"$f":"IF(Clasament!S39=\"+\",1,\"\")","v":""},{"$f":"IF(Clasament!T39=\"+\",1,\"\")","v":""},{"$f":"IF(Clasament!U39=\"+\",1,\"\")","v":""},{"$f":"IF(Clasament!V39=\"+\",1,\"\")","v":""},{"$f":"IF(Clasament!W39=\"+\",1,\"\")","v":""},0,{"$f":"IF(Clasament!Y39=\"+\",1,\"\")","v":""},{"$f":"IF(Clasament!Z39=\"+\",1,\"\")","v":""},{"$f":"IF(Clasament!AA39=\"+\",1,\"\")","v":""},{"$f":"IF(Clasament!AB39=\"+\",1,\"\")","v":""},{"$f":"IF(Clasament!AC39=\"+\",1,\"\")","v":""},{"$f":"IF(Clasament!AD39=\"+\",1,\"\")","v":""},{"$f":"IF(Clasament!AE39=\"+\",1,\"\")","v":""},{"$f":"IF(Clasament!AF39=\"+\",1,\"\")","v":""},{"$f":"IF(Clasament!AG39=\"+\",1,\"\")","v":""},{"$f":"IF(Clasament!AH39=\"+\",1,\"\")","v":""},0,{"$f":"IF(Clasament!AJ39=\"+\",1,\"\")","v":""},{"$f":"IF(Clasament!AK39=\"+\",1,\"\")","v":""},{"$f":"IF(Clasament!AL39=\"+\",1,\"\")","v":""},{"$f":"IF(Clasament!AM39=\"+\",1,\"\")","v":""},{"$f":"IF(Clasament!AN39=\"+\",1,\"\")","v":""},{"$f":"IF(Clasament!AO39=\"+\",1,\"\")","v":""},{"$f":"IF(Clasament!AP39=\"+\",1,\"\")","v":""},{"$f":"IF(Clasament!AQ39=\"+\",1,\"\")","v":""},{"$f":"IF(Clasament!AR39=\"+\",1,\"\")","v":""},{"$f":"IF(Clasament!AS39=\"+\",1,\"\")","v":""},0,{"$f":"IF(Clasament!AU39=\"+\",1,\"\")","v":""},{"$f":"IF(Clasament!AV39=\"+\",1,\"\")","v":""},{"$f":"IF(Clasament!AW39=\"+\",1,\"\")","v":""},{"$f":"IF(Clasament!AX39=\"+\",1,\"\")","v":""},{"$f":"IF(Clasament!AY39=\"+\",1,\"\")","v":""},{"$f":"IF(Clasament!AZ39=\"+\",1,\"\")","v":""},{"$f":"IF(Clasament!BA39=\"+\",1,\"\")","v":""},{"$f":"IF(Clasament!BB39=\"+\",1,\"\")","v":""},{"$f":"IF(Clasament!BC39=\"+\",1,\"\")","v":""},{"$f":"IF(Clasament!BD39=\"+\",1,\"\")","v":""},0]
[38,{"$f":"IF(Clasament!B43=\"\",\"\",Clasament!B43)","v":"Nautilus"},{"$f":"IF(Clasament!C40=\"+\",1,\"\")","v":""},{"$f":"IF(Clasament!D40=\"+\",1,\"\")","v":""},{"$f":"IF(Clasament!E40=\"+\",1,\"\")","v":""},{"$f":"IF(Clasament!F40=\"+\",1,\"\")","v":""},{"$f":"IF(Clasament!G40=\"+\",1,\"\")","v":""},{"$f":"IF(Clasament!H40=\"+\",1,\"\")","v":""},{"$f":"IF(Clasament!I40=\"+\",1,\"\")","v":""},{"$f":"IF(Clasament!J40=\"+\",1,\"\")","v":""},{"$f":"IF(Clasament!K40=\"+\",1,\"\")","v":""},{"$f":"IF(Clasament!L40=\"+\",1,\"\")","v":""},0,{"$f":"IF(Clasament!N40=\"+\",1,\"\")","v":""},{"$f":"IF(Clasament!O40=\"+\",1,\"\")","v":""},{"$f":"IF(Clasament!P40=\"+\",1,\"\")","v":""},{"$f":"IF(Clasament!Q40=\"+\",1,\"\")","v":""},{"$f":"IF(Clasament!R40=\"+\",1,\"\")","v":""},{"$f":"IF(Clasament!S40=\"+\",1,\"\")","v":""},{"$f":"IF(Clasament!T40=\"+\",1,\"\")","v":""},{"$f":"IF(Clasament!U40=\"+\",1,\"\")","v":""},{"$f":"IF(Clasament!V40=\"+\",1,\"\")","v":""},{"$f":"IF(Clasament!W40=\"+\",1,\"\")","v":""},0,{"$f":"IF(Clasament!Y40=\"+\",1,\"\")","v":""},{"$f":"IF(Clasament!Z40=\"+\",1,\"\")","v":""},{"$f":"IF(Clasament!AA40=\"+\",1,\"\")","v":""},{"$f":"IF(Clasament!AB40=\"+\",1,\"\")","v":""},{"$f":"IF(Clasament!AC40=\"+\",1,\"\")","v":""},{"$f":"IF(Clasament!AD40=\"+\",1,\"\")","v":""},{"$f":"IF(Clasament!AE40=\"+\",1,\"\")","v":""},{"$f":"IF(Clasament!AF40=\"+\",1,\"\")","v":""},{"$f":"IF(Clasament!AG40=\"+\",1,\"\")","v":""},{"$f":"IF(Clasament!AH40=\"+\",1,\"\")","v":""},0,{"$f":"IF(Clasament!AJ40=\"+\",1,\"\")","v":""},{"$f":"IF(Clasament!AK40=\"+\",1,\"\")","v":""},{"$f":"IF(Clasament!AL40=\"+\",1,\"\")","v":""},{"$f":"IF(Clasament!AM40=\"+\",1,\"\")","v":""},{"$f":"IF(Clasament!AN40=\"+\",1,\"\")","v":""},{"$f":"IF(Clasament!AO40=\"+\",1,\"\")","v":""},{"$f":"IF(Clasament!AP40=\"+\",1,\"\")","v":""},{"$f":"IF(Clasament!AQ40=\"+\",1,\"\")","v":""},{"$f":"IF(Clasament!AR40=\"+\",1,\"\")","v":""},{"$f":"IF(Clasament!AS40=\"+\",1,\"\")","v":""},0,{"$f":"IF(Clasament!AU40=\"+\",1,\"\")","v":""},{"$f":"IF(Clasament!AV40=\"+\",1,\"\")","v":""},{"$f":"IF(Clasament!AW40=\"+\",1,\"\")","v":""},{"$f":"IF(Clasament!AX40=\"+\",1,\"\")","v":""},{"$f":"IF(Clasament!AY40=\"+\",1,\"\")","v":""},{"$f":"IF(Clasament!AZ40=\"+\",1,\"\")","v":""},{"$f":"IF(Clasament!BA40=\"+\",1,\"\")","v":""},{"$f":"IF(Clasament!BB40=\"+\",1,\"\")","v":""},{"$f":"IF(Clasament!BC40=\"+\",1,\"\")","v":""},{"$f":"IF(Clasament!BD40=\"+\",1,\"\")","v":""},0]
[39,{"$f":"IF(Clasament!B44=\"\",\"\",Clasament!B44)","v":"Voodoo"},{"$f":"IF(Clasament!C41=\"+\",1,\"\")","v":""},{"$f":"IF(Clasament!D41=\"+\",1,\"\")","v":""},{"$f":"IF(Clasament!E41=\"+\",1,\"\")","v":""},{"$f":"IF(Clasament!F41=\"+\",1,\"\")","v":""},{"$f":"IF(Clasament!G41=\"+\",1,\"\")","v":""},{"$f":"IF(Clasament!H41=\"+\",1,\"\")","v":""},{"$f":"IF(Clasament!I41=\"+\",1,\"\")","v":""},{"$f":"IF(Clasament!J41=\"+\",1,\"\")","v":""},{"$f":"IF(Clasament!K41=\"+\",1,\"\")","v":""},{"$f":"IF(Clasament!L41=\"+\",1,\"\")","v":""},0,{"$f":"IF(Clasament!N41=\"+\",1,\"\")","v":""},{"$f":"IF(Clasament!O41=\"+\",1,\"\")","v":""},{"$f":"IF(Clasament!P41=\"+\",1,\"\")","v":""},{"$f":"IF(Clasament!Q41=\"+\",1,\"\")","v":""},{"$f":"IF(Clasament!R41=\"+\",1,\"\")","v":""},{"$f":"IF(Clasament!S41=\"+\",1,\"\")","v":""},{"$f":"IF(Clasament!T41=\"+\",1,\"\")","v":""},{"$f":"IF(Clasament!U41=\"+\",1,\"\")","v":""},{"$f":"IF(Clasament!V41=\"+\",1,\"\")","v":""},{"$f":"IF(Clasament!W41=\"+\",1,\"\")","v":""},0,{"$f":"IF(Clasament!Y41=\"+\",1,\"\")","v":""},{"$f":"IF(Clasament!Z41=\"+\",1,\"\")","v":""},{"$f":"IF(Clasament!AA41=\"+\",1,\"\")","v":""},{"$f":"IF(Clasament!AB41=\"+\",1,\"\")","v":""},{"$f":"IF(Clasament!AC41=\"+\",1,\"\")","v":""},{"$f":"IF(Clasament!AD41=\"+\",1,\"\")","v":""},{"$f":"IF(Clasament!AE41=\"+\",1,\"\")","v":""},{"$f":"IF(Clasament!AF41=\"+\",1,\"\")","v":""},{"$f":"IF(Clasament!AG41=\"+\",1,\"\")","v":""},{"$f":"IF(Clasament!AH41=\"+\",1,\"\")","v":""},0,{"$f":"IF(Clasament!AJ41=\"+\",1,\"\")","v":""},{"$f":"IF(Clasament!AK41=\"+\",1,\"\")","v":""},{"$f":"IF(Clasament!AL41=\"+\",1,\"\")","v":""},{"$f":"IF(Clasament!AM41=\"+\",1,\"\")","v":""},{"$f":"IF(Clasament!AN41=\"+\",1,\"\")","v":""},{"$f":"IF(Clasament!AO41=\"+\",1,\"\")","v":""},{"$f":"IF(Clasament!AP41=\"+\",1,\"\")","v":""},{"$f":"IF(Clasament!AQ41=\"+\",1,\"\")","v":""},{"$f":"IF(Clasament!AR41=\"+\",1,\"\")","v":""},{"$f":"IF(Clasament!AS41=\"+\",1,\"\")","v":""},0,{"$f":"IF(Clasament!AU41=\"+\",1,\"\")","v":""},{"$f":"IF(Clasament!AV41=\"+\",1,\"\")","v":""},{"$f":"IF(Clasament!AW41=\"+\",1,\"\")","v":""},{"$f":"IF(Clasament!AX41=\"+\",1,\"\")","v":""},{"$f":"IF(Clasament!AY41=\"+\",1,\"\")","v":""},{"$f":"IF(Clasament!AZ41=\"+\",1,\"\")","v":""},{"$f":"IF(Clasament!BA41=\"+\",1,\"\")","v":""},{"$f":"IF(Clasament!BB41=\"+\",1,\"\")","v":""},{"$f":"IF(Clasament!BC41=\"+\",1,\"\")","v":""},{"$f":"IF(Clasament!BD41=\"+\",1,\"\")","v":""},0]
[40,{"$f":"IF(Clasament!B45=\"\",\"\",Clasament!B45)","v":""},{"$f":"IF(Clasament!C42=\"+\",1,\"\")","v":""},{"$f":"IF(Clasament!D42=\"+\",1,\"\")","v":""},{"$f":"IF(Clasament!E42=\"+\",1,\"\")","v":""},{"$f":"IF(Clasament!F42=\"+\",1,\"\")","v":""},{"$f":"IF(Clasament!G42=\"+\",1,\"\")","v":""},{"$f":"IF(Clasament!H42=\"+\",1,\"\")","v":""},{"$f":"IF(Clasament!I42=\"+\",1,\"\")","v":""},{"$f":"IF(Clasament!J42=\"+\",1,\"\")","v":""},{"$f":"IF(Clasament!K42=\"+\",1,\"\")","v":""},{"$f":"IF(Clasament!L42=\"+\",1,\"\")","v":""},0,{"$f":"IF(Clasament!N42=\"+\",1,\"\")","v":""},{"$f":"IF(Clasament!O42=\"+\",1,\"\")","v":""},{"$f":"IF(Clasament!P42=\"+\",1,\"\")","v":""},{"$f":"IF(Clasament!Q42=\"+\",1,\"\")","v":""},{"$f":"IF(Clasament!R42=\"+\",1,\"\")","v":""},{"$f":"IF(Clasament!S42=\"+\",1,\"\")","v":""},{"$f":"IF(Clasament!T42=\"+\",1,\"\")","v":""},{"$f":"IF(Clasament!U42=\"+\",1,\"\")","v":""},{"$f":"IF(Clasament!V42=\"+\",1,\"\")","v":""},{"$f":"IF(Clasament!W42=\"+\",1,\"\")","v":""},0,{"$f":"IF(Clasament!Y42=\"+\",1,\"\")","v":""},{"$f":"IF(Clasament!Z42=\"+\",1,\"\")","v":""},{"$f":"IF(Clasament!AA42=\"+\",1,\"\")","v":""},{"$f":"IF(Clasament!AB42=\"+\",1,\"\")","v":""},{"$f":"IF(Clasament!AC42=\"+\",1,\"\")","v":""},{"$f":"IF(Clasament!AD42=\"+\",1,\"\")","v":""},{"$f":"IF(Clasament!AE42=\"+\",1,\"\")","v":""},{"$f":"IF(Clasament!AF42=\"+\",1,\"\")","v":""},{"$f":"IF(Clasament!AG42=\"+\",1,\"\")","v":""},{"$f":"IF(Clasament!AH42=\"+\",1,\"\")","v":""},0,{"$f":"IF(Clasament!AJ42=\"+\",1,\"\")","v":""},{"$f":"IF(Clasament!AK42=\"+\",1,\"\")","v":""},{"$f":"IF(Clasament!AL42=\"+\",1,\"\")","v":""},{"$f":"IF(Clasament!AM42=\"+\",1,\"\")","v":""},{"$f":"IF(Clasament!AN42=\"+\",1,\"\")","v":""},{"$f":"IF(Clasament!AO42=\"+\",1,\"\")","v":""},{"$f":"IF(Clasament!AP42=\"+\",1,\"\")","v":""},{"$f":"IF(Clasament!AQ42=\"+\",1,\"\")","v":""},{"$f":"IF(Clasament!AR42=\"+\",1,\"\")","v":""},{"$f":"IF(Clasament!AS42=\"+\",1,\"\")","v":""},0,{"$f":"IF(Clasament!AU42=\"+\",1,\"\")","v":""},{"$f":"IF(Clasament!AV42=\"+\",1,\"\")","v":""},{"$f":"IF(Clasament!AW42=\"+\",1,\"\")","v":""},{"$f":"IF(Clasament!AX42=\"+\",1,\"\")","v":""},{"$f":"IF(Clasament!AY42=\"+\",1,\"\")","v":""},{"$f":"IF(Clasament!AZ42=\"+\",1,\"\")","v":""},{"$f":"IF(Clasament!BA42=\"+\",1,\"\")","v":""},{"$f":"IF(Clasament!BB42=\"+\",1,\"\")","v":""},{"$f":"IF(Clasament!BC42=\"+\",1,\"\")","v":""},{"$f":"IF(Clasament!BD42=\"+\",1,\"\")","v":""},0]
[41,{"$f":"IF(Clasament!B46=\"\",\"\",Clasament!B46)","v":""},{"$f":"IF(Clasament!C43=\"+\",1,\"\")","v":""},{"$f":"IF(Clasament!D43=\"+\",1,\"\")","v":""},{"$f":"IF(Clasament!E43=\"+\",1,\"\")","v":""},{"$f":"IF(Clasament!F43=\"+\",1,\"\")","v":""},{"$f":"IF(Clasament!G43=\"+\",1,\"\")","v":""},{"$f":"IF(Clasament!H43=\"+\",1,\"\")","v":""},{"$f":"IF(Clasament!I43=\"+\",1,\"\")","v":""},{"$f":"IF(Clasament!J43=\"+\",1,\"\")","v":""},{"$f":"IF(Clasament!K43=\"+\",1,\"\")","v":""},{"$f":"IF(Clasament!L43=\"+\",1,\"\")","v":""},0,{"$f":"IF(Clasament!N43=\"+\",1,\"\")","v":""},{"$f":"IF(Clasament!O43=\"+\",1,\"\")","v":""},{"$f":"IF(Clasament!P43=\"+\",1,\"\")","v":""},{"$f":"IF(Clasament!Q43=\"+\",1,\"\")","v":""},{"$f":"IF(Clasament!R43=\"+\",1,\"\")","v":""},{"$f":"IF(Clasament!S43=\"+\",1,\"\")","v":""},{"$f":"IF(Clasament!T43=\"+\",1,\"\")","v":""},{"$f":"IF(Clasament!U43=\"+\",1,\"\")","v":""},{"$f":"IF(Clasament!V43=\"+\",1,\"\")","v":""},{"$f":"IF(Clasament!W43=\"+\",1,\"\")","v":""},0,{"$f":"IF(Clasament!Y43=\"+\",1,\"\")","v":""},{"$f":"IF(Clasament!Z43=\"+\",1,\"\")","v":""},{"$f":"IF(Clasament!AA43=\"+\",1,\"\")","v":""},{"$f":"IF(Clasament!AB43=\"+\",1,\"\")","v":""},{"$f":"IF(Clasament!AC43=\"+\",1,\"\")","v":""},{"$f":"IF(Clasament!AD43=\"+\",1,\"\")","v":""},{"$f":"IF(Clasament!AE43=\"+\",1,\"\")","v":""},{"$f":"IF(Clasament!AF43=\"+\",1,\"\")","v":""},{"$f":"IF(Clasament!AG43=\"+\",1,\"\")","v":""},{"$f":"IF(Clasament!AH43=\"+\",1,\"\")","v":""},0,{"$f":"IF(Clasament!AJ43=\"+\",1,\"\")","v":""},{"$f":"IF(Clasament!AK43=\"+\",1,\"\")","v":""},{"$f":"IF(Clasament!AL43=\"+\",1,\"\")","v":""},{"$f":"IF(Clasament!AM43=\"+\",1,\"\")","v":""},{"$f":"IF(Clasament!AN43=\"+\",1,\"\")","v":""},{"$f":"IF(Clasament!AO43=\"+\",1,\"\")","v":""},{"$f":"IF(Clasament!AP43=\"+\",1,\"\")","v":""},{"$f":"IF(Clasament!AQ43=\"+\",1,\"\")","v":""},{"$f":"IF(Clasament!AR43=\"+\",1,\"\")","v":""},{"$f":"IF(Clasament!AS43=\"+\",1,\"\")","v":""},0,{"$f":"IF(Clasament!AU43=\"+\",1,\"\")","v":""},{"$f":"IF(Clasament!AV43=\"+\",1,\"\")","v":""},{"$f":"IF(Clasament!AW43=\"+\",1,\"\")","v":""},{"$f":"IF(Clasament!AX43=\"+\",1,\"\")","v":""},{"$f":"IF(Clasament!AY43=\"+\",1,\"\")","v":""},{"$f":"IF(Clasament!AZ43=\"+\",1,\"\")","v":""},{"$f":"IF(Clasament!BA43=\"+\",1,\"\")","v":""},{"$f":"IF(Clasament!BB43=\"+\",1,\"\")","v":""},{"$f":"IF(Clasament!BC43=\"+\",1,\"\")","v":""},{"$f":"IF(Clasament!BD43=\"+\",1,\"\")","v":""},0]
[42,{"$f":"IF(Clasament!B47=\"\",\"\",Clasament!B47)","v":""},{"$f":"IF(Clasament!C44=\"+\",1,\"\")","v":""},{"$f":"IF(Clasament!D44=\"+\",1,\"\")","v":""},{"$f":"IF(Clasament!E44=\"+\",1,\"\")","v":""},{"$f":"IF(Clasament!F44=\"+\",1,\"\")","v":""},{"$f":"IF(Clasament!G44=\"+\",1,\"\")","v":""},{"$f":"IF(Clasament!H44=\"+\",1,\"\")","v":""},{"$f":"IF(Clasament!I44=\"+\",1,\"\")","v":""},{"$f":"IF(Clasament!J44=\"+\",1,\"\")","v":""},{"$f":"IF(Clasament!K44=\"+\",1,\"\")","v":""},{"$f":"IF(Clasament!L44=\"+\",1,\"\")","v":""},0,{"$f":"IF(Clasament!N44=\"+\",1,\"\")","v":""},{"$f":"IF(Clasament!O44=\"+\",1,\"\")","v":""},{"$f":"IF(Clasament!P44=\"+\",1,\"\")","v":""},{"$f":"IF(Clasament!Q44=\"+\",1,\"\")","v":""},{"$f":"IF(Clasament!R44=\"+\",1,\"\")","v":""},{"$f":"IF(Clasament!S44=\"+\",1,\"\")","v":""},{"$f":"IF(Clasament!T44=\"+\",1,\"\")","v":""},{"$f":"IF(Clasament!U44=\"+\",1,\"\")","v":""},{"$f":"IF(Clasament!V44=\"+\",1,\"\")","v":""},{"$f":"IF(Clasament!W44=\"+\",1,\"\")","v":""},0,{"$f":"IF(Clasament!Y44=\"+\",1,\"\")","v":""},{"$f":"IF(Clasament!Z44=\"+\",1,\"\")","v":""},{"$f":"IF(Clasament!AA44=\"+\",1,\"\")","v":""},{"$f":"IF(Clasament!AB44=\"+\",1,\"\")","v":""},{"$f":"IF(Clasament!AC44=\"+\",1,\"\")","v":""},{"$f":"IF(Clasament!AD44=\"+\",1,\"\")","v":""},{"$f":"IF(Clasament!AE44=\"+\",1,\"\")","v":""},{"$f":"IF(Clasament!AF44=\"+\",1,\"\")","v":""},{"$f":"IF(Clasament!AG44=\"+\",1,\"\")","v":""},{"$f":"IF(Clasament!AH44=\"+\",1,\"\")","v":""},0,{"$f":"IF(Clasament!AJ44=\"+\",1,\"\")","v":""},{"$f":"IF(Clasament!AK44=\"+\",1,\"\")","v":""},{"$f":"IF(Clasament!AL44=\"+\",1,\"\")","v":""},{"$f":"IF(Clasament!AM44=\"+\",1,\"\")","v":""},{"$f":"IF(Clasament!AN44=\"+\",1,\"\")","v":""},{"$f":"IF(Clasament!AO44=\"+\",1,\"\")","v":""},{"$f":"IF(Clasament!AP44=\"+\",1,\"\")","v":""},{"$f":"IF(Clasament!AQ44=\"+\",1,\"\")","v":""},{"$f":"IF(Clasament!AR44=\"+\",1,\"\")","v":""},{"$f":"IF(Clasament!AS44=\"+\",1,\"\")","v":""},0,{"$f":"IF(Clasament!AU44=\"+\",1,\"\")","v":""},{"$f":"IF(Clasament!AV44=\"+\",1,\"\")","v":""},{"$f":"IF(Clasament!AW44=\"+\",1,\"\")","v":""},{"$f":"IF(Clasament!AX44=\"+\",1,\"\")","v":""},{"$f":"IF(Clasament!AY44=\"+\",1,\"\")","v":""},{"$f":"IF(Clasament!AZ44=\"+\",1,\"\")","v":""},{"$f":"IF(Clasament!BA44=\"+\",1,\"\")","v":""},{"$f":"IF(Clasament!BB44=\"+\",1,\"\")","v":""},{"$f":"IF(Clasament!BC44=\"+\",1,\"\")","v":""},{"$f":"IF(Clasament!BD44=\"+\",1,\"\")","v":""},0]
[43,{"$f":"IF(Clasament!B50=\"\",\"\",Clasament!B50)","v":""},{"$f":"IF(Clasament!C45=\"+\",1,\"\")","v":""},{"$f":"IF(Clasament!D45=\"+\",1,\"\")","v":""},{"$f":"IF(Clasament!E45=\"+\",1,\"\")","v":""},{"$f":"IF(Clasament!F45=\"+\",1,\"\")","v":""},{"$f":"IF(Clasament!G45=\"+\",1,\"\")","v":""},{"$f":"IF(Clasament!H45=\"+\",1,\"\")","v":""},{"$f":"IF(Clasament!I45=\"+\",1,\"\")","v":""},{"$f":"IF(Clasament!J45=\"+\",1,\"\")","v":""},{"$f":"IF(Clasament!K45=\"+\",1,\"\")","v":""},{"$f":"IF(Clasament!L45=\"+\",1,\"\")","v":""},0,{"$f":"IF(Clasament!N45=\"+\",1,\"\")","v":""},{"$f":"IF(Clasament!O45=\"+\",1,\"\")","v":""},{"$f":"IF(Clasament!P45=\"+\",1,\"\")","v":""},{"$f":"IF(Clasament!Q45=\"+\",1,\"\")","v":""},{"$f":"IF(Clasament!R45=\"+\",1,\"\")","v":""},{"$f":"IF(Clasament!S45=\"+\",1,\"\")","v":""},{"$f":"IF(Clasament!T45=\"+\",1,\"\")","v":""},{"$f":"IF(Clasament!U45=\"+\",1,\"\")","v":""},{"$f":"IF(Clasament!V45=\"+\",1,\"\")","v":""},{"$f":"IF(Clasament!W45=\"+\",1,\"\")","v":""},0,{"$f":"IF(Clasament!Y45=\"+\",1,\"\")","v":""},{"$f":"IF(Clasament!Z45=\"+\",1,\"\")","v":""},{"$f":"IF(Clasament!AA45=\"+\",1,\"\")","v":""},{"$f":"IF(Clasament!AB45=\"+\",1,\"\")","v":""},{"$f":"IF(Clasament!AC45=\"+\",1,\"\")","v":""},{"$f":"IF(Clasament!AD45=\"+\",1,\"\")","v":""},{"$f":"IF(Clasament!AE45=\"+\",1,\"\")","v":""},{"$f":"IF(Clasament!AF45=\"+\",1,\"\")","v":""},{"$f":"IF(Clasament!AG45=\"+\",1,\"\")","v":""},{"$f":"IF(Clasament!AH45=\"+\",1,\"\")","v":""},0,{"$f":"IF(Clasament!AJ45=\"+\",1,\"\")","v":""},{"$f":"IF(Clasament!AK45=\"+\",1,\"\")","v":""},{"$f":"IF(Clasament!AL45=\"+\",1,\"\")","v":""},{"$f":"IF(Clasament!AM45=\"+\",1,\"\")","v":""},{"$f":"IF(Clasament!AN45=\"+\",1,\"\")","v":""},{"$f":"IF(Clasament!AO45=\"+\",1,\"\")","v":""},{"$f":"IF(Clasament!AP45=\"+\",1,\"\")","v":""},{"$f":"IF(Clasament!AQ45=\"+\",1,\"\")","v":""},{"$f":"IF(Clasament!AR45=\"+\",1,\"\")","v":""},{"$f":"IF(Clasament!AS45=\"+\",1,\"\")","v":""},0,{"$f":"IF(Clasament!AU45=\"+\",1,\"\")","v":""},{"$f":"IF(Clasament!AV45=\"+\",1,\"\")","v":""},{"$f":"IF(Clasament!AW45=\"+\",1,\"\")","v":""},{"$f":"IF(Clasament!AX45=\"+\",1,\"\")","v":""},{"$f":"IF(Clasament!AY45=\"+\",1,\"\")","v":""},{"$f":"IF(Clasament!AZ45=\"+\",1,\"\")","v":""},{"$f":"IF(Clasament!BA45=\"+\",1,\"\")","v":""},{"$f":"IF(Clasament!BB45=\"+\",1,\"\")","v":""},{"$f":"IF(Clasament!BC45=\"+\",1,\"\")","v":""},{"$f":"IF(Clasament!BD45=\"+\",1,\"\")","v":""},0]
[44,{"$f":"IF(Clasament!B51=\"\",\"\",Clasament!B51)","v":""},{"$f":"IF(Clasament!C46=\"+\",1,\"\")","v":""},{"$f":"IF(Clasament!D46=\"+\",1,\"\")","v":""},{"$f":"IF(Clasament!E46=\"+\",1,\"\")","v":""},{"$f":"IF(Clasament!F46=\"+\",1,\"\")","v":""},{"$f":"IF(Clasament!G46=\"+\",1,\"\")","v":""},{"$f":"IF(Clasament!H46=\"+\",1,\"\")","v":""},{"$f":"IF(Clasament!I46=\"+\",1,\"\")","v":""},{"$f":"IF(Clasament!J46=\"+\",1,\"\")","v":""},{"$f":"IF(Clasament!K46=\"+\",1,\"\")","v":""},{"$f":"IF(Clasament!L46=\"+\",1,\"\")","v":""},0,{"$f":"IF(Clasament!N46=\"+\",1,\"\")","v":""},{"$f":"IF(Clasament!O46=\"+\",1,\"\")","v":""},{"$f":"IF(Clasament!P46=\"+\",1,\"\")","v":""},{"$f":"IF(Clasament!Q46=\"+\",1,\"\")","v":""},{"$f":"IF(Clasament!R46=\"+\",1,\"\")","v":""},{"$f":"IF(Clasament!S46=\"+\",1,\"\")","v":""},{"$f":"IF(Clasament!T46=\"+\",1,\"\")","v":""},{"$f":"IF(Clasament!U46=\"+\",1,\"\")","v":""},{"$f":"IF(Clasament!V46=\"+\",1,\"\")","v":""},{"$f":"IF(Clasament!W46=\"+\",1,\"\")","v":""},0,{"$f":"IF(Clasament!Y46=\"+\",1,\"\")","v":""},{"$f":"IF(Clasament!Z46=\"+\",1,\"\")","v":""},{"$f":"IF(Clasament!AA46=\"+\",1,\"\")","v":""},{"$f":"IF(Clasament!AB46=\"+\",1,\"\")","v":""},{"$f":"IF(Clasament!AC46=\"+\",1,\"\")","v":""},{"$f":"IF(Clasament!AD46=\"+\",1,\"\")","v":""},{"$f":"IF(Clasament!AE46=\"+\",1,\"\")","v":""},{"$f":"IF(Clasament!AF46=\"+\",1,\"\")","v":""},{"$f":"IF(Clasament!AG46=\"+\",1,\"\")","v":""},{"$f":"IF(Clasament!AH46=\"+\",1,\"\")","v":""},0,{"$f":"IF(Clasament!AJ46=\"+\",1,\"\")","v":""},{"$f":"IF(Clasament!AK46=\"+\",1,\"\")","v":""},{"$f":"IF(Clasament!AL46=\"+\",1,\"\")","v":""},{"$f":"IF(Clasament!AM46=\"+\",1,\"\")","v":""},{"$f":"IF(Clasament!AN46=\"+\",1,\"\")","v":""},{"$f":"IF(Clasament!AO46=\"+\",1,\"\")","v":""},{"$f":"IF(Clasament!AP46=\"+\",1,\"\")","v":""},{"$f":"IF(Clasament!AQ46=\"+\",1,\"\")","v":""},{"$f":"IF(Clasament!AR46=\"+\",1,\"\")","v":""},{"$f":"IF(Clasament!AS46=\"+\",1,\"\")","v":""},0,{"$f":"IF(Clasament!AU46=\"+\",1,\"\")","v":""},{"$f":"IF(Clasament!AV46=\"+\",1,\"\")","v":""},{"$f":"IF(Clasament!AW46=\"+\",1,\"\")","v":""},{"$f":"IF(Clasament!AX46=\"+\",1,\"\")","v":""},{"$f":"IF(Clasament!AY46=\"+\",1,\"\")","v":""},{"$f":"IF(Clasament!AZ46=\"+\",1,\"\")","v":""},{"$f":"IF(Clasament!BA46=\"+\",1,\"\")","v":""},{"$f":"IF(Clasament!BB46=\"+\",1,\"\")","v":""},{"$f":"IF(Clasament!BC46=\"+\",1,\"\")","v":""},{"$f":"IF(Clasament!BD46=\"+\",1,\"\")","v":""},0]
[45,{"$f":"IF(Clasament!B52=\"\",\"\",Clasament!B52)","v":""},{"$f":"IF(Clasament!C47=\"+\",1,\"\")","v":""},{"$f":"IF(Clasament!D47=\"+\",1,\"\")","v":""},{"$f":"IF(Clasament!E47=\"+\",1,\"\")","v":""},{"$f":"IF(Clasament!F47=\"+\",1,\"\")","v":""},{"$f":"IF(Clasament!G47=\"+\",1,\"\")","v":""},{"$f":"IF(Clasament!H47=\"+\",1,\"\")","v":""},{"$f":"IF(Clasament!I47=\"+\",1,\"\")","v":""},{"$f":"IF(Clasament!J47=\"+\",1,\"\")","v":""},{"$f":"IF(Clasament!K47=\"+\",1,\"\")","v":""},{"$f":"IF(Clasament!L47=\"+\",1,\"\")","v":""},0,{"$f":"IF(Clasament!N47=\"+\",1,\"\")","v":""},{"$f":"IF(Clasament!O47=\"+\",1,\"\")","v":""},{"$f":"IF(Clasament!P47=\"+\",1,\"\")","v":""},{"$f":"IF(Clasament!Q47=\"+\",1,\"\")","v":""},{"$f":"IF(Clasament!R47=\"+\",1,\"\")","v":""},{"$f":"IF(Clasament!S47=\"+\",1,\"\")","v":""},{"$f":"IF(Clasament!T47=\"+\",1,\"\")","v":""},{"$f":"IF(Clasament!U47=\"+\",1,\"\")","v":""},{"$f":"IF(Clasament!V47=\"+\",1,\"\")","v":""},{"$f":"IF(Clasament!W47=\"+\",1,\"\")","v":""},0,{"$f":"IF(Clasament!Y47=\"+\",1,\"\")","v":""},{"$f":"IF(Clasament!Z47=\"+\",1,\"\")","v":""},{"$f":"IF(Clasament!AA47=\"+\",1,\"\")","v":""},{"$f":"IF(Clasament!AB47=\"+\",1,\"\")","v":""},{"$f":"IF(Clasament!AC47=\"+\",1,\"\")","v":""},{"$f":"IF(Clasament!AD47=\"+\",1,\"\")","v":""},{"$f":"IF(Clasament!AE47=\"+\",1,\"\")","v":""},{"$f":"IF(Clasament!AF47=\"+\",1,\"\")","v":""},{"$f":"IF(Clasament!AG47=\"+\",1,\"\")","v":""},{"$f":"IF(Clasament!AH47=\"+\",1,\"\")","v":""},0,{"$f":"IF(Clasament!AJ47=\"+\",1,\"\")","v":""},{"$f":"IF(Clasament!AK47=\"+\",1,\"\")","v":""},{"$f":"IF(Clasament!AL47=\"+\",1,\"\")","v":""},{"$f":"IF(Clasament!AM47=\"+\",1,\"\")","v":""},{"$f":"IF(Clasament!AN47=\"+\",1,\"\")","v":""},{"$f":"IF(Clasament!AO47=\"+\",1,\"\")","v":""},{"$f":"IF(Clasament!AP47=\"+\",1,\"\")","v":""},{"$f":"IF(Clasament!AQ47=\"+\",1,\"\")","v":""},{"$f":"IF(Clasament!AR47=\"+\",1,\"\")","v":""},{"$f":"IF(Clasament!AS47=\"+\",1,\"\")","v":""},0,{"$f":"IF(Clasament!AU47=\"+\",1,\"\")","v":""},{"$f":"IF(Clasament!AV47=\"+\",1,\"\")","v":""},{"$f":"IF(Clasament!AW47=\"+\",1,\"\")","v":""},{"$f":"IF(Clasament!AX47=\"+\",1,\"\")","v":""},{"$f":"IF(Clasament!AY47=\"+\",1,\"\")","v":""},{"$f":"IF(Clasament!AZ47=\"+\",1,\"\")","v":""},{"$f":"IF(Clasament!BA47=\"+\",1,\"\")","v":""},{"$f":"IF(Clasament!BB47=\"+\",1,\"\")","v":""},{"$f":"IF(Clasament!BC47=\"+\",1,\"\")","v":""},{"$f":"IF(Clasament!BD47=\"+\",1,\"\")","v":""},0]
[46,{"$f":"IF(Clasament!B53=\"\",\"\",Clasament!B53)","v":""},{"$f":"IF(Clasament!C48=\"+\",1,\"\")","v":""},{"$f":"IF(Clasament!D48=\"+\",1,\"\")","v":""},{"$f":"IF(Clasament!E48=\"+\",1,\"\")","v":""},{"$f":"IF(Clasament!F48=\"+\",1,\"\")","v":""},{"$f":"IF(Clasament!G48=\"+\",1,\"\")","v":""},{"$f":"IF(Clasament!H48=\"+\",1,\"\")","v":""},{"$f":"IF(Clasament!I48=\"+\",1,\"\")","v":""},{"$f":"IF(Clasament!J48=\"+\",1,\"\")","v":""},{"$f":"IF(Clasament!K48=\"+\",1,\"\")","v":""},{"$f":"IF(Clasament!L48=\"+\",1,\"\")","v":""},0,{"$f":"IF(Clasament!N48=\"+\",1,\"\")","v":""},{"$f":"IF(Clasament!O48=\"+\",1,\"\")","v":""},{"$f":"IF(Clasament!P48=\"+\",1,\"\")","v":""},{"$f":"IF(Clasament!Q48=\"+\",1,\"\")","v":""},{"$f":"IF(Clasament!R48=\"+\",1,\"\")","v":""},{"$f":"IF(Clasament!S48=\"+\",1,\"\")","v":""},{"$f":"IF(Clasament!T48=\"+\",1,\"\")","v":""},{"$f":"IF(Clasament!U48=\"+\",1,\"\")","v":""},{"$f":"IF(Clasament!V48=\"+\",1,\"\")","v":""},{"$f":"IF(Clasament!W48=\"+\",1,\"\")","v":""},0,{"$f":"IF(Clasament!Y48=\"+\",1,\"\")","v":""},{"$f":"IF(Clasament!Z48=\"+\",1,\"\")","v":""},{"$f":"IF(Clasament!AA48=\"+\",1,\"\")","v":""},{"$f":"IF(Clasament!AB48=\"+\",1,\"\")","v":""},{"$f":"IF(Clasament!AC48=\"+\",1,\"\")","v":""},{"$f":"IF(Clasament!AD48=\"+\",1,\"\")","v":""},{"$f":"IF(Clasament!AE48=\"+\",1,\"\")","v":""},{"$f":"IF(Clasament!AF48=\"+\",1,\"\")","v":""},{"$f":"IF(Clasament!AG48=\"+\",1,\"\")","v":""},{"$f":"IF(Clasament!AH48=\"+\",1,\"\")","v":""},0,{"$f":"IF(Clasament!AJ48=\"+\",1,\"\")","v":""},{"$f":"IF(Clasament!AK48=\"+\",1,\"\")","v":""},{"$f":"IF(Clasament!AL48=\"+\",1,\"\")","v":""},{"$f":"IF(Clasament!AM48=\"+\",1,\"\")","v":""},{"$f":"IF(Clasament!AN48=\"+\",1,\"\")","v":""},{"$f":"IF(Clasament!AO48=\"+\",1,\"\")","v":""},{"$f":"IF(Clasament!AP48=\"+\",1,\"\")","v":""},{"$f":"IF(Clasament!AQ48=\"+\",1,\"\")","v":""},{"$f":"IF(Clasament!AR48=\"+\",1,\"\")","v":""},{"$f":"IF(Clasament!AS48=\"+\",1,\"\")","v":""},0,{"$f":"IF(Clasament!AU48=\"+\",1,\"\")","v":""},{"$f":"IF(Clasament!AV48=\"+\",1,\"\")","v":""},{"$f":"IF(Clasament!AW48=\"+\",1,\"\")","v":""},{"$f":"IF(Clasament!AX48=\"+\",1,\"\")","v":""},{"$f":"IF(Clasament!AY48=\"+\",1,\"\")","v":""},{"$f":"IF(Clasament!AZ48=\"+\",1,\"\")","v":""},{"$f":"IF(Clasament!BA48=\"+\",1,\"\")","v":""},{"$f":"IF(Clasament!BB48=\"+\",1,\"\")","v":""},{"$f":"IF(Clasament!BC48=\"+\",1,\"\")","v":""},{"$f":"IF(Clasament!BD48=\"+\",1,\"\")","v":""},0]
[47,{"$f":"IF(Clasament!B54=\"\",\"\",Clasament!B54)","v":""},{"$f":"IF(Clasament!C49=\"+\",1,\"\")","v":""},{"$f":"IF(Clasament!D49=\"+\",1,\"\")","v":""},{"$f":"IF(Clasament!E49=\"+\",1,\"\")","v":""},{"$f":"IF(Clasament!F49=\"+\",1,\"\")","v":""},{"$f":"IF(Clasament!G49=\"+\",1,\"\")","v":""},{"$f":"IF(Clasament!H49=\"+\",1,\"\")","v":""},{"$f":"IF(Clasament!I49=\"+\",1,\"\")","v":""},{"$f":"IF(Clasament!J49=\"+\",1,\"\")","v":""},{"$f":"IF(Clasament!K49=\"+\",1,\"\")","v":""},{"$f":"IF(Clasament!L49=\"+\",1,\"\")","v":""},0,{"$f":"IF(Clasament!N49=\"+\",1,\"\")","v":""},{"$f":"IF(Clasament!O49=\"+\",1,\"\")","v":""},{"$f":"IF(Clasament!P49=\"+\",1,\"\")","v":""},{"$f":"IF(Clasament!Q49=\"+\",1,\"\")","v":""},{"$f":"IF(Clasament!R49=\"+\",1,\"\")","v":""},{"$f":"IF(Clasament!S49=\"+\",1,\"\")","v":""},{"$f":"IF(Clasament!T49=\"+\",1,\"\")","v":""},{"$f":"IF(Clasament!U49=\"+\",1,\"\")","v":""},{"$f":"IF(Clasament!V49=\"+\",1,\"\")","v":""},{"$f":"IF(Clasament!W49=\"+\",1,\"\")","v":""},0,{"$f":"IF(Clasament!Y49=\"+\",1,\"\")","v":""},{"$f":"IF(Clasament!Z49=\"+\",1,\"\")","v":""},{"$f":"IF(Clasament!AA49=\"+\",1,\"\")","v":""},{"$f":"IF(Clasament!AB49=\"+\",1,\"\")","v":""},{"$f":"IF(Clasament!AC49=\"+\",1,\"\")","v":""},{"$f":"IF(Clasament!AD49=\"+\",1,\"\")","v":""},{"$f":"IF(Clasament!AE49=\"+\",1,\"\")","v":""},{"$f":"IF(Clasament!AF49=\"+\",1,\"\")","v":""},{"$f":"IF(Clasament!AG49=\"+\",1,\"\")","v":""},{"$f":"IF(Clasament!AH49=\"+\",1,\"\")","v":""},0,{"$f":"IF(Clasament!AJ49=\"+\",1,\"\")","v":""},{"$f":"IF(Clasament!AK49=\"+\",1,\"\")","v":""},{"$f":"IF(Clasament!AL49=\"+\",1,\"\")","v":""},{"$f":"IF(Clasament!AM49=\"+\",1,\"\")","v":""},{"$f":"IF(Clasament!AN49=\"+\",1,\"\")","v":""},{"$f":"IF(Clasament!AO49=\"+\",1,\"\")","v":""},{"$f":"IF(Clasament!AP49=\"+\",1,\"\")","v":""},{"$f":"IF(Clasament!AQ49=\"+\",1,\"\")","v":""},{"$f":"IF(Clasament!AR49=\"+\",1,\"\")","v":""},{"$f":"IF(Clasament!AS49=\"+\",1,\"\")","v":""},0,{"$f":"IF(Clasament!AU49=\"+\",1,\"\")","v":""},{"$f":"IF(Clasament!AV49=\"+\",1,\"\")","v":""},{"$f":"IF(Clasament!AW49=\"+\",1,\"\")","v":""},{"$f":"IF(Clasament!AX49=\"+\",1,\"\")","v":""},{"$f":"IF(Clasament!AY49=\"+\",1,\"\")","v":""},{"$f":"IF(Clasament!AZ49=\"+\",1,\"\")","v":""},{"$f":"IF(Clasament!BA49=\"+\",1,\"\")","v":""},{"$f":"IF(Clasament!BB49=\"+\",1,\"\")","v":""},{"$f":"IF(Clasament!BC49=\"+\",1,\"\")","v":""},{"$f":"IF(Clasament!BD49=\"+\",1,\"\")","v":""},0]
[48,{"$f":"IF(Clasament!B55=\"\",\"\",Clasament!B55)","v":""},{"$f":"IF(Clasament!C50=\"+\",1,\"\")","v":""},{"$f":"IF(Clasament!D50=\"+\",1,\"\")","v":""},{"$f":"IF(Clasament!E50=\"+\",1,\"\")","v":""},{"$f":"IF(Clasament!F50=\"+\",1,\"\")","v":""},{"$f":"IF(Clasament!G50=\"+\",1,\"\")","v":""},{"$f":"IF(Clasament!H50=\"+\",1,\"\")","v":""},{"$f":"IF(Clasament!I50=\"+\",1,\"\")","v":""},{"$f":"IF(Clasament!J50=\"+\",1,\"\")","v":""},{"$f":"IF(Clasament!K50=\"+\",1,\"\")","v":""},{"$f":"IF(Clasament!L50=\"+\",1,\"\")","v":""},0,{"$f":"IF(Clasament!N50=\"+\",1,\"\")","v":""},{"$f":"IF(Clasament!O50=\"+\",1,\"\")","v":""},{"$f":"IF(Clasament!P50=\"+\",1,\"\")","v":""},{"$f":"IF(Clasament!Q50=\"+\",1,\"\")","v":""},{"$f":"IF(Clasament!R50=\"+\",1,\"\")","v":""},{"$f":"IF(Clasament!S50=\"+\",1,\"\")","v":""},{"$f":"IF(Clasament!T50=\"+\",1,\"\")","v":""},{"$f":"IF(Clasament!U50=\"+\",1,\"\")","v":""},{"$f":"IF(Clasament!V50=\"+\",1,\"\")","v":""},{"$f":"IF(Clasament!W50=\"+\",1,\"\")","v":""},0,{"$f":"IF(Clasament!Y50=\"+\",1,\"\")","v":""},{"$f":"IF(Clasament!Z50=\"+\",1,\"\")","v":""},{"$f":"IF(Clasament!AA50=\"+\",1,\"\")","v":""},{"$f":"IF(Clasament!AB50=\"+\",1,\"\")","v":""},{"$f":"IF(Clasament!AC50=\"+\",1,\"\")","v":""},{"$f":"IF(Clasament!AD50=\"+\",1,\"\")","v":""},{"$f":"IF(Clasament!AE50=\"+\",1,\"\")","v":""},{"$f":"IF(Clasament!AF50=\"+\",1,\"\")","v":""},{"$f":"IF(Clasament!AG50=\"+\",1,\"\")","v":""},{"$f":"IF(Clasament!AH50=\"+\",1,\"\")","v":""},0,{"$f":"IF(Clasament!AJ50=\"+\",1,\"\")","v":""},{"$f":"IF(Clasament!AK50=\"+\",1,\"\")","v":""},{"$f":"IF(Clasament!AL50=\"+\",1,\"\")","v":""},{"$f":"IF(Clasament!AM50=\"+\",1,\"\")","v":""},{"$f":"IF(Clasament!AN50=\"+\",1,\"\")","v":""},{"$f":"IF(Clasament!AO50=\"+\",1,\"\")","v":""},{"$f":"IF(Clasament!AP50=\"+\",1,\"\")","v":""},{"$f":"IF(Clasament!AQ50=\"+\",1,\"\")","v":""},{"$f":"IF(Clasament!AR50=\"+\",1,\"\")","v":""},{"$f":"IF(Clasament!AS50=\"+\",1,\"\")","v":""},0,{"$f":"IF(Clasament!AU50=\"+\",1,\"\")","v":""},{"$f":"IF(Clasament!AV50=\"+\",1,\"\")","v":""},{"$f":"IF(Clasament!AW50=\"+\",1,\"\")","v":""},{"$f":"IF(Clasament!AX50=\"+\",1,\"\")","v":""},{"$f":"IF(Clasament!AY50=\"+\",1,\"\")","v":""},{"$f":"IF(Clasament!AZ50=\"+\",1,\"\")","v":""},{"$f":"IF(Clasament!BA50=\"+\",1,\"\")","v":""},{"$f":"IF(Clasament!BB50=\"+\",1,\"\")","v":""},{"$f":"IF(Clasament!BC50=\"+\",1,\"\")","v":""},{"$f":"IF(Clasament!BD50=\"+\",1,\"\")","v":""},0]
[49,{"$f":"IF(Clasament!B57=\"\",\"\",Clasament!B57)","v":""},{"$f":"IF(Clasament!C51=\"+\",1,\"\")","v":""},{"$f":"IF(Clasament!D51=\"+\",1,\"\")","v":""},{"$f":"IF(Clasament!E51=\"+\",1,\"\")","v":""},{"$f":"IF(Clasament!F51=\"+\",1,\"\")","v":""},{"$f":"IF(Clasament!G51=\"+\",1,\"\")","v":""},{"$f":"IF(Clasament!H51=\"+\",1,\"\")","v":""},{"$f":"IF(Clasament!I51=\"+\",1,\"\")","v":""},{"$f":"IF(Clasament!J51=\"+\",1,\"\")","v":""},{"$f":"IF(Clasament!K51=\"+\",1,\"\")","v":""},{"$f":"IF(Clasament!L51=\"+\",1,\"\")","v":""},0,{"$f":"IF(Clasament!N51=\"+\",1,\"\")","v":""},{"$f":"IF(Clasament!O51=\"+\",1,\"\")","v":""},{"$f":"IF(Clasament!P51=\"+\",1,\"\")","v":""},{"$f":"IF(Clasament!Q51=\"+\",1,\"\")","v":""},{"$f":"IF(Clasament!R51=\"+\",1,\"\")","v":""},{"$f":"IF(Clasament!S51=\"+\",1,\"\")","v":""},{"$f":"IF(Clasament!T51=\"+\",1,\"\")","v":""},{"$f":"IF(Clasament!U51=\"+\",1,\"\")","v":""},{"$f":"IF(Clasament!V51=\"+\",1,\"\")","v":""},{"$f":"IF(Clasament!W51=\"+\",1,\"\")","v":""},0,{"$f":"IF(Clasament!Y51=\"+\",1,\"\")","v":""},{"$f":"IF(Clasament!Z51=\"+\",1,\"\")","v":""},{"$f":"IF(Clasament!AA51=\"+\",1,\"\")","v":""},{"$f":"IF(Clasament!AB51=\"+\",1,\"\")","v":""},{"$f":"IF(Clasament!AC51=\"+\",1,\"\")","v":""},{"$f":"IF(Clasament!AD51=\"+\",1,\"\")","v":""},{"$f":"IF(Clasament!AE51=\"+\",1,\"\")","v":""},{"$f":"IF(Clasament!AF51=\"+\",1,\"\")","v":""},{"$f":"IF(Clasament!AG51=\"+\",1,\"\")","v":""},{"$f":"IF(Clasament!AH51=\"+\",1,\"\")","v":""},0,{"$f":"IF(Clasament!AJ51=\"+\",1,\"\")","v":""},{"$f":"IF(Clasament!AK51=\"+\",1,\"\")","v":""},{"$f":"IF(Clasament!AL51=\"+\",1,\"\")","v":""},{"$f":"IF(Clasament!AM51=\"+\",1,\"\")","v":""},{"$f":"IF(Clasament!AN51=\"+\",1,\"\")","v":""},{"$f":"IF(Clasament!AO51=\"+\",1,\"\")","v":""},{"$f":"IF(Clasament!AP51=\"+\",1,\"\")","v":""},{"$f":"IF(Clasament!AQ51=\"+\",1,\"\")","v":""},{"$f":"IF(Clasament!AR51=\"+\",1,\"\")","v":""},{"$f":"IF(Clasament!AS51=\"+\",1,\"\")","v":""},0,{"$f":"IF(Clasament!AU51=\"+\",1,\"\")","v":""},{"$f":"IF(Clasament!AV51=\"+\",1,\"\")","v":""},{"$f":"IF(Clasament!AW51=\"+\",1,\"\")","v":""},{"$f":"IF(Clasament!AX51=\"+\",1,\"\")","v":""},{"$f":"IF(Clasament!AY51=\"+\",1,\"\")","v":""},{"$f":"IF(Clasament!AZ51=\"+\",1,\"\")","v":""},{"$f":"IF(Clasament!BA51=\"+\",1,\"\")","v":""},{"$f":"IF(Clasament!BB51=\"+\",1,\"\")","v":""},{"$f":"IF(Clasament!BC51=\"+\",1,\"\")","v":""},{"$f":"IF(Clasament!BD51=\"+\",1,\"\")","v":""},0]
[50,{"$f":"IF(Clasament!B58=\"\",\"\",Clasament!B58)","v":""},{"$f":"IF(Clasament!C52=\"+\",1,\"\")","v":""},{"$f":"IF(Clasament!D52=\"+\",1,\"\")","v":""},{"$f":"IF(Clasament!E52=\"+\",1,\"\")","v":""},{"$f":"IF(Clasament!F52=\"+\",1,\"\")","v":""},{"$f":"IF(Clasament!G52=\"+\",1,\"\")","v":""},{"$f":"IF(Clasament!H52=\"+\",1,\"\")","v":""},{"$f":"IF(Clasament!I52=\"+\",1,\"\")","v":""},{"$f":"IF(Clasament!J52=\"+\",1,\"\")","v":""},{"$f":"IF(Clasament!K52=\"+\",1,\"\")","v":""},{"$f":"IF(Clasament!L52=\"+\",1,\"\")","v":""},0,{"$f":"IF(Clasament!N52=\"+\",1,\"\")","v":""},{"$f":"IF(Clasament!O52=\"+\",1,\"\")","v":""},{"$f":"IF(Clasament!P52=\"+\",1,\"\")","v":""},{"$f":"IF(Clasament!Q52=\"+\",1,\"\")","v":""},{"$f":"IF(Clasament!R52=\"+\",1,\"\")","v":""},{"$f":"IF(Clasament!S52=\"+\",1,\"\")","v":""},{"$f":"IF(Clasament!T52=\"+\",1,\"\")","v":""},{"$f":"IF(Clasament!U52=\"+\",1,\"\")","v":""},{"$f":"IF(Clasament!V52=\"+\",1,\"\")","v":""},{"$f":"IF(Clasament!W52=\"+\",1,\"\")","v":""},0,{"$f":"IF(Clasament!Y52=\"+\",1,\"\")","v":""},{"$f":"IF(Clasament!Z52=\"+\",1,\"\")","v":""},{"$f":"IF(Clasament!AA52=\"+\",1,\"\")","v":""},{"$f":"IF(Clasament!AB52=\"+\",1,\"\")","v":""},{"$f":"IF(Clasament!AC52=\"+\",1,\"\")","v":""},{"$f":"IF(Clasament!AD52=\"+\",1,\"\")","v":""},{"$f":"IF(Clasament!AE52=\"+\",1,\"\")","v":""},{"$f":"IF(Clasament!AF52=\"+\",1,\"\")","v":""},{"$f":"IF(Clasament!AG52=\"+\",1,\"\")","v":""},{"$f":"IF(Clasament!AH52=\"+\",1,\"\")","v":""},0,{"$f":"IF(Clasament!AJ52=\"+\",1,\"\")","v":""},{"$f":"IF(Clasament!AK52=\"+\",1,\"\")","v":""},{"$f":"IF(Clasament!AL52=\"+\",1,\"\")","v":""},{"$f":"IF(Clasament!AM52=\"+\",1,\"\")","v":""},{"$f":"IF(Clasament!AN52=\"+\",1,\"\")","v":""},{"$f":"IF(Clasament!AO52=\"+\",1,\"\")","v":""},{"$f":"IF(Clasament!AP52=\"+\",1,\"\")","v":""},{"$f":"IF(Clasament!AQ52=\"+\",1,\"\")","v":""},{"$f":"IF(Clasament!AR52=\"+\",1,\"\")","v":""},{"$f":"IF(Clasament!AS52=\"+\",1,\"\")","v":""},0,{"$f":"IF(Clasament!AU52=\"+\",1,\"\")","v":""},{"$f":"IF(Clasament!AV52=\"+\",1,\"\")","v":""},{"$f":"IF(Clasament!AW52=\"+\",1,\"\")","v":""},{"$f":"IF(Clasament!AX52=\"+\",1,\"\")","v":""},{"$f":"IF(Clasament!AY52=\"+\",1,\"\")","v":""},{"$f":"IF(Clasament!AZ52=\"+\",1,\"\")","v":""},{"$f":"IF(Clasament!BA52=\"+\",1,\"\")","v":""},{"$f":"IF(Clasament!BB52=\"+\",1,\"\")","v":""},{"$f":"IF(Clasament!BC52=\"+\",1,\"\")","v":""},{"$f":"IF(Clasament!BD52=\"+\",1,\"\")","v":""},0]
[51,{"$f":"IF(Clasament!B59=\"\",\"\",Clasament!B59)","v":""},{"$f":"IF(Clasament!C53=\"+\",1,\"\")","v":""},{"$f":"IF(Clasament!D53=\"+\",1,\"\")","v":""},{"$f":"IF(Clasament!E53=\"+\",1,\"\")","v":""},{"$f":"IF(Clasament!F53=\"+\",1,\"\")","v":""},{"$f":"IF(Clasament!G53=\"+\",1,\"\")","v":""},{"$f":"IF(Clasament!H53=\"+\",1,\"\")","v":""},{"$f":"IF(Clasament!I53=\"+\",1,\"\")","v":""},{"$f":"IF(Clasament!J53=\"+\",1,\"\")","v":""},{"$f":"IF(Clasament!K53=\"+\",1,\"\")","v":""},{"$f":"IF(Clasament!L53=\"+\",1,\"\")","v":""},0,{"$f":"IF(Clasament!N53=\"+\",1,\"\")","v":""},{"$f":"IF(Clasament!O53=\"+\",1,\"\")","v":""},{"$f":"IF(Clasament!P53=\"+\",1,\"\")","v":""},{"$f":"IF(Clasament!Q53=\"+\",1,\"\")","v":""},{"$f":"IF(Clasament!R53=\"+\",1,\"\")","v":""},{"$f":"IF(Clasament!S53=\"+\",1,\"\")","v":""},{"$f":"IF(Clasament!T53=\"+\",1,\"\")","v":""},{"$f":"IF(Clasament!U53=\"+\",1,\"\")","v":""},{"$f":"IF(Clasament!V53=\"+\",1,\"\")","v":""},{"$f":"IF(Clasament!W53=\"+\",1,\"\")","v":""},0,{"$f":"IF(Clasament!Y53=\"+\",1,\"\")","v":""},{"$f":"IF(Clasament!Z53=\"+\",1,\"\")","v":""},{"$f":"IF(Clasament!AA53=\"+\",1,\"\")","v":""},{"$f":"IF(Clasament!AB53=\"+\",1,\"\")","v":""},{"$f":"IF(Clasament!AC53=\"+\",1,\"\")","v":""},{"$f":"IF(Clasament!AD53=\"+\",1,\"\")","v":""},{"$f":"IF(Clasament!AE53=\"+\",1,\"\")","v":""},{"$f":"IF(Clasament!AF53=\"+\",1,\"\")","v":""},{"$f":"IF(Clasament!AG53=\"+\",1,\"\")","v":""},{"$f":"IF(Clasament!AH53=\"+\",1,\"\")","v":""},0,{"$f":"IF(Clasament!AJ53=\"+\",1,\"\")","v":""},{"$f":"IF(Clasament!AK53=\"+\",1,\"\")","v":""},{"$f":"IF(Clasament!AL53=\"+\",1,\"\")","v":""},{"$f":"IF(Clasament!AM53=\"+\",1,\"\")","v":""},{"$f":"IF(Clasament!AN53=\"+\",1,\"\")","v":""},{"$f":"IF(Clasament!AO53=\"+\",1,\"\")","v":""},{"$f":"IF(Clasament!AP53=\"+\",1,\"\")","v":""},{"$f":"IF(Clasament!AQ53=\"+\",1,\"\")","v":""},{"$f":"IF(Clasament!AR53=\"+\",1,\"\")","v":""},{"$f":"IF(Clasament!AS53=\"+\",1,\"\")","v":""},0,{"$f":"IF(Clasament!AU53=\"+\",1,\"\")","v":""},{"$f":"IF(Clasament!AV53=\"+\",1,\"\")","v":""},{"$f":"IF(Clasament!AW53=\"+\",1,\"\")","v":""},{"$f":"IF(Clasament!AX53=\"+\",1,\"\")","v":""},{"$f":"IF(Clasament!AY53=\"+\",1,\"\")","v":""},{"$f":"IF(Clasament!AZ53=\"+\",1,\"\")","v":""},{"$f":"IF(Clasament!BA53=\"+\",1,\"\")","v":""},{"$f":"IF(Clasament!BB53=\"+\",1,\"\")","v":""},{"$f":"IF(Clasament!BC53=\"+\",1,\"\")","v":""},{"$f":"IF(Clasament!BD53=\"+\",1,\"\")","v":""},0]
[52,{"$f":"IF(Clasament!B60=\"\",\"\",Clasament!B60)","v":""},{"$f":"IF(Clasament!C54=\"+\",1,\"\")","v":""},{"$f":"IF(Clasament!D54=\"+\",1,\"\")","v":""},{"$f":"IF(Clasament!E54=\"+\",1,\"\")","v":""},{"$f":"IF(Clasament!F54=\"+\",1,\"\")","v":""},{"$f":"IF(Clasament!G54=\"+\",1,\"\")","v":""},{"$f":"IF(Clasament!H54=\"+\",1,\"\")","v":""},{"$f":"IF(Clasament!I54=\"+\",1,\"\")","v":""},{"$f":"IF(Clasament!J54=\"+\",1,\"\")","v":""},{"$f":"IF(Clasament!K54=\"+\",1,\"\")","v":""},{"$f":"IF(Clasament!L54=\"+\",1,\"\")","v":""},0,{"$f":"IF(Clasament!N54=\"+\",1,\"\")","v":""},{"$f":"IF(Clasament!O54=\"+\",1,\"\")","v":""},{"$f":"IF(Clasament!P54=\"+\",1,\"\")","v":""},{"$f":"IF(Clasament!Q54=\"+\",1,\"\")","v":""},{"$f":"IF(Clasament!R54=\"+\",1,\"\")","v":""},{"$f":"IF(Clasament!S54=\"+\",1,\"\")","v":""},{"$f":"IF(Clasament!T54=\"+\",1,\"\")","v":""},{"$f":"IF(Clasament!U54=\"+\",1,\"\")","v":""},{"$f":"IF(Clasament!V54=\"+\",1,\"\")","v":""},{"$f":"IF(Clasament!W54=\"+\",1,\"\")","v":""},0,{"$f":"IF(Clasament!Y54=\"+\",1,\"\")","v":""},{"$f":"IF(Clasament!Z54=\"+\",1,\"\")","v":""},{"$f":"IF(Clasament!AA54=\"+\",1,\"\")","v":""},{"$f":"IF(Clasament!AB54=\"+\",1,\"\")","v":""},{"$f":"IF(Clasament!AC54=\"+\",1,\"\")","v":""},{"$f":"IF(Clasament!AD54=\"+\",1,\"\")","v":""},{"$f":"IF(Clasament!AE54=\"+\",1,\"\")","v":""},{"$f":"IF(Clasament!AF54=\"+\",1,\"\")","v":""},{"$f":"IF(Clasament!AG54=\"+\",1,\"\")","v":""},{"$f":"IF(Clasament!AH54=\"+\",1,\"\")","v":""},0,{"$f":"IF(Clasament!AJ54=\"+\",1,\"\")","v":""},{"$f":"IF(Clasament!AK54=\"+\",1,\"\")","v":""},{"$f":"IF(Clasament!AL54=\"+\",1,\"\")","v":""},{"$f":"IF(Clasament!AM54=\"+\",1,\"\")","v":""},{"$f":"IF(Clasament!AN54=\"+\",1,\"\")","v":""},{"$f":"IF(Clasament!AO54=\"+\",1,\"\")","v":""},{"$f":"IF(Clasament!AP54=\"+\",1,\"\")","v":""},{"$f":"IF(Clasament!AQ54=\"+\",1,\"\")","v":""},{"$f":"IF(Clasament!AR54=\"+\",1,\"\")","v":""},{"$f":"IF(Clasament!AS54=\"+\",1,\"\")","v":""},0,{"$f":"IF(Clasament!AU54=\"+\",1,\"\")","v":""},{"$f":"IF(Clasament!AV54=\"+\",1,\"\")","v":""},{"$f":"IF(Clasament!AW54=\"+\",1,\"\")","v":""},{"$f":"IF(Clasament!AX54=\"+\",1,\"\")","v":""},{"$f":"IF(Clasament!AY54=\"+\",1,\"\")","v":""},{"$f":"IF(Clasament!AZ54=\"+\",1,\"\")","v":""},{"$f":"IF(Clasament!BA54=\"+\",1,\"\")","v":""},{"$f":"IF(Clasament!BB54=\"+\",1,\"\")","v":""},{"$f":"IF(Clasament!BC54=\"+\",1,\"\")","v":""},{"$f":"IF(Clasament!BD54=\"+\",1,\"\")","v":""},0]
[53,{"$f":"IF(Clasament!B61=\"\",\"\",Clasament!B61)","v":""},{"$f":"IF(Clasament!C55=\"+\",1,\"\")","v":""},{"$f":"IF(Clasament!D55=\"+\",1,\"\")","v":""},{"$f":"IF(Clasament!E55=\"+\",1,\"\")","v":""},{"$f":"IF(Clasament!F55=\"+\",1,\"\")","v":""},{"$f":"IF(Clasament!G55=\"+\",1,\"\")","v":""},{"$f":"IF(Clasament!H55=\"+\",1,\"\")","v":""},{"$f":"IF(Clasament!I55=\"+\",1,\"\")","v":""},{"$f":"IF(Clasament!J55=\"+\",1,\"\")","v":""},{"$f":"IF(Clasament!K55=\"+\",1,\"\")","v":""},{"$f":"IF(Clasament!L55=\"+\",1,\"\")","v":""},0,{"$f":"IF(Clasament!N55=\"+\",1,\"\")","v":""},{"$f":"IF(Clasament!O55=\"+\",1,\"\")","v":""},{"$f":"IF(Clasament!P55=\"+\",1,\"\")","v":""},{"$f":"IF(Clasament!Q55=\"+\",1,\"\")","v":""},{"$f":"IF(Clasament!R55=\"+\",1,\"\")","v":""},{"$f":"IF(Clasament!S55=\"+\",1,\"\")","v":""},{"$f":"IF(Clasament!T55=\"+\",1,\"\")","v":""},{"$f":"IF(Clasament!U55=\"+\",1,\"\")","v":""},{"$f":"IF(Clasament!V55=\"+\",1,\"\")","v":""},{"$f":"IF(Clasament!W55=\"+\",1,\"\")","v":""},0,{"$f":"IF(Clasament!Y55=\"+\",1,\"\")","v":""},{"$f":"IF(Clasament!Z55=\"+\",1,\"\")","v":""},{"$f":"IF(Clasament!AA55=\"+\",1,\"\")","v":""},{"$f":"IF(Clasament!AB55=\"+\",1,\"\")","v":""},{"$f":"IF(Clasament!AC55=\"+\",1,\"\")","v":""},{"$f":"IF(Clasament!AD55=\"+\",1,\"\")","v":""},{"$f":"IF(Clasament!AE55=\"+\",1,\"\")","v":""},{"$f":"IF(Clasament!AF55=\"+\",1,\"\")","v":""},{"$f":"IF(Clasament!AG55=\"+\",1,\"\")","v":""},{"$f":"IF(Clasament!AH55=\"+\",1,\"\")","v":""},0,{"$f":"IF(Clasament!AJ55=\"+\",1,\"\")","v":""},{"$f":"IF(Clasament!AK55=\"+\",1,\"\")","v":""},{"$f":"IF(Clasament!AL55=\"+\",1,\"\")","v":""},{"$f":"IF(Clasament!AM55=\"+\",1,\"\")","v":""},{"$f":"IF(Clasament!AN55=\"+\",1,\"\")","v":""},{"$f":"IF(Clasament!AO55=\"+\",1,\"\")","v":""},{"$f":"IF(Clasament!AP55=\"+\",1,\"\")","v":""},{"$f":"IF(Clasament!AQ55=\"+\",1,\"\")","v":""},{"$f":"IF(Clasament!AR55=\"+\",1,\"\")","v":""},{"$f":"IF(Clasament!AS55=\"+\",1,\"\")","v":""},0,{"$f":"IF(Clasament!AU55=\"+\",1,\"\")","v":""},{"$f":"IF(Clasament!AV55=\"+\",1,\"\")","v":""},{"$f":"IF(Clasament!AW55=\"+\",1,\"\")","v":""},{"$f":"IF(Clasament!AX55=\"+\",1,\"\")","v":""},{"$f":"IF(Clasament!AY55=\"+\",1,\"\")","v":""},{"$f":"IF(Clasament!AZ55=\"+\",1,\"\")","v":""},{"$f":"IF(Clasament!BA55=\"+\",1,\"\")","v":""},{"$f":"IF(Clasament!BB55=\"+\",1,\"\")","v":""},{"$f":"IF(Clasament!BC55=\"+\",1,\"\")","v":""},{"$f":"IF(Clasament!BD55=\"+\",1,\"\")","v":""},0]
[54,{"$f":"IF(Clasament!B62=\"\",\"\",Clasament!B62)","v":""},{"$f":"IF(Clasament!C56=\"+\",1,\"\")","v":""},{"$f":"IF(Clasament!D56=\"+\",1,\"\")","v":""},{"$f":"IF(Clasament!E56=\"+\",1,\"\")","v":""},{"$f":"IF(Clasament!F56=\"+\",1,\"\")","v":""},{"$f":"IF(Clasament!G56=\"+\",1,\"\")","v":""},{"$f":"IF(Clasament!H56=\"+\",1,\"\")","v":""},{"$f":"IF(Clasament!I56=\"+\",1,\"\")","v":""},{"$f":"IF(Clasament!J56=\"+\",1,\"\")","v":""},{"$f":"IF(Clasament!K56=\"+\",1,\"\")","v":""},{"$f":"IF(Clasament!L56=\"+\",1,\"\")","v":""},0,{"$f":"IF(Clasament!N56=\"+\",1,\"\")","v":""},{"$f":"IF(Clasament!O56=\"+\",1,\"\")","v":""},{"$f":"IF(Clasament!P56=\"+\",1,\"\")","v":""},{"$f":"IF(Clasament!Q56=\"+\",1,\"\")","v":""},{"$f":"IF(Clasament!R56=\"+\",1,\"\")","v":""},{"$f":"IF(Clasament!S56=\"+\",1,\"\")","v":""},{"$f":"IF(Clasament!T56=\"+\",1,\"\")","v":""},{"$f":"IF(Clasament!U56=\"+\",1,\"\")","v":""},{"$f":"IF(Clasament!V56=\"+\",1,\"\")","v":""},{"$f":"IF(Clasament!W56=\"+\",1,\"\")","v":""},0,{"$f":"IF(Clasament!Y56=\"+\",1,\"\")","v":""},{"$f":"IF(Clasament!Z56=\"+\",1,\"\")","v":""},{"$f":"IF(Clasament!AA56=\"+\",1,\"\")","v":""},{"$f":"IF(Clasament!AB56=\"+\",1,\"\")","v":""},{"$f":"IF(Clasament!AC56=\"+\",1,\"\")","v":""},{"$f":"IF(Clasament!AD56=\"+\",1,\"\")","v":""},{"$f":"IF(Clasament!AE56=\"+\",1,\"\")","v":""},{"$f":"IF(Clasament!AF56=\"+\",1,\"\")","v":""},{"$f":"IF(Clasament!AG56=\"+\",1,\"\")","v":""},{"$f":"IF(Clasament!AH56=\"+\",1,\"\")","v":""},0,{"$f":"IF(Clasament!AJ56=\"+\",1,\"\")","v":""},{"$f":"IF(Clasament!AK56=\"+\",1,\"\")","v":""},{"$f":"IF(Clasament!AL56=\"+\",1,\"\")","v":""},{"$f":"IF(Clasament!AM56=\"+\",1,\"\")","v":""},{"$f":"IF(Clasament!AN56=\"+\",1,\"\")","v":""},{"$f":"IF(Clasament!AO56=\"+\",1,\"\")","v":""},{"$f":"IF(Clasament!AP56=\"+\",1,\"\")","v":""},{"$f":"IF(Clasament!AQ56=\"+\",1,\"\")","v":""},{"$f":"IF(Clasament!AR56=\"+\",1,\"\")","v":""},{"$f":"IF(Clasament!AS56=\"+\",1,\"\")","v":""},0,{"$f":"IF(Clasament!AU56=\"+\",1,\"\")","v":""},{"$f":"IF(Clasament!AV56=\"+\",1,\"\")","v":""},{"$f":"IF(Clasament!AW56=\"+\",1,\"\")","v":""},{"$f":"IF(Clasament!AX56=\"+\",1,\"\")","v":""},{"$f":"IF(Clasament!AY56=\"+\",1,\"\")","v":""},{"$f":"IF(Clasament!AZ56=\"+\",1,\"\")","v":""},{"$f":"IF(Clasament!BA56=\"+\",1,\"\")","v":""},{"$f":"IF(Clasament!BB56=\"+\",1,\"\")","v":""},{"$f":"IF(Clasament!BC56=\"+\",1,\"\")","v":""},{"$f":"IF(Clasament!BD56=\"+\",1,\"\")","v":""},0]
[55,{"$f":"IF(Clasament!B63=\"\",\"\",Clasament!B63)","v":""},{"$f":"IF(Clasament!C57=\"+\",1,\"\")","v":""},{"$f":"IF(Clasament!D57=\"+\",1,\"\")","v":""},{"$f":"IF(Clasament!E57=\"+\",1,\"\")","v":""},{"$f":"IF(Clasament!F57=\"+\",1,\"\")","v":""},{"$f":"IF(Clasament!G57=\"+\",1,\"\")","v":""},{"$f":"IF(Clasament!H57=\"+\",1,\"\")","v":""},{"$f":"IF(Clasament!I57=\"+\",1,\"\")","v":""},{"$f":"IF(Clasament!J57=\"+\",1,\"\")","v":""},{"$f":"IF(Clasament!K57=\"+\",1,\"\")","v":""},{"$f":"IF(Clasament!L57=\"+\",1,\"\")","v":""},0,{"$f":"IF(Clasament!N57=\"+\",1,\"\")","v":""},{"$f":"IF(Clasament!O57=\"+\",1,\"\")","v":""},{"$f":"IF(Clasament!P57=\"+\",1,\"\")","v":""},{"$f":"IF(Clasament!Q57=\"+\",1,\"\")","v":""},{"$f":"IF(Clasament!R57=\"+\",1,\"\")","v":""},{"$f":"IF(Clasament!S57=\"+\",1,\"\")","v":""},{"$f":"IF(Clasament!T57=\"+\",1,\"\")","v":""},{"$f":"IF(Clasament!U57=\"+\",1,\"\")","v":""},{"$f":"IF(Clasament!V57=\"+\",1,\"\")","v":""},{"$f":"IF(Clasament!W57=\"+\",1,\"\")","v":""},0,{"$f":"IF(Clasament!Y57=\"+\",1,\"\")","v":""},{"$f":"IF(Clasament!Z57=\"+\",1,\"\")","v":""},{"$f":"IF(Clasament!AA57=\"+\",1,\"\")","v":""},{"$f":"IF(Clasament!AB57=\"+\",1,\"\")","v":""},{"$f":"IF(Clasament!AC57=\"+\",1,\"\")","v":""},{"$f":"IF(Clasament!AD57=\"+\",1,\"\")","v":""},{"$f":"IF(Clasament!AE57=\"+\",1,\"\")","v":""},{"$f":"IF(Clasament!AF57=\"+\",1,\"\")","v":""},{"$f":"IF(Clasament!AG57=\"+\",1,\"\")","v":""},{"$f":"IF(Clasament!AH57=\"+\",1,\"\")","v":""},0,{"$f":"IF(Clasament!AJ57=\"+\",1,\"\")","v":""},{"$f":"IF(Clasament!AK57=\"+\",1,\"\")","v":""},{"$f":"IF(Clasament!AL57=\"+\",1,\"\")","v":""},{"$f":"IF(Clasament!AM57=\"+\",1,\"\")","v":""},{"$f":"IF(Clasament!AN57=\"+\",1,\"\")","v":""},{"$f":"IF(Clasament!AO57=\"+\",1,\"\")","v":""},{"$f":"IF(Clasament!AP57=\"+\",1,\"\")","v":""},{"$f":"IF(Clasament!AQ57=\"+\",1,\"\")","v":""},{"$f":"IF(Clasament!AR57=\"+\",1,\"\")","v":""},{"$f":"IF(Clasament!AS57=\"+\",1,\"\")","v":""},0,{"$f":"IF(Clasament!AU57=\"+\",1,\"\")","v":""},{"$f":"IF(Clasament!AV57=\"+\",1,\"\")","v":""},{"$f":"IF(Clasament!AW57=\"+\",1,\"\")","v":""},{"$f":"IF(Clasament!AX57=\"+\",1,\"\")","v":""},{"$f":"IF(Clasament!AY57=\"+\",1,\"\")","v":""},{"$f":"IF(Clasament!AZ57=\"+\",1,\"\")","v":""},{"$f":"IF(Clasament!BA57=\"+\",1,\"\")","v":""},{"$f":"IF(Clasament!BB57=\"+\",1,\"\")","v":""},{"$f":"IF(Clasament!BC57=\"+\",1,\"\")","v":""},{"$f":"IF(Clasament!BD57=\"+\",1,\"\")","v":""},0]
[56,{"$f":"IF(Clasament!B64=\"\",\"\",Clasament!B64)","v":""},{"$f":"IF(Clasament!C58=\"+\",1,\"\")","v":""},{"$f":"IF(Clasament!D58=\"+\",1,\"\")","v":""},{"$f":"IF(Clasament!E58=\"+\",1,\"\")","v":""},{"$f":"IF(Clasament!F58=\"+\",1,\"\")","v":""},{"$f":"IF(Clasament!G58=\"+\",1,\"\")","v":""},{"$f":"IF(Clasament!H58=\"+\",1,\"\")","v":""},{"$f":"IF(Clasament!I58=\"+\",1,\"\")","v":""},{"$f":"IF(Clasament!J58=\"+\",1,\"\")","v":""},{"$f":"IF(Clasament!K58=\"+\",1,\"\")","v":""},{"$f":"IF(Clasament!L58=\"+\",1,\"\")","v":""},0,{"$f":"IF(Clasament!N58=\"+\",1,\"\")","v":""},{"$f":"IF(Clasament!O58=\"+\",1,\"\")","v":""},{"$f":"IF(Clasament!P58=\"+\",1,\"\")","v":""},{"$f":"IF(Clasament!Q58=\"+\",1,\"\")","v":""},{"$f":"IF(Clasament!R58=\"+\",1,\"\")","v":""},{"$f":"IF(Clasament!S58=\"+\",1,\"\")","v":""},{"$f":"IF(Clasament!T58=\"+\",1,\"\")","v":""},{"$f":"IF(Clasament!U58=\"+\",1,\"\")","v":""},{"$f":"IF(Clasament!V58=\"+\",1,\"\")","v":""},{"$f":"IF(Clasament!W58=\"+\",1,\"\")","v":""},0,{"$f":"IF(Clasament!Y58=\"+\",1,\"\")","v":""},{"$f":"IF(Clasament!Z58=\"+\",1,\"\")","v":""},{"$f":"IF(Clasament!AA58=\"+\",1,\"\")","v":""},{"$f":"IF(Clasament!AB58=\"+\",1,\"\")","v":""},{"$f":"IF(Clasament!AC58=\"+\",1,\"\")","v":""},{"$f":"IF(Clasament!AD58=\"+\",1,\"\")","v":""},{"$f":"IF(Clasament!AE58=\"+\",1,\"\")","v":""},{"$f":"IF(Clasament!AF58=\"+\",1,\"\")","v":""},{"$f":"IF(Clasament!AG58=\"+\",1,\"\")","v":""},{"$f":"IF(Clasament!AH58=\"+\",1,\"\")","v":""},0,{"$f":"IF(Clasament!AJ58=\"+\",1,\"\")","v":""},{"$f":"IF(Clasament!AK58=\"+\",1,\"\")","v":""},{"$f":"IF(Clasament!AL58=\"+\",1,\"\")","v":""},{"$f":"IF(Clasament!AM58=\"+\",1,\"\")","v":""},{"$f":"IF(Clasament!AN58=\"+\",1,\"\")","v":""},{"$f":"IF(Clasament!AO58=\"+\",1,\"\")","v":""},{"$f":"IF(Clasament!AP58=\"+\",1,\"\")","v":""},{"$f":"IF(Clasament!AQ58=\"+\",1,\"\")","v":""},{"$f":"IF(Clasament!AR58=\"+\",1,\"\")","v":""},{"$f":"IF(Clasament!AS58=\"+\",1,\"\")","v":""},0,{"$f":"IF(Clasament!AU58=\"+\",1,\"\")","v":""},{"$f":"IF(Clasament!AV58=\"+\",1,\"\")","v":""},{"$f":"IF(Clasament!AW58=\"+\",1,\"\")","v":""},{"$f":"IF(Clasament!AX58=\"+\",1,\"\")","v":""},{"$f":"IF(Clasament!AY58=\"+\",1,\"\")","v":""},{"$f":"IF(Clasament!AZ58=\"+\",1,\"\")","v":""},{"$f":"IF(Clasament!BA58=\"+\",1,\"\")","v":""},{"$f":"IF(Clasament!BB58=\"+\",1,\"\")","v":""},{"$f":"IF(Clasament!BC58=\"+\",1,\"\")","v":""},{"$f":"IF(Clasament!BD58=\"+\",1,\"\")","v":""},0]
[57,{"$f":"IF(Clasament!B65=\"\",\"\",Clasament!B65)","v":""},{"$f":"IF(Clasament!C59=\"+\",1,\"\")","v":""},{"$f":"IF(Clasament!D59=\"+\",1,\"\")","v":""},{"$f":"IF(Clasament!E59=\"+\",1,\"\")","v":""},{"$f":"IF(Clasament!F59=\"+\",1,\"\")","v":""},{"$f":"IF(Clasament!G59=\"+\",1,\"\")","v":""},{"$f":"IF(Clasament!H59=\"+\",1,\"\")","v":""},{"$f":"IF(Clasament!I59=\"+\",1,\"\")","v":""},{"$f":"IF(Clasament!J59=\"+\",1,\"\")","v":""},{"$f":"IF(Clasament!K59=\"+\",1,\"\")","v":""},{"$f":"IF(Clasament!L59=\"+\",1,\"\")","v":""},0,{"$f":"IF(Clasament!N59=\"+\",1,\"\")","v":""},{"$f":"IF(Clasament!O59=\"+\",1,\"\")","v":""},{"$f":"IF(Clasament!P59=\"+\",1,\"\")","v":""},{"$f":"IF(Clasament!Q59=\"+\",1,\"\")","v":""},{"$f":"IF(Clasament!R59=\"+\",1,\"\")","v":""},{"$f":"IF(Clasament!S59=\"+\",1,\"\")","v":""},{"$f":"IF(Clasament!T59=\"+\",1,\"\")","v":""},{"$f":"IF(Clasament!U59=\"+\",1,\"\")","v":""},{"$f":"IF(Clasament!V59=\"+\",1,\"\")","v":""},{"$f":"IF(Clasament!W59=\"+\",1,\"\")","v":""},0,{"$f":"IF(Clasament!Y59=\"+\",1,\"\")","v":""},{"$f":"IF(Clasament!Z59=\"+\",1,\"\")","v":""},{"$f":"IF(Clasament!AA59=\"+\",1,\"\")","v":""},{"$f":"IF(Clasament!AB59=\"+\",1,\"\")","v":""},{"$f":"IF(Clasament!AC59=\"+\",1,\"\")","v":""},{"$f":"IF(Clasament!AD59=\"+\",1,\"\")","v":""},{"$f":"IF(Clasament!AE59=\"+\",1,\"\")","v":""},{"$f":"IF(Clasament!AF59=\"+\",1,\"\")","v":""},{"$f":"IF(Clasament!AG59=\"+\",1,\"\")","v":""},{"$f":"IF(Clasament!AH59=\"+\",1,\"\")","v":""},0,{"$f":"IF(Clasament!AJ59=\"+\",1,\"\")","v":""},{"$f":"IF(Clasament!AK59=\"+\",1,\"\")","v":""},{"$f":"IF(Clasament!AL59=\"+\",1,\"\")","v":""},{"$f":"IF(Clasament!AM59=\"+\",1,\"\")","v":""},{"$f":"IF(Clasament!AN59=\"+\",1,\"\")","v":""},{"$f":"IF(Clasament!AO59=\"+\",1,\"\")","v":""},{"$f":"IF(Clasament!AP59=\"+\",1,\"\")","v":""},{"$f":"IF(Clasament!AQ59=\"+\",1,\"\")","v":""},{"$f":"IF(Clasament!AR59=\"+\",1,\"\")","v":""},{"$f":"IF(Clasament!AS59=\"+\",1,\"\")","v":""},0,{"$f":"IF(Clasament!AU59=\"+\",1,\"\")","v":""},{"$f":"IF(Clasament!AV59=\"+\",1,\"\")","v":""},{"$f":"IF(Clasament!AW59=\"+\",1,\"\")","v":""},{"$f":"IF(Clasament!AX59=\"+\",1,\"\")","v":""},{"$f":"IF(Clasament!AY59=\"+\",1,\"\")","v":""},{"$f":"IF(Clasament!AZ59=\"+\",1,\"\")","v":""},{"$f":"IF(Clasament!BA59=\"+\",1,\"\")","v":""},{"$f":"IF(Clasament!BB59=\"+\",1,\"\")","v":""},{"$f":"IF(Clasament!BC59=\"+\",1,\"\")","v":""},{"$f":"IF(Clasament!BD59=\"+\",1,\"\")","v":""},0]
[58,{"$f":"IF(Clasament!B66=\"\",\"\",Clasament!B66)","v":""},{"$f":"IF(Clasament!C60=\"+\",1,\"\")","v":""},{"$f":"IF(Clasament!D60=\"+\",1,\"\")","v":""},{"$f":"IF(Clasament!E60=\"+\",1,\"\")","v":""},{"$f":"IF(Clasament!F60=\"+\",1,\"\")","v":""},{"$f":"IF(Clasament!G60=\"+\",1,\"\")","v":""},{"$f":"IF(Clasament!H60=\"+\",1,\"\")","v":""},{"$f":"IF(Clasament!I60=\"+\",1,\"\")","v":""},{"$f":"IF(Clasament!J60=\"+\",1,\"\")","v":""},{"$f":"IF(Clasament!K60=\"+\",1,\"\")","v":""},{"$f":"IF(Clasament!L60=\"+\",1,\"\")","v":""},0,{"$f":"IF(Clasament!N60=\"+\",1,\"\")","v":""},{"$f":"IF(Clasament!O60=\"+\",1,\"\")","v":""},{"$f":"IF(Clasament!P60=\"+\",1,\"\")","v":""},{"$f":"IF(Clasament!Q60=\"+\",1,\"\")","v":""},{"$f":"IF(Clasament!R60=\"+\",1,\"\")","v":""},{"$f":"IF(Clasament!S60=\"+\",1,\"\")","v":""},{"$f":"IF(Clasament!T60=\"+\",1,\"\")","v":""},{"$f":"IF(Clasament!U60=\"+\",1,\"\")","v":""},{"$f":"IF(Clasament!V60=\"+\",1,\"\")","v":""},{"$f":"IF(Clasament!W60=\"+\",1,\"\")","v":""},0,{"$f":"IF(Clasament!Y60=\"+\",1,\"\")","v":""},{"$f":"IF(Clasament!Z60=\"+\",1,\"\")","v":""},{"$f":"IF(Clasament!AA60=\"+\",1,\"\")","v":""},{"$f":"IF(Clasament!AB60=\"+\",1,\"\")","v":""},{"$f":"IF(Clasament!AC60=\"+\",1,\"\")","v":""},{"$f":"IF(Clasament!AD60=\"+\",1,\"\")","v":""},{"$f":"IF(Clasament!AE60=\"+\",1,\"\")","v":""},{"$f":"IF(Clasament!AF60=\"+\",1,\"\")","v":""},{"$f":"IF(Clasament!AG60=\"+\",1,\"\")","v":""},{"$f":"IF(Clasament!AH60=\"+\",1,\"\")","v":""},0,{"$f":"IF(Clasament!AJ60=\"+\",1,\"\")","v":""},{"$f":"IF(Clasament!AK60=\"+\",1,\"\")","v":""},{"$f":"IF(Clasament!AL60=\"+\",1,\"\")","v":""},{"$f":"IF(Clasament!AM60=\"+\",1,\"\")","v":""},{"$f":"IF(Clasament!AN60=\"+\",1,\"\")","v":""},{"$f":"IF(Clasament!AO60=\"+\",1,\"\")","v":""},{"$f":"IF(Clasament!AP60=\"+\",1,\"\")","v":""},{"$f":"IF(Clasament!AQ60=\"+\",1,\"\")","v":""},{"$f":"IF(Clasament!AR60=\"+\",1,\"\")","v":""},{"$f":"IF(Clasament!AS60=\"+\",1,\"\")","v":""},0,{"$f":"IF(Clasament!AU60=\"+\",1,\"\")","v":""},{"$f":"IF(Clasament!AV60=\"+\",1,\"\")","v":""},{"$f":"IF(Clasament!AW60=\"+\",1,\"\")","v":""},{"$f":"IF(Clasament!AX60=\"+\",1,\"\")","v":""},{"$f":"IF(Clasament!AY60=\"+\",1,\"\")","v":""},{"$f":"IF(Clasament!AZ60=\"+\",1,\"\")","v":""},{"$f":"IF(Clasament!BA60=\"+\",1,\"\")","v":""},{"$f":"IF(Clasament!BB60=\"+\",1,\"\")","v":""},{"$f":"IF(Clasament!BC60=\"+\",1,\"\")","v":""},{"$f":"IF(Clasament!BD60=\"+\",1,\"\")","v":""},0]
[59,{"$f":"IF(Clasament!B67=\"\",\"\",Clasament!B67)","v":""},{"$f":"IF(Clasament!C61=\"+\",1,\"\")","v":""},{"$f":"IF(Clasament!D61=\"+\",1,\"\")","v":""},{"$f":"IF(Clasament!E61=\"+\",1,\"\")","v":""},{"$f":"IF(Clasament!F61=\"+\",1,\"\")","v":""},{"$f":"IF(Clasament!G61=\"+\",1,\"\")","v":""},{"$f":"IF(Clasament!H61=\"+\",1,\"\")","v":""},{"$f":"IF(Clasament!I61=\"+\",1,\"\")","v":""},{"$f":"IF(Clasament!J61=\"+\",1,\"\")","v":""},{"$f":"IF(Clasament!K61=\"+\",1,\"\")","v":""},{"$f":"IF(Clasament!L61=\"+\",1,\"\")","v":""},0,{"$f":"IF(Clasament!N61=\"+\",1,\"\")","v":""},{"$f":"IF(Clasament!O61=\"+\",1,\"\")","v":""},{"$f":"IF(Clasament!P61=\"+\",1,\"\")","v":""},{"$f":"IF(Clasament!Q61=\"+\",1,\"\")","v":""},{"$f":"IF(Clasament!R61=\"+\",1,\"\")","v":""},{"$f":"IF(Clasament!S61=\"+\",1,\"\")","v":""},{"$f":"IF(Clasament!T61=\"+\",1,\"\")","v":""},{"$f":"IF(Clasament!U61=\"+\",1,\"\")","v":""},{"$f":"IF(Clasament!V61=\"+\",1,\"\")","v":""},{"$f":"IF(Clasament!W61=\"+\",1,\"\")","v":""},0,{"$f":"IF(Clasament!Y61=\"+\",1,\"\")","v":""},{"$f":"IF(Clasament!Z61=\"+\",1,\"\")","v":""},{"$f":"IF(Clasament!AA61=\"+\",1,\"\")","v":""},{"$f":"IF(Clasament!AB61=\"+\",1,\"\")","v":""},{"$f":"IF(Clasament!AC61=\"+\",1,\"\")","v":""},{"$f":"IF(Clasament!AD61=\"+\",1,\"\")","v":""},{"$f":"IF(Clasament!AE61=\"+\",1,\"\")","v":""},{"$f":"IF(Clasament!AF61=\"+\",1,\"\")","v":""},{"$f":"IF(Clasament!AG61=\"+\",1,\"\")","v":""},{"$f":"IF(Clasament!AH61=\"+\",1,\"\")","v":""},0,{"$f":"IF(Clasament!AJ61=\"+\",1,\"\")","v":""},{"$f":"IF(Clasament!AK61=\"+\",1,\"\")","v":""},{"$f":"IF(Clasament!AL61=\"+\",1,\"\")","v":""},{"$f":"IF(Clasament!AM61=\"+\",1,\"\")","v":""},{"$f":"IF(Clasament!AN61=\"+\",1,\"\")","v":""},{"$f":"IF(Clasament!AO61=\"+\",1,\"\")","v":""},{"$f":"IF(Clasament!AP61=\"+\",1,\"\")","v":""},{"$f":"IF(Clasament!AQ61=\"+\",1,\"\")","v":""},{"$f":"IF(Clasament!AR61=\"+\",1,\"\")","v":""},{"$f":"IF(Clasament!AS61=\"+\",1,\"\")","v":""},0,{"$f":"IF(Clasament!AU61=\"+\",1,\"\")","v":""},{"$f":"IF(Clasament!AV61=\"+\",1,\"\")","v":""},{"$f":"IF(Clasament!AW61=\"+\",1,\"\")","v":""},{"$f":"IF(Clasament!AX61=\"+\",1,\"\")","v":""},{"$f":"IF(Clasament!AY61=\"+\",1,\"\")","v":""},{"$f":"IF(Clasament!AZ61=\"+\",1,\"\")","v":""},{"$f":"IF(Clasament!BA61=\"+\",1,\"\")","v":""},{"$f":"IF(Clasament!BB61=\"+\",1,\"\")","v":""},{"$f":"IF(Clasament!BC61=\"+\",1,\"\")","v":""},{"$f":"IF(Clasament!BD61=\"+\",1,\"\")","v":""},0]
[60,{"$f":"IF(Clasament!B68=\"\",\"\",Clasament!B68)","v":""},{"$f":"IF(Clasament!C62=\"+\",1,\"\")","v":""},{"$f":"IF(Clasament!D62=\"+\",1,\"\")","v":""},{"$f":"IF(Clasament!E62=\"+\",1,\"\")","v":""},{"$f":"IF(Clasament!F62=\"+\",1,\"\")","v":""},{"$f":"IF(Clasament!G62=\"+\",1,\"\")","v":""},{"$f":"IF(Clasament!H62=\"+\",1,\"\")","v":""},{"$f":"IF(Clasament!I62=\"+\",1,\"\")","v":""},{"$f":"IF(Clasament!J62=\"+\",1,\"\")","v":""},{"$f":"IF(Clasament!K62=\"+\",1,\"\")","v":""},{"$f":"IF(Clasament!L62=\"+\",1,\"\")","v":""},0,{"$f":"IF(Clasament!N62=\"+\",1,\"\")","v":""},{"$f":"IF(Clasament!O62=\"+\",1,\"\")","v":""},{"$f":"IF(Clasament!P62=\"+\",1,\"\")","v":""},{"$f":"IF(Clasament!Q62=\"+\",1,\"\")","v":""},{"$f":"IF(Clasament!R62=\"+\",1,\"\")","v":""},{"$f":"IF(Clasament!S62=\"+\",1,\"\")","v":""},{"$f":"IF(Clasament!T62=\"+\",1,\"\")","v":""},{"$f":"IF(Clasament!U62=\"+\",1,\"\")","v":""},{"$f":"IF(Clasament!V62=\"+\",1,\"\")","v":""},{"$f":"IF(Clasament!W62=\"+\",1,\"\")","v":""},0,{"$f":"IF(Clasament!Y62=\"+\",1,\"\")","v":""},{"$f":"IF(Clasament!Z62=\"+\",1,\"\")","v":""},{"$f":"IF(Clasament!AA62=\"+\",1,\"\")","v":""},{"$f":"IF(Clasament!AB62=\"+\",1,\"\")","v":""},{"$f":"IF(Clasament!AC62=\"+\",1,\"\")","v":""},{"$f":"IF(Clasament!AD62=\"+\",1,\"\")","v":""},{"$f":"IF(Clasament!AE62=\"+\",1,\"\")","v":""},{"$f":"IF(Clasament!AF62=\"+\",1,\"\")","v":""},{"$f":"IF(Clasament!AG62=\"+\",1,\"\")","v":""},{"$f":"IF(Clasament!AH62=\"+\",1,\"\")","v":""},0,{"$f":"IF(Clasament!AJ62=\"+\",1,\"\")","v":""},{"$f":"IF(Clasament!AK62=\"+\",1,\"\")","v":""},{"$f":"IF(Clasament!AL62=\"+\",1,\"\")","v":""},{"$f":"IF(Clasament!AM62=\"+\",1,\"\")","v":""},{"$f":"IF(Clasament!AN62=\"+\",1,\"\")","v":""},{"$f":"IF(Clasament!AO62=\"+\",1,\"\")","v":""},{"$f":"IF(Clasament!AP62=\"+\",1,\"\")","v":""},{"$f":"IF(Clasament!AQ62=\"+\",1,\"\")","v":""},{"$f":"IF(Clasament!AR62=\"+\",1,\"\")","v":""},{"$f":"IF(Clasament!AS62=\"+\",1,\"\")","v":""},0,{"$f":"IF(Clasament!AU62=\"+\",1,\"\")","v":""},{"$f":"IF(Clasament!AV62=\"+\",1,\"\")","v":""},{"$f":"IF(Clasament!AW62=\"+\",1,\"\")","v":""},{"$f":"IF(Clasament!AX62=\"+\",1,\"\")","v":""},{"$f":"IF(Clasament!AY62=\"+\",1,\"\")","v":""},{"$f":"IF(Clasament!AZ62=\"+\",1,\"\")","v":""},{"$f":"IF(Clasament!BA62=\"+\",1,\"\")","v":""},{"$f":"IF(Clasament!BB62=\"+\",1,\"\")","v":""},{"$f":"IF(Clasament!BC62=\"+\",1,\"\")","v":""},{"$f":"IF(Clasament!BD62=\"+\",1,\"\")","v":""},0]
[61,{"$f":"IF(Clasament!B69=\"\",\"\",Clasament!B69)","v":""},{"$f":"IF(Clasament!C63=\"+\",1,\"\")","v":""},{"$f":"IF(Clasament!D63=\"+\",1,\"\")","v":""},{"$f":"IF(Clasament!E63=\"+\",1,\"\")","v":""},{"$f":"IF(Clasament!F63=\"+\",1,\"\")","v":""},{"$f":"IF(Clasament!G63=\"+\",1,\"\")","v":""},{"$f":"IF(Clasament!H63=\"+\",1,\"\")","v":""},{"$f":"IF(Clasament!I63=\"+\",1,\"\")","v":""},{"$f":"IF(Clasament!J63=\"+\",1,\"\")","v":""},{"$f":"IF(Clasament!K63=\"+\",1,\"\")","v":""},{"$f":"IF(Clasament!L63=\"+\",1,\"\")","v":""},0,{"$f":"IF(Clasament!N63=\"+\",1,\"\")","v":""},{"$f":"IF(Clasament!O63=\"+\",1,\"\")","v":""},{"$f":"IF(Clasament!P63=\"+\",1,\"\")","v":""},{"$f":"IF(Clasament!Q63=\"+\",1,\"\")","v":""},{"$f":"IF(Clasament!R63=\"+\",1,\"\")","v":""},{"$f":"IF(Clasament!S63=\"+\",1,\"\")","v":""},{"$f":"IF(Clasament!T63=\"+\",1,\"\")","v":""},{"$f":"IF(Clasament!U63=\"+\",1,\"\")","v":""},{"$f":"IF(Clasament!V63=\"+\",1,\"\")","v":""},{"$f":"IF(Clasament!W63=\"+\",1,\"\")","v":""},0,{"$f":"IF(Clasament!Y63=\"+\",1,\"\")","v":""},{"$f":"IF(Clasament!Z63=\"+\",1,\"\")","v":""},{"$f":"IF(Clasament!AA63=\"+\",1,\"\")","v":""},{"$f":"IF(Clasament!AB63=\"+\",1,\"\")","v":""},{"$f":"IF(Clasament!AC63=\"+\",1,\"\")","v":""},{"$f":"IF(Clasament!AD63=\"+\",1,\"\")","v":""},{"$f":"IF(Clasament!AE63=\"+\",1,\"\")","v":""},{"$f":"IF(Clasament!AF63=\"+\",1,\"\")","v":""},{"$f":"IF(Clasament!AG63=\"+\",1,\"\")","v":""},{"$f":"IF(Clasament!AH63=\"+\",1,\"\")","v":""},0,{"$f":"IF(Clasament!AJ63=\"+\",1,\"\")","v":""},{"$f":"IF(Clasament!AK63=\"+\",1,\"\")","v":""},{"$f":"IF(Clasament!AL63=\"+\",1,\"\")","v":""},{"$f":"IF(Clasament!AM63=\"+\",1,\"\")","v":""},{"$f":"IF(Clasament!AN63=\"+\",1,\"\")","v":""},{"$f":"IF(Clasament!AO63=\"+\",1,\"\")","v":""},{"$f":"IF(Clasament!AP63=\"+\",1,\"\")","v":""},{"$f":"IF(Clasament!AQ63=\"+\",1,\"\")","v":""},{"$f":"IF(Clasament!AR63=\"+\",1,\"\")","v":""},{"$f":"IF(Clasament!AS63=\"+\",1,\"\")","v":""},0,{"$f":"IF(Clasament!AU63=\"+\",1,\"\")","v":""},{"$f":"IF(Clasament!AV63=\"+\",1,\"\")","v":""},{"$f":"IF(Clasament!AW63=\"+\",1,\"\")","v":""},{"$f":"IF(Clasament!AX63=\"+\",1,\"\")","v":""},{"$f":"IF(Clasament!AY63=\"+\",1,\"\")","v":""},{"$f":"IF(Clasament!AZ63=\"+\",1,\"\")","v":""},{"$f":"IF(Clasament!BA63=\"+\",1,\"\")","v":""},{"$f":"IF(Clasament!BB63=\"+\",1,\"\")","v":""},{"$f":"IF(Clasament!BC63=\"+\",1,\"\")","v":""},{"$f":"IF(Clasament!BD63=\"+\",1,\"\")","v":""},0]
[62,{"$f":"IF(Clasament!B70=\"\",\"\",Clasament!B70)","v":""},{"$f":"IF(Clasament!C64=\"+\",1,\"\")","v":""},{"$f":"IF(Clasament!D64=\"+\",1,\"\")","v":""},{"$f":"IF(Clasament!E64=\"+\",1,\"\")","v":""},{"$f":"IF(Clasament!F64=\"+\",1,\"\")","v":""},{"$f":"IF(Clasament!G64=\"+\",1,\"\")","v":""},{"$f":"IF(Clasament!H64=\"+\",1,\"\")","v":""},{"$f":"IF(Clasament!I64=\"+\",1,\"\")","v":""},{"$f":"IF(Clasament!J64=\"+\",1,\"\")","v":""},{"$f":"IF(Clasament!K64=\"+\",1,\"\")","v":""},{"$f":"IF(Clasament!L64=\"+\",1,\"\")","v":""},0,{"$f":"IF(Clasament!N64=\"+\",1,\"\")","v":""},{"$f":"IF(Clasament!O64=\"+\",1,\"\")","v":""},{"$f":"IF(Clasament!P64=\"+\",1,\"\")","v":""},{"$f":"IF(Clasament!Q64=\"+\",1,\"\")","v":""},{"$f":"IF(Clasament!R64=\"+\",1,\"\")","v":""},{"$f":"IF(Clasament!S64=\"+\",1,\"\")","v":""},{"$f":"IF(Clasament!T64=\"+\",1,\"\")","v":""},{"$f":"IF(Clasament!U64=\"+\",1,\"\")","v":""},{"$f":"IF(Clasament!V64=\"+\",1,\"\")","v":""},{"$f":"IF(Clasament!W64=\"+\",1,\"\")","v":""},0,{"$f":"IF(Clasament!Y64=\"+\",1,\"\")","v":""},{"$f":"IF(Clasament!Z64=\"+\",1,\"\")","v":""},{"$f":"IF(Clasament!AA64=\"+\",1,\"\")","v":""},{"$f":"IF(Clasament!AB64=\"+\",1,\"\")","v":""},{"$f":"IF(Clasament!AC64=\"+\",1,\"\")","v":""},{"$f":"IF(Clasament!AD64=\"+\",1,\"\")","v":""},{"$f":"IF(Clasament!AE64=\"+\",1,\"\")","v":""},{"$f":"IF(Clasament!AF64=\"+\",1,\"\")","v":""},{"$f":"IF(Clasament!AG64=\"+\",1,\"\")","v":""},{"$f":"IF(Clasament!AH64=\"+\",1,\"\")","v":""},0,{"$f":"IF(Clasament!AJ64=\"+\",1,\"\")","v":""},{"$f":"IF(Clasament!AK64=\"+\",1,\"\")","v":""},{"$f":"IF(Clasament!AL64=\"+\",1,\"\")","v":""},{"$f":"IF(Clasament!AM64=\"+\",1,\"\")","v":""},{"$f":"IF(Clasament!AN64=\"+\",1,\"\")","v":""},{"$f":"IF(Clasament!AO64=\"+\",1,\"\")","v":""},{"$f":"IF(Clasament!AP64=\"+\",1,\"\")","v":""},{"$f":"IF(Clasament!AQ64=\"+\",1,\"\")","v":""},{"$f":"IF(Clasament!AR64=\"+\",1,\"\")","v":""},{"$f":"IF(Clasament!AS64=\"+\",1,\"\")","v":""},0,{"$f":"IF(Clasament!AU64=\"+\",1,\"\")","v":""},{"$f":"IF(Clasament!AV64=\"+\",1,\"\")","v":""},{"$f":"IF(Clasament!AW64=\"+\",1,\"\")","v":""},{"$f":"IF(Clasament!AX64=\"+\",1,\"\")","v":""},{"$f":"IF(Clasament!AY64=\"+\",1,\"\")","v":""},{"$f":"IF(Clasament!AZ64=\"+\",1,\"\")","v":""},{"$f":"IF(Clasament!BA64=\"+\",1,\"\")","v":""},{"$f":"IF(Clasament!BB64=\"+\",1,\"\")","v":""},{"$f":"IF(Clasament!BC64=\"+\",1,\"\")","v":""},{"$f":"IF(Clasament!BD64=\"+\",1,\"\")","v":""},0]
[63,{"$f":"IF(Clasament!B71=\"\",\"\",Clasament!B71)","v":""},{"$f":"IF(Clasament!C65=\"+\",1,\"\")","v":""},{"$f":"IF(Clasament!D65=\"+\",1,\"\")","v":""},{"$f":"IF(Clasament!E65=\"+\",1,\"\")","v":""},{"$f":"IF(Clasament!F65=\"+\",1,\"\")","v":""},{"$f":"IF(Clasament!G65=\"+\",1,\"\")","v":""},{"$f":"IF(Clasament!H65=\"+\",1,\"\")","v":""},{"$f":"IF(Clasament!I65=\"+\",1,\"\")","v":""},{"$f":"IF(Clasament!J65=\"+\",1,\"\")","v":""},{"$f":"IF(Clasament!K65=\"+\",1,\"\")","v":""},{"$f":"IF(Clasament!L65=\"+\",1,\"\")","v":""},0,{"$f":"IF(Clasament!N65=\"+\",1,\"\")","v":""},{"$f":"IF(Clasament!O65=\"+\",1,\"\")","v":""},{"$f":"IF(Clasament!P65=\"+\",1,\"\")","v":""},{"$f":"IF(Clasament!Q65=\"+\",1,\"\")","v":""},{"$f":"IF(Clasament!R65=\"+\",1,\"\")","v":""},{"$f":"IF(Clasament!S65=\"+\",1,\"\")","v":""},{"$f":"IF(Clasament!T65=\"+\",1,\"\")","v":""},{"$f":"IF(Clasament!U65=\"+\",1,\"\")","v":""},{"$f":"IF(Clasament!V65=\"+\",1,\"\")","v":""},{"$f":"IF(Clasament!W65=\"+\",1,\"\")","v":""},0,{"$f":"IF(Clasament!Y65=\"+\",1,\"\")","v":""},{"$f":"IF(Clasament!Z65=\"+\",1,\"\")","v":""},{"$f":"IF(Clasament!AA65=\"+\",1,\"\")","v":""},{"$f":"IF(Clasament!AB65=\"+\",1,\"\")","v":""},{"$f":"IF(Clasament!AC65=\"+\",1,\"\")","v":""},{"$f":"IF(Clasament!AD65=\"+\",1,\"\")","v":""},{"$f":"IF(Clasament!AE65=\"+\",1,\"\")","v":""},{"$f":"IF(Clasament!AF65=\"+\",1,\"\")","v":""},{"$f":"IF(Clasament!AG65=\"+\",1,\"\")","v":""},{"$f":"IF(Clasament!AH65=\"+\",1,\"\")","v":""},0,{"$f":"IF(Clasament!AJ65=\"+\",1,\"\")","v":""},{"$f":"IF(Clasament!AK65=\"+\",1,\"\")","v":""},{"$f":"IF(Clasament!AL65=\"+\",1,\"\")","v":""},{"$f":"IF(Clasament!AM65=\"+\",1,\"\")","v":""},{"$f":"IF(Clasament!AN65=\"+\",1,\"\")","v":""},{"$f":"IF(Clasament!AO65=\"+\",1,\"\")","v":""},{"$f":"IF(Clasament!AP65=\"+\",1,\"\")","v":""},{"$f":"IF(Clasament!AQ65=\"+\",1,\"\")","v":""},{"$f":"IF(Clasament!AR65=\"+\",1,\"\")","v":""},{"$f":"IF(Clasament!AS65=\"+\",1,\"\")","v":""},0,{"$f":"IF(Clasament!AU65=\"+\",1,\"\")","v":""},{"$f":"IF(Clasament!AV65=\"+\",1,\"\")","v":""},{"$f":"IF(Clasament!AW65=\"+\",1,\"\")","v":""},{"$f":"IF(Clasament!AX65=\"+\",1,\"\")","v":""},{"$f":"IF(Clasament!AY65=\"+\",1,\"\")","v":""},{"$f":"IF(Clasament!AZ65=\"+\",1,\"\")","v":""},{"$f":"IF(Clasament!BA65=\"+\",1,\"\")","v":""},{"$f":"IF(Clasament!BB65=\"+\",1,\"\")","v":""},{"$f":"IF(Clasament!BC65=\"+\",1,\"\")","v":""},{"$f":"IF(Clasament!BD65=\"+\",1,\"\")","v":""},0]
[64,{"$f":"IF(Clasament!B72=\"\",\"\",Clasament!B72)","v":""},{"$f":"IF(Clasament!C66=\"+\",1,\"\")","v":""},{"$f":"IF(Clasament!D66=\"+\",1,\"\")","v":""},{"$f":"IF(Clasament!E66=\"+\",1,\"\")","v":""},{"$f":"IF(Clasament!F66=\"+\",1,\"\")","v":""},{"$f":"IF(Clasament!G66=\"+\",1,\"\")","v":""},{"$f":"IF(Clasament!H66=\"+\",1,\"\")","v":""},{"$f":"IF(Clasament!I66=\"+\",1,\"\")","v":""},{"$f":"IF(Clasament!J66=\"+\",1,\"\")","v":""},{"$f":"IF(Clasament!K66=\"+\",1,\"\")","v":""},{"$f":"IF(Clasament!L66=\"+\",1,\"\")","v":""},0,{"$f":"IF(Clasament!N66=\"+\",1,\"\")","v":""},{"$f":"IF(Clasament!O66=\"+\",1,\"\")","v":""},{"$f":"IF(Clasament!P66=\"+\",1,\"\")","v":""},{"$f":"IF(Clasament!Q66=\"+\",1,\"\")","v":""},{"$f":"IF(Clasament!R66=\"+\",1,\"\")","v":""},{"$f":"IF(Clasament!S66=\"+\",1,\"\")","v":""},{"$f":"IF(Clasament!T66=\"+\",1,\"\")","v":""},{"$f":"IF(Clasament!U66=\"+\",1,\"\")","v":""},{"$f":"IF(Clasament!V66=\"+\",1,\"\")","v":""},{"$f":"IF(Clasament!W66=\"+\",1,\"\")","v":""},0,{"$f":"IF(Clasament!Y66=\"+\",1,\"\")","v":""},{"$f":"IF(Clasament!Z66=\"+\",1,\"\")","v":""},{"$f":"IF(Clasament!AA66=\"+\",1,\"\")","v":""},{"$f":"IF(Clasament!AB66=\"+\",1,\"\")","v":""},{"$f":"IF(Clasament!AC66=\"+\",1,\"\")","v":""},{"$f":"IF(Clasament!AD66=\"+\",1,\"\")","v":""},{"$f":"IF(Clasament!AE66=\"+\",1,\"\")","v":""},{"$f":"IF(Clasament!AF66=\"+\",1,\"\")","v":""},{"$f":"IF(Clasament!AG66=\"+\",1,\"\")","v":""},{"$f":"IF(Clasament!AH66=\"+\",1,\"\")","v":""},0,{"$f":"IF(Clasament!AJ66=\"+\",1,\"\")","v":""},{"$f":"IF(Clasament!AK66=\"+\",1,\"\")","v":""},{"$f":"IF(Clasament!AL66=\"+\",1,\"\")","v":""},{"$f":"IF(Clasament!AM66=\"+\",1,\"\")","v":""},{"$f":"IF(Clasament!AN66=\"+\",1,\"\")","v":""},{"$f":"IF(Clasament!AO66=\"+\",1,\"\")","v":""},{"$f":"IF(Clasament!AP66=\"+\",1,\"\")","v":""},{"$f":"IF(Clasament!AQ66=\"+\",1,\"\")","v":""},{"$f":"IF(Clasament!AR66=\"+\",1,\"\")","v":""},{"$f":"IF(Clasament!AS66=\"+\",1,\"\")","v":""},0,{"$f":"IF(Clasament!AU66=\"+\",1,\"\")","v":""},{"$f":"IF(Clasament!AV66=\"+\",1,\"\")","v":""},{"$f":"IF(Clasament!AW66=\"+\",1,\"\")","v":""},{"$f":"IF(Clasament!AX66=\"+\",1,\"\")","v":""},{"$f":"IF(Clasament!AY66=\"+\",1,\"\")","v":""},{"$f":"IF(Clasament!AZ66=\"+\",1,\"\")","v":""},{"$f":"IF(Clasament!BA66=\"+\",1,\"\")","v":""},{"$f":"IF(Clasament!BB66=\"+\",1,\"\")","v":""},{"$f":"IF(Clasament!BC66=\"+\",1,\"\")","v":""},{"$f":"IF(Clasament!BD66=\"+\",1,\"\")","v":""},0]
[65,{"$f":"IF(Clasament!B73=\"\",\"\",Clasament!B73)","v":""},{"$f":"IF(Clasament!C67=\"+\",1,\"\")","v":""},{"$f":"IF(Clasament!D67=\"+\",1,\"\")","v":""},{"$f":"IF(Clasament!E67=\"+\",1,\"\")","v":""},{"$f":"IF(Clasament!F67=\"+\",1,\"\")","v":""},{"$f":"IF(Clasament!G67=\"+\",1,\"\")","v":""},{"$f":"IF(Clasament!H67=\"+\",1,\"\")","v":""},{"$f":"IF(Clasament!I67=\"+\",1,\"\")","v":""},{"$f":"IF(Clasament!J67=\"+\",1,\"\")","v":""},{"$f":"IF(Clasament!K67=\"+\",1,\"\")","v":""},{"$f":"IF(Clasament!L67=\"+\",1,\"\")","v":""},{"$f":"SUM(C66:L66)","v":0},{"$f":"IF(Clasament!N67=\"+\",1,\"\")","v":""},{"$f":"IF(Clasament!O67=\"+\",1,\"\")","v":""},{"$f":"IF(Clasament!P67=\"+\",1,\"\")","v":""},{"$f":"IF(Clasament!Q67=\"+\",1,\"\")","v":""},{"$f":"IF(Clasament!R67=\"+\",1,\"\")","v":""},{"$f":"IF(Clasament!S67=\"+\",1,\"\")","v":""},{"$f":"IF(Clasament!T67=\"+\",1,\"\")","v":""},{"$f":"IF(Clasament!U67=\"+\",1,\"\")","v":""},{"$f":"IF(Clasament!V67=\"+\",1,\"\")","v":""},{"$f":"IF(Clasament!W67=\"+\",1,\"\")","v":""},{"$f":"SUM(N66:W66)","v":0},{"$f":"IF(Clasament!Y67=\"+\",1,\"\")","v":""},{"$f":"IF(Clasament!Z67=\"+\",1,\"\")","v":""},{"$f":"IF(Clasament!AA67=\"+\",1,\"\")","v":""},{"$f":"IF(Clasament!AB67=\"+\",1,\"\")","v":""},{"$f":"IF(Clasament!AC67=\"+\",1,\"\")","v":""},{"$f":"IF(Clasament!AD67=\"+\",1,\"\")","v":""},{"$f":"IF(Clasament!AE67=\"+\",1,\"\")","v":""},{"$f":"IF(Clasament!AF67=\"+\",1,\"\")","v":""},{"$f":"IF(Clasament!AG67=\"+\",1,\"\")","v":""},{"$f":"IF(Clasament!AH67=\"+\",1,\"\")","v":""},{"$f":"SUM(Y66:AH66)","v":0},{"$f":"IF(Clasament!AJ67=\"+\",1,\"\")","v":""},{"$f":"IF(Clasament!AK67=\"+\",1,\"\")","v":""},{"$f":"IF(Clasament!AL67=\"+\",1,\"\")","v":""},{"$f":"IF(Clasament!AM67=\"+\",1,\"\")","v":""},{"$f":"IF(Clasament!AN67=\"+\",1,\"\")","v":""},{"$f":"IF(Clasament!AO67=\"+\",1,\"\")","v":""},{"$f":"IF(Clasament!AP67=\"+\",1,\"\")","v":""},{"$f":"IF(Clasament!AQ67=\"+\",1,\"\")","v":""},{"$f":"IF(Clasament!AR67=\"+\",1,\"\")","v":""},{"$f":"IF(Clasament!AS67=\"+\",1,\"\")","v":""},{"$f":"SUM(AJ66:AS66)","v":0},{"$f":"IF(Clasament!AU67=\"+\",1,\"\")","v":""},{"$f":"IF(Clasament!AV67=\"+\",1,\"\")","v":""},{"$f":"IF(Clasament!AW67=\"+\",1,\"\")","v":""},{"$f":"IF(Clasament!AX67=\"+\",1,\"\")","v":""},{"$f":"IF(Clasament!AY67=\"+\",1,\"\")","v":""},{"$f":"IF(Clasament!AZ67=\"+\",1,\"\")","v":""},{"$f":"IF(Clasament!BA67=\"+\",1,\"\")","v":""},{"$f":"IF(Clasament!BB67=\"+\",1,\"\")","v":""},{"$f":"IF(Clasament!BC67=\"+\",1,\"\")","v":""},{"$f":"IF(Clasament!BD67=\"+\",1,\"\")","v":""},{"$f":"SUM(AU66:BD66)","v":0}]
[66,{"$f":"IF(Clasament!B74=\"\",\"\",Clasament!B74)","v":""},{"$f":"IF(Clasament!C68=\"+\",1,\"\")","v":""},{"$f":"IF(Clasament!D68=\"+\",1,\"\")","v":""},{"$f":"IF(Clasament!E68=\"+\",1,\"\")","v":""},{"$f":"IF(Clasament!F68=\"+\",1,\"\")","v":""},{"$f":"IF(Clasament!G68=\"+\",1,\"\")","v":""},{"$f":"IF(Clasament!H68=\"+\",1,\"\")","v":""},{"$f":"IF(Clasament!I68=\"+\",1,\"\")","v":""},{"$f":"IF(Clasament!J68=\"+\",1,\"\")","v":""},{"$f":"IF(Clasament!K68=\"+\",1,\"\")","v":""},{"$f":"IF(Clasament!L68=\"+\",1,\"\")","v":""},0,{"$f":"IF(Clasament!N68=\"+\",1,\"\")","v":""},{"$f":"IF(Clasament!O68=\"+\",1,\"\")","v":""},{"$f":"IF(Clasament!P68=\"+\",1,\"\")","v":""},{"$f":"IF(Clasament!Q68=\"+\",1,\"\")","v":""},{"$f":"IF(Clasament!R68=\"+\",1,\"\")","v":""},{"$f":"IF(Clasament!S68=\"+\",1,\"\")","v":""},{"$f":"IF(Clasament!T68=\"+\",1,\"\")","v":""},{"$f":"IF(Clasament!U68=\"+\",1,\"\")","v":""},{"$f":"IF(Clasament!V68=\"+\",1,\"\")","v":""},{"$f":"IF(Clasament!W68=\"+\",1,\"\")","v":""},0,{"$f":"IF(Clasament!Y68=\"+\",1,\"\")","v":""},{"$f":"IF(Clasament!Z68=\"+\",1,\"\")","v":""},{"$f":"IF(Clasament!AA68=\"+\",1,\"\")","v":""},{"$f":"IF(Clasament!AB68=\"+\",1,\"\")","v":""},{"$f":"IF(Clasament!AC68=\"+\",1,\"\")","v":""},{"$f":"IF(Clasament!AD68=\"+\",1,\"\")","v":""},{"$f":"IF(Clasament!AE68=\"+\",1,\"\")","v":""},{"$f":"IF(Clasament!AF68=\"+\",1,\"\")","v":""},{"$f":"IF(Clasament!AG68=\"+\",1,\"\")","v":""},{"$f":"IF(Clasament!AH68=\"+\",1,\"\")","v":""},0,{"$f":"IF(Clasament!AJ68=\"+\",1,\"\")","v":""},{"$f":"IF(Clasament!AK68=\"+\",1,\"\")","v":""},{"$f":"IF(Clasament!AL68=\"+\",1,\"\")","v":""},{"$f":"IF(Clasament!AM68=\"+\",1,\"\")","v":""},{"$f":"IF(Clasament!AN68=\"+\",1,\"\")","v":""},{"$f":"IF(Clasament!AO68=\"+\",1,\"\")","v":""},{"$f":"IF(Clasament!AP68=\"+\",1,\"\")","v":""},{"$f":"IF(Clasament!AQ68=\"+\",1,\"\")","v":""},{"$f":"IF(Clasament!AR68=\"+\",1,\"\")","v":""},{"$f":"IF(Clasament!AS68=\"+\",1,\"\")","v":""},0,{"$f":"IF(Clasament!AU68=\"+\",1,\"\")","v":""},{"$f":"IF(Clasament!AV68=\"+\",1,\"\")","v":""},{"$f":"IF(Clasament!AW68=\"+\",1,\"\")","v":""},{"$f":"IF(Clasament!AX68=\"+\",1,\"\")","v":""},{"$f":"IF(Clasament!AY68=\"+\",1,\"\")","v":""},{"$f":"IF(Clasament!AZ68=\"+\",1,\"\")","v":""},{"$f":"IF(Clasament!BA68=\"+\",1,\"\")","v":""},{"$f":"IF(Clasament!BB68=\"+\",1,\"\")","v":""},{"$f":"IF(Clasament!BC68=\"+\",1,\"\")","v":""},{"$f":"IF(Clasament!BD68=\"+\",1,\"\")","v":""},0]
[67,{"$f":"IF(Clasament!B75=\"\",\"\",Clasament!B75)","v":""},{"$f":"IF(Clasament!C69=\"+\",1,\"\")","v":""},{"$f":"IF(Clasament!D69=\"+\",1,\"\")","v":""},{"$f":"IF(Clasament!E69=\"+\",1,\"\")","v":""},{"$f":"IF(Clasament!F69=\"+\",1,\"\")","v":""},{"$f":"IF(Clasament!G69=\"+\",1,\"\")","v":""},{"$f":"IF(Clasament!H69=\"+\",1,\"\")","v":""},{"$f":"IF(Clasament!I69=\"+\",1,\"\")","v":""},{"$f":"IF(Clasament!J69=\"+\",1,\"\")","v":""},{"$f":"IF(Clasament!K69=\"+\",1,\"\")","v":""},{"$f":"IF(Clasament!L69=\"+\",1,\"\")","v":""},0,{"$f":"IF(Clasament!N69=\"+\",1,\"\")","v":""},{"$f":"IF(Clasament!O69=\"+\",1,\"\")","v":""},{"$f":"IF(Clasament!P69=\"+\",1,\"\")","v":""},{"$f":"IF(Clasament!Q69=\"+\",1,\"\")","v":""},{"$f":"IF(Clasament!R69=\"+\",1,\"\")","v":""},{"$f":"IF(Clasament!S69=\"+\",1,\"\")","v":""},{"$f":"IF(Clasament!T69=\"+\",1,\"\")","v":""},{"$f":"IF(Clasament!U69=\"+\",1,\"\")","v":""},{"$f":"IF(Clasament!V69=\"+\",1,\"\")","v":""},{"$f":"IF(Clasament!W69=\"+\",1,\"\")","v":""},0,{"$f":"IF(Clasament!Y69=\"+\",1,\"\")","v":""},{"$f":"IF(Clasament!Z69=\"+\",1,\"\")","v":""},{"$f":"IF(Clasament!AA69=\"+\",1,\"\")","v":""},{"$f":"IF(Clasament!AB69=\"+\",1,\"\")","v":""},{"$f":"IF(Clasament!AC69=\"+\",1,\"\")","v":""},{"$f":"IF(Clasament!AD69=\"+\",1,\"\")","v":""},{"$f":"IF(Clasament!AE69=\"+\",1,\"\")","v":""},{"$f":"IF(Clasament!AF69=\"+\",1,\"\")","v":""},{"$f":"IF(Clasament!AG69=\"+\",1,\"\")","v":""},{"$f":"IF(Clasament!AH69=\"+\",1,\"\")","v":""},0,{"$f":"IF(Clasament!AJ69=\"+\",1,\"\")","v":""},{"$f":"IF(Clasament!AK69=\"+\",1,\"\")","v":""},{"$f":"IF(Clasament!AL69=\"+\",1,\"\")","v":""},{"$f":"IF(Clasament!AM69=\"+\",1,\"\")","v":""},{"$f":"IF(Clasament!AN69=\"+\",1,\"\")","v":""},{"$f":"IF(Clasament!AO69=\"+\",1,\"\")","v":""},{"$f":"IF(Clasament!AP69=\"+\",1,\"\")","v":""},{"$f":"IF(Clasament!AQ69=\"+\",1,\"\")","v":""},{"$f":"IF(Clasament!AR69=\"+\",1,\"\")","v":""},{"$f":"IF(Clasament!AS69=\"+\",1,\"\")","v":""},0,{"$f":"IF(Clasament!AU69=\"+\",1,\"\")","v":""},{"$f":"IF(Clasament!AV69=\"+\",1,\"\")","v":""},{"$f":"IF(Clasament!AW69=\"+\",1,\"\")","v":""},{"$f":"IF(Clasament!AX69=\"+\",1,\"\")","v":""},{"$f":"IF(Clasament!AY69=\"+\",1,\"\")","v":""},{"$f":"IF(Clasament!AZ69=\"+\",1,\"\")","v":""},{"$f":"IF(Clasament!BA69=\"+\",1,\"\")","v":""},{"$f":"IF(Clasament!BB69=\"+\",1,\"\")","v":""},{"$f":"IF(Clasament!BC69=\"+\",1,\"\")","v":""},{"$f":"IF(Clasament!BD69=\"+\",1,\"\")","v":""},0]
[68,{"$f":"IF(Clasament!B76=\"\",\"\",Clasament!B76)","v":""},{"$f":"IF(Clasament!C70=\"+\",1,\"\")","v":""},{"$f":"IF(Clasament!D70=\"+\",1,\"\")","v":""},{"$f":"IF(Clasament!E70=\"+\",1,\"\")","v":""},{"$f":"IF(Clasament!F70=\"+\",1,\"\")","v":""},{"$f":"IF(Clasament!G70=\"+\",1,\"\")","v":""},{"$f":"IF(Clasament!H70=\"+\",1,\"\")","v":""},{"$f":"IF(Clasament!I70=\"+\",1,\"\")","v":""},{"$f":"IF(Clasament!J70=\"+\",1,\"\")","v":""},{"$f":"IF(Clasament!K70=\"+\",1,\"\")","v":""},{"$f":"IF(Clasament!L70=\"+\",1,\"\")","v":""},0,{"$f":"IF(Clasament!N70=\"+\",1,\"\")","v":""},{"$f":"IF(Clasament!O70=\"+\",1,\"\")","v":""},{"$f":"IF(Clasament!P70=\"+\",1,\"\")","v":""},{"$f":"IF(Clasament!Q70=\"+\",1,\"\")","v":""},{"$f":"IF(Clasament!R70=\"+\",1,\"\")","v":""},{"$f":"IF(Clasament!S70=\"+\",1,\"\")","v":""},{"$f":"IF(Clasament!T70=\"+\",1,\"\")","v":""},{"$f":"IF(Clasament!U70=\"+\",1,\"\")","v":""},{"$f":"IF(Clasament!V70=\"+\",1,\"\")","v":""},{"$f":"IF(Clasament!W70=\"+\",1,\"\")","v":""},0,{"$f":"IF(Clasament!Y70=\"+\",1,\"\")","v":""},{"$f":"IF(Clasament!Z70=\"+\",1,\"\")","v":""},{"$f":"IF(Clasament!AA70=\"+\",1,\"\")","v":""},{"$f":"IF(Clasament!AB70=\"+\",1,\"\")","v":""},{"$f":"IF(Clasament!AC70=\"+\",1,\"\")","v":""},{"$f":"IF(Clasament!AD70=\"+\",1,\"\")","v":""},{"$f":"IF(Clasament!AE70=\"+\",1,\"\")","v":""},{"$f":"IF(Clasament!AF70=\"+\",1,\"\")","v":""},{"$f":"IF(Clasament!AG70=\"+\",1,\"\")","v":""},{"$f":"IF(Clasament!AH70=\"+\",1,\"\")","v":""},0,{"$f":"IF(Clasament!AJ70=\"+\",1,\"\")","v":""},{"$f":"IF(Clasament!AK70=\"+\",1,\"\")","v":""},{"$f":"IF(Clasament!AL70=\"+\",1,\"\")","v":""},{"$f":"IF(Clasament!AM70=\"+\",1,\"\")","v":""},{"$f":"IF(Clasament!AN70=\"+\",1,\"\")","v":""},{"$f":"IF(Clasament!AO70=\"+\",1,\"\")","v":""},{"$f":"IF(Clasament!AP70=\"+\",1,\"\")","v":""},{"$f":"IF(Clasament!AQ70=\"+\",1,\"\")","v":""},{"$f":"IF(Clasament!AR70=\"+\",1,\"\")","v":""},{"$f":"IF(Clasament!AS70=\"+\",1,\"\")","v":""},0,{"$f":"IF(Clasament!AU70=\"+\",1,\"\")","v":""},{"$f":"IF(Clasament!AV70=\"+\",1,\"\")","v":""},{"$f":"IF(Clasament!AW70=\"+\",1,\"\")","v":""},{"$f":"IF(Clasament!AX70=\"+\",1,\"\")","v":""},{"$f":"IF(Clasament!AY70=\"+\",1,\"\")","v":""},{"$f":"IF(Clasament!AZ70=\"+\",1,\"\")","v":""},{"$f":"IF(Clasament!BA70=\"+\",1,\"\")","v":""},{"$f":"IF(Clasament!BB70=\"+\",1,\"\")","v":""},{"$f":"IF(Clasament!BC70=\"+\",1,\"\")","v":""},{"$f":"IF(Clasament!BD70=\"+\",1,\"\")","v":""},0]
[69,{"$f":"IF(Clasament!B77=\"\",\"\",Clasament!B77)","v":""},{"$f":"IF(Clasament!C71=\"+\",1,\"\")","v":""},{"$f":"IF(Clasament!D71=\"+\",1,\"\")","v":""},{"$f":"IF(Clasament!E71=\"+\",1,\"\")","v":""},{"$f":"IF(Clasament!F71=\"+\",1,\"\")","v":""},{"$f":"IF(Clasament!G71=\"+\",1,\"\")","v":""},{"$f":"IF(Clasament!H71=\"+\",1,\"\")","v":""},{"$f":"IF(Clasament!I71=\"+\",1,\"\")","v":""},{"$f":"IF(Clasament!J71=\"+\",1,\"\")","v":""},{"$f":"IF(Clasament!K71=\"+\",1,\"\")","v":""},{"$f":"IF(Clasament!L71=\"+\",1,\"\")","v":""},0,{"$f":"IF(Clasament!N71=\"+\",1,\"\")","v":""},{"$f":"IF(Clasament!O71=\"+\",1,\"\")","v":""},{"$f":"IF(Clasament!P71=\"+\",1,\"\")","v":""},{"$f":"IF(Clasament!Q71=\"+\",1,\"\")","v":""},{"$f":"IF(Clasament!R71=\"+\",1,\"\")","v":""},{"$f":"IF(Clasament!S71=\"+\",1,\"\")","v":""},{"$f":"IF(Clasament!T71=\"+\",1,\"\")","v":""},{"$f":"IF(Clasament!U71=\"+\",1,\"\")","v":""},{"$f":"IF(Clasament!V71=\"+\",1,\"\")","v":""},{"$f":"IF(Clasament!W71=\"+\",1,\"\")","v":""},0,{"$f":"IF(Clasament!Y71=\"+\",1,\"\")","v":""},{"$f":"IF(Clasament!Z71=\"+\",1,\"\")","v":""},{"$f":"IF(Clasament!AA71=\"+\",1,\"\")","v":""},{"$f":"IF(Clasament!AB71=\"+\",1,\"\")","v":""},{"$f":"IF(Clasament!AC71=\"+\",1,\"\")","v":""},{"$f":"IF(Clasament!AD71=\"+\",1,\"\")","v":""},{"$f":"IF(Clasament!AE71=\"+\",1,\"\")","v":""},{"$f":"IF(Clasament!AF71=\"+\",1,\"\")","v":""},{"$f":"IF(Clasament!AG71=\"+\",1,\"\")","v":""},{"$f":"IF(Clasament!AH71=\"+\",1,\"\")","v":""},0,{"$f":"IF(Clasament!AJ71=\"+\",1,\"\")","v":""},{"$f":"IF(Clasament!AK71=\"+\",1,\"\")","v":""},{"$f":"IF(Clasament!AL71=\"+\",1,\"\")","v":""},{"$f":"IF(Clasament!AM71=\"+\",1,\"\")","v":""},{"$f":"IF(Clasament!AN71=\"+\",1,\"\")","v":""},{"$f":"IF(Clasament!AO71=\"+\",1,\"\")","v":""},{"$f":"IF(Clasament!AP71=\"+\",1,\"\")","v":""},{"$f":"IF(Clasament!AQ71=\"+\",1,\"\")","v":""},{"$f":"IF(Clasament!AR71=\"+\",1,\"\")","v":""},{"$f":"IF(Clasament!AS71=\"+\",1,\"\")","v":""},0,{"$f":"IF(Clasament!AU71=\"+\",1,\"\")","v":""},{"$f":"IF(Clasament!AV71=\"+\",1,\"\")","v":""},{"$f":"IF(Clasament!AW71=\"+\",1,\"\")","v":""},{"$f":"IF(Clasament!AX71=\"+\",1,\"\")","v":""},{"$f":"IF(Clasament!AY71=\"+\",1,\"\")","v":""},{"$f":"IF(Clasament!AZ71=\"+\",1,\"\")","v":""},{"$f":"IF(Clasament!BA71=\"+\",1,\"\")","v":""},{"$f":"IF(Clasament!BB71=\"+\",1,\"\")","v":""},{"$f":"IF(Clasament!BC71=\"+\",1,\"\")","v":""},{"$f":"IF(Clasament!BD71=\"+\",1,\"\")","v":""},0]
[70,{"$f":"IF(Clasament!B78=\"\",\"\",Clasament!B78)","v":""},{"$f":"IF(Clasament!C72=\"+\",1,\"\")","v":""},{"$f":"IF(Clasament!D72=\"+\",1,\"\")","v":""},{"$f":"IF(Clasament!E72=\"+\",1,\"\")","v":""},{"$f":"IF(Clasament!F72=\"+\",1,\"\")","v":""},{"$f":"IF(Clasament!G72=\"+\",1,\"\")","v":""},{"$f":"IF(Clasament!H72=\"+\",1,\"\")","v":""},{"$f":"IF(Clasament!I72=\"+\",1,\"\")","v":""},{"$f":"IF(Clasament!J72=\"+\",1,\"\")","v":""},{"$f":"IF(Clasament!K72=\"+\",1,\"\")","v":""},{"$f":"IF(Clasament!L72=\"+\",1,\"\")","v":""},0,{"$f":"IF(Clasament!N72=\"+\",1,\"\")","v":""},{"$f":"IF(Clasament!O72=\"+\",1,\"\")","v":""},{"$f":"IF(Clasament!P72=\"+\",1,\"\")","v":""},{"$f":"IF(Clasament!Q72=\"+\",1,\"\")","v":""},{"$f":"IF(Clasament!R72=\"+\",1,\"\")","v":""},{"$f":"IF(Clasament!S72=\"+\",1,\"\")","v":""},{"$f":"IF(Clasament!T72=\"+\",1,\"\")","v":""},{"$f":"IF(Clasament!U72=\"+\",1,\"\")","v":""},{"$f":"IF(Clasament!V72=\"+\",1,\"\")","v":""},{"$f":"IF(Clasament!W72=\"+\",1,\"\")","v":""},0,{"$f":"IF(Clasament!Y72=\"+\",1,\"\")","v":""},{"$f":"IF(Clasament!Z72=\"+\",1,\"\")","v":""},{"$f":"IF(Clasament!AA72=\"+\",1,\"\")","v":""},{"$f":"IF(Clasament!AB72=\"+\",1,\"\")","v":""},{"$f":"IF(Clasament!AC72=\"+\",1,\"\")","v":""},{"$f":"IF(Clasament!AD72=\"+\",1,\"\")","v":""},{"$f":"IF(Clasament!AE72=\"+\",1,\"\")","v":""},{"$f":"IF(Clasament!AF72=\"+\",1,\"\")","v":""},{"$f":"IF(Clasament!AG72=\"+\",1,\"\")","v":""},{"$f":"IF(Clasament!AH72=\"+\",1,\"\")","v":""},0,{"$f":"IF(Clasament!AJ72=\"+\",1,\"\")","v":""},{"$f":"IF(Clasament!AK72=\"+\",1,\"\")","v":""},{"$f":"IF(Clasament!AL72=\"+\",1,\"\")","v":""},{"$f":"IF(Clasament!AM72=\"+\",1,\"\")","v":""},{"$f":"IF(Clasament!AN72=\"+\",1,\"\")","v":""},{"$f":"IF(Clasament!AO72=\"+\",1,\"\")","v":""},{"$f":"IF(Clasament!AP72=\"+\",1,\"\")","v":""},{"$f":"IF(Clasament!AQ72=\"+\",1,\"\")","v":""},{"$f":"IF(Clasament!AR72=\"+\",1,\"\")","v":""},{"$f":"IF(Clasament!AS72=\"+\",1,\"\")","v":""},0,{"$f":"IF(Clasament!AU72=\"+\",1,\"\")","v":""},{"$f":"IF(Clasament!AV72=\"+\",1,\"\")","v":""},{"$f":"IF(Clasament!AW72=\"+\",1,\"\")","v":""},{"$f":"IF(Clasament!AX72=\"+\",1,\"\")","v":""},{"$f":"IF(Clasament!AY72=\"+\",1,\"\")","v":""},{"$f":"IF(Clasament!AZ72=\"+\",1,\"\")","v":""},{"$f":"IF(Clasament!BA72=\"+\",1,\"\")","v":""},{"$f":"IF(Clasament!BB72=\"+\",1,\"\")","v":""},{"$f":"IF(Clasament!BC72=\"+\",1,\"\")","v":""},{"$f":"IF(Clasament!BD72=\"+\",1,\"\")","v":""},0]
[null,null,{"$f":"SUM(C2:C71)","v":0},{"$f":"SUM(D2:D71)","v":0},0,0,0,0,0,0,0,0,0,0,0,0,0,0,0,0,0,0,0,0,0,0,0,0,0,0,0,0,0,0,0,0,0,0,0,0,0,0,0,0,0,0,0,0,0,0,0,0,0,0,0,0,0]

{"sheet":"DivA","index":6,"n_rows":40,"n_cols":27,"rows_kept":40,"cut":false,"hidden":false,"merged":[[5,4,5,9],[0,0,0,9],[1,0,1,9],[2,4,2,9],[3,4,3,9],[4,4,4,9],[6,4,6,9],[9,0,9,3],[9,4,9,7],[9,8,9,11],[16,0,16,3],[16,4,16,7],[16,8,16,11],[34,0,34,3],[34,8,34,10],[23,8,23,11],[25,0,25,3],[26,0,26,3],[27,0,27,3],[28,0,28,3],[29,0,29,3],[30,0,30,3],[30,8,30,11],[31,0,31,3],[33,0,33,3],[33,8,33,10],[38,0,38,3],[38,8,38,10],[39,0,39,3],[39,8,39,10],[35,0,35,3],[35,8,35,10],[36,0,36,3],[36,8,36,10],[37,0,37,3],[37,8,37,10]]}
["FISA ORGANIZATORICA - Campionatul CUC",null,null,null,null,null,null,null,null,null,null,null,null,null,"Runda I",1,2,3,4,5,6,7,8,9,10,"R"]
["Editia XXVI",null,null,null,null,null,null,null,null,null,null,null,null,null,{"$f":"Clasament!$B$27","v":"KO"},{"$f":"Clasament!C27","v":0},{"$f":"Clasament!D27","v":0},{"$f":"Clasament!E27","v":0},{"$f":"Clasament!F27","v":0},{"$f":"Clasament!G27","v":0},{"$f":"Clasament!H27","v":0},{"$f":"Clasament!I27","v":0},{"$f":"Clasament!J27","v":0},{"$f":"Clasament!K27","v":0},{"$f":"Clasament!L27","v":0},{"$f":"COUNTIF(P2:Y2,\"+\")","v":0}]
["Nivelul valoric",null,null,null,"Divizia A",null,null,null,null,null,null,null,null,null,{"$f":"Clasament!$B$28","v":"Printese si S."},{"$f":"Clasament!C28","v":0},{"$f":"Clasament!D28","v":0},{"$f":"Clasament!E28","v":0},{"$f":"Clasament!F28","v":0},{"$f":"Clasament!G28","v":0},{"$f":"Clasament!H28","v":0},{"$f":"Clasament!I28","v":0},{"$f":"Clasament!J28","v":0},{"$f":"Clasament!K28","v":0},{"$f":"Clasament!L28","v":0},{"$f":"COUNTIF(P3:Y3,\"+\")","v":0}]
["Etapa",null,null,null,{"$f":"SL!E4","v":3},null,null,null,null,null,null,null,null,null,{"$f":"Clasament!$B$29","v":"Zeii cucului"},{"$f":"Clasament!C29","v":0},{"$f":"Clasament!D29","v":0},{"$f":"Clasament!E29","v":0},{"$f":"Clasament!F29","v":0},{"$f":"Clasament!G29","v":0},{"$f":"Clasament!H29","v":0},{"$f":"Clasament!I29","v":0},{"$f":"Clasament!J29","v":0},{"$f":"Clasament!K29","v":0},{"$f":"Clasament!L29","v":0},0]
["Data desfasurarii",null,null,null,"2015-03-14",null,null,null,null,null,null,null,null,null,{"$f":"Clasament!$B$30","v":"Ruby"},{"$f":"Clasament!C30","v":0},{"$f":"Clasament!D30","v":0},{"$f":"Clasament!E30","v":0},{"$f":"Clasament!F30","v":0},{"$f":"Clasament!G30","v":0},{"$f":"Clasament!H30","v":0},{"$f":"Clasament!I30","v":0},{"$f":"Clasament!J30","v":0},{"$f":"Clasament!K30","v":0},{"$f":"Clasament!L30","v":0},0]
["Locul desfasurarii",null,null,null,null,null,null,null,null,null,null,null,null,null,{"$f":"Clasament!$B$31","v":"Ananas"},{"$f":"Clasament!C31","v":0},{"$f":"Clasament!D31","v":0},{"$f":"Clasament!E31","v":0},{"$f":"Clasament!F31","v":0},{"$f":"Clasament!G31","v":0},{"$f":"Clasament!H31","v":0},{"$f":"Clasament!I31","v":0},{"$f":"Clasament!J31","v":0},{"$f":"Clasament!K31","v":0},{"$f":"Clasament!L31","v":0},0]
["Organizatori",null,null,null,{"$f":"IF(E4=1,Tragere!B12,IF(E4=2,Tragere!B13,IF(E4=3,Tragere!B14,IF(E4=4,Tragere!B15,IF(E4=5,Tragere!B16,IF(E4=6,Tragere!B17,IF(E4=7,Tragere!B18)))))))","v":"LAREME"},null,null,null,null,null,null,null,null,null,{"$f":"Clasament!$B$32","v":"Intel"},{"$f":"Clasament!C32","v":0},{"$f":"Clasament!D32","v":0},{"$f":"Clasament!E32","v":0},{"$f":"Clasament!F32","v":0},{"$f":"Clasament!G32","v":0},{"$f":"Clasament!H32","v":0},{"$f":"Clasament!I32","v":0},{"$f":"Clasament!J32","v":0},{"$f":"Clasament!K32","v":0},{"$f":"Clasament!L32","v":0},0]
[]
["Componentele echipelor",null,null,null,null,null,null,null,null,null,null,null,null,null,"Runda 2",1,2,3,4,5,6,7,8,9,10,"R","T"]
[{"$f":"O2","v":"KO"},null,null,null,{"$f":"O3","v":"Printese si S."},null,null,null,{"$f":"O4","v":"Zeii cucului"},null,null,null,null,null,{"$f":"Clasament!$B$27","v":"KO"},{"$f":"Clasament!N27","v":0},{"$f":"Clasament!O27","v":0},{"$f":"Clasament!P27","v":0},{"$f":"Clasament!Q27","v":0},{"$f":"Clasament!R27","v":0},{"$f":"Clasament!S27","v":0},{"$f":"Clasament!T27","v":0},{"$f":"Clasament!U27","v":0},{"$f":"Clasament!V27","v":0},{"$f":"Clasament!W27","v":0},{"$f":"COUNTIF(P10:Y10,\"+\")","v":0},{"$f":"Z2+Z10","v":0}]
[null,null,null,null,null,null,null,null,null,null,null,null,null,null,{"$f":"Clasament!$B$28","v":"Printese si S."},{"$f":"Clasament!N28","v":0},{"$f":"Clasament!O28","v":0},{"$f":"Clasament!P28","v":0},{"$f":"Clasament!Q28","v":0},{"$f":"Clasament!R28","v":0},{"$f":"Clasament!S28","v":0},{"$f":"Clasament!T28","v":0},{"$f":"Clasament!U28","v":0},{"$f":"Clasament!V28","v":0},{"$f":"Clasament!W28","v":0},{"$f":"COUNTIF(P11:Y11,\"+\")","v":0},{"$f":"Z3+Z11","v":0}]
[null,null,null,null,null,null,null,null,null,null,null,null,null,null,{"$f":"Clasament!$B$29","v":"Zeii cucului"},{"$f":"Clasament!N29","v":0},{"$f":"Clasament!O29","v":0},{"$f":"Clasament!P29","v":0},{"$f":"Clasament!Q29","v":0},{"$f":"Clasament!R29","v":0},{"$f":"Clasament!S29","v":0},{"$f":"Clasament!T29","v":0},{"$f":"Clasament!U29","v":0},{"$f":"Clasament!V29","v":0},{"$f":"Clasament!W29","v":0},0,0]
[null,null,null,null,null,null,null,null,null,null,null,null,null,null,{"$f":"Clasament!$B$30","v":"Ruby"},{"$f":"Clasament!N30","v":0},{"$f":"Clasament!O30","v":0},{"$f":"Clasament!P30","v":0},{"$f":"Clasament!Q30","v":0},{"$f":"Clasament!R30","v":0},{"$f":"Clasament!S30","v":0},{"$f":"Clasament!T30","v":0},{"$f":"Clasament!U30","v":0},{"$f":"Clasament!V30","v":0},{"$f":"Clasament!W30","v":0},0,0]
[null,null,null,null,null,null,null,null,null,null,null,null,null,null,{"$f":"Clasament!$B$31","v":"Ananas"},{"$f":"Clasament!N31","v":0},{"$f":"Clasament!O31","v":0},{"$f":"Clasament!P31","v":0},{"$f":"Clasament!Q31","v":0},{"$f":"Clasament!R31","v":0},{"$f":"Clasament!S31","v":0},{"$f":"Clasament!T31","v":0},{"$f":"Clasament!U31","v":0},{"$f":"Clasament!V31","v":0},{"$f":"Clasament!W31","v":0},{"$f":"COUNTIF(P14:Y14,\"+\")","v":0},{"$f":"Z6+Z14","v":0}]
[null,null,null,null,null,null,null,null,null,null,null,null,null,null,{"$f":"Clasament!$B$32","v":"Intel"},{"$f":"Clasament!N32","v":0},{"$f":"Clasament!O32","v":0},{"$f":"Clasament!P32","v":0},{"$f":"Clasament!Q32","v":0},{"$f":"Clasament!R32","v":0},{"$f":"Clasament!S32","v":0},{"$f":"Clasament!T32","v":0},{"$f":"Clasament!U32","v":0},{"$f":"Clasament!V32","v":0},{"$f":"Clasament!W32","v":0},0,0]
[]
[{"$f":"O5","v":"Ruby"},null,null,null,{"$f":"O6","v":"Ananas"},null,null,null,{"$f":"O7","v":"Intel"},null,null,null,null,null,"Runda 3",1,2,3,4,5,6,7,8,9,10,"R","T"]
[null,null,null,null,null,null,null,null,null,null,null,null,null,null,{"$f":"Clasament!$B$27","v":"KO"},{"$f":"Clasament!Y27","v":0},{"$f":"Clasament!Z27","v":0},{"$f":"Clasament!AA27","v":0},{"$f":"Clasament!AB27","v":0},{"$f":"Clasament!AC27","v":0},{"$f":"Clasament!AD27","v":0},{"$f":"Clasament!AE27","v":0},{"$f":"Clasament!AF27","v":0},{"$f":"Clasament!AG27","v":0},{"$f":"Clasament!AH27","v":0},{"$f":"COUNTIF(P18:Y18,\"+\")","v":0},{"$f":"AA10+Z18","v":0}]
[null,null,null,null,null,null,null,null,null,null,null,null,null,null,{"$f":"Clasament!$B$28","v":"Printese si S."},{"$f":"Clasament!Y28","v":0},{"$f":"Clasament!Z28","v":0},{"$f":"Clasament!AA28","v":0},{"$f":"Clasament!AB28","v":0},{"$f":"Clasament!AC28","v":0},{"$f":"Clasament!AD28","v":0},{"$f":"Clasament!AE28","v":0},{"$f":"Clasament!AF28","v":0},{"$f":"Clasament!AG28","v":0},{"$f":"Clasament!AH28","v":0},{"$f":"COUNTIF(P19:Y19,\"+\")","v":0},{"$f":"AA11+Z19","v":0}]
[null,null,null,null,null,null,null,null,null,null,null,null,null,null,{"$f":"Clasament!$B$29","v":"Zeii cucului"},{"$f":"Clasament!Y29","v":0},{"$f":"Clasament!Z29","v":0},{"$f":"Clasament!AA29","v":0},{"$f":"Clasament!AB29","v":0},{"$f":"Clasament!AC29","v":0},{"$f":"Clasament!AD29","v":0},{"$f":"Clasament!AE29","v":0},{"$f":"Clasament!AF29","v":0},{"$f":"Clasament!AG29","v":0},{"$f":"Clasament!AH29","v":0},0,0]
[null,null,null,null,null,null,null,null,null,null,null,null,null,null,{"$f":"Clasament!$B$30","v":"Ruby"},{"$f":"Clasament!Y30","v":0},{"$f":"Clasament!Z30","v":0},{"$f":"Clasament!AA30","v":0},{"$f":"Clasament!AB30","v":0},{"$f":"Clasament!AC30","v":0},{"$f":"Clasament!AD30","v":0},{"$f":"Clasament!AE30","v":0},{"$f":"Clasament!AF30","v":0},{"$f":"Clasament!AG30","v":0},{"$f":"Clasament!AH30","v":0},0,0]
[null,null,null,null,null,null,null,null,null,null,null,null,null,null,{"$f":"Clasament!$B$31","v":"Ananas"},{"$f":"Clasament!Y31","v":0},{"$f":"Clasament!Z31","v":0},{"$f":"Clasament!AA31","v":0},{"$f":"Clasament!AB31","v":0},{"$f":"Clasament!AC31","v":0},{"$f":"Clasament!AD31","v":0},{"$f":"Clasament!AE31","v":0},{"$f":"Clasament!AF31","v":0},{"$f":"Clasament!AG31","v":0},{"$f":"Clasament!AH31","v":0},{"$f":"COUNTIF(P22:Y22,\"+\")","v":0},{"$f":"AA14+Z22","v":0}]
[null,null,null,null,null,null,null,null,null,null,null,null,null,null,{"$f":"Clasament!$B$32","v":"Intel"},{"$f":"Clasament!Y32","v":0},{"$f":"Clasament!Z32","v":0},{"$f":"Clasament!AA32","v":0},{"$f":"Clasament!AB32","v":0},{"$f":"Clasament!AC32","v":0},{"$f":"Clasament!AD32","v":0},{"$f":"Clasament!AE32","v":0},{"$f":"Clasament!AF32","v":0},{"$f":"Clasament!AG32","v":0},{"$f":"Clasament!AH32","v":0},0,0]
[]
["Contestatii",null,null,null,"Numarul intrebarii",null,null,null,null,null,null,null,null,null,"Runda 4",1,2,3,4,5,6,7,8,9,10,"R","T"]
[{"$f":"O2","v":"KO"},null,null,null,null,null,null,null,null,null,null,null,null,null,{"$f":"Clasament!$B$27","v":"KO"},{"$f":"Clasament!AJ27","v":0},{"$f":"Clasament!AK27","v":0},{"$f":"Clasament!AL27","v":0},{"$f":"Clasament!AM27","v":0},{"$f":"Clasament!AN27","v":0},{"$f":"Clasament!AO27","v":0},{"$f":"Clasament!AP27","v":0},{"$f":"Clasament!AQ27","v":0},{"$f":"Clasament!AR27","v":0},{"$f":"Clasament!AS27","v":0},{"$f":"COUNTIF(P26:Y26,\"+\")","v":0},{"$f":"AA18+Z26","v":0}]
["Printese si S.",null,null,null,null,null,null,null,null,null,null,null,null,null,{"$f":"Clasament!$B$28","v":"Printese si S."},{"$f":"Clasament!AJ28","v":0},{"$f":"Clasament!AK28","v":0},{"$f":"Clasament!AL28","v":0},{"$f":"Clasament!AM28","v":0},{"$f":"Clasament!AN28","v":0},{"$f":"Clasament!AO28","v":0},{"$f":"Clasament!AP28","v":0},{"$f":"Clasament!AQ28","v":0},{"$f":"Clasament!AR28","v":0},{"$f":"Clasament!AS28","v":0},{"$f":"COUNTIF(P27:Y27,\"+\")","v":0},{"$f":"AA19+Z27","v":0}]
["Zeii cucului",null,null,null,null,null,null,null,null,null,null,null,null,null,{"$f":"Clasament!$B$29","v":"Zeii cucului"},{"$f":"Clasament!AJ29","v":0},{"$f":"Clasament!AK29","v":0},{"$f":"Clasament!AL29","v":0},{"$f":"Clasament!AM29","v":0},{"$f":"Clasament!AN29","v":0},{"$f":"Clasament!AO29","v":0},{"$f":"Clasament!AP29","v":0},{"$f":"Clasament!AQ29","v":0},{"$f":"Clasament!AR29","v":0},{"$f":"Clasament!AS29","v":0},0,0]
["Ruby",null,null,null,null,null,null,null,null,null,null,null,null,null,{"$f":"Clasament!$B$30","v":"Ruby"},{"$f":"Clasament!AJ30","v":0},{"$f":"Clasament!AK30","v":0},{"$f":"Clasament!AL30","v":0},{"$f":"Clasament!AM30","v":0},{"$f":"Clasament!AN30","v":0},{"$f":"Clasament!AO30","v":0},{"$f":"Clasament!AP30","v":0},{"$f":"Clasament!AQ30","v":0},{"$f":"Clasament!AR30","v":0},{"$f":"Clasament!AS30","v":0},0,0]
["Ananas",null,null,null,null,null,null,null,null,null,null,null,null,null,{"$f":"Clasament!$B$31","v":"Ananas"},{"$f":"Clasament!AJ31","v":0},{"$f":"Clasament!AK31","v":0},{"$f":"Clasament!AL31","v":0},{"$f":"Clasament!AM31","v":0},{"$f":"Clasament!AN31","v":0},{"$f":"Clasament!AO31","v":0},{"$f":"Clasament!AP31","v":0},{"$f":"Clasament!AQ31","v":0},{"$f":"Clasament!AR31","v":0},{"$f":"Clasament!AS31","v":0},0,0]
["Intel",null,null,null,null,null,null,null,null,null,null,null,null,null,{"$f":"Clasament!$B$32","v":"Intel"},{"$f":"Clasament!AJ32","v":0},{"$f":"Clasament!AK32","v":0},{"$f":"Clasament!AL32","v":0},{"$f":"Clasament!AM32","v":0},{"$f":"Clasament!AN32","v":0},{"$f":"Clasament!AO32","v":0},{"$f":"Clasament!AP32","v":0},{"$f":"Clasament!AQ32","v":0},{"$f":"Clasament!AR32","v":0},{"$f":"Clasament!AS32","v":0},0,0]
[]
["Echipa",null,null,null,"RASP",null,"P",null,null,null,null,null,null,null,"Runda 5",1,2,3,4,5,6,7,8,9,10,"R","T"]
[{"$f":"O2","v":"KO"},null,null,null,{"$f":"AA34","v":0},null,null,null,"Locul 1 (6p)",null,null,null,null,null,{"$f":"Clasament!$B$27","v":"KO"},{"$f":"Clasament!AU27","v":0},{"$f":"Clasament!AV27","v":0},{"$f":"Clasament!AW27","v":0},{"$f":"Clasament!AX27","v":0},{"$f":"Clasament!AY27","v":0},{"$f":"Clasament!AZ27","v":0},{"$f":"Clasament!BA27","v":0},{"$f":"Clasament!BB27","v":0},{"$f":"Clasament!BC27","v":0},{"$f":"Clasament!BD27","v":0},{"$f":"COUNTIF(P34:Y34,\"+\")","v":0},{"$f":"Z34+AA26","v":0}]
[{"$f":"O3","v":"Printese si S."},null,null,null,0,null,null,null,"Locul 2 (5p)",null,null,null,null,null,{"$f":"Clasament!$B$28","v":"Printese si S."},{"$f":"Clasament!AU28","v":0},{"$f":"Clasament!AV28","v":0},{"$f":"Clasament!AW28","v":0},{"$f":"Clasament!AX28","v":0},{"$f":"Clasament!AY28","v":0},{"$f":"Clasament!AZ28","v":0},{"$f":"Clasament!BA28","v":0},{"$f":"Clasament!BB28","v":0},{"$f":"Clasament!BC28","v":0},{"$f":"Clasament!BD28","v":0},{"$f":"COUNTIF(P35:Y35,\"+\")","v":0},{"$f":"Z35+AA27","v":0}]
[{"$f":"O4","v":"Zeii cucului"},null,null,null,0,null,null,null,"Locul 3 (4p)",null,null,null,null,null,{"$f":"Clasament!$B$29","v":"Zeii cucului"},{"$f":"Clasament!AU29","v":0},{"$f":"Clasament!AV29","v":0},{"$f":"Clasament!AW29","v":0},{"$f":"Clasament!AX29","v":0},{"$f":"Clasament!AY29","v":0},{"$f":"Clasament!AZ29","v":0},{"$f":"Clasament!BA29","v":0},{"$f":"Clasament!BB29","v":0},{"$f":"Clasament!BC29","v":0},{"$f":"Clasament!BD29","v":0},0,0]
[{"$f":"O5","v":"Ruby"},null,null,null,0,null,null,null,"Locul 4 (3p)",null,null,null,null,null,{"$f":"Clasament!$B$30","v":"Ruby"},{"$f":"Clasament!AU30","v":0},{"$f":"Clasament!AV30","v":0},{"$f":"Clasament!AW30","v":0},{"$f":"Clasament!AX30","v":0},{"$f":"Clasament!AY30","v":0},{"$f":"Clasament!AZ30","v":0},{"$f":"Clasament!BA30","v":0},{"$f":"Clasament!BB30","v":0},{"$f":"Clasament!BC30","v":0},{"$f":"Clasament!BD30","v":0},0,0]
[{"$f":"O6","v":"Ananas"},null,null,null,0,null,null,null,"Locul 5 (2p)",null,null,null,null,null,{"$f":"Clasament!$B$31","v":"Ananas"},{"$f":"Clasament!AU31","v":0},{"$f":"Clasament!AV31","v":0},{"$f":"Clasament!AW31","v":0},{"$f":"Clasament!AX31","v":0},{"$f":"Clasament!AY31","v":0},{"$f":"Clasament!AZ31","v":0},{"$f":"Clasament!BA31","v":0},{"$f":"Clasament!BB31","v":0},{"$f":"Clasament!BC31","v":0},{"$f":"Clasament!BD31","v":0},{"$f":"COUNTIF(P38:Y38,\"+\")","v":0},{"$f":"Z38+AA30","v":0}]
[{"$f":"O39","v":"Intel"},null,null,null,0,null,null,null,"Locul 6 (1p)",null,null,null,null,null,{"$f":"Clasament!$B$32","v":"Intel"},{"$f":"Clasament!AU32","v":0},{"$f":"Clasament!AV32","v":0},{"$f":"Clasament!AW32","v":0},{"$f":"Clasament!AX32","v":0},{"$f":"Clasament!AY32","v":0},{"$f":"Clasament!AZ32","v":0},{"$f":"Clasament!BA32","v":0},{"$f":"Clasament!BB32","v":0},{"$f":"Clasament!BC32","v":0},{"$f":"Clasament!BD32","v":0},0,0]
[null,null,null,null,null,null,null,null,"Locul 7 (0p)"]

{"sheet":"DivB","index":7,"n_rows":40,"n_cols":27,"rows_kept":40,"cut":false,"hidden":false,"merged":[[5,4,5,9],[0,0,0,9],[1,0,1,9],[2,4,2,9],[3,4,3,9],[4,4,4,9],[6,4,6,9],[9,0,9,3],[9,4,9,7],[9,8,9,11],[16,0,16,3],[16,4,16,7],[16,8,16,11],[34,0,34,3],[34,8,34,10],[23,8,23,11],[25,0,25,3],[26,0,26,3],[27,0,27,3],[28,0,28,3],[29,0,29,3],[30,0,30,3],[30,8,30,11],[31,0,31,3],[33,0,33,3],[33,8,33,10],[38,0,38,3],[38,8,38,10],[39,0,39,3],[39,8,39,10],[35,0,35,3],[35,8,35,10],[36,0,36,3],[36,8,36,10],[37,0,37,3],[37,8,37,10]]}
["FISA ORGANIZATORICA - Campionatul CUC",null,null,null,null,null,null,null,null,null,null,null,null,null,"Runda I",1,2,3,4,5,6,7,8,9,10,"R"]
["Editia XXVI",null,null,null,null,null,null,null,null,null,null,null,null,null,{"$f":"Clasament!$B$33","v":"Vegas"},{"$f":"Clasament!C33","v":0},{"$f":"Clasament!D33","v":0},{"$f":"Clasament!E33","v":0},{"$f":"Clasament!F33","v":0},{"$f":"Clasament!G33","v":0},{"$f":"Clasament!H33","v":0},{"$f":"Clasament!I33","v":0},{"$f":"Clasament!J33","v":0},{"$f":"Clasament!K33","v":0},{"$f":"Clasament!L33","v":0},{"$f":"COUNTIF(P2:Y2,\"+\")","v":0}]
["Nivelul valoric",null,null,null,"Divizia B",null,null,null,null,null,null,null,null,null,{"$f":"Clasament!$B$34","v":"Flomaster Y."},{"$f":"Clasament!C34","v":0},{"$f":"Clasament!D34","v":0},{"$f":"Clasament!E34","v":0},{"$f":"Clasament!F34","v":0},{"$f":"Clasament!G34","v":0},{"$f":"Clasament!H34","v":0},{"$f":"Clasament!I34","v":0},{"$f":"Clasament!J34","v":0},{"$f":"Clasament!K34","v":0},{"$f":"Clasament!L34","v":0},{"$f":"COUNTIF(P3:Y3,\"+\")","v":0}]
["Etapa",null,null,null,{"$f":"SL!E4","v":3},null,null,null,null,null,null,null,null,null,{"$f":"Clasament!$B$35","v":"Chimkadze"},{"$f":"Clasament!C35","v":0},{"$f":"Clasament!D35","v":0},{"$f":"Clasament!E35","v":0},{"$f":"Clasament!F35","v":0},{"$f":"Clasament!G35","v":0},{"$f":"Clasament!H35","v":0},{"$f":"Clasament!I35","v":0},{"$f":"Clasament!J35","v":0},{"$f":"Clasament!K35","v":0},{"$f":"Clasament!L35","v":0},0]
["Data desfasurarii",null,null,null,{"$f":"DivA!E5","v":"2015-03-14"},null,null,null,null,null,null,null,null,null,{"$f":"Clasament!$B$36","v":"Luftwafe"},{"$f":"Clasament!C36","v":0},{"$f":"Clasament!D36","v":0},{"$f":"Clasament!E36","v":0},{"$f":"Clasament!F36","v":0},{"$f":"Clasament!G36","v":0},{"$f":"Clasament!H36","v":0},{"$f":"Clasament!I36","v":0},{"$f":"Clasament!J36","v":0},{"$f":"Clasament!K36","v":0},{"$f":"Clasament!L36","v":0},0]
["Locul desfasurarii",null,null,null,null,null,null,null,null,null,null,null,null,null,{"$f":"Clasament!$B$37","v":"Hertz"},{"$f":"Clasament!C37","v":0},{"$f":"Clasament!D37","v":0},{"$f":"Clasament!E37","v":0},{"$f":"Clasament!F37","v":0},{"$f":"Clasament!G37","v":0},{"$f":"Clasament!H37","v":0},{"$f":"Clasament!I37","v":0},{"$f":"Clasament!J37","v":0},{"$f":"Clasament!K37","v":0},{"$f":"Clasament!L37","v":0},0]
["Organizatori",null,null,null,{"$f":"DivA!E7","v":"LAREME"},null,null,null,null,null,null,null,null,null,{"$f":"Clasament!$B$38","v":"Type mism."},{"$f":"Clasament!C38","v":0},{"$f":"Clasament!D38","v":0},{"$f":"Clasament!E38","v":0},{"$f":"Clasament!F38","v":0},{"$f":"Clasament!G38","v":0},{"$f":"Clasament!H38","v":0},{"$f":"Clasament!I38","v":0},{"$f":"Clasament!J38","v":0},{"$f":"Clasament!K38","v":0},{"$f":"Clasament!L38","v":0},0]
[]
["Componentele echipelor",null,null,null,null,null,null,null,null,null,null,null,null,null,"Runda 2",1,2,3,4,5,6,7,8,9,10,"R","T"]
[{"$f":"O2","v":"Vegas"},null,null,null,{"$f":"O2","v":"Vegas"},null,null,null,{"$f":"O4","v":"Chimkadze"},null,null,null,null,null,{"$f":"Clasament!$B$33","v":"Vegas"},{"$f":"Clasament!N33","v":0},{"$f":"Clasament!O33","v":0},{"$f":"Clasament!P33","v":0},{"$f":"Clasament!Q33","v":0},{"$f":"Clasament!R33","v":0},{"$f":"Clasament!S33","v":0},{"$f":"Clasament!T33","v":0},{"$f":"Clasament!U33","v":0},{"$f":"Clasament!V33","v":0},{"$f":"Clasament!W33","v":0},{"$f":"COUNTIF(P10:Y10,\"+\")","v":0},{"$f":"Z2+Z10","v":0}]
[null,null,null,null,null,null,null,null,null,null,null,null,null,null,{"$f":"Clasament!$B$34","v":"Flomaster Y."},{"$f":"Clasament!N34","v":0},{"$f":"Clasament!O34","v":0},{"$f":"Clasament!P34","v":0},{"$f":"Clasament!Q34","v":0},{"$f":"Clasament!R34","v":0},{"$f":"Clasament!S34","v":0},{"$f":"Clasament!T34","v":0},{"$f":"Clasament!U34","v":0},{"$f":"Clasament!V34","v":0},{"$f":"Clasament!W34","v":0},{"$f":"COUNTIF(P11:Y11,\"+\")","v":0},{"$f":"Z3+Z11","v":0}]
[null,null,null,null,null,null,null,null,null,null,null,null,null,null,{"$f":"Clasament!$B$35","v":"Chimkadze"},{"$f":"Clasament!N35","v":0},{"$f":"Clasament!O35","v":0},{"$f":"Clasament!P35","v":0},{"$f":"Clasament!Q35","v":0},{"$f":"Clasament!R35","v":0},{"$f":"Clasament!S35","v":0},{"$f":"Clasament!T35","v":0},{"$f":"Clasament!U35","v":0},{"$f":"Clasament!V35","v":0},{"$f":"Clasament!W35","v":0},0,0]
[null,null,null,null,null,null,null,null,null,null,null,null,null,null,{"$f":"Clasament!$B$36","v":"Luftwafe"},{"$f":"Clasament!N36","v":0},{"$f":"Clasament!O36","v":0},{"$f":"Clasament!P36","v":0},{"$f":"Clasament!Q36","v":0},{"$f":"Clasament!R36","v":0},{"$f":"Clasament!S36","v":0},{"$f":"Clasament!T36","v":0},{"$f":"Clasament!U36","v":0},{"$f":"Clasament!V36","v":0},{"$f":"Clasament!W36","v":0},0,0]
[null,null,null,null,null,null,null,null,null,null,null,null,null,null,{"$f":"Clasament!$B$37","v":"Hertz"},{"$f":"Clasament!N37","v":0},{"$f":"Clasament!O37","v":0},{"$f":"Clasament!P37","v":0},{"$f":"Clasament!Q37","v":0},{"$f":"Clasament!R37","v":0},{"$f":"Clasament!S37","v":0},{"$f":"Clasament!T37","v":0},{"$f":"Clasament!U37","v":0},{"$f":"Clasament!V37","v":0},{"$f":"Clasament!W37","v":0},0,0]
[null,null,null,null,null,null,null,null,null,null,null,null,null,null,{"$f":"Clasament!$B$38","v":"Type mism."},{"$f":"Clasament!N38","v":0},{"$f":"Clasament!O38","v":0},{"$f":"Clasament!P38","v":0},{"$f":"Clasament!Q38","v":0},{"$f":"Clasament!R38","v":0},{"$f":"Clasament!S38","v":0},{"$f":"Clasament!T38","v":0},{"$f":"Clasament!U38","v":0},{"$f":"Clasament!V38","v":0},{"$f":"Clasament!W38","v":0},0,0]
[]
[{"$f":"O5","v":"Luftwafe"},null,null,null,{"$f":"O6","v":"Hertz"},null,null,null,{"$f":"O7","v":"Type mism."},null,null,null,null,null,"Runda 3",1,2,3,4,5,6,7,8,9,10,"R","T"]
[null,null,null,null,null,null,null,null,null,null,null,null,null,null,{"$f":"Clasament!$B$33","v":"Vegas"},{"$f":"Clasament!Y33","v":0},{"$f":"Clasament!Z33","v":0},{"$f":"Clasament!AA33","v":0},{"$f":"Clasament!AB33","v":0},{"$f":"Clasament!AC33","v":0},{"$f":"Clasament!AD33","v":0},{"$f":"Clasament!AE33","v":0},{"$f":"Clasament!AF33","v":0},{"$f":"Clasament!AG33","v":0},{"$f":"Clasament!AH33","v":0},{"$f":"COUNTIF(P18:Y18,\"+\")","v":0},{"$f":"Z18+AA10","v":0}]
[null,null,null,null,null,null,null,null,null,null,null,null,null,null,{"$f":"Clasament!$B$34","v":"Flomaster Y."},{"$f":"Clasament!Y34","v":0},{"$f":"Clasament!Z34","v":0},{"$f":"Clasament!AA34","v":0},{"$f":"Clasament!AB34","v":0},{"$f":"Clasament!AC34","v":0},{"$f":"Clasament!AD34","v":0},{"$f":"Clasament!AE34","v":0},{"$f":"Clasament!AF34","v":0},{"$f":"Clasament!AG34","v":0},{"$f":"Clasament!AH34","v":0},{"$f":"COUNTIF(P19:Y19,\"+\")","v":0},{"$f":"Z19+AA11","v":0}]
[null,null,null,null,null,null,null,null,null,null,null,null,null,null,{"$f":"Clasament!$B$35","v":"Chimkadze"},{"$f":"Clasament!Y35","v":0},{"$f":"Clasament!Z35","v":0},{"$f":"Clasament!AA35","v":0},{"$f":"Clasament!AB35","v":0},{"$f":"Clasament!AC35","v":0},{"$f":"Clasament!AD35","v":0},{"$f":"Clasament!AE35","v":0},{"$f":"Clasament!AF35","v":0},{"$f":"Clasament!AG35","v":0},{"$f":"Clasament!AH35","v":0},0,0]
[null,null,null,null,null,null,null,null,null,null,null,null,null,null,{"$f":"Clasament!$B$36","v":"Luftwafe"},{"$f":"Clasament!Y36","v":0},{"$f":"Clasament!Z36","v":0},{"$f":"Clasament!AA36","v":0},{"$f":"Clasament!AB36","v":0},{"$f":"Clasament!AC36","v":0},{"$f":"Clasament!AD36","v":0},{"$f":"Clasament!AE36","v":0},{"$f":"Clasament!AF36","v":0},{"$f":"Clasament!AG36","v":0},{"$f":"Clasament!AH36","v":0},0,0]
[null,null,null,null,null,null,null,null,null,null,null,null,null,null,{"$f":"Clasament!$B$37","v":"Hertz"},{"$f":"Clasament!Y37","v":0},{"$f":"Clasament!Z37","v":0},{"$f":"Clasament!AA37","v":0},{"$f":"Clasament!AB37","v":0},{"$f":"Clasament!AC37","v":0},{"$f":"Clasament!AD37","v":0},{"$f":"Clasament!AE37","v":0},{"$f":"Clasament!AF37","v":0},{"$f":"Clasament!AG37","v":0},{"$f":"Clasament!AH37","v":0},0,0]
[null,null,null,null,null,null,null,null,null,null,null,null,null,null,{"$f":"Clasament!$B$38","v":"Type mism."},{"$f":"Clasament!Y38","v":0},{"$f":"Clasament!Z38","v":0},{"$f":"Clasament!AA38","v":0},{"$f":"Clasament!AB38","v":0},{"$f":"Clasament!AC38","v":0},{"$f":"Clasament!AD38","v":0},{"$f":"Clasament!AE38","v":0},{"$f":"Clasament!AF38","v":0},{"$f":"Clasament!AG38","v":0},{"$f":"Clasament!AH38","v":0},0,0]
[]
["Contestatii",null,null,null,"Numarul intrebarii",null,null,null,null,null,null,null,null,null,"Runda 4",1,2,3,4,5,6,7,8,9,10,"R","T"]
[{"$f":"O2","v":"Vegas"},null,null,null,null,null,null,null,null,null,null,null,null,null,{"$f":"Clasament!$B$33","v":"Vegas"},{"$f":"Clasament!AJ33","v":0},{"$f":"Clasament!AK33","v":0},{"$f":"Clasament!AL33","v":0},{"$f":"Clasament!AM33","v":0},{"$f":"Clasament!AN33","v":0},{"$f":"Clasament!AO33","v":0},{"$f":"Clasament!AP33","v":0},{"$f":"Clasament!AQ33","v":0},{"$f":"Clasament!AR33","v":0},{"$f":"Clasament!AS33","v":0},{"$f":"COUNTIF(P26:Y26,\"+\")","v":0},{"$f":"Z26+AA18","v":0}]
["Flomaster Y.",null,null,null,null,null,null,null,null,null,null,null,null,null,{"$f":"Clasament!$B$34","v":"Flomaster Y."},{"$f":"Clasament!AJ34","v":0},{"$f":"Clasament!AK34","v":0},{"$f":"Clasament!AL34","v":0},{"$f":"Clasament!AM34","v":0},{"$f":"Clasament!AN34","v":0},{"$f":"Clasament!AO34","v":0},{"$f":"Clasament!AP34","v":0},{"$f":"Clasament!AQ34","v":0},{"$f":"Clasament!AR34","v":0},{"$f":"Clasament!AS34","v":0},{"$f":"COUNTIF(P27:Y27,\"+\")","v":0},{"$f":"Z27+AA19","v":0}]
["Chimkadze",null,null,null,null,null,null,null,null,null,null,null,null,null,{"$f":"Clasament!$B$35","v":"Chimkadze"},{"$f":"Clasament!AJ35","v":0},{"$f":"Clasament!AK35","v":0},{"$f":"Clasament!AL35","v":0},{"$f":"Clasament!AM35","v":0},{"$f":"Clasament!AN35","v":0},{"$f":"Clasament!AO35","v":0},{"$f":"Clasament!AP35","v":0},{"$f":"Clasament!AQ35","v":0},{"$f":"Clasament!AR35","v":0},{"$f":"Clasament!AS35","v":0},0,0]
["Luftwafe",null,null,null,null,null,null,null,null,null,null,null,null,null,{"$f":"Clasament!$B$36","v":"Luftwafe"},{"$f":"Clasament!AJ36","v":0},{"$f":"Clasament!AK36","v":0},{"$f":"Clasament!AL36","v":0},{"$f":"Clasament!AM36","v":0},{"$f":"Clasament!AN36","v":0},{"$f":"Clasament!AO36","v":0},{"$f":"Clasament!AP36","v":0},{"$f":"Clasament!AQ36","v":0},{"$f":"Clasament!AR36","v":0},{"$f":"Clasament!AS36","v":0},0,0]
["Hertz",null,null,null,null,null,null,null,null,null,null,null,null,null,{"$f":"Clasament!$B$37","v":"Hertz"},{"$f":"Clasament!AJ37","v":0},{"$f":"Clasament!AK37","v":0},{"$f":"Clasament!AL37","v":0},{"$f":"Clasament!AM37","v":0},{"$f":"Clasament!AN37","v":0},{"$f":"Clasament!AO37","v":0},{"$f":"Clasament!AP37","v":0},{"$f":"Clasament!AQ37","v":0},{"$f":"Clasament!AR37","v":0},{"$f":"Clasament!AS37","v":0},0,0]
["Type mism.",null,null,null,null,null,null,null,null,null,null,null,null,null,{"$f":"Clasament!$B$38","v":"Type mism."},{"$f":"Clasament!AJ38","v":0},{"$f":"Clasament!AK38","v":0},{"$f":"Clasament!AL38","v":0},{"$f":"Clasament!AM38","v":0},{"$f":"Clasament!AN38","v":0},{"$f":"Clasament!AO38","v":0},{"$f":"Clasament!AP38","v":0},{"$f":"Clasament!AQ38","v":0},{"$f":"Clasament!AR38","v":0},{"$f":"Clasament!AS38","v":0},0,0]
[]
["Echipa",null,null,null,"RASP",null,"P",null,null,null,null,null,null,null,"Runda 5",1,2,3,4,5,6,7,8,9,10,"R","T"]
[{"$f":"O2","v":"Vegas"},null,null,null,{"$f":"AA34","v":0},null,null,null,"Locul 1 (6p)",null,null,null,null,null,{"$f":"Clasament!$B$33","v":"Vegas"},{"$f":"Clasament!AU33","v":0},{"$f":"Clasament!AV33","v":0},{"$f":"Clasament!AW33","v":0},{"$f":"Clasament!AX33","v":0},{"$f":"Clasament!AY33","v":0},{"$f":"Clasament!AZ33","v":0},{"$f":"Clasament!BA33","v":0},{"$f":"Clasament!BB33","v":0},{"$f":"Clasament!BC33","v":0},{"$f":"Clasament!BD33","v":0},{"$f":"COUNTIF(P34:Y34,\"+\")","v":0},{"$f":"Z34+AA26","v":0}]
["Flomaster Y.",null,null,null,{"$f":"AA35","v":0},null,null,null,"Locul 2 (5p)",null,null,null,null,null,{"$f":"Clasament!$B$34","v":"Flomaster Y."},{"$f":"Clasament!AU34","v":0},{"$f":"Clasament!AV34","v":0},{"$f":"Clasament!AW34","v":0},{"$f":"Clasament!AX34","v":0},{"$f":"Clasament!AY34","v":0},{"$f":"Clasament!AZ34","v":0},{"$f":"Clasament!BA34","v":0},{"$f":"Clasament!BB34","v":0},{"$f":"Clasament!BC34","v":0},{"$f":"Clasament!BD34","v":0},{"$f":"COUNTIF(P35:Y35,\"+\")","v":0},{"$f":"Z35+AA27","v":0}]
["Chimkadze",null,null,null,0,null,null,null,"Locul 3 (4p)",null,null,null,null,null,{"$f":"Clasament!$B$35","v":"Chimkadze"},{"$f":"Clasament!AU35","v":0},{"$f":"Clasament!AV35","v":0},{"$f":"Clasament!AW35","v":0},{"$f":"Clasament!AX35","v":0},{"$f":"Clasament!AY35","v":0},{"$f":"Clasament!AZ35","v":0},{"$f":"Clasament!BA35","v":0},{"$f":"Clasament!BB35","v":0},{"$f":"Clasament!BC35","v":0},{"$f":"Clasament!BD35","v":0},0,{"$f":"Z36+AA28","v":0}]
["Luftwafe",null,null,null,0,null,null,null,"Locul 4 (3p)",null,null,null,null,null,{"$f":"Clasament!$B$36","v":"Luftwafe"},{"$f":"Clasament!AU36","v":0},{"$f":"Clasament!AV36","v":0},{"$f":"Clasament!AW36","v":0},{"$f":"Clasament!AX36","v":0},{"$f":"Clasament!AY36","v":0},{"$f":"Clasament!AZ36","v":0},{"$f":"Clasament!BA36","v":0},{"$f":"Clasament!BB36","v":0},{"$f":"Clasament!BC36","v":0},{"$f":"Clasament!BD36","v":0},0,0]
["Hertz",null,null,null,{"$f":"AA38","v":0},null,null,null,"Locul 5 (2p)",null,null,null,null,null,{"$f":"Clasament!$B$37","v":"Hertz"},{"$f":"Clasament!AU37","v":0},{"$f":"Clasament!AV37","v":0},{"$f":"Clasament!AW37","v":0},{"$f":"Clasament!AX37","v":0},{"$f":"Clasament!AY37","v":0},{"$f":"Clasament!AZ37","v":0},{"$f":"Clasament!BA37","v":0},{"$f":"Clasament!BB37","v":0},{"$f":"Clasament!BC37","v":0},{"$f":"Clasament!BD37","v":0},0,0]
["Type mism.",null,null,null,{"$f":"AA39","v":0},null,null,null,"Locul 6 (1p)",null,null,null,null,null,{"$f":"Clasament!$B$38","v":"Type mism."},{"$f":"Clasament!AU38","v":0},{"$f":"Clasament!AV38","v":0},{"$f":"Clasament!AW38","v":0},{"$f":"Clasament!AX38","v":0},{"$f":"Clasament!AY38","v":0},{"$f":"Clasament!AZ38","v":0},{"$f":"Clasament!BA38","v":0},{"$f":"Clasament!BB38","v":0},{"$f":"Clasament!BC38","v":0},{"$f":"Clasament!BD38","v":0},0,0]
[null,null,null,null,null,null,null,null,"Locul 7 (0p)"]

{"sheet":"DivC","index":8,"n_rows":40,"n_cols":27,"rows_kept":40,"cut":false,"hidden":false,"merged":[[5,4,5,9],[0,0,0,9],[1,0,1,9],[2,4,2,9],[3,4,3,9],[4,4,4,9],[6,4,6,9],[9,0,9,3],[9,4,9,7],[9,8,9,11],[16,0,16,3],[16,4,16,7],[16,8,16,11],[34,0,34,3],[34,8,34,10],[23,8,23,11],[25,0,25,3],[26,0,26,3],[27,0,27,3],[28,0,28,3],[29,0,29,3],[30,0,30,3],[30,8,30,11],[31,0,31,3],[33,0,33,3],[33,8,33,10],[38,0,38,3],[38,8,38,10],[39,0,39,3],[39,8,39,10],[35,0,35,3],[35,8,35,10],[36,0,36,3],[36,8,36,10],[37,0,37,3],[37,8,37,10]]}
["FISA ORGANIZATORICA - Campionatul CUC",null,null,null,null,null,null,null,null,null,null,null,null,null,"Runda I",1,2,3,4,5,6,7,8,9,10,"R"]
["Editia XXVI",null,null,null,null,null,null,null,null,null,null,null,null,null,{"$f":"Clasament!$B$39","v":"Legiuitorii"},{"$f":"Clasament!C39","v":0},{"$f":"Clasament!D39","v":0},{"$f":"Clasament!E39","v":0},{"$f":"Clasament!F39","v":0},{"$f":"Clasament!G39","v":0},{"$f":"Clasament!H39","v":0},{"$f":"Clasament!I39","v":0},{"$f":"Clasament!J39","v":0},{"$f":"Clasament!K39","v":0},{"$f":"Clasament!L39","v":0},{"$f":"COUNTIF(P2:Y2,\"+\")","v":0}]
["Nivelul valoric",null,null,null,"Divizia C",null,null,null,null,null,null,null,null,null,{"$f":"Clasament!$B$40","v":"Decebal"},{"$f":"Clasament!C40","v":0},{"$f":"Clasament!D40","v":0},{"$f":"Clasament!E40","v":0},{"$f":"Clasament!F40","v":0},{"$f":"Clasament!G40","v":0},{"$f":"Clasament!H40","v":0},{"$f":"Clasament!I40","v":0},{"$f":"Clasament!J40","v":0},{"$f":"Clasament!K40","v":0},{"$f":"Clasament!L40","v":0},{"$f":"COUNTIF(P3:Y3,\"+\")","v":0}]
["Etapa",null,null,null,{"$f":"SL!E4","v":3},null,null,null,null,null,null,null,null,null,{"$f":"Clasament!$B$41","v":"4Fun"},{"$f":"Clasament!C41","v":0},{"$f":"Clasament!D41","v":0},{"$f":"Clasament!E41","v":0},{"$f":"Clasament!F41","v":0},{"$f":"Clasament!G41","v":0},{"$f":"Clasament!H41","v":0},{"$f":"Clasament!I41","v":0},{"$f":"Clasament!J41","v":0},{"$f":"Clasament!K41","v":0},{"$f":"Clasament!L41","v":0},0]
["Data desfasurarii",null,null,null,{"$f":"DivA!E5","v":"2015-03-14"},null,null,null,null,null,null,null,null,null,{"$f":"Clasament!$B$42","v":"Brainstorm"},{"$f":"Clasament!C42","v":0},{"$f":"Clasament!D42","v":0},{"$f":"Clasament!E42","v":0},{"$f":"Clasament!F42","v":0},{"$f":"Clasament!G42","v":0},{"$f":"Clasament!H42","v":0},{"$f":"Clasament!I42","v":0},{"$f":"Clasament!J42","v":0},{"$f":"Clasament!K42","v":0},{"$f":"Clasament!L42","v":0},0]
["Locul desfasurarii",null,null,null,null,null,null,null,null,null,null,null,null,null,{"$f":"Clasament!$B$43","v":"Nautilus"},{"$f":"Clasament!C43","v":0},{"$f":"Clasament!D43","v":0},{"$f":"Clasament!E43","v":0},{"$f":"Clasament!F43","v":0},{"$f":"Clasament!G43","v":0},{"$f":"Clasament!H43","v":0},{"$f":"Clasament!I43","v":0},{"$f":"Clasament!J43","v":0},{"$f":"Clasament!K43","v":0},{"$f":"Clasament!L43","v":0},0]
["Organizatori",null,null,null,{"$f":"DivA!E7","v":"LAREME"},null,null,null,null,null,null,null,null,null,{"$f":"Clasament!$B$44","v":"Voodoo"},{"$f":"Clasament!C44","v":0},{"$f":"Clasament!D44","v":0},{"$f":"Clasament!E44","v":0},{"$f":"Clasament!F44","v":0},{"$f":"Clasament!G44","v":0},{"$f":"Clasament!H44","v":0},{"$f":"Clasament!I44","v":0},{"$f":"Clasament!J44","v":0},{"$f":"Clasament!K44","v":0},{"$f":"Clasament!L44","v":0},0]
[]
["Componentele echipelor",null,null,null,null,null,null,null,null,null,null,null,null,null,"Runda 2",1,2,3,4,5,6,7,8,9,10,"R","T"]
[{"$f":"O2","v":"Legiuitorii"},null,null,null,{"$f":"O3","v":"Decebal"},null,null,null,{"$f":"O4","v":"4Fun"},null,null,null,null,null,{"$f":"Clasament!$B$39","v":"Legiuitorii"},{"$f":"Clasament!N39","v":0},{"$f":"Clasament!O39","v":0},{"$f":"Clasament!P39","v":0},{"$f":"Clasament!Q39","v":0},{"$f":"Clasament!R39","v":0},{"$f":"Clasament!S39","v":0},{"$f":"Clasament!T39","v":0},{"$f":"Clasament!U39","v":0},{"$f":"Clasament!V39","v":0},{"$f":"Clasament!W39","v":0},{"$f":"COUNTIF(P10:Y10,\"+\")","v":0},{"$f":"Z2+Z10","v":0}]
[null,null,null,null,null,null,null,null,null,null,null,null,null,null,{"$f":"Clasament!$B$40","v":"Decebal"},{"$f":"Clasament!N40","v":0},{"$f":"Clasament!O40","v":0},{"$f":"Clasament!P40","v":0},{"$f":"Clasament!Q40","v":0},{"$f":"Clasament!R40","v":0},{"$f":"Clasament!S40","v":0},{"$f":"Clasament!T40","v":0},{"$f":"Clasament!U40","v":0},{"$f":"Clasament!V40","v":0},{"$f":"Clasament!W40","v":0},{"$f":"COUNTIF(P11:Y11,\"+\")","v":0},{"$f":"Z3+Z11","v":0}]
[null,null,null,null,null,null,null,null,null,null,null,null,null,null,{"$f":"Clasament!$B$41","v":"4Fun"},{"$f":"Clasament!N41","v":0},{"$f":"Clasament!O41","v":0},{"$f":"Clasament!P41","v":0},{"$f":"Clasament!Q41","v":0},{"$f":"Clasament!R41","v":0},{"$f":"Clasament!S41","v":0},{"$f":"Clasament!T41","v":0},{"$f":"Clasament!U41","v":0},{"$f":"Clasament!V41","v":0},{"$f":"Clasament!W41","v":0},0,0]
[null,null,null,null,null,null,null,null,null,null,null,null,null,null,{"$f":"Clasament!$B$42","v":"Brainstorm"},{"$f":"Clasament!N42","v":0},{"$f":"Clasament!O42","v":0},{"$f":"Clasament!P42","v":0},{"$f":"Clasament!Q42","v":0},{"$f":"Clasament!R42","v":0},{"$f":"Clasament!S42","v":0},{"$f":"Clasament!T42","v":0},{"$f":"Clasament!U42","v":0},{"$f":"Clasament!V42","v":0},{"$f":"Clasament!W42","v":0},0,0]
[null,null,null,null,null,null,null,null,null,null,null,null,null,null,{"$f":"Clasament!$B$43","v":"Nautilus"},{"$f":"Clasament!N43","v":0},{"$f":"Clasament!O43","v":0},{"$f":"Clasament!P43","v":0},{"$f":"Clasament!Q43","v":0},{"$f":"Clasament!R43","v":0},{"$f":"Clasament!S43","v":0},{"$f":"Clasament!T43","v":0},{"$f":"Clasament!U43","v":0},{"$f":"Clasament!V43","v":0},{"$f":"Clasament!W43","v":0},0,0]
[null,null,null,null,null,null,null,null,null,null,null,null,null,null,{"$f":"Clasament!$B$44","v":"Voodoo"},{"$f":"Clasament!N44","v":0},{"$f":"Clasament!O44","v":0},{"$f":"Clasament!P44","v":0},{"$f":"Clasament!Q44","v":0},{"$f":"Clasament!R44","v":0},{"$f":"Clasament!S44","v":0},{"$f":"Clasament!T44","v":0},{"$f":"Clasament!U44","v":0},{"$f":"Clasament!V44","v":0},{"$f":"Clasament!W44","v":0},0,0]
[]
[{"$f":"O5","v":"Brainstorm"},null,null,null,{"$f":"O6","v":"Nautilus"},null,null,null,{"$f":"O7","v":"Voodoo"},null,null,null,null,null,"Runda 3",1,2,3,4,5,6,7,8,9,10,"R","T"]
[null,null,null,null,null,null,null,null,null,null,null,null,null,null,{"$f":"Clasament!$B$39","v":"Legiuitorii"},{"$f":"Clasament!Y39","v":0},{"$f":"Clasament!Z39","v":0},{"$f":"Clasament!AA39","v":0},{"$f":"Clasament!AB39","v":0},{"$f":"Clasament!AC39","v":0},{"$f":"Clasament!AD39","v":0},{"$f":"Clasament!AE39","v":0},{"$f":"Clasament!AF39","v":0},{"$f":"Clasament!AG39","v":0},{"$f":"Clasament!AH39","v":0},{"$f":"COUNTIF(P18:Y18,\"+\")","v":0},{"$f":"Z18+AA10","v":0}]
[null,null,null,null,null,null,null,null,null,null,null,null,null,null,{"$f":"Clasament!$B$40","v":"Decebal"},{"$f":"Clasament!Y40","v":0},{"$f":"Clasament!Z40","v":0},{"$f":"Clasament!AA40","v":0},{"$f":"Clasament!AB40","v":0},{"$f":"Clasament!AC40","v":0},{"$f":"Clasament!AD40","v":0},{"$f":"Clasament!AE40","v":0},{"$f":"Clasament!AF40","v":0},{"$f":"Clasament!AG40","v":0},{"$f":"Clasament!AH40","v":0},{"$f":"COUNTIF(P19:Y19,\"+\")","v":0},{"$f":"Z19+AA11","v":0}]
[null,null,null,null,null,null,null,null,null,null,null,null,null,null,{"$f":"Clasament!$B$41","v":"4Fun"},{"$f":"Clasament!Y41","v":0},{"$f":"Clasament!Z41","v":0},{"$f":"Clasament!AA41","v":0},{"$f":"Clasament!AB41","v":0},{"$f":"Clasament!AC41","v":0},{"$f":"Clasament!AD41","v":0},{"$f":"Clasament!AE41","v":0},{"$f":"Clasament!AF41","v":0},{"$f":"Clasament!AG41","v":0},{"$f":"Clasament!AH41","v":0},0,0]
[null,null,null,null,null,null,null,null,null,null,null,null,null,null,{"$f":"Clasament!$B$42","v":"Brainstorm"},{"$f":"Clasament!Y42","v":0},{"$f":"Clasament!Z42","v":0},{"$f":"Clasament!AA42","v":0},{"$f":"Clasament!AB42","v":0},{"$f":"Clasament!AC42","v":0},{"$f":"Clasament!AD42","v":0},{"$f":"Clasament!AE42","v":0},{"$f":"Clasament!AF42","v":0},{"$f":"Clasament!AG42","v":0},{"$f":"Clasament!AH42","v":0},0,0]
[null,null,null,null,null,null,null,null,null,null,null,null,null,null,{"$f":"Clasament!$B$43","v":"Nautilus"},{"$f":"Clasament!Y43","v":0},{"$f":"Clasament!Z43","v":0},{"$f":"Clasament!AA43","v":0},{"$f":"Clasament!AB43","v":0},{"$f":"Clasament!AC43","v":0},{"$f":"Clasament!AD43","v":0},{"$f":"Clasament!AE43","v":0},{"$f":"Clasament!AF43","v":0},{"$f":"Clasament!AG43","v":0},{"$f":"Clasament!AH43","v":0},0,0]
[null,null,null,null,null,null,null,null,null,null,null,null,null,null,{"$f":"Clasament!$B$44","v":"Voodoo"},{"$f":"Clasament!Y44","v":0},{"$f":"Clasament!Z44","v":0},{"$f":"Clasament!AA44","v":0},{"$f":"Clasament!AB44","v":0},{"$f":"Clasament!AC44","v":0},{"$f":"Clasament!AD44","v":0},{"$f":"Clasament!AE44","v":0},{"$f":"Clasament!AF44","v":0},{"$f":"Clasament!AG44","v":0},{"$f":"Clasament!AH44","v":0},0,0]
[]
["Contestatii",null,null,null,"Numarul intrebarii",null,null,null,null,null,null,null,null,null,"Runda 4",1,2,3,4,5,6,7,8,9,10,"R","T"]
[{"$f":"O2","v":"Legiuitorii"},null,null,null,null,null,null,null,null,null,null,null,null,null,{"$f":"Clasament!$B$39","v":"Legiuitorii"},{"$f":"Clasament!AJ39","v":0},{"$f":"Clasament!AK39","v":0},{"$f":"Clasament!AL39","v":0},{"$f":"Clasament!AM39","v":0},{"$f":"Clasament!AN39","v":0},{"$f":"Clasament!AO39","v":0},{"$f":"Clasament!AP39","v":0},{"$f":"Clasament!AQ39","v":0},{"$f":"Clasament!AR39","v":0},{"$f":"Clasament!AS39","v":0},{"$f":"COUNTIF(P26:Y26,\"+\")","v":0},{"$f":"Z26+AA18","v":0}]
["Decebal",null,null,null,null,null,null,null,null,null,null,null,null,null,{"$f":"Clasament!$B$40","v":"Decebal"},{"$f":"Clasament!AJ40","v":0},{"$f":"Clasament!AK40","v":0},{"$f":"Clasament!AL40","v":0},{"$f":"Clasament!AM40","v":0},{"$f":"Clasament!AN40","v":0},{"$f":"Clasament!AO40","v":0},{"$f":"Clasament!AP40","v":0},{"$f":"Clasament!AQ40","v":0},{"$f":"Clasament!AR40","v":0},{"$f":"Clasament!AS40","v":0},{"$f":"COUNTIF(P27:Y27,\"+\")","v":0},{"$f":"Z27+AA19","v":0}]
["4Fun",null,null,null,null,null,null,null,null,null,null,null,null,null,{"$f":"Clasament!$B$41","v":"4Fun"},{"$f":"Clasament!AJ41","v":0},{"$f":"Clasament!AK41","v":0},{"$f":"Clasament!AL41","v":0},{"$f":"Clasament!AM41","v":0},{"$f":"Clasament!AN41","v":0},{"$f":"Clasament!AO41","v":0},{"$f":"Clasament!AP41","v":0},{"$f":"Clasament!AQ41","v":0},{"$f":"Clasament!AR41","v":0},{"$f":"Clasament!AS41","v":0},0,0]
["Brainstorm",null,null,null,null,null,null,null,null,null,null,null,null,null,{"$f":"Clasament!$B$42","v":"Brainstorm"},{"$f":"Clasament!AJ42","v":0},{"$f":"Clasament!AK42","v":0},{"$f":"Clasament!AL42","v":0},{"$f":"Clasament!AM42","v":0},{"$f":"Clasament!AN42","v":0},{"$f":"Clasament!AO42","v":0},{"$f":"Clasament!AP42","v":0},{"$f":"Clasament!AQ42","v":0},{"$f":"Clasament!AR42","v":0},{"$f":"Clasament!AS42","v":0},0,0]
["Nautilus",null,null,null,null,null,null,null,null,null,null,null,null,null,{"$f":"Clasament!$B$43","v":"Nautilus"},{"$f":"Clasament!AJ43","v":0},{"$f":"Clasament!AK43","v":0},{"$f":"Clasament!AL43","v":0},{"$f":"Clasament!AM43","v":0},{"$f":"Clasament!AN43","v":0},{"$f":"Clasament!AO43","v":0},{"$f":"Clasament!AP43","v":0},{"$f":"Clasament!AQ43","v":0},{"$f":"Clasament!AR43","v":0},{"$f":"Clasament!AS43","v":0},0,0]
["Voodoo",null,null,null,null,null,null,null,null,null,null,null,null,null,{"$f":"Clasament!$B$44","v":"Voodoo"},{"$f":"Clasament!AJ44","v":0},{"$f":"Clasament!AK44","v":0},{"$f":"Clasament!AL44","v":0},{"$f":"Clasament!AM44","v":0},{"$f":"Clasament!AN44","v":0},{"$f":"Clasament!AO44","v":0},{"$f":"Clasament!AP44","v":0},{"$f":"Clasament!AQ44","v":0},{"$f":"Clasament!AR44","v":0},{"$f":"Clasament!AS44","v":0},0,0]
[]
["Echipa",null,null,null,"RASP",null,"P",null,null,null,null,null,null,null,"Runda 5",1,2,3,4,5,6,7,8,9,10,"R","T"]
[{"$f":"O2","v":"Legiuitorii"},null,null,null,{"$f":"AA34","v":0},null,null,null,"Locul 1 (6p)",null,null,null,null,null,{"$f":"Clasament!$B$39","v":"Legiuitorii"},{"$f":"Clasament!AU39","v":0},{"$f":"Clasament!AV39","v":0},{"$f":"Clasament!AW39","v":0},{"$f":"Clasament!AX39","v":0},{"$f":"Clasament!AY39","v":0},{"$f":"Clasament!AZ39","v":0},{"$f":"Clasament!BA39","v":0},{"$f":"Clasament!BB39","v":0},{"$f":"Clasament!BC39","v":0},{"$f":"Clasament!BD39","v":0},{"$f":"COUNTIF(P34:Y34,\"+\")","v":0},{"$f":"Z34+AA26","v":0}]
["Decebal",null,null,null,{"$f":"AA35","v":0},null,null,null,"Locul 2 (5p)",null,null,null,null,null,{"$f":"Clasament!$B$40","v":"Decebal"},{"$f":"Clasament!AU40","v":0},{"$f":"Clasament!AV40","v":0},{"$f":"Clasament!AW40","v":0},{"$f":"Clasament!AX40","v":0},{"$f":"Clasament!AY40","v":0},{"$f":"Clasament!AZ40","v":0},{"$f":"Clasament!BA40","v":0},{"$f":"Clasament!BB40","v":0},{"$f":"Clasament!BC40","v":0},{"$f":"Clasament!BD40","v":0},{"$f":"COUNTIF(P35:Y35,\"+\")","v":0},{"$f":"Z35+AA27","v":0}]
["4Fun",null,null,null,0,null,null,null,"Locul 3 (4p)",null,null,null,null,null,{"$f":"Clasament!$B$41","v":"4Fun"},{"$f":"Clasament!AU41","v":0},{"$f":"Clasament!AV41","v":0},{"$f":"Clasament!AW41","v":0},{"$f":"Clasament!AX41","v":0},{"$f":"Clasament!AY41","v":0},{"$f":"Clasament!AZ41","v":0},{"$f":"Clasament!BA41","v":0},{"$f":"Clasament!BB41","v":0},{"$f":"Clasament!BC41","v":0},{"$f":"Clasament!BD41","v":0},0,0]
["Brainstorm",null,null,null,0,null,null,null,"Locul 4 (3p)",null,null,null,null,null,{"$f":"Clasament!$B$42","v":"Brainstorm"},{"$f":"Clasament!AU42","v":0},{"$f":"Clasament!AV42","v":0},{"$f":"Clasament!AW42","v":0},{"$f":"Clasament!AX42","v":0},{"$f":"Clasament!AY42","v":0},{"$f":"Clasament!AZ42","v":0},{"$f":"Clasament!BA42","v":0},{"$f":"Clasament!BB42","v":0},{"$f":"Clasament!BC42","v":0},{"$f":"Clasament!BD42","v":0},0,0]
["Nautilus",null,null,null,0,null,null,null,"Locul 5 (2p)",null,null,null,null,null,{"$f":"Clasament!$B$43","v":"Nautilus"},{"$f":"Clasament!AU43","v":0},{"$f":"Clasament!AV43","v":0},{"$f":"Clasament!AW43","v":0},{"$f":"Clasament!AX43","v":0},{"$f":"Clasament!AY43","v":0},{"$f":"Clasament!AZ43","v":0},{"$f":"Clasament!BA43","v":0},{"$f":"Clasament!BB43","v":0},{"$f":"Clasament!BC43","v":0},{"$f":"Clasament!BD43","v":0},0,0]
["Voodoo",null,null,null,0,null,null,null,"Locul 6 (1p)",null,null,null,null,null,{"$f":"Clasament!$B$44","v":"Voodoo"},{"$f":"Clasament!AU44","v":0},{"$f":"Clasament!AV44","v":0},{"$f":"Clasament!AW44","v":0},{"$f":"Clasament!AX44","v":0},{"$f":"Clasament!AY44","v":0},{"$f":"Clasament!AZ44","v":0},{"$f":"Clasament!BA44","v":0},{"$f":"Clasament!BB44","v":0},{"$f":"Clasament!BC44","v":0},{"$f":"Clasament!BD44","v":0},0,0]
[null,null,null,null,null,null,null,null,"Locul 7 (0p)"]

{"sheet":"Tragere","index":9,"n_rows":18,"n_cols":9,"rows_kept":18,"cut":false,"hidden":false,"merged":[]}
[null,"XXVI"]
[null,"SUPERLIGA","LIGA A","LIGA B","LIGA C","Divizia A","Divizia B","Divizia C","Divizia D"]
[1,"Acord","A-Team","Afrodiziac","Phi"]
[2,"O","CLCT","#hashtag","Beleizis"]
[3,"LAREME","Bifidoc","Kakulla","Apeiron"]
[4,"Maktub","Kernel Panic","SER","Pokerface"]
[5,"GM","Moon Power","Turnul Alb","WTH"]
[6,"Asachi","Wrigley's S.","Punctul pe H","H5N1"]
[7,"10 Lei","Busuioc","Zebra","Alunecarea F."]
[]
[]
[null,{"$f":"SUBSTITUTE(B3,\" \",\" \")","v":"Acord"},"A-Team","Afrodiziac","Phi","","","",""]
[null,{"$f":"SUBSTITUTE(B4,\" \",\" \")","v":"O"},"CLCT","#hashtag","Beleizis","","","",""]
[null,"LAREME","Bifidoc",{"$f":"SUBSTITUTE(D5,\" \",\" \")","v":"Kakulla"},"Apeiron","","","",""]
[null,"Maktub","Kernel Panic","SER","Pokerface","","","",""]
[null,"GM","Moon Power","Turnul Alb","WTH","","","",""]
[null,"Asachi","Wrigley's S.","Punctul pe H","H5N1","","","",""]
[null,"10 Lei","Busuioc","Zebra","Alunecarea F.","","","",""]

{"sheet":"Stats","index":10,"n_rows":74,"n_cols":51,"rows_kept":74,"cut":false,"hidden":true,"merged":[]}
[null,{"$f":"\"Din SL/L (Chișinău): \" & IFERROR(concat(B4:B65),\"Nicio echipă\")","v":"Din SL/L (Chișinău): Nicio echipă"},{"$f":"IFERROR(concat(C4:C65),\"Nicio echipă\")","v":"Nicio echipă"},"Nicio echipă","Nicio echipă","Nicio echipă","Nicio echipă","Nicio echipă","Nicio echipă","Nicio echipă","Nicio echipă","Nicio echipă","Nicio echipă","Nicio echipă","Nicio echipă","Nicio echipă","Nicio echipă","Nicio echipă","Nicio echipă","Nicio echipă","Nicio echipă","Nicio echipă","Nicio echipă","Nicio echipă","Nicio echipă","Nicio echipă","Nicio echipă","Nicio echipă","Nicio echipă","Nicio echipă","Nicio echipă","Nicio echipă","Nicio echipă","Nicio echipă","Nicio echipă","Nicio echipă","Nicio echipă","Nicio echipă","Nicio echipă","Nicio echipă","Nicio echipă","Nicio echipă","Nicio echipă","Nicio echipă","Nicio echipă","Nicio echipă","Nicio echipă","Nicio echipă","Nicio echipă","Nicio echipă","Nicio echipă"]
[null,{"$f":"Clasament!C1","v":0},{"$f":"Clasament!D1","v":0},{"$f":"Clasament!E1","v":0},{"$f":"Clasament!F1","v":0},{"$f":"Clasament!G1","v":0},{"$f":"Clasament!H1","v":0},{"$f":"Clasament!I1","v":0},{"$f":"Clasament!J1","v":0},{"$f":"Clasament!K1","v":0},{"$f":"Clasament!L1","v":0},{"$f":"Clasament!N1","v":0},{"$f":"Clasament!O1","v":0},{"$f":"Clasament!P1","v":0},{"$f":"Clasament!Q1","v":0},{"$f":"Clasament!R1","v":0},{"$f":"Clasament!S1","v":0},{"$f":"Clasament!T1","v":0},{"$f":"Clasament!U1","v":0},{"$f":"Clasament!V1","v":0},{"$f":"Clasament!W1","v":0},{"$f":"Clasament!Y1","v":0},{"$f":"Clasament!Z1","v":0},{"$f":"Clasament!AA1","v":0},{"$f":"Clasament!AB1","v":0},{"$f":"Clasament!AC1","v":0},{"$f":"Clasament!AD1","v":0},{"$f":"Clasament!AE1","v":0},{"$f":"Clasament!AF1","v":0},{"$f":"Clasament!AG1","v":0},{"$f":"Clasament!AH1","v":0},{"$f":"Clasament!AJ1","v":0},{"$f":"Clasament!AK1","v":0},{"$f":"Clasament!AL1","v":0},{"$f":"Clasament!AM1","v":0},{"$f":"Clasament!AN1","v":0},{"$f":"Clasament!AO1","v":0},{"$f":"Clasament!AP1","v":0},{"$f":"Clasament!AQ1","v":0},{"$f":"Clasament!AR1","v":0},{"$f":"Clasament!AS1","v":0},{"$f":"Clasament!AU1","v":0},{"$f":"Clasament!AV1","v":0},{"$f":"Clasament!AW1","v":0},{"$f":"Clasament!AX1","v":0},{"$f":"Clasament!AY1","v":0},{"$f":"Clasament!AZ1","v":0},{"$f":"Clasament!BA1","v":0},{"$f":"Clasament!BB1","v":0},{"$f":"Clasament!BC1","v":0},{"$f":"Clasament!BD1","v":0}]
[null,"Q1","Q2","Q3","Q4","Q5","Q6","Q7","Q8","Q9","Q10","Q11","Q12","Q13","Q14","Q15","Q16","Q17","Q18","Q19","Q20","Q21","Q22","Q23","Q24","Q25","Q26","Q27","Q28","Q29","Q30","Q31","Q32","Q33","Q34","Q35","Q36","Q37","Q38","Q39","Q40","Q41","Q42","Q43","Q44","Q45","Q46","Q47","Q48","Q49","Q50"]
[null,{"$f":"IFERROR(INDEX(Clasament!$BH$3:$BH$72,SMALL(IF(Clasament!C$3:C$72=\"+\",ROW(Clasament!$B$3:$B$74)-ROW(Clasament!$B$3)+1),ROWS(Clasament!$B$3:'Clasament'!$B3))),\"\")","v":""},{"$f":"IFERROR(INDEX(Clasament!$BH$3:$BH$72,SMALL(IF(Clasament!D$3:D$72=\"+\",ROW(Clasament!$B$3:$B$74)-ROW(Clasament!$B$3)+1),ROWS(Clasament!$B$3:'Clasament'!$B3))),\"\")","v":""},{"$f":"IFERROR(INDEX(Clasament!$BH$3:$BH$72,SMALL(IF(Clasament!E$3:E$72=\"+\",ROW(Clasament!$B$3:$B$74)-ROW(Clasament!$B$3)+1),ROWS(Clasament!$B$3:'Clasament'!$B3))),\"\")","v":""},{"$f":"IFERROR(INDEX(Clasament!$BH$3:$BH$72,SMALL(IF(Clasament!F$3:F$72=\"+\",ROW(Clasament!$B$3:$B$74)-ROW(Clasament!$B$3)+1),ROWS(Clasament!$B$3:'Clasament'!$B3))),\"\")","v":""},{"$f":"IFERROR(INDEX(Clasament!$BH$3:$BH$72,SMALL(IF(Clasament!G$3:G$72=\"+\",ROW(Clasament!$B$3:$B$74)-ROW(Clasament!$B$3)+1),ROWS(Clasament!$B$3:'Clasament'!$B3))),\"\")","v":""},{"$f":"IFERROR(INDEX(Clasament!$BH$3:$BH$72,SMALL(IF(Clasament!H$3:H$72=\"+\",ROW(Clasament!$B$3:$B$74)-ROW(Clasament!$B$3)+1),ROWS(Clasament!$B$3:'Clasament'!$B3))),\"\")","v":""},{"$f":"IFERROR(INDEX(Clasament!$BH$3:$BH$72,SMALL(IF(Clasament!I$3:I$72=\"+\",ROW(Clasament!$B$3:$B$74)-ROW(Clasament!$B$3)+1),ROWS(Clasament!$B$3:'Clasament'!$B3))),\"\")","v":""},{"$f":"IFERROR(INDEX(Clasament!$BH$3:$BH$72,SMALL(IF(Clasament!J$3:J$72=\"+\",ROW(Clasament!$B$3:$B$74)-ROW(Clasament!$B$3)+1),ROWS(Clasament!$B$3:'Clasament'!$B3))),\"\")","v":""},{"$f":"IFERROR(INDEX(Clasament!$BH$3:$BH$72,SMALL(IF(Clasament!K$3:K$72=\"+\",ROW(Clasament!$B$3:$B$74)-ROW(Clasament!$B$3)+1),ROWS(Clasament!$B$3:'Clasament'!$B3))),\"\")","v":""},{"$f":"IFERROR(INDEX(Clasament!$BH$3:$BH$72,SMALL(IF(Clasament!L$3:L$72=\"+\",ROW(Clasament!$B$3:$B$74)-ROW(Clasament!$B$3)+1),ROWS(Clasament!$B$3:'Clasament'!$B3))),\"\")","v":""},{"$f":"IFERROR(INDEX(Clasament!$BH$3:$BH$72,SMALL(IF(Clasament!N$3:N$72=\"+\",ROW(Clasament!$B$3:$B$74)-ROW(Clasament!$B$3)+1),ROWS(Clasament!$B$3:'Clasament'!$B3))),\"\")","v":""},{"$f":"IFERROR(INDEX(Clasament!$BH$3:$BH$72,SMALL(IF(Clasament!O$3:O$72=\"+\",ROW(Clasament!$B$3:$B$74)-ROW(Clasament!$B$3)+1),ROWS(Clasament!$B$3:'Clasament'!$B3))),\"\")","v":""},{"$f":"IFERROR(INDEX(Clasament!$BH$3:$BH$72,SMALL(IF(Clasament!P$3:P$72=\"+\",ROW(Clasament!$B$3:$B$74)-ROW(Clasament!$B$3)+1),ROWS(Clasament!$B$3:'Clasament'!$B3))),\"\")","v":""},{"$f":"IFERROR(INDEX(Clasament!$BH$3:$BH$72,SMALL(IF(Clasament!Q$3:Q$72=\"+\",ROW(Clasament!$B$3:$B$74)-ROW(Clasament!$B$3)+1),ROWS(Clasament!$B$3:'Clasament'!$B3))),\"\")","v":""},{"$f":"IFERROR(INDEX(Clasament!$BH$3:$BH$72,SMALL(IF(Clasament!R$3:R$72=\"+\",ROW(Clasament!$B$3:$B$74)-ROW(Clasament!$B$3)+1),ROWS(Clasament!$B$3:'Clasament'!$B3))),\"\")","v":""},{"$f":"IFERROR(INDEX(Clasament!$BH$3:$BH$72,SMALL(IF(Clasament!S$3:S$72=\"+\",ROW(Clasament!$B$3:$B$74)-ROW(Clasament!$B$3)+1),ROWS(Clasament!$B$3:'Clasament'!$B3))),\"\")","v":""},{"$f":"IFERROR(INDEX(Clasament!$BH$3:$BH$72,SMALL(IF(Clasament!T$3:T$72=\"+\",ROW(Clasament!$B$3:$B$74)-ROW(Clasament!$B$3)+1),ROWS(Clasament!$B$3:'Clasament'!$B3))),\"\")","v":""},{"$f":"IFERROR(INDEX(Clasament!$BH$3:$BH$72,SMALL(IF(Clasament!U$3:U$72=\"+\",ROW(Clasament!$B$3:$B$74)-ROW(Clasament!$B$3)+1),ROWS(Clasament!$B$3:'Clasament'!$B3))),\"\")","v":""},{"$f":"IFERROR(INDEX(Clasament!$BH$3:$BH$72,SMALL(IF(Clasament!V$3:V$72=\"+\",ROW(Clasament!$B$3:$B$74)-ROW(Clasament!$B$3)+1),ROWS(Clasament!$B$3:'Clasament'!$B3))),\"\")","v":""},{"$f":"IFERROR(INDEX(Clasament!$BH$3:$BH$72,SMALL(IF(Clasament!W$3:W$72=\"+\",ROW(Clasament!$B$3:$B$74)-ROW(Clasament!$B$3)+1),ROWS(Clasament!$B$3:'Clasament'!$B3))),\"\")","v":""},{"$f":"IFERROR(INDEX(Clasament!$BH$3:$BH$72,SMALL(IF(Clasament!Y$3:Y$72=\"+\",ROW(Clasament!$B$3:$B$74)-ROW(Clasament!$B$3)+1),ROWS(Clasament!$B$3:'Clasament'!$B3))),\"\")","v":""},{"$f":"IFERROR(INDEX(Clasament!$BH$3:$BH$72,SMALL(IF(Clasament!Z$3:Z$72=\"+\",ROW(Clasament!$B$3:$B$74)-ROW(Clasament!$B$3)+1),ROWS(Clasament!$B$3:'Clasament'!$B3))),\"\")","v":""},{"$f":"IFERROR(INDEX(Clasament!$BH$3:$BH$72,SMALL(IF(Clasament!AA$3:AA$72=\"+\",ROW(Clasament!$B$3:$B$74)-ROW(Clasament!$B$3)+1),ROWS(Clasament!$B$3:'Clasament'!$B3))),\"\")","v":""},{"$f":"IFERROR(INDEX(Clasament!$BH$3:$BH$72,SMALL(IF(Clasament!AB$3:AB$72=\"+\",ROW(Clasament!$B$3:$B$74)-ROW(Clasament!$B$3)+1),ROWS(Clasament!$B$3:'Clasament'!$B3))),\"\")","v":""},{"$f":"IFERROR(INDEX(Clasament!$BH$3:$BH$72,SMALL(IF(Clasament!AC$3:AC$72=\"+\",ROW(Clasament!$B$3:$B$74)-ROW(Clasament!$B$3)+1),ROWS(Clasament!$B$3:'Clasament'!$B3))),\"\")","v":""},{"$f":"IFERROR(INDEX(Clasament!$BH$3:$BH$72,SMALL(IF(Clasament!AD$3:AD$72=\"+\",ROW(Clasament!$B$3:$B$74)-ROW(Clasament!$B$3)+1),ROWS(Clasament!$B$3:'Clasament'!$B3))),\"\")","v":""},{"$f":"IFERROR(INDEX(Clasament!$BH$3:$BH$72,SMALL(IF(Clasament!AE$3:AE$72=\"+\",ROW(Clasament!$B$3:$B$74)-ROW(Clasament!$B$3)+1),ROWS(Clasament!$B$3:'Clasament'!$B3))),\"\")","v":""},{"$f":"IFERROR(INDEX(Clasament!$BH$3:$BH$72,SMALL(IF(Clasament!AF$3:AF$72=\"+\",ROW(Clasament!$B$3:$B$74)-ROW(Clasament!$B$3)+1),ROWS(Clasament!$B$3:'Clasament'!$B3))),\"\")","v":""},{"$f":"IFERROR(INDEX(Clasament!$BH$3:$BH$72,SMALL(IF(Clasament!AG$3:AG$72=\"+\",ROW(Clasament!$B$3:$B$74)-ROW(Clasament!$B$3)+1),ROWS(Clasament!$B$3:'Clasament'!$B3))),\"\")","v":""},{"$f":"IFERROR(INDEX(Clasament!$BH$3:$BH$72,SMALL(IF(Clasament!AH$3:AH$72=\"+\",ROW(Clasament!$B$3:$B$74)-ROW(Clasament!$B$3)+1),ROWS(Clasament!$B$3:'Clasament'!$B3))),\"\")","v":""},{"$f":"IFERROR(INDEX(Clasament!$BH$3:$BH$72,SMALL(IF(Clasament!AJ$3:AJ$72=\"+\",ROW(Clasament!$B$3:$B$74)-ROW(Clasament!$B$3)+1),ROWS(Clasament!$B$3:'Clasament'!$B3))),\"\")","v":""},{"$f":"IFERROR(INDEX(Clasament!$BH$3:$BH$72,SMALL(IF(Clasament!AK$3:AK$72=\"+\",ROW(Clasament!$B$3:$B$74)-ROW(Clasament!$B$3)+1),ROWS(Clasament!$B$3:'Clasament'!$B3))),\"\")","v":""},{"$f":"IFERROR(INDEX(Clasament!$BH$3:$BH$72,SMALL(IF(Clasament!AL$3:AL$72=\"+\",ROW(Clasament!$B$3:$B$74)-ROW(Clasament!$B$3)+1),ROWS(Clasament!$B$3:'Clasament'!$B3))),\"\")","v":""},{"$f":"IFERROR(INDEX(Clasament!$BH$3:$BH$72,SMALL(IF(Clasament!AM$3:AM$72=\"+\",ROW(Clasament!$B$3:$B$74)-ROW(Clasament!$B$3)+1),ROWS(Clasament!$B$3:'Clasament'!$B3))),\"\")","v":""},{"$f":"IFERROR(INDEX(Clasament!$BH$3:$BH$72,SMALL(IF(Clasament!AN$3:AN$72=\"+\",ROW(Clasament!$B$3:$B$74)-ROW(Clasament!$B$3)+1),ROWS(Clasament!$B$3:'Clasament'!$B3))),\"\")","v":""},{"$f":"IFERROR(INDEX(Clasament!$BH$3:$BH$72,SMALL(IF(Clasament!AO$3:AO$72=\"+\",ROW(Clasament!$B$3:$B$74)-ROW(Clasament!$B$3)+1),ROWS(Clasament!$B$3:'Clasament'!$B3))),\"\")","v":""},{"$f":"IFERROR(INDEX(Clasament!$BH$3:$BH$72,SMALL(IF(Clasament!AP$3:AP$72=\"+\",ROW(Clasament!$B$3:$B$74)-ROW(Clasament!$B$3)+1),ROWS(Clasament!$B$3:'Clasament'!$B3))),\"\")","v":""},{"$f":"IFERROR(INDEX(Clasament!$BH$3:$BH$72,SMALL(IF(Clasament!AQ$3:AQ$72=\"+\",ROW(Clasament!$B$3:$B$74)-ROW(Clasament!$B$3)+1),ROWS(Clasament!$B$3:'Clasament'!$B3))),\"\")","v":""},{"$f":"IFERROR(INDEX(Clasament!$BH$3:$BH$72,SMALL(IF(Clasament!AR$3:AR$72=\"+\",ROW(Clasament!$B$3:$B$74)-ROW(Clasament!$B$3)+1),ROWS(Clasament!$B$3:'Clasament'!$B3))),\"\")","v":""},{"$f":"IFERROR(INDEX(Clasament!$BH$3:$BH$72,SMALL(IF(Clasament!AS$3:AS$72=\"+\",ROW(Clasament!$B$3:$B$74)-ROW(Clasament!$B$3)+1),ROWS(Clasament!$B$3:'Clasament'!$B3))),\"\")","v":""},{"$f":"IFERROR(INDEX(Clasament!$BH$3:$BH$72,SMALL(IF(Clasament!AU$3:AU$72=\"+\",ROW(Clasament!$B$3:$B$74)-ROW(Clasament!$B$3)+1),ROWS(Clasament!$B$3:'Clasament'!$B3))),\"\")","v":""},{"$f":"IFERROR(INDEX(Clasament!$BH$3:$BH$72,SMALL(IF(Clasament!AV$3:AV$72=\"+\",ROW(Clasament!$B$3:$B$74)-ROW(Clasament!$B$3)+1),ROWS(Clasament!$B$3:'Clasament'!$B3))),\"\")","v":""},{"$f":"IFERROR(INDEX(Clasament!$BH$3:$BH$72,SMALL(IF(Clasament!AW$3:AW$72=\"+\",ROW(Clasament!$B$3:$B$74)-ROW(Clasament!$B$3)+1),ROWS(Clasament!$B$3:'Clasament'!$B3))),\"\")","v":""},{"$f":"IFERROR(INDEX(Clasament!$BH$3:$BH$72,SMALL(IF(Clasament!AX$3:AX$72=\"+\",ROW(Clasament!$B$3:$B$74)-ROW(Clasament!$B$3)+1),ROWS(Clasament!$B$3:'Clasament'!$B3))),\"\")","v":""},{"$f":"IFERROR(INDEX(Clasament!$BH$3:$BH$72,SMALL(IF(Clasament!AY$3:AY$72=\"+\",ROW(Clasament!$B$3:$B$74)-ROW(Clasament!$B$3)+1),ROWS(Clasament!$B$3:'Clasament'!$B3))),\"\")","v":""},{"$f":"IFERROR(INDEX(Clasament!$BH$3:$BH$72,SMALL(IF(Clasament!AZ$3:AZ$72=\"+\",ROW(Clasament!$B$3:$B$74)-ROW(Clasament!$B$3)+1),ROWS(Clasament!$B$3:'Clasament'!$B3))),\"\")","v":""},{"$f":"IFERROR(INDEX(Clasament!$BH$3:$BH$72,SMALL(IF(Clasament!BA$3:BA$72=\"+\",ROW(Clasament!$B$3:$B$74)-ROW(Clasament!$B$3)+1),ROWS(Clasament!$B$3:'Clasament'!$B3))),\"\")","v":""},{"$f":"IFERROR(INDEX(Clasament!$BH$3:$BH$72,SMALL(IF(Clasament!BB$3:BB$72=\"+\",ROW(Clasament!$B$3:$B$74)-ROW(Clasament!$B$3)+1),ROWS(Clasament!$B$3:'Clasament'!$B3))),\"\")","v":""},{"$f":"IFERROR(INDEX(Clasament!$BH$3:$BH$72,SMALL(IF(Clasament!BC$3:BC$72=\"+\",ROW(Clasament!$B$3:$B$74)-ROW(Clasament!$B$3)+1),ROWS(Clasament!$B$3:'Clasament'!$B3))),\"\")","v":""},{"$f":"IFERROR(INDEX(Clasament!$BH$3:$BH$72,SMALL(IF(Clasament!BD$3:BD$72=\"+\",ROW(Clasament!$B$3:$B$74)-ROW(Clasament!$B$3)+1),ROWS(Clasament!$B$3:'Clasament'!$B3))),\"\")","v":""}]
[null,{"$f":"IFERROR(INDEX(Clasament!$BH$3:$BH$72,SMALL(IF(Clasament!C$3:C$72=\"+\",ROW(Clasament!$B$3:$B$74)-ROW(Clasament!$B$3)+1),ROWS(Clasament!$B$3:'Clasament'!$B4))),\"\")","v":""},{"$f":"IFERROR(INDEX(Clasament!$BH$3:$BH$72,SMALL(IF(Clasament!D$3:D$72=\"+\",ROW(Clasament!$B$3:$B$74)-ROW(Clasament!$B$3)+1),ROWS(Clasament!$B$3:'Clasament'!$B4))),\"\")","v":""},{"$f":"IFERROR(INDEX(Clasament!$BH$3:$BH$72,SMALL(IF(Clasament!E$3:E$72=\"+\",ROW(Clasament!$B$3:$B$74)-ROW(Clasament!$B$3)+1),ROWS(Clasament!$B$3:'Clasament'!$B4))),\"\")","v":""},{"$f":"IFERROR(INDEX(Clasament!$BH$3:$BH$72,SMALL(IF(Clasament!F$3:F$72=\"+\",ROW(Clasament!$B$3:$B$74)-ROW(Clasament!$B$3)+1),ROWS(Clasament!$B$3:'Clasament'!$B4))),\"\")","v":""},{"$f":"IFERROR(INDEX(Clasament!$BH$3:$BH$72,SMALL(IF(Clasament!G$3:G$72=\"+\",ROW(Clasament!$B$3:$B$74)-ROW(Clasament!$B$3)+1),ROWS(Clasament!$B$3:'Clasament'!$B4))),\"\")","v":""},{"$f":"IFERROR(INDEX(Clasament!$BH$3:$BH$72,SMALL(IF(Clasament!H$3:H$72=\"+\",ROW(Clasament!$B$3:$B$74)-ROW(Clasament!$B$3)+1),ROWS(Clasament!$B$3:'Clasament'!$B4))),\"\")","v":""},{"$f":"IFERROR(INDEX(Clasament!$BH$3:$BH$72,SMALL(IF(Clasament!I$3:I$72=\"+\",ROW(Clasament!$B$3:$B$74)-ROW(Clasament!$B$3)+1),ROWS(Clasament!$B$3:'Clasament'!$B4))),\"\")","v":""},{"$f":"IFERROR(INDEX(Clasament!$BH$3:$BH$72,SMALL(IF(Clasament!J$3:J$72=\"+\",ROW(Clasament!$B$3:$B$74)-ROW(Clasament!$B$3)+1),ROWS(Clasament!$B$3:'Clasament'!$B4))),\"\")","v":""},{"$f":"IFERROR(INDEX(Clasament!$BH$3:$BH$72,SMALL(IF(Clasament!K$3:K$72=\"+\",ROW(Clasament!$B$3:$B$74)-ROW(Clasament!$B$3)+1),ROWS(Clasament!$B$3:'Clasament'!$B4))),\"\")","v":""},{"$f":"IFERROR(INDEX(Clasament!$BH$3:$BH$72,SMALL(IF(Clasament!L$3:L$72=\"+\",ROW(Clasament!$B$3:$B$74)-ROW(Clasament!$B$3)+1),ROWS(Clasament!$B$3:'Clasament'!$B4))),\"\")","v":""},{"$f":"IFERROR(INDEX(Clasament!$BH$3:$BH$72,SMALL(IF(Clasament!N$3:N$72=\"+\",ROW(Clasament!$B$3:$B$74)-ROW(Clasament!$B$3)+1),ROWS(Clasament!$B$3:'Clasament'!$B4))),\"\")","v":""},{"$f":"IFERROR(INDEX(Clasament!$BH$3:$BH$72,SMALL(IF(Clasament!O$3:O$72=\"+\",ROW(Clasament!$B$3:$B$74)-ROW(Clasament!$B$3)+1),ROWS(Clasament!$B$3:'Clasament'!$B4))),\"\")","v":""},{"$f":"IFERROR(INDEX(Clasament!$BH$3:$BH$72,SMALL(IF(Clasament!P$3:P$72=\"+\",ROW(Clasament!$B$3:$B$74)-ROW(Clasament!$B$3)+1),ROWS(Clasament!$B$3:'Clasament'!$B4))),\"\")","v":""},{"$f":"IFERROR(INDEX(Clasament!$BH$3:$BH$72,SMALL(IF(Clasament!Q$3:Q$72=\"+\",ROW(Clasament!$B$3:$B$74)-ROW(Clasament!$B$3)+1),ROWS(Clasament!$B$3:'Clasament'!$B4))),\"\")","v":""},{"$f":"IFERROR(INDEX(Clasament!$BH$3:$BH$72,SMALL(IF(Clasament!R$3:R$72=\"+\",ROW(Clasament!$B$3:$B$74)-ROW(Clasament!$B$3)+1),ROWS(Clasament!$B$3:'Clasament'!$B4))),\"\")","v":""},{"$f":"IFERROR(INDEX(Clasament!$BH$3:$BH$72,SMALL(IF(Clasament!S$3:S$72=\"+\",ROW(Clasament!$B$3:$B$74)-ROW(Clasament!$B$3)+1),ROWS(Clasament!$B$3:'Clasament'!$B4))),\"\")","v":""},{"$f":"IFERROR(INDEX(Clasament!$BH$3:$BH$72,SMALL(IF(Clasament!T$3:T$72=\"+\",ROW(Clasament!$B$3:$B$74)-ROW(Clasament!$B$3)+1),ROWS(Clasament!$B$3:'Clasament'!$B4))),\"\")","v":""},{"$f":"IFERROR(INDEX(Clasament!$BH$3:$BH$72,SMALL(IF(Clasament!U$3:U$72=\"+\",ROW(Clasament!$B$3:$B$74)-ROW(Clasament!$B$3)+1),ROWS(Clasament!$B$3:'Clasament'!$B4))),\"\")","v":""},{"$f":"IFERROR(INDEX(Clasament!$BH$3:$BH$72,SMALL(IF(Clasament!V$3:V$72=\"+\",ROW(Clasament!$B$3:$B$74)-ROW(Clasament!$B$3)+1),ROWS(Clasament!$B$3:'Clasament'!$B4))),\"\")","v":""},{"$f":"IFERROR(INDEX(Clasament!$BH$3:$BH$72,SMALL(IF(Clasament!W$3:W$72=\"+\",ROW(Clasament!$B$3:$B$74)-ROW(Clasament!$B$3)+1),ROWS(Clasament!$B$3:'Clasament'!$B4))),\"\")","v":""},{"$f":"IFERROR(INDEX(Clasament!$BH$3:$BH$72,SMALL(IF(Clasament!Y$3:Y$72=\"+\",ROW(Clasament!$B$3:$B$74)-ROW(Clasament!$B$3)+1),ROWS(Clasament!$B$3:'Clasament'!$B4))),\"\")","v":""},{"$f":"IFERROR(INDEX(Clasament!$BH$3:$BH$72,SMALL(IF(Clasament!Z$3:Z$72=\"+\",ROW(Clasament!$B$3:$B$74)-ROW(Clasament!$B$3)+1),ROWS(Clasament!$B$3:'Clasament'!$B4))),\"\")","v":""},{"$f":"IFERROR(INDEX(Clasament!$BH$3:$BH$72,SMALL(IF(Clasament!AA$3:AA$72=\"+\",ROW(Clasament!$B$3:$B$74)-ROW(Clasament!$B$3)+1),ROWS(Clasament!$B$3:'Clasament'!$B4))),\"\")","v":""},{"$f":"IFERROR(INDEX(Clasament!$BH$3:$BH$72,SMALL(IF(Clasament!AB$3:AB$72=\"+\",ROW(Clasament!$B$3:$B$74)-ROW(Clasament!$B$3)+1),ROWS(Clasament!$B$3:'Clasament'!$B4))),\"\")","v":""},{"$f":"IFERROR(INDEX(Clasament!$BH$3:$BH$72,SMALL(IF(Clasament!AC$3:AC$72=\"+\",ROW(Clasament!$B$3:$B$74)-ROW(Clasament!$B$3)+1),ROWS(Clasament!$B$3:'Clasament'!$B4))),\"\")","v":""},{"$f":"IFERROR(INDEX(Clasament!$BH$3:$BH$72,SMALL(IF(Clasament!AD$3:AD$72=\"+\",ROW(Clasament!$B$3:$B$74)-ROW(Clasament!$B$3)+1),ROWS(Clasament!$B$3:'Clasament'!$B4))),\"\")","v":""},{"$f":"IFERROR(INDEX(Clasament!$BH$3:$BH$72,SMALL(IF(Clasament!AE$3:AE$72=\"+\",ROW(Clasament!$B$3:$B$74)-ROW(Clasament!$B$3)+1),ROWS(Clasament!$B$3:'Clasament'!$B4))),\"\")","v":""},{"$f":"IFERROR(INDEX(Clasament!$BH$3:$BH$72,SMALL(IF(Clasament!AF$3:AF$72=\"+\",ROW(Clasament!$B$3:$B$74)-ROW(Clasament!$B$3)+1),ROWS(Clasament!$B$3:'Clasament'!$B4))),\"\")","v":""},{"$f":"IFERROR(INDEX(Clasament!$BH$3:$BH$72,SMALL(IF(Clasament!AG$3:AG$72=\"+\",ROW(Clasament!$B$3:$B$74)-ROW(Clasament!$B$3)+1),ROWS(Clasament!$B$3:'Clasament'!$B4))),\"\")","v":""},{"$f":"IFERROR(INDEX(Clasament!$BH$3:$BH$72,SMALL(IF(Clasament!AH$3:AH$72=\"+\",ROW(Clasament!$B$3:$B$74)-ROW(Clasament!$B$3)+1),ROWS(Clasament!$B$3:'Clasament'!$B4))),\"\")","v":""},{"$f":"IFERROR(INDEX(Clasament!$BH$3:$BH$72,SMALL(IF(Clasament!AJ$3:AJ$72=\"+\",ROW(Clasament!$B$3:$B$74)-ROW(Clasament!$B$3)+1),ROWS(Clasament!$B$3:'Clasament'!$B4))),\"\")","v":""},{"$f":"IFERROR(INDEX(Clasament!$BH$3:$BH$72,SMALL(IF(Clasament!AK$3:AK$72=\"+\",ROW(Clasament!$B$3:$B$74)-ROW(Clasament!$B$3)+1),ROWS(Clasament!$B$3:'Clasament'!$B4))),\"\")","v":""},{"$f":"IFERROR(INDEX(Clasament!$BH$3:$BH$72,SMALL(IF(Clasament!AL$3:AL$72=\"+\",ROW(Clasament!$B$3:$B$74)-ROW(Clasament!$B$3)+1),ROWS(Clasament!$B$3:'Clasament'!$B4))),\"\")","v":""},{"$f":"IFERROR(INDEX(Clasament!$BH$3:$BH$72,SMALL(IF(Clasament!AM$3:AM$72=\"+\",ROW(Clasament!$B$3:$B$74)-ROW(Clasament!$B$3)+1),ROWS(Clasament!$B$3:'Clasament'!$B4))),\"\")","v":""},{"$f":"IFERROR(INDEX(Clasament!$BH$3:$BH$72,SMALL(IF(Clasament!AN$3:AN$72=\"+\",ROW(Clasament!$B$3:$B$74)-ROW(Clasament!$B$3)+1),ROWS(Clasament!$B$3:'Clasament'!$B4))),\"\")","v":""},{"$f":"IFERROR(INDEX(Clasament!$BH$3:$BH$72,SMALL(IF(Clasament!AO$3:AO$72=\"+\",ROW(Clasament!$B$3:$B$74)-ROW(Clasament!$B$3)+1),ROWS(Clasament!$B$3:'Clasament'!$B4))),\"\")","v":""},{"$f":"IFERROR(INDEX(Clasament!$BH$3:$BH$72,SMALL(IF(Clasament!AP$3:AP$72=\"+\",ROW(Clasament!$B$3:$B$74)-ROW(Clasament!$B$3)+1),ROWS(Clasament!$B$3:'Clasament'!$B4))),\"\")","v":""},{"$f":"IFERROR(INDEX(Clasament!$BH$3:$BH$72,SMALL(IF(Clasament!AQ$3:AQ$72=\"+\",ROW(Clasament!$B$3:$B$74)-ROW(Clasament!$B$3)+1),ROWS(Clasament!$B$3:'Clasament'!$B4))),\"\")","v":""},{"$f":"IFERROR(INDEX(Clasament!$BH$3:$BH$72,SMALL(IF(Clasament!AR$3:AR$72=\"+\",ROW(Clasament!$B$3:$B$74)-ROW(Clasament!$B$3)+1),ROWS(Clasament!$B$3:'Clasament'!$B4))),\"\")","v":""},{"$f":"IFERROR(INDEX(Clasament!$BH$3:$BH$72,SMALL(IF(Clasament!AS$3:AS$72=\"+\",ROW(Clasament!$B$3:$B$74)-ROW(Clasament!$B$3)+1),ROWS(Clasament!$B$3:'Clasament'!$B4))),\"\")","v":""},{"$f":"IFERROR(INDEX(Clasament!$BH$3:$BH$72,SMALL(IF(Clasament!AU$3:AU$72=\"+\",ROW(Clasament!$B$3:$B$74)-ROW(Clasament!$B$3)+1),ROWS(Clasament!$B$3:'Clasament'!$B4))),\"\")","v":""},{"$f":"IFERROR(INDEX(Clasament!$BH$3:$BH$72,SMALL(IF(Clasament!AV$3:AV$72=\"+\",ROW(Clasament!$B$3:$B$74)-ROW(Clasament!$B$3)+1),ROWS(Clasament!$B$3:'Clasament'!$B4))),\"\")","v":""},{"$f":"IFERROR(INDEX(Clasament!$BH$3:$BH$72,SMALL(IF(Clasament!AW$3:AW$72=\"+\",ROW(Clasament!$B$3:$B$74)-ROW(Clasament!$B$3)+1),ROWS(Clasament!$B$3:'Clasament'!$B4))),\"\")","v":""},{"$f":"IFERROR(INDEX(Clasament!$BH$3:$BH$72,SMALL(IF(Clasament!AX$3:AX$72=\"+\",ROW(Clasament!$B$3:$B$74)-ROW(Clasament!$B$3)+1),ROWS(Clasament!$B$3:'Clasament'!$B4))),\"\")","v":""},{"$f":"IFERROR(INDEX(Clasament!$BH$3:$BH$72,SMALL(IF(Clasament!AY$3:AY$72=\"+\",ROW(Clasament!$B$3:$B$74)-ROW(Clasament!$B$3)+1),ROWS(Clasament!$B$3:'Clasament'!$B4))),\"\")","v":""},{"$f":"IFERROR(INDEX(Clasament!$BH$3:$BH$72,SMALL(IF(Clasament!AZ$3:AZ$72=\"+\",ROW(Clasament!$B$3:$B$74)-ROW(Clasament!$B$3)+1),ROWS(Clasament!$B$3:'Clasament'!$B4))),\"\")","v":""},{"$f":"IFERROR(INDEX(Clasament!$BH$3:$BH$72,SMALL(IF(Clasament!BA$3:BA$72=\"+\",ROW(Clasament!$B$3:$B$74)-ROW(Clasament!$B$3)+1),ROWS(Clasament!$B$3:'Clasament'!$B4))),\"\")","v":""},{"$f":"IFERROR(INDEX(Clasament!$BH$3:$BH$72,SMALL(IF(Clasament!BB$3:BB$72=\"+\",ROW(Clasament!$B$3:$B$74)-ROW(Clasament!$B$3)+1),ROWS(Clasament!$B$3:'Clasament'!$B4))),\"\")","v":""},{"$f":"IFERROR(INDEX(Clasament!$BH$3:$BH$72,SMALL(IF(Clasament!BC$3:BC$72=\"+\",ROW(Clasament!$B$3:$B$74)-ROW(Clasament!$B$3)+1),ROWS(Clasament!$B$3:'Clasament'!$B4))),\"\")","v":""},{"$f":"IFERROR(INDEX(Clasament!$BH$3:$BH$72,SMALL(IF(Clasament!BD$3:BD$72=\"+\",ROW(Clasament!$B$3:$B$74)-ROW(Clasament!$B$3)+1),ROWS(Clasament!$B$3:'Clasament'!$B4))),\"\")","v":""}]
[null,{"$f":"IFERROR(INDEX(Clasament!$BH$3:$BH$72,SMALL(IF(Clasament!C$3:C$72=\"+\",ROW(Clasament!$B$3:$B$74)-ROW(Clasament!$B$3)+1),ROWS(Clasament!$B$3:'Clasament'!$B5))),\"\")","v":""},{"$f":"IFERROR(INDEX(Clasament!$BH$3:$BH$72,SMALL(IF(Clasament!D$3:D$72=\"+\",ROW(Clasament!$B$3:$B$74)-ROW(Clasament!$B$3)+1),ROWS(Clasament!$B$3:'Clasament'!$B5))),\"\")","v":""},{"$f":"IFERROR(INDEX(Clasament!$BH$3:$BH$72,SMALL(IF(Clasament!E$3:E$72=\"+\",ROW(Clasament!$B$3:$B$74)-ROW(Clasament!$B$3)+1),ROWS(Clasament!$B$3:'Clasament'!$B5))),\"\")","v":""},{"$f":"IFERROR(INDEX(Clasament!$BH$3:$BH$72,SMALL(IF(Clasament!F$3:F$72=\"+\",ROW(Clasament!$B$3:$B$74)-ROW(Clasament!$B$3)+1),ROWS(Clasament!$B$3:'Clasament'!$B5))),\"\")","v":""},{"$f":"IFERROR(INDEX(Clasament!$BH$3:$BH$72,SMALL(IF(Clasament!G$3:G$72=\"+\",ROW(Clasament!$B$3:$B$74)-ROW(Clasament!$B$3)+1),ROWS(Clasament!$B$3:'Clasament'!$B5))),\"\")","v":""},{"$f":"IFERROR(INDEX(Clasament!$BH$3:$BH$72,SMALL(IF(Clasament!H$3:H$72=\"+\",ROW(Clasament!$B$3:$B$74)-ROW(Clasament!$B$3)+1),ROWS(Clasament!$B$3:'Clasament'!$B5))),\"\")","v":""},{"$f":"IFERROR(INDEX(Clasament!$BH$3:$BH$72,SMALL(IF(Clasament!I$3:I$72=\"+\",ROW(Clasament!$B$3:$B$74)-ROW(Clasament!$B$3)+1),ROWS(Clasament!$B$3:'Clasament'!$B5))),\"\")","v":""},{"$f":"IFERROR(INDEX(Clasament!$BH$3:$BH$72,SMALL(IF(Clasament!J$3:J$72=\"+\",ROW(Clasament!$B$3:$B$74)-ROW(Clasament!$B$3)+1),ROWS(Clasament!$B$3:'Clasament'!$B5))),\"\")","v":""},{"$f":"IFERROR(INDEX(Clasament!$BH$3:$BH$72,SMALL(IF(Clasament!K$3:K$72=\"+\",ROW(Clasament!$B$3:$B$74)-ROW(Clasament!$B$3)+1),ROWS(Clasament!$B$3:'Clasament'!$B5))),\"\")","v":""},{"$f":"IFERROR(INDEX(Clasament!$BH$3:$BH$72,SMALL(IF(Clasament!L$3:L$72=\"+\",ROW(Clasament!$B$3:$B$74)-ROW(Clasament!$B$3)+1),ROWS(Clasament!$B$3:'Clasament'!$B5))),\"\")","v":""},{"$f":"IFERROR(INDEX(Clasament!$BH$3:$BH$72,SMALL(IF(Clasament!N$3:N$72=\"+\",ROW(Clasament!$B$3:$B$74)-ROW(Clasament!$B$3)+1),ROWS(Clasament!$B$3:'Clasament'!$B5))),\"\")","v":""},{"$f":"IFERROR(INDEX(Clasament!$BH$3:$BH$72,SMALL(IF(Clasament!O$3:O$72=\"+\",ROW(Clasament!$B$3:$B$74)-ROW(Clasament!$B$3)+1),ROWS(Clasament!$B$3:'Clasament'!$B5))),\"\")","v":""},{"$f":"IFERROR(INDEX(Clasament!$BH$3:$BH$72,SMALL(IF(Clasament!P$3:P$72=\"+\",ROW(Clasament!$B$3:$B$74)-ROW(Clasament!$B$3)+1),ROWS(Clasament!$B$3:'Clasament'!$B5))),\"\")","v":""},{"$f":"IFERROR(INDEX(Clasament!$BH$3:$BH$72,SMALL(IF(Clasament!Q$3:Q$72=\"+\",ROW(Clasament!$B$3:$B$74)-ROW(Clasament!$B$3)+1),ROWS(Clasament!$B$3:'Clasament'!$B5))),\"\")","v":""},{"$f":"IFERROR(INDEX(Clasament!$BH$3:$BH$72,SMALL(IF(Clasament!R$3:R$72=\"+\",ROW(Clasament!$B$3:$B$74)-ROW(Clasament!$B$3)+1),ROWS(Clasament!$B$3:'Clasament'!$B5))),\"\")","v":""},{"$f":"IFERROR(INDEX(Clasament!$BH$3:$BH$72,SMALL(IF(Clasament!S$3:S$72=\"+\",ROW(Clasament!$B$3:$B$74)-ROW(Clasament!$B$3)+1),ROWS(Clasament!$B$3:'Clasament'!$B5))),\"\")","v":""},{"$f":"IFERROR(INDEX(Clasament!$BH$3:$BH$72,SMALL(IF(Clasament!T$3:T$72=\"+\",ROW(Clasament!$B$3:$B$74)-ROW(Clasament!$B$3)+1),ROWS(Clasament!$B$3:'Clasament'!$B5))),\"\")","v":""},{"$f":"IFERROR(INDEX(Clasament!$BH$3:$BH$72,SMALL(IF(Clasament!U$3:U$72=\"+\",ROW(Clasament!$B$3:$B$74)-ROW(Clasament!$B$3)+1),ROWS(Clasament!$B$3:'Clasament'!$B5))),\"\")","v":""},{"$f":"IFERROR(INDEX(Clasament!$BH$3:$BH$72,SMALL(IF(Clasament!V$3:V$72=\"+\",ROW(Clasament!$B$3:$B$74)-ROW(Clasament!$B$3)+1),ROWS(Clasament!$B$3:'Clasament'!$B5))),\"\")","v":""},{"$f":"IFERROR(INDEX(Clasament!$BH$3:$BH$72,SMALL(IF(Clasament!W$3:W$72=\"+\",ROW(Clasament!$B$3:$B$74)-ROW(Clasament!$B$3)+1),ROWS(Clasament!$B$3:'Clasament'!$B5))),\"\")","v":""},{"$f":"IFERROR(INDEX(Clasament!$BH$3:$BH$72,SMALL(IF(Clasament!Y$3:Y$72=\"+\",ROW(Clasament!$B$3:$B$74)-ROW(Clasament!$B$3)+1),ROWS(Clasament!$B$3:'Clasament'!$B5))),\"\")","v":""},{"$f":"IFERROR(INDEX(Clasament!$BH$3:$BH$72,SMALL(IF(Clasament!Z$3:Z$72=\"+\",ROW(Clasament!$B$3:$B$74)-ROW(Clasament!$B$3)+1),ROWS(Clasament!$B$3:'Clasament'!$B5))),\"\")","v":""},{"$f":"IFERROR(INDEX(Clasament!$BH$3:$BH$72,SMALL(IF(Clasament!AA$3:AA$72=\"+\",ROW(Clasament!$B$3:$B$74)-ROW(Clasament!$B$3)+1),ROWS(Clasament!$B$3:'Clasament'!$B5))),\"\")","v":""},{"$f":"IFERROR(INDEX(Clasament!$BH$3:$BH$72,SMALL(IF(Clasament!AB$3:AB$72=\"+\",ROW(Clasament!$B$3:$B$74)-ROW(Clasament!$B$3)+1),ROWS(Clasament!$B$3:'Clasament'!$B5))),\"\")","v":""},{"$f":"IFERROR(INDEX(Clasament!$BH$3:$BH$72,SMALL(IF(Clasament!AC$3:AC$72=\"+\",ROW(Clasament!$B$3:$B$74)-ROW(Clasament!$B$3)+1),ROWS(Clasament!$B$3:'Clasament'!$B5))),\"\")","v":""},{"$f":"IFERROR(INDEX(Clasament!$BH$3:$BH$72,SMALL(IF(Clasament!AD$3:AD$72=\"+\",ROW(Clasament!$B$3:$B$74)-ROW(Clasament!$B$3)+1),ROWS(Clasament!$B$3:'Clasament'!$B5))),\"\")","v":""},{"$f":"IFERROR(INDEX(Clasament!$BH$3:$BH$72,SMALL(IF(Clasament!AE$3:AE$72=\"+\",ROW(Clasament!$B$3:$B$74)-ROW(Clasament!$B$3)+1),ROWS(Clasament!$B$3:'Clasament'!$B5))),\"\")","v":""},{"$f":"IFERROR(INDEX(Clasament!$BH$3:$BH$72,SMALL(IF(Clasament!AF$3:AF$72=\"+\",ROW(Clasament!$B$3:$B$74)-ROW(Clasament!$B$3)+1),ROWS(Clasament!$B$3:'Clasament'!$B5))),\"\")","v":""},{"$f":"IFERROR(INDEX(Clasament!$BH$3:$BH$72,SMALL(IF(Clasament!AG$3:AG$72=\"+\",ROW(Clasament!$B$3:$B$74)-ROW(Clasament!$B$3)+1),ROWS(Clasament!$B$3:'Clasament'!$B5))),\"\")","v":""},{"$f":"IFERROR(INDEX(Clasament!$BH$3:$BH$72,SMALL(IF(Clasament!AH$3:AH$72=\"+\",ROW(Clasament!$B$3:$B$74)-ROW(Clasament!$B$3)+1),ROWS(Clasament!$B$3:'Clasament'!$B5))),\"\")","v":""},{"$f":"IFERROR(INDEX(Clasament!$BH$3:$BH$72,SMALL(IF(Clasament!AJ$3:AJ$72=\"+\",ROW(Clasament!$B$3:$B$74)-ROW(Clasament!$B$3)+1),ROWS(Clasament!$B$3:'Clasament'!$B5))),\"\")","v":""},{"$f":"IFERROR(INDEX(Clasament!$BH$3:$BH$72,SMALL(IF(Clasament!AK$3:AK$72=\"+\",ROW(Clasament!$B$3:$B$74)-ROW(Clasament!$B$3)+1),ROWS(Clasament!$B$3:'Clasament'!$B5))),\"\")","v":""},{"$f":"IFERROR(INDEX(Clasament!$BH$3:$BH$72,SMALL(IF(Clasament!AL$3:AL$72=\"+\",ROW(Clasament!$B$3:$B$74)-ROW(Clasament!$B$3)+1),ROWS(Clasament!$B$3:'Clasament'!$B5))),\"\")","v":""},{"$f":"IFERROR(INDEX(Clasament!$BH$3:$BH$72,SMALL(IF(Clasament!AM$3:AM$72=\"+\",ROW(Clasament!$B$3:$B$74)-ROW(Clasament!$B$3)+1),ROWS(Clasament!$B$3:'Clasament'!$B5))),\"\")","v":""},{"$f":"IFERROR(INDEX(Clasament!$BH$3:$BH$72,SMALL(IF(Clasament!AN$3:AN$72=\"+\",ROW(Clasament!$B$3:$B$74)-ROW(Clasament!$B$3)+1),ROWS(Clasament!$B$3:'Clasament'!$B5))),\"\")","v":""},{"$f":"IFERROR(INDEX(Clasament!$BH$3:$BH$72,SMALL(IF(Clasament!AO$3:AO$72=\"+\",ROW(Clasament!$B$3:$B$74)-ROW(Clasament!$B$3)+1),ROWS(Clasament!$B$3:'Clasament'!$B5))),\"\")","v":""},{"$f":"IFERROR(INDEX(Clasament!$BH$3:$BH$72,SMALL(IF(Clasament!AP$3:AP$72=\"+\",ROW(Clasament!$B$3:$B$74)-ROW(Clasament!$B$3)+1),ROWS(Clasament!$B$3:'Clasament'!$B5))),\"\")","v":""},{"$f":"IFERROR(INDEX(Clasament!$BH$3:$BH$72,SMALL(IF(Clasament!AQ$3:AQ$72=\"+\",ROW(Clasament!$B$3:$B$74)-ROW(Clasament!$B$3)+1),ROWS(Clasament!$B$3:'Clasament'!$B5))),\"\")","v":""},{"$f":"IFERROR(INDEX(Clasament!$BH$3:$BH$72,SMALL(IF(Clasament!AR$3:AR$72=\"+\",ROW(Clasament!$B$3:$B$74)-ROW(Clasament!$B$3)+1),ROWS(Clasament!$B$3:'Clasament'!$B5))),\"\")","v":""},{"$f":"IFERROR(INDEX(Clasament!$BH$3:$BH$72,SMALL(IF(Clasament!AS$3:AS$72=\"+\",ROW(Clasament!$B$3:$B$74)-ROW(Clasament!$B$3)+1),ROWS(Clasament!$B$3:'Clasament'!$B5))),\"\")","v":""},{"$f":"IFERROR(INDEX(Clasament!$BH$3:$BH$72,SMALL(IF(Clasament!AU$3:AU$72=\"+\",ROW(Clasament!$B$3:$B$74)-ROW(Clasament!$B$3)+1),ROWS(Clasament!$B$3:'Clasament'!$B5))),\"\")","v":""},{"$f":"IFERROR(INDEX(Clasament!$BH$3:$BH$72,SMALL(IF(Clasament!AV$3:AV$72=\"+\",ROW(Clasament!$B$3:$B$74)-ROW(Clasament!$B$3)+1),ROWS(Clasament!$B$3:'Clasament'!$B5))),\"\")","v":""},{"$f":"IFERROR(INDEX(Clasament!$BH$3:$BH$72,SMALL(IF(Clasament!AW$3:AW$72=\"+\",ROW(Clasament!$B$3:$B$74)-ROW(Clasament!$B$3)+1),ROWS(Clasament!$B$3:'Clasament'!$B5))),\"\")","v":""},{"$f":"IFERROR(INDEX(Clasament!$BH$3:$BH$72,SMALL(IF(Clasament!AX$3:AX$72=\"+\",ROW(Clasament!$B$3:$B$74)-ROW(Clasament!$B$3)+1),ROWS(Clasament!$B$3:'Clasament'!$B5))),\"\")","v":""},{"$f":"IFERROR(INDEX(Clasament!$BH$3:$BH$72,SMALL(IF(Clasament!AY$3:AY$72=\"+\",ROW(Clasament!$B$3:$B$74)-ROW(Clasament!$B$3)+1),ROWS(Clasament!$B$3:'Clasament'!$B5))),\"\")","v":""},{"$f":"IFERROR(INDEX(Clasament!$BH$3:$BH$72,SMALL(IF(Clasament!AZ$3:AZ$72=\"+\",ROW(Clasament!$B$3:$B$74)-ROW(Clasament!$B$3)+1),ROWS(Clasament!$B$3:'Clasament'!$B5))),\"\")","v":""},{"$f":"IFERROR(INDEX(Clasament!$BH$3:$BH$72,SMALL(IF(Clasament!BA$3:BA$72=\"+\",ROW(Clasament!$B$3:$B$74)-ROW(Clasament!$B$3)+1),ROWS(Clasament!$B$3:'Clasament'!$B5))),\"\")","v":""},{"$f":"IFERROR(INDEX(Clasament!$BH$3:$BH$72,SMALL(IF(Clasament!BB$3:BB$72=\"+\",ROW(Clasament!$B$3:$B$74)-ROW(Clasament!$B$3)+1),ROWS(Clasament!$B$3:'Clasament'!$B5))),\"\")","v":""},{"$f":"IFERROR(INDEX(Clasament!$BH$3:$BH$72,SMALL(IF(Clasament!BC$3:BC$72=\"+\",ROW(Clasament!$B$3:$B$74)-ROW(Clasament!$B$3)+1),ROWS(Clasament!$B$3:'Clasament'!$B5))),\"\")","v":""},{"$f":"IFERROR(INDEX(Clasament!$BH$3:$BH$72,SMALL(IF(Clasament!BD$3:BD$72=\"+\",ROW(Clasament!$B$3:$B$74)-ROW(Clasament!$B$3)+1),ROWS(Clasament!$B$3:'Clasament'!$B5))),\"\")","v":""}]
[null,{"$f":"IFERROR(INDEX(Clasament!$BH$3:$BH$72,SMALL(IF(Clasament!C$3:C$72=\"+\",ROW(Clasament!$B$3:$B$74)-ROW(Clasament!$B$3)+1),ROWS(Clasament!$B$3:'Clasament'!$B6))),\"\")","v":""},{"$f":"IFERROR(INDEX(Clasament!$BH$3:$BH$72,SMALL(IF(Clasament!D$3:D$72=\"+\",ROW(Clasament!$B$3:$B$74)-ROW(Clasament!$B$3)+1),ROWS(Clasament!$B$3:'Clasament'!$B6))),\"\")","v":""},{"$f":"IFERROR(INDEX(Clasament!$BH$3:$BH$72,SMALL(IF(Clasament!E$3:E$72=\"+\",ROW(Clasament!$B$3:$B$74)-ROW(Clasament!$B$3)+1),ROWS(Clasament!$B$3:'Clasament'!$B6))),\"\")","v":""},{"$f":"IFERROR(INDEX(Clasament!$BH$3:$BH$72,SMALL(IF(Clasament!F$3:F$72=\"+\",ROW(Clasament!$B$3:$B$74)-ROW(Clasament!$B$3)+1),ROWS(Clasament!$B$3:'Clasament'!$B6))),\"\")","v":""},{"$f":"IFERROR(INDEX(Clasament!$BH$3:$BH$72,SMALL(IF(Clasament!G$3:G$72=\"+\",ROW(Clasament!$B$3:$B$74)-ROW(Clasament!$B$3)+1),ROWS(Clasament!$B$3:'Clasament'!$B6))),\"\")","v":""},{"$f":"IFERROR(INDEX(Clasament!$BH$3:$BH$72,SMALL(IF(Clasament!H$3:H$72=\"+\",ROW(Clasament!$B$3:$B$74)-ROW(Clasament!$B$3)+1),ROWS(Clasament!$B$3:'Clasament'!$B6))),\"\")","v":""},{"$f":"IFERROR(INDEX(Clasament!$BH$3:$BH$72,SMALL(IF(Clasament!I$3:I$72=\"+\",ROW(Clasament!$B$3:$B$74)-ROW(Clasament!$B$3)+1),ROWS(Clasament!$B$3:'Clasament'!$B6))),\"\")","v":""},{"$f":"IFERROR(INDEX(Clasament!$BH$3:$BH$72,SMALL(IF(Clasament!J$3:J$72=\"+\",ROW(Clasament!$B$3:$B$74)-ROW(Clasament!$B$3)+1),ROWS(Clasament!$B$3:'Clasament'!$B6))),\"\")","v":""},{"$f":"IFERROR(INDEX(Clasament!$BH$3:$BH$72,SMALL(IF(Clasament!K$3:K$72=\"+\",ROW(Clasament!$B$3:$B$74)-ROW(Clasament!$B$3)+1),ROWS(Clasament!$B$3:'Clasament'!$B6))),\"\")","v":""},{"$f":"IFERROR(INDEX(Clasament!$BH$3:$BH$72,SMALL(IF(Clasament!L$3:L$72=\"+\",ROW(Clasament!$B$3:$B$74)-ROW(Clasament!$B$3)+1),ROWS(Clasament!$B$3:'Clasament'!$B6))),\"\")","v":""},{"$f":"IFERROR(INDEX(Clasament!$BH$3:$BH$72,SMALL(IF(Clasament!N$3:N$72=\"+\",ROW(Clasament!$B$3:$B$74)-ROW(Clasament!$B$3)+1),ROWS(Clasament!$B$3:'Clasament'!$B6))),\"\")","v":""},{"$f":"IFERROR(INDEX(Clasament!$BH$3:$BH$72,SMALL(IF(Clasament!O$3:O$72=\"+\",ROW(Clasament!$B$3:$B$74)-ROW(Clasament!$B$3)+1),ROWS(Clasament!$B$3:'Clasament'!$B6))),\"\")","v":""},{"$f":"IFERROR(INDEX(Clasament!$BH$3:$BH$72,SMALL(IF(Clasament!P$3:P$72=\"+\",ROW(Clasament!$B$3:$B$74)-ROW(Clasament!$B$3)+1),ROWS(Clasament!$B$3:'Clasament'!$B6))),\"\")","v":""},{"$f":"IFERROR(INDEX(Clasament!$BH$3:$BH$72,SMALL(IF(Clasament!Q$3:Q$72=\"+\",ROW(Clasament!$B$3:$B$74)-ROW(Clasament!$B$3)+1),ROWS(Clasament!$B$3:'Clasament'!$B6))),\"\")","v":""},{"$f":"IFERROR(INDEX(Clasament!$BH$3:$BH$72,SMALL(IF(Clasament!R$3:R$72=\"+\",ROW(Clasament!$B$3:$B$74)-ROW(Clasament!$B$3)+1),ROWS(Clasament!$B$3:'Clasament'!$B6))),\"\")","v":""},{"$f":"IFERROR(INDEX(Clasament!$BH$3:$BH$72,SMALL(IF(Clasament!S$3:S$72=\"+\",ROW(Clasament!$B$3:$B$74)-ROW(Clasament!$B$3)+1),ROWS(Clasament!$B$3:'Clasament'!$B6))),\"\")","v":""},{"$f":"IFERROR(INDEX(Clasament!$BH$3:$BH$72,SMALL(IF(Clasament!T$3:T$72=\"+\",ROW(Clasament!$B$3:$B$74)-ROW(Clasament!$B$3)+1),ROWS(Clasament!$B$3:'Clasament'!$B6))),\"\")","v":""},{"$f":"IFERROR(INDEX(Clasament!$BH$3:$BH$72,SMALL(IF(Clasament!U$3:U$72=\"+\",ROW(Clasament!$B$3:$B$74)-ROW(Clasament!$B$3)+1),ROWS(Clasament!$B$3:'Clasament'!$B6))),\"\")","v":""},{"$f":"IFERROR(INDEX(Clasament!$BH$3:$BH$72,SMALL(IF(Clasament!V$3:V$72=\"+\",ROW(Clasament!$B$3:$B$74)-ROW(Clasament!$B$3)+1),ROWS(Clasament!$B$3:'Clasament'!$B6))),\"\")","v":""},{"$f":"IFERROR(INDEX(Clasament!$BH$3:$BH$72,SMALL(IF(Clasament!W$3:W$72=\"+\",ROW(Clasament!$B$3:$B$74)-ROW(Clasament!$B$3)+1),ROWS(Clasament!$B$3:'Clasament'!$B6))),\"\")","v":""},{"$f":"IFERROR(INDEX(Clasament!$BH$3:$BH$72,SMALL(IF(Clasament!Y$3:Y$72=\"+\",ROW(Clasament!$B$3:$B$74)-ROW(Clasament!$B$3)+1),ROWS(Clasament!$B$3:'Clasament'!$B6))),\"\")","v":""},{"$f":"IFERROR(INDEX(Clasament!$BH$3:$BH$72,SMALL(IF(Clasament!Z$3:Z$72=\"+\",ROW(Clasament!$B$3:$B$74)-ROW(Clasament!$B$3)+1),ROWS(Clasament!$B$3:'Clasament'!$B6))),\"\")","v":""},{"$f":"IFERROR(INDEX(Clasament!$BH$3:$BH$72,SMALL(IF(Clasament!AA$3:AA$72=\"+\",ROW(Clasament!$B$3:$B$74)-ROW(Clasament!$B$3)+1),ROWS(Clasament!$B$3:'Clasament'!$B6))),\"\")","v":""},{"$f":"IFERROR(INDEX(Clasament!$BH$3:$BH$72,SMALL(IF(Clasament!AB$3:AB$72=\"+\",ROW(Clasament!$B$3:$B$74)-ROW(Clasament!$B$3)+1),ROWS(Clasament!$B$3:'Clasament'!$B6))),\"\")","v":""},{"$f":"IFERROR(INDEX(Clasament!$BH$3:$BH$72,SMALL(IF(Clasament!AC$3:AC$72=\"+\",ROW(Clasament!$B$3:$B$74)-ROW(Clasament!$B$3)+1),ROWS(Clasament!$B$3:'Clasament'!$B6))),\"\")","v":""},{"$f":"IFERROR(INDEX(Clasament!$BH$3:$BH$72,SMALL(IF(Clasament!AD$3:AD$72=\"+\",ROW(Clasament!$B$3:$B$74)-ROW(Clasament!$B$3)+1),ROWS(Clasament!$B$3:'Clasament'!$B6))),\"\")","v":""},{"$f":"IFERROR(INDEX(Clasament!$BH$3:$BH$72,SMALL(IF(Clasament!AE$3:AE$72=\"+\",ROW(Clasament!$B$3:$B$74)-ROW(Clasament!$B$3)+1),ROWS(Clasament!$B$3:'Clasament'!$B6))),\"\")","v":""},{"$f":"IFERROR(INDEX(Clasament!$BH$3:$BH$72,SMALL(IF(Clasament!AF$3:AF$72=\"+\",ROW(Clasament!$B$3:$B$74)-ROW(Clasament!$B$3)+1),ROWS(Clasament!$B$3:'Clasament'!$B6))),\"\")","v":""},{"$f":"IFERROR(INDEX(Clasament!$BH$3:$BH$72,SMALL(IF(Clasament!AG$3:AG$72=\"+\",ROW(Clasament!$B$3:$B$74)-ROW(Clasament!$B$3)+1),ROWS(Clasament!$B$3:'Clasament'!$B6))),\"\")","v":""},{"$f":"IFERROR(INDEX(Clasament!$BH$3:$BH$72,SMALL(IF(Clasament!AH$3:AH$72=\"+\",ROW(Clasament!$B$3:$B$74)-ROW(Clasament!$B$3)+1),ROWS(Clasament!$B$3:'Clasament'!$B6))),\"\")","v":""},{"$f":"IFERROR(INDEX(Clasament!$BH$3:$BH$72,SMALL(IF(Clasament!AJ$3:AJ$72=\"+\",ROW(Clasament!$B$3:$B$74)-ROW(Clasament!$B$3)+1),ROWS(Clasament!$B$3:'Clasament'!$B6))),\"\")","v":""},{"$f":"IFERROR(INDEX(Clasament!$BH$3:$BH$72,SMALL(IF(Clasament!AK$3:AK$72=\"+\",ROW(Clasament!$B$3:$B$74)-ROW(Clasament!$B$3)+1),ROWS(Clasament!$B$3:'Clasament'!$B6))),\"\")","v":""},{"$f":"IFERROR(INDEX(Clasament!$BH$3:$BH$72,SMALL(IF(Clasament!AL$3:AL$72=\"+\",ROW(Clasament!$B$3:$B$74)-ROW(Clasament!$B$3)+1),ROWS(Clasament!$B$3:'Clasament'!$B6))),\"\")","v":""},{"$f":"IFERROR(INDEX(Clasament!$BH$3:$BH$72,SMALL(IF(Clasament!AM$3:AM$72=\"+\",ROW(Clasament!$B$3:$B$74)-ROW(Clasament!$B$3)+1),ROWS(Clasament!$B$3:'Clasament'!$B6))),\"\")","v":""},{"$f":"IFERROR(INDEX(Clasament!$BH$3:$BH$72,SMALL(IF(Clasament!AN$3:AN$72=\"+\",ROW(Clasament!$B$3:$B$74)-ROW(Clasament!$B$3)+1),ROWS(Clasament!$B$3:'Clasament'!$B6))),\"\")","v":""},{"$f":"IFERROR(INDEX(Clasament!$BH$3:$BH$72,SMALL(IF(Clasament!AO$3:AO$72=\"+\",ROW(Clasament!$B$3:$B$74)-ROW(Clasament!$B$3)+1),ROWS(Clasament!$B$3:'Clasament'!$B6))),\"\")","v":""},{"$f":"IFERROR(INDEX(Clasament!$BH$3:$BH$72,SMALL(IF(Clasament!AP$3:AP$72=\"+\",ROW(Clasament!$B$3:$B$74)-ROW(Clasament!$B$3)+1),ROWS(Clasament!$B$3:'Clasament'!$B6))),\"\")","v":""},{"$f":"IFERROR(INDEX(Clasament!$BH$3:$BH$72,SMALL(IF(Clasament!AQ$3:AQ$72=\"+\",ROW(Clasament!$B$3:$B$74)-ROW(Clasament!$B$3)+1),ROWS(Clasament!$B$3:'Clasament'!$B6))),\"\")","v":""},{"$f":"IFERROR(INDEX(Clasament!$BH$3:$BH$72,SMALL(IF(Clasament!AR$3:AR$72=\"+\",ROW(Clasament!$B$3:$B$74)-ROW(Clasament!$B$3)+1),ROWS(Clasament!$B$3:'Clasament'!$B6))),\"\")","v":""},{"$f":"IFERROR(INDEX(Clasament!$BH$3:$BH$72,SMALL(IF(Clasament!AS$3:AS$72=\"+\",ROW(Clasament!$B$3:$B$74)-ROW(Clasament!$B$3)+1),ROWS(Clasament!$B$3:'Clasament'!$B6))),\"\")","v":""},{"$f":"IFERROR(INDEX(Clasament!$BH$3:$BH$72,SMALL(IF(Clasament!AU$3:AU$72=\"+\",ROW(Clasament!$B$3:$B$74)-ROW(Clasament!$B$3)+1),ROWS(Clasament!$B$3:'Clasament'!$B6))),\"\")","v":""},{"$f":"IFERROR(INDEX(Clasament!$BH$3:$BH$72,SMALL(IF(Clasament!AV$3:AV$72=\"+\",ROW(Clasament!$B$3:$B$74)-ROW(Clasament!$B$3)+1),ROWS(Clasament!$B$3:'Clasament'!$B6))),\"\")","v":""},{"$f":"IFERROR(INDEX(Clasament!$BH$3:$BH$72,SMALL(IF(Clasament!AW$3:AW$72=\"+\",ROW(Clasament!$B$3:$B$74)-ROW(Clasament!$B$3)+1),ROWS(Clasament!$B$3:'Clasament'!$B6))),\"\")","v":""},{"$f":"IFERROR(INDEX(Clasament!$BH$3:$BH$72,SMALL(IF(Clasament!AX$3:AX$72=\"+\",ROW(Clasament!$B$3:$B$74)-ROW(Clasament!$B$3)+1),ROWS(Clasament!$B$3:'Clasament'!$B6))),\"\")","v":""},{"$f":"IFERROR(INDEX(Clasament!$BH$3:$BH$72,SMALL(IF(Clasament!AY$3:AY$72=\"+\",ROW(Clasament!$B$3:$B$74)-ROW(Clasament!$B$3)+1),ROWS(Clasament!$B$3:'Clasament'!$B6))),\"\")","v":""},{"$f":"IFERROR(INDEX(Clasament!$BH$3:$BH$72,SMALL(IF(Clasament!AZ$3:AZ$72=\"+\",ROW(Clasament!$B$3:$B$74)-ROW(Clasament!$B$3)+1),ROWS(Clasament!$B$3:'Clasament'!$B6))),\"\")","v":""},{"$f":"IFERROR(INDEX(Clasament!$BH$3:$BH$72,SMALL(IF(Clasament!BA$3:BA$72=\"+\",ROW(Clasament!$B$3:$B$74)-ROW(Clasament!$B$3)+1),ROWS(Clasament!$B$3:'Clasament'!$B6))),\"\")","v":""},{"$f":"IFERROR(INDEX(Clasament!$BH$3:$BH$72,SMALL(IF(Clasament!BB$3:BB$72=\"+\",ROW(Clasament!$B$3:$B$74)-ROW(Clasament!$B$3)+1),ROWS(Clasament!$B$3:'Clasament'!$B6))),\"\")","v":""},{"$f":"IFERROR(INDEX(Clasament!$BH$3:$BH$72,SMALL(IF(Clasament!BC$3:BC$72=\"+\",ROW(Clasament!$B$3:$B$74)-ROW(Clasament!$B$3)+1),ROWS(Clasament!$B$3:'Clasament'!$B6))),\"\")","v":""},{"$f":"IFERROR(INDEX(Clasament!$BH$3:$BH$72,SMALL(IF(Clasament!BD$3:BD$72=\"+\",ROW(Clasament!$B$3:$B$74)-ROW(Clasament!$B$3)+1),ROWS(Clasament!$B$3:'Clasament'!$B6))),\"\")","v":""}]
[null,{"$f":"IFERROR(INDEX(Clasament!$BH$3:$BH$72,SMALL(IF(Clasament!C$3:C$72=\"+\",ROW(Clasament!$B$3:$B$74)-ROW(Clasament!$B$3)+1),ROWS(Clasament!$B$3:'Clasament'!$B7))),\"\")","v":""},{"$f":"IFERROR(INDEX(Clasament!$BH$3:$BH$72,SMALL(IF(Clasament!D$3:D$72=\"+\",ROW(Clasament!$B$3:$B$74)-ROW(Clasament!$B$3)+1),ROWS(Clasament!$B$3:'Clasament'!$B7))),\"\")","v":""},{"$f":"IFERROR(INDEX(Clasament!$BH$3:$BH$72,SMALL(IF(Clasament!E$3:E$72=\"+\",ROW(Clasament!$B$3:$B$74)-ROW(Clasament!$B$3)+1),ROWS(Clasament!$B$3:'Clasament'!$B7))),\"\")","v":""},{"$f":"IFERROR(INDEX(Clasament!$BH$3:$BH$72,SMALL(IF(Clasament!F$3:F$72=\"+\",ROW(Clasament!$B$3:$B$74)-ROW(Clasament!$B$3)+1),ROWS(Clasament!$B$3:'Clasament'!$B7))),\"\")","v":""},{"$f":"IFERROR(INDEX(Clasament!$BH$3:$BH$72,SMALL(IF(Clasament!G$3:G$72=\"+\",ROW(Clasament!$B$3:$B$74)-ROW(Clasament!$B$3)+1),ROWS(Clasament!$B$3:'Clasament'!$B7))),\"\")","v":""},{"$f":"IFERROR(INDEX(Clasament!$BH$3:$BH$72,SMALL(IF(Clasament!H$3:H$72=\"+\",ROW(Clasament!$B$3:$B$74)-ROW(Clasament!$B$3)+1),ROWS(Clasament!$B$3:'Clasament'!$B7))),\"\")","v":""},{"$f":"IFERROR(INDEX(Clasament!$BH$3:$BH$72,SMALL(IF(Clasament!I$3:I$72=\"+\",ROW(Clasament!$B$3:$B$74)-ROW(Clasament!$B$3)+1),ROWS(Clasament!$B$3:'Clasament'!$B7))),\"\")","v":""},{"$f":"IFERROR(INDEX(Clasament!$BH$3:$BH$72,SMALL(IF(Clasament!J$3:J$72=\"+\",ROW(Clasament!$B$3:$B$74)-ROW(Clasament!$B$3)+1),ROWS(Clasament!$B$3:'Clasament'!$B7))),\"\")","v":""},{"$f":"IFERROR(INDEX(Clasament!$BH$3:$BH$72,SMALL(IF(Clasament!K$3:K$72=\"+\",ROW(Clasament!$B$3:$B$74)-ROW(Clasament!$B$3)+1),ROWS(Clasament!$B$3:'Clasament'!$B7))),\"\")","v":""},{"$f":"IFERROR(INDEX(Clasament!$BH$3:$BH$72,SMALL(IF(Clasament!L$3:L$72=\"+\",ROW(Clasament!$B$3:$B$74)-ROW(Clasament!$B$3)+1),ROWS(Clasament!$B$3:'Clasament'!$B7))),\"\")","v":""},{"$f":"IFERROR(INDEX(Clasament!$BH$3:$BH$72,SMALL(IF(Clasament!N$3:N$72=\"+\",ROW(Clasament!$B$3:$B$74)-ROW(Clasament!$B$3)+1),ROWS(Clasament!$B$3:'Clasament'!$B7))),\"\")","v":""},{"$f":"IFERROR(INDEX(Clasament!$BH$3:$BH$72,SMALL(IF(Clasament!O$3:O$72=\"+\",ROW(Clasament!$B$3:$B$74)-ROW(Clasament!$B$3)+1),ROWS(Clasament!$B$3:'Clasament'!$B7))),\"\")","v":""},{"$f":"IFERROR(INDEX(Clasament!$BH$3:$BH$72,SMALL(IF(Clasament!P$3:P$72=\"+\",ROW(Clasament!$B$3:$B$74)-ROW(Clasament!$B$3)+1),ROWS(Clasament!$B$3:'Clasament'!$B7))),\"\")","v":""},{"$f":"IFERROR(INDEX(Clasament!$BH$3:$BH$72,SMALL(IF(Clasament!Q$3:Q$72=\"+\",ROW(Clasament!$B$3:$B$74)-ROW(Clasament!$B$3)+1),ROWS(Clasament!$B$3:'Clasament'!$B7))),\"\")","v":""},{"$f":"IFERROR(INDEX(Clasament!$BH$3:$BH$72,SMALL(IF(Clasament!R$3:R$72=\"+\",ROW(Clasament!$B$3:$B$74)-ROW(Clasament!$B$3)+1),ROWS(Clasament!$B$3:'Clasament'!$B7))),\"\")","v":""},{"$f":"IFERROR(INDEX(Clasament!$BH$3:$BH$72,SMALL(IF(Clasament!S$3:S$72=\"+\",ROW(Clasament!$B$3:$B$74)-ROW(Clasament!$B$3)+1),ROWS(Clasament!$B$3:'Clasament'!$B7))),\"\")","v":""},{"$f":"IFERROR(INDEX(Clasament!$BH$3:$BH$72,SMALL(IF(Clasament!T$3:T$72=\"+\",ROW(Clasament!$B$3:$B$74)-ROW(Clasament!$B$3)+1),ROWS(Clasament!$B$3:'Clasament'!$B7))),\"\")","v":""},{"$f":"IFERROR(INDEX(Clasament!$BH$3:$BH$72,SMALL(IF(Clasament!U$3:U$72=\"+\",ROW(Clasament!$B$3:$B$74)-ROW(Clasament!$B$3)+1),ROWS(Clasament!$B$3:'Clasament'!$B7))),\"\")","v":""},{"$f":"IFERROR(INDEX(Clasament!$BH$3:$BH$72,SMALL(IF(Clasament!V$3:V$72=\"+\",ROW(Clasament!$B$3:$B$74)-ROW(Clasament!$B$3)+1),ROWS(Clasament!$B$3:'Clasament'!$B7))),\"\")","v":""},{"$f":"IFERROR(INDEX(Clasament!$BH$3:$BH$72,SMALL(IF(Clasament!W$3:W$72=\"+\",ROW(Clasament!$B$3:$B$74)-ROW(Clasament!$B$3)+1),ROWS(Clasament!$B$3:'Clasament'!$B7))),\"\")","v":""},{"$f":"IFERROR(INDEX(Clasament!$BH$3:$BH$72,SMALL(IF(Clasament!Y$3:Y$72=\"+\",ROW(Clasament!$B$3:$B$74)-ROW(Clasament!$B$3)+1),ROWS(Clasament!$B$3:'Clasament'!$B7))),\"\")","v":""},{"$f":"IFERROR(INDEX(Clasament!$BH$3:$BH$72,SMALL(IF(Clasament!Z$3:Z$72=\"+\",ROW(Clasament!$B$3:$B$74)-ROW(Clasament!$B$3)+1),ROWS(Clasament!$B$3:'Clasament'!$B7))),\"\")","v":""},{"$f":"IFERROR(INDEX(Clasament!$BH$3:$BH$72,SMALL(IF(Clasament!AA$3:AA$72=\"+\",ROW(Clasament!$B$3:$B$74)-ROW(Clasament!$B$3)+1),ROWS(Clasament!$B$3:'Clasament'!$B7))),\"\")","v":""},{"$f":"IFERROR(INDEX(Clasament!$BH$3:$BH$72,SMALL(IF(Clasament!AB$3:AB$72=\"+\",ROW(Clasament!$B$3:$B$74)-ROW(Clasament!$B$3)+1),ROWS(Clasament!$B$3:'Clasament'!$B7))),\"\")","v":""},{"$f":"IFERROR(INDEX(Clasament!$BH$3:$BH$72,SMALL(IF(Clasament!AC$3:AC$72=\"+\",ROW(Clasament!$B$3:$B$74)-ROW(Clasament!$B$3)+1),ROWS(Clasament!$B$3:'Clasament'!$B7))),\"\")","v":""},{"$f":"IFERROR(INDEX(Clasament!$BH$3:$BH$72,SMALL(IF(Clasament!AD$3:AD$72=\"+\",ROW(Clasament!$B$3:$B$74)-ROW(Clasament!$B$3)+1),ROWS(Clasament!$B$3:'Clasament'!$B7))),\"\")","v":""},{"$f":"IFERROR(INDEX(Clasament!$BH$3:$BH$72,SMALL(IF(Clasament!AE$3:AE$72=\"+\",ROW(Clasament!$B$3:$B$74)-ROW(Clasament!$B$3)+1),ROWS(Clasament!$B$3:'Clasament'!$B7))),\"\")","v":""},{"$f":"IFERROR(INDEX(Clasament!$BH$3:$BH$72,SMALL(IF(Clasament!AF$3:AF$72=\"+\",ROW(Clasament!$B$3:$B$74)-ROW(Clasament!$B$3)+1),ROWS(Clasament!$B$3:'Clasament'!$B7))),\"\")","v":""},{"$f":"IFERROR(INDEX(Clasament!$BH$3:$BH$72,SMALL(IF(Clasament!AG$3:AG$72=\"+\",ROW(Clasament!$B$3:$B$74)-ROW(Clasament!$B$3)+1),ROWS(Clasament!$B$3:'Clasament'!$B7))),\"\")","v":""},{"$f":"IFERROR(INDEX(Clasament!$BH$3:$BH$72,SMALL(IF(Clasament!AH$3:AH$72=\"+\",ROW(Clasament!$B$3:$B$74)-ROW(Clasament!$B$3)+1),ROWS(Clasament!$B$3:'Clasament'!$B7))),\"\")","v":""},{"$f":"IFERROR(INDEX(Clasament!$BH$3:$BH$72,SMALL(IF(Clasament!AJ$3:AJ$72=\"+\",ROW(Clasament!$B$3:$B$74)-ROW(Clasament!$B$3)+1),ROWS(Clasament!$B$3:'Clasament'!$B7))),\"\")","v":""},{"$f":"IFERROR(INDEX(Clasament!$BH$3:$BH$72,SMALL(IF(Clasament!AK$3:AK$72=\"+\",ROW(Clasament!$B$3:$B$74)-ROW(Clasament!$B$3)+1),ROWS(Clasament!$B$3:'Clasament'!$B7))),\"\")","v":""},{"$f":"IFERROR(INDEX(Clasament!$BH$3:$BH$72,SMALL(IF(Clasament!AL$3:AL$72=\"+\",ROW(Clasament!$B$3:$B$74)-ROW(Clasament!$B$3)+1),ROWS(Clasament!$B$3:'Clasament'!$B7))),\"\")","v":""},{"$f":"IFERROR(INDEX(Clasament!$BH$3:$BH$72,SMALL(IF(Clasament!AM$3:AM$72=\"+\",ROW(Clasament!$B$3:$B$74)-ROW(Clasament!$B$3)+1),ROWS(Clasament!$B$3:'Clasament'!$B7))),\"\")","v":""},{"$f":"IFERROR(INDEX(Clasament!$BH$3:$BH$72,SMALL(IF(Clasament!AN$3:AN$72=\"+\",ROW(Clasament!$B$3:$B$74)-ROW(Clasament!$B$3)+1),ROWS(Clasament!$B$3:'Clasament'!$B7))),\"\")","v":""},{"$f":"IFERROR(INDEX(Clasament!$BH$3:$BH$72,SMALL(IF(Clasament!AO$3:AO$72=\"+\",ROW(Clasament!$B$3:$B$74)-ROW(Clasament!$B$3)+1),ROWS(Clasament!$B$3:'Clasament'!$B7))),\"\")","v":""},{"$f":"IFERROR(INDEX(Clasament!$BH$3:$BH$72,SMALL(IF(Clasament!AP$3:AP$72=\"+\",ROW(Clasament!$B$3:$B$74)-ROW(Clasament!$B$3)+1),ROWS(Clasament!$B$3:'Clasament'!$B7))),\"\")","v":""},{"$f":"IFERROR(INDEX(Clasament!$BH$3:$BH$72,SMALL(IF(Clasament!AQ$3:AQ$72=\"+\",ROW(Clasament!$B$3:$B$74)-ROW(Clasament!$B$3)+1),ROWS(Clasament!$B$3:'Clasament'!$B7))),\"\")","v":""},{"$f":"IFERROR(INDEX(Clasament!$BH$3:$BH$72,SMALL(IF(Clasament!AR$3:AR$72=\"+\",ROW(Clasament!$B$3:$B$74)-ROW(Clasament!$B$3)+1),ROWS(Clasament!$B$3:'Clasament'!$B7))),\"\")","v":""},{"$f":"IFERROR(INDEX(Clasament!$BH$3:$BH$72,SMALL(IF(Clasament!AS$3:AS$72=\"+\",ROW(Clasament!$B$3:$B$74)-ROW(Clasament!$B$3)+1),ROWS(Clasament!$B$3:'Clasament'!$B7))),\"\")","v":""},{"$f":"IFERROR(INDEX(Clasament!$BH$3:$BH$72,SMALL(IF(Clasament!AU$3:AU$72=\"+\",ROW(Clasament!$B$3:$B$74)-ROW(Clasament!$B$3)+1),ROWS(Clasament!$B$3:'Clasament'!$B7))),\"\")","v":""},{"$f":"IFERROR(INDEX(Clasament!$BH$3:$BH$72,SMALL(IF(Clasament!AV$3:AV$72=\"+\",ROW(Clasament!$B$3:$B$74)-ROW(Clasament!$B$3)+1),ROWS(Clasament!$B$3:'Clasament'!$B7))),\"\")","v":""},{"$f":"IFERROR(INDEX(Clasament!$BH$3:$BH$72,SMALL(IF(Clasament!AW$3:AW$72=\"+\",ROW(Clasament!$B$3:$B$74)-ROW(Clasament!$B$3)+1),ROWS(Clasament!$B$3:'Clasament'!$B7))),\"\")","v":""},{"$f":"IFERROR(INDEX(Clasament!$BH$3:$BH$72,SMALL(IF(Clasament!AX$3:AX$72=\"+\",ROW(Clasament!$B$3:$B$74)-ROW(Clasament!$B$3)+1),ROWS(Clasament!$B$3:'Clasament'!$B7))),\"\")","v":""},{"$f":"IFERROR(INDEX(Clasament!$BH$3:$BH$72,SMALL(IF(Clasament!AY$3:AY$72=\"+\",ROW(Clasament!$B$3:$B$74)-ROW(Clasament!$B$3)+1),ROWS(Clasament!$B$3:'Clasament'!$B7))),\"\")","v":""},{"$f":"IFERROR(INDEX(Clasament!$BH$3:$BH$72,SMALL(IF(Clasament!AZ$3:AZ$72=\"+\",ROW(Clasament!$B$3:$B$74)-ROW(Clasament!$B$3)+1),ROWS(Clasament!$B$3:'Clasament'!$B7))),\"\")","v":""},{"$f":"IFERROR(INDEX(Clasament!$BH$3:$BH$72,SMALL(IF(Clasament!BA$3:BA$72=\"+\",ROW(Clasament!$B$3:$B$74)-ROW(Clasament!$B$3)+1),ROWS(Clasament!$B$3:'Clasament'!$B7))),\"\")","v":""},{"$f":"IFERROR(INDEX(Clasament!$BH$3:$BH$72,SMALL(IF(Clasament!BB$3:BB$72=\"+\",ROW(Clasament!$B$3:$B$74)-ROW(Clasament!$B$3)+1),ROWS(Clasament!$B$3:'Clasament'!$B7))),\"\")","v":""},{"$f":"IFERROR(INDEX(Clasament!$BH$3:$BH$72,SMALL(IF(Clasament!BC$3:BC$72=\"+\",ROW(Clasament!$B$3:$B$74)-ROW(Clasament!$B$3)+1),ROWS(Clasament!$B$3:'Clasament'!$B7))),\"\")","v":""},{"$f":"IFERROR(INDEX(Clasament!$BH$3:$BH$72,SMALL(IF(Clasament!BD$3:BD$72=\"+\",ROW(Clasament!$B$3:$B$74)-ROW(Clasament!$B$3)+1),ROWS(Clasament!$B$3:'Clasament'!$B7))),\"\")","v":""}]
[null,{"$f":"IFERROR(INDEX(Clasament!$BH$3:$BH$72,SMALL(IF(Clasament!C$3:C$72=\"+\",ROW(Clasament!$B$3:$B$74)-ROW(Clasament!$B$3)+1),ROWS(Clasament!$B$3:'Clasament'!$B8))),\"\")","v":""},{"$f":"IFERROR(INDEX(Clasament!$BH$3:$BH$72,SMALL(IF(Clasament!D$3:D$72=\"+\",ROW(Clasament!$B$3:$B$74)-ROW(Clasament!$B$3)+1),ROWS(Clasament!$B$3:'Clasament'!$B8))),\"\")","v":""},{"$f":"IFERROR(INDEX(Clasament!$BH$3:$BH$72,SMALL(IF(Clasament!E$3:E$72=\"+\",ROW(Clasament!$B$3:$B$74)-ROW(Clasament!$B$3)+1),ROWS(Clasament!$B$3:'Clasament'!$B8))),\"\")","v":""},{"$f":"IFERROR(INDEX(Clasament!$BH$3:$BH$72,SMALL(IF(Clasament!F$3:F$72=\"+\",ROW(Clasament!$B$3:$B$74)-ROW(Clasament!$B$3)+1),ROWS(Clasament!$B$3:'Clasament'!$B8))),\"\")","v":""},{"$f":"IFERROR(INDEX(Clasament!$BH$3:$BH$72,SMALL(IF(Clasament!G$3:G$72=\"+\",ROW(Clasament!$B$3:$B$74)-ROW(Clasament!$B$3)+1),ROWS(Clasament!$B$3:'Clasament'!$B8))),\"\")","v":""},{"$f":"IFERROR(INDEX(Clasament!$BH$3:$BH$72,SMALL(IF(Clasament!H$3:H$72=\"+\",ROW(Clasament!$B$3:$B$74)-ROW(Clasament!$B$3)+1),ROWS(Clasament!$B$3:'Clasament'!$B8))),\"\")","v":""},{"$f":"IFERROR(INDEX(Clasament!$BH$3:$BH$72,SMALL(IF(Clasament!I$3:I$72=\"+\",ROW(Clasament!$B$3:$B$74)-ROW(Clasament!$B$3)+1),ROWS(Clasament!$B$3:'Clasament'!$B8))),\"\")","v":""},{"$f":"IFERROR(INDEX(Clasament!$BH$3:$BH$72,SMALL(IF(Clasament!J$3:J$72=\"+\",ROW(Clasament!$B$3:$B$74)-ROW(Clasament!$B$3)+1),ROWS(Clasament!$B$3:'Clasament'!$B8))),\"\")","v":""},{"$f":"IFERROR(INDEX(Clasament!$BH$3:$BH$72,SMALL(IF(Clasament!K$3:K$72=\"+\",ROW(Clasament!$B$3:$B$74)-ROW(Clasament!$B$3)+1),ROWS(Clasament!$B$3:'Clasament'!$B8))),\"\")","v":""},{"$f":"IFERROR(INDEX(Clasament!$BH$3:$BH$72,SMALL(IF(Clasament!L$3:L$72=\"+\",ROW(Clasament!$B$3:$B$74)-ROW(Clasament!$B$3)+1),ROWS(Clasament!$B$3:'Clasament'!$B8))),\"\")","v":""},{"$f":"IFERROR(INDEX(Clasament!$BH$3:$BH$72,SMALL(IF(Clasament!N$3:N$72=\"+\",ROW(Clasament!$B$3:$B$74)-ROW(Clasament!$B$3)+1),ROWS(Clasament!$B$3:'Clasament'!$B8))),\"\")","v":""},{"$f":"IFERROR(INDEX(Clasament!$BH$3:$BH$72,SMALL(IF(Clasament!O$3:O$72=\"+\",ROW(Clasament!$B$3:$B$74)-ROW(Clasament!$B$3)+1),ROWS(Clasament!$B$3:'Clasament'!$B8))),\"\")","v":""},{"$f":"IFERROR(INDEX(Clasament!$BH$3:$BH$72,SMALL(IF(Clasament!P$3:P$72=\"+\",ROW(Clasament!$B$3:$B$74)-ROW(Clasament!$B$3)+1),ROWS(Clasament!$B$3:'Clasament'!$B8))),\"\")","v":""},{"$f":"IFERROR(INDEX(Clasament!$BH$3:$BH$72,SMALL(IF(Clasament!Q$3:Q$72=\"+\",ROW(Clasament!$B$3:$B$74)-ROW(Clasament!$B$3)+1),ROWS(Clasament!$B$3:'Clasament'!$B8))),\"\")","v":""},{"$f":"IFERROR(INDEX(Clasament!$BH$3:$BH$72,SMALL(IF(Clasament!R$3:R$72=\"+\",ROW(Clasament!$B$3:$B$74)-ROW(Clasament!$B$3)+1),ROWS(Clasament!$B$3:'Clasament'!$B8))),\"\")","v":""},{"$f":"IFERROR(INDEX(Clasament!$BH$3:$BH$72,SMALL(IF(Clasament!S$3:S$72=\"+\",ROW(Clasament!$B$3:$B$74)-ROW(Clasament!$B$3)+1),ROWS(Clasament!$B$3:'Clasament'!$B8))),\"\")","v":""},{"$f":"IFERROR(INDEX(Clasament!$BH$3:$BH$72,SMALL(IF(Clasament!T$3:T$72=\"+\",ROW(Clasament!$B$3:$B$74)-ROW(Clasament!$B$3)+1),ROWS(Clasament!$B$3:'Clasament'!$B8))),\"\")","v":""},{"$f":"IFERROR(INDEX(Clasament!$BH$3:$BH$72,SMALL(IF(Clasament!U$3:U$72=\"+\",ROW(Clasament!$B$3:$B$74)-ROW(Clasament!$B$3)+1),ROWS(Clasament!$B$3:'Clasament'!$B8))),\"\")","v":""},{"$f":"IFERROR(INDEX(Clasament!$BH$3:$BH$72,SMALL(IF(Clasament!V$3:V$72=\"+\",ROW(Clasament!$B$3:$B$74)-ROW(Clasament!$B$3)+1),ROWS(Clasament!$B$3:'Clasament'!$B8))),\"\")","v":""},{"$f":"IFERROR(INDEX(Clasament!$BH$3:$BH$72,SMALL(IF(Clasament!W$3:W$72=\"+\",ROW(Clasament!$B$3:$B$74)-ROW(Clasament!$B$3)+1),ROWS(Clasament!$B$3:'Clasament'!$B8))),\"\")","v":""},{"$f":"IFERROR(INDEX(Clasament!$BH$3:$BH$72,SMALL(IF(Clasament!Y$3:Y$72=\"+\",ROW(Clasament!$B$3:$B$74)-ROW(Clasament!$B$3)+1),ROWS(Clasament!$B$3:'Clasament'!$B8))),\"\")","v":""},{"$f":"IFERROR(INDEX(Clasament!$BH$3:$BH$72,SMALL(IF(Clasament!Z$3:Z$72=\"+\",ROW(Clasament!$B$3:$B$74)-ROW(Clasament!$B$3)+1),ROWS(Clasament!$B$3:'Clasament'!$B8))),\"\")","v":""},{"$f":"IFERROR(INDEX(Clasament!$BH$3:$BH$72,SMALL(IF(Clasament!AA$3:AA$72=\"+\",ROW(Clasament!$B$3:$B$74)-ROW(Clasament!$B$3)+1),ROWS(Clasament!$B$3:'Clasament'!$B8))),\"\")","v":""},{"$f":"IFERROR(INDEX(Clasament!$BH$3:$BH$72,SMALL(IF(Clasament!AB$3:AB$72=\"+\",ROW(Clasament!$B$3:$B$74)-ROW(Clasament!$B$3)+1),ROWS(Clasament!$B$3:'Clasament'!$B8))),\"\")","v":""},{"$f":"IFERROR(INDEX(Clasament!$BH$3:$BH$72,SMALL(IF(Clasament!AC$3:AC$72=\"+\",ROW(Clasament!$B$3:$B$74)-ROW(Clasament!$B$3)+1),ROWS(Clasament!$B$3:'Clasament'!$B8))),\"\")","v":""},{"$f":"IFERROR(INDEX(Clasament!$BH$3:$BH$72,SMALL(IF(Clasament!AD$3:AD$72=\"+\",ROW(Clasament!$B$3:$B$74)-ROW(Clasament!$B$3)+1),ROWS(Clasament!$B$3:'Clasament'!$B8))),\"\")","v":""},{"$f":"IFERROR(INDEX(Clasament!$BH$3:$BH$72,SMALL(IF(Clasament!AE$3:AE$72=\"+\",ROW(Clasament!$B$3:$B$74)-ROW(Clasament!$B$3)+1),ROWS(Clasament!$B$3:'Clasament'!$B8))),\"\")","v":""},{"$f":"IFERROR(INDEX(Clasament!$BH$3:$BH$72,SMALL(IF(Clasament!AF$3:AF$72=\"+\",ROW(Clasament!$B$3:$B$74)-ROW(Clasament!$B$3)+1),ROWS(Clasament!$B$3:'Clasament'!$B8))),\"\")","v":""},{"$f":"IFERROR(INDEX(Clasament!$BH$3:$BH$72,SMALL(IF(Clasament!AG$3:AG$72=\"+\",ROW(Clasament!$B$3:$B$74)-ROW(Clasament!$B$3)+1),ROWS(Clasament!$B$3:'Clasament'!$B8))),\"\")","v":""},{"$f":"IFERROR(INDEX(Clasament!$BH$3:$BH$72,SMALL(IF(Clasament!AH$3:AH$72=\"+\",ROW(Clasament!$B$3:$B$74)-ROW(Clasament!$B$3)+1),ROWS(Clasament!$B$3:'Clasament'!$B8))),\"\")","v":""},{"$f":"IFERROR(INDEX(Clasament!$BH$3:$BH$72,SMALL(IF(Clasament!AJ$3:AJ$72=\"+\",ROW(Clasament!$B$3:$B$74)-ROW(Clasament!$B$3)+1),ROWS(Clasament!$B$3:'Clasament'!$B8))),\"\")","v":""},{"$f":"IFERROR(INDEX(Clasament!$BH$3:$BH$72,SMALL(IF(Clasament!AK$3:AK$72=\"+\",ROW(Clasament!$B$3:$B$74)-ROW(Clasament!$B$3)+1),ROWS(Clasament!$B$3:'Clasament'!$B8))),\"\")","v":""},{"$f":"IFERROR(INDEX(Clasament!$BH$3:$BH$72,SMALL(IF(Clasament!AL$3:AL$72=\"+\",ROW(Clasament!$B$3:$B$74)-ROW(Clasament!$B$3)+1),ROWS(Clasament!$B$3:'Clasament'!$B8))),\"\")","v":""},{"$f":"IFERROR(INDEX(Clasament!$BH$3:$BH$72,SMALL(IF(Clasament!AM$3:AM$72=\"+\",ROW(Clasament!$B$3:$B$74)-ROW(Clasament!$B$3)+1),ROWS(Clasament!$B$3:'Clasament'!$B8))),\"\")","v":""},{"$f":"IFERROR(INDEX(Clasament!$BH$3:$BH$72,SMALL(IF(Clasament!AN$3:AN$72=\"+\",ROW(Clasament!$B$3:$B$74)-ROW(Clasament!$B$3)+1),ROWS(Clasament!$B$3:'Clasament'!$B8))),\"\")","v":""},{"$f":"IFERROR(INDEX(Clasament!$BH$3:$BH$72,SMALL(IF(Clasament!AO$3:AO$72=\"+\",ROW(Clasament!$B$3:$B$74)-ROW(Clasament!$B$3)+1),ROWS(Clasament!$B$3:'Clasament'!$B8))),\"\")","v":""},{"$f":"IFERROR(INDEX(Clasament!$BH$3:$BH$72,SMALL(IF(Clasament!AP$3:AP$72=\"+\",ROW(Clasament!$B$3:$B$74)-ROW(Clasament!$B$3)+1),ROWS(Clasament!$B$3:'Clasament'!$B8))),\"\")","v":""},{"$f":"IFERROR(INDEX(Clasament!$BH$3:$BH$72,SMALL(IF(Clasament!AQ$3:AQ$72=\"+\",ROW(Clasament!$B$3:$B$74)-ROW(Clasament!$B$3)+1),ROWS(Clasament!$B$3:'Clasament'!$B8))),\"\")","v":""},{"$f":"IFERROR(INDEX(Clasament!$BH$3:$BH$72,SMALL(IF(Clasament!AR$3:AR$72=\"+\",ROW(Clasament!$B$3:$B$74)-ROW(Clasament!$B$3)+1),ROWS(Clasament!$B$3:'Clasament'!$B8))),\"\")","v":""},{"$f":"IFERROR(INDEX(Clasament!$BH$3:$BH$72,SMALL(IF(Clasament!AS$3:AS$72=\"+\",ROW(Clasament!$B$3:$B$74)-ROW(Clasament!$B$3)+1),ROWS(Clasament!$B$3:'Clasament'!$B8))),\"\")","v":""},{"$f":"IFERROR(INDEX(Clasament!$BH$3:$BH$72,SMALL(IF(Clasament!AU$3:AU$72=\"+\",ROW(Clasament!$B$3:$B$74)-ROW(Clasament!$B$3)+1),ROWS(Clasament!$B$3:'Clasament'!$B8))),\"\")","v":""},{"$f":"IFERROR(INDEX(Clasament!$BH$3:$BH$72,SMALL(IF(Clasament!AV$3:AV$72=\"+\",ROW(Clasament!$B$3:$B$74)-ROW(Clasament!$B$3)+1),ROWS(Clasament!$B$3:'Clasament'!$B8))),\"\")","v":""},{"$f":"IFERROR(INDEX(Clasament!$BH$3:$BH$72,SMALL(IF(Clasament!AW$3:AW$72=\"+\",ROW(Clasament!$B$3:$B$74)-ROW(Clasament!$B$3)+1),ROWS(Clasament!$B$3:'Clasament'!$B8))),\"\")","v":""},{"$f":"IFERROR(INDEX(Clasament!$BH$3:$BH$72,SMALL(IF(Clasament!AX$3:AX$72=\"+\",ROW(Clasament!$B$3:$B$74)-ROW(Clasament!$B$3)+1),ROWS(Clasament!$B$3:'Clasament'!$B8))),\"\")","v":""},{"$f":"IFERROR(INDEX(Clasament!$BH$3:$BH$72,SMALL(IF(Clasament!AY$3:AY$72=\"+\",ROW(Clasament!$B$3:$B$74)-ROW(Clasament!$B$3)+1),ROWS(Clasament!$B$3:'Clasament'!$B8))),\"\")","v":""},{"$f":"IFERROR(INDEX(Clasament!$BH$3:$BH$72,SMALL(IF(Clasament!AZ$3:AZ$72=\"+\",ROW(Clasament!$B$3:$B$74)-ROW(Clasament!$B$3)+1),ROWS(Clasament!$B$3:'Clasament'!$B8))),\"\")","v":""},{"$f":"IFERROR(INDEX(Clasament!$BH$3:$BH$72,SMALL(IF(Clasament!BA$3:BA$72=\"+\",ROW(Clasament!$B$3:$B$74)-ROW(Clasament!$B$3)+1),ROWS(Clasament!$B$3:'Clasament'!$B8))),\"\")","v":""},{"$f":"IFERROR(INDEX(Clasament!$BH$3:$BH$72,SMALL(IF(Clasament!BB$3:BB$72=\"+\",ROW(Clasament!$B$3:$B$74)-ROW(Clasament!$B$3)+1),ROWS(Clasament!$B$3:'Clasament'!$B8))),\"\")","v":""},{"$f":"IFERROR(INDEX(Clasament!$BH$3:$BH$72,SMALL(IF(Clasament!BC$3:BC$72=\"+\",ROW(Clasament!$B$3:$B$74)-ROW(Clasament!$B$3)+1),ROWS(Clasament!$B$3:'Clasament'!$B8))),\"\")","v":""},{"$f":"IFERROR(INDEX(Clasament!$BH$3:$BH$72,SMALL(IF(Clasament!BD$3:BD$72=\"+\",ROW(Clasament!$B$3:$B$74)-ROW(Clasament!$B$3)+1),ROWS(Clasament!$B$3:'Clasament'!$B8))),\"\")","v":""}]
[null,{"$f":"IFERROR(INDEX(Clasament!$BH$3:$BH$72,SMALL(IF(Clasament!C$3:C$72=\"+\",ROW(Clasament!$B$3:$B$74)-ROW(Clasament!$B$3)+1),ROWS(Clasament!$B$3:'Clasament'!$B9))),\"\")","v":""},{"$f":"IFERROR(INDEX(Clasament!$BH$3:$BH$72,SMALL(IF(Clasament!D$3:D$72=\"+\",ROW(Clasament!$B$3:$B$74)-ROW(Clasament!$B$3)+1),ROWS(Clasament!$B$3:'Clasament'!$B9))),\"\")","v":""},{"$f":"IFERROR(INDEX(Clasament!$BH$3:$BH$72,SMALL(IF(Clasament!E$3:E$72=\"+\",ROW(Clasament!$B$3:$B$74)-ROW(Clasament!$B$3)+1),ROWS(Clasament!$B$3:'Clasament'!$B9))),\"\")","v":""},{"$f":"IFERROR(INDEX(Clasament!$BH$3:$BH$72,SMALL(IF(Clasament!F$3:F$72=\"+\",ROW(Clasament!$B$3:$B$74)-ROW(Clasament!$B$3)+1),ROWS(Clasament!$B$3:'Clasament'!$B9))),\"\")","v":""},{"$f":"IFERROR(INDEX(Clasament!$BH$3:$BH$72,SMALL(IF(Clasament!G$3:G$72=\"+\",ROW(Clasament!$B$3:$B$74)-ROW(Clasament!$B$3)+1),ROWS(Clasament!$B$3:'Clasament'!$B9))),\"\")","v":""},{"$f":"IFERROR(INDEX(Clasament!$BH$3:$BH$72,SMALL(IF(Clasament!H$3:H$72=\"+\",ROW(Clasament!$B$3:$B$74)-ROW(Clasament!$B$3)+1),ROWS(Clasament!$B$3:'Clasament'!$B9))),\"\")","v":""},{"$f":"IFERROR(INDEX(Clasament!$BH$3:$BH$72,SMALL(IF(Clasament!I$3:I$72=\"+\",ROW(Clasament!$B$3:$B$74)-ROW(Clasament!$B$3)+1),ROWS(Clasament!$B$3:'Clasament'!$B9))),\"\")","v":""},{"$f":"IFERROR(INDEX(Clasament!$BH$3:$BH$72,SMALL(IF(Clasament!J$3:J$72=\"+\",ROW(Clasament!$B$3:$B$74)-ROW(Clasament!$B$3)+1),ROWS(Clasament!$B$3:'Clasament'!$B9))),\"\")","v":""},{"$f":"IFERROR(INDEX(Clasament!$BH$3:$BH$72,SMALL(IF(Clasament!K$3:K$72=\"+\",ROW(Clasament!$B$3:$B$74)-ROW(Clasament!$B$3)+1),ROWS(Clasament!$B$3:'Clasament'!$B9))),\"\")","v":""},{"$f":"IFERROR(INDEX(Clasament!$BH$3:$BH$72,SMALL(IF(Clasament!L$3:L$72=\"+\",ROW(Clasament!$B$3:$B$74)-ROW(Clasament!$B$3)+1),ROWS(Clasament!$B$3:'Clasament'!$B9))),\"\")","v":""},{"$f":"IFERROR(INDEX(Clasament!$BH$3:$BH$72,SMALL(IF(Clasament!N$3:N$72=\"+\",ROW(Clasament!$B$3:$B$74)-ROW(Clasament!$B$3)+1),ROWS(Clasament!$B$3:'Clasament'!$B9))),\"\")","v":""},{"$f":"IFERROR(INDEX(Clasament!$BH$3:$BH$72,SMALL(IF(Clasament!O$3:O$72=\"+\",ROW(Clasament!$B$3:$B$74)-ROW(Clasament!$B$3)+1),ROWS(Clasament!$B$3:'Clasament'!$B9))),\"\")","v":""},{"$f":"IFERROR(INDEX(Clasament!$BH$3:$BH$72,SMALL(IF(Clasament!P$3:P$72=\"+\",ROW(Clasament!$B$3:$B$74)-ROW(Clasament!$B$3)+1),ROWS(Clasament!$B$3:'Clasament'!$B9))),\"\")","v":""},{"$f":"IFERROR(INDEX(Clasament!$BH$3:$BH$72,SMALL(IF(Clasament!Q$3:Q$72=\"+\",ROW(Clasament!$B$3:$B$74)-ROW(Clasament!$B$3)+1),ROWS(Clasament!$B$3:'Clasament'!$B9))),\"\")","v":""},{"$f":"IFERROR(INDEX(Clasament!$BH$3:$BH$72,SMALL(IF(Clasament!R$3:R$72=\"+\",ROW(Clasament!$B$3:$B$74)-ROW(Clasament!$B$3)+1),ROWS(Clasament!$B$3:'Clasament'!$B9))),\"\")","v":""},{"$f":"IFERROR(INDEX(Clasament!$BH$3:$BH$72,SMALL(IF(Clasament!S$3:S$72=\"+\",ROW(Clasament!$B$3:$B$74)-ROW(Clasament!$B$3)+1),ROWS(Clasament!$B$3:'Clasament'!$B9))),\"\")","v":""},{"$f":"IFERROR(INDEX(Clasament!$BH$3:$BH$72,SMALL(IF(Clasament!T$3:T$72=\"+\",ROW(Clasament!$B$3:$B$74)-ROW(Clasament!$B$3)+1),ROWS(Clasament!$B$3:'Clasament'!$B9))),\"\")","v":""},{"$f":"IFERROR(INDEX(Clasament!$BH$3:$BH$72,SMALL(IF(Clasament!U$3:U$72=\"+\",ROW(Clasament!$B$3:$B$74)-ROW(Clasament!$B$3)+1),ROWS(Clasament!$B$3:'Clasament'!$B9))),\"\")","v":""},{"$f":"IFERROR(INDEX(Clasament!$BH$3:$BH$72,SMALL(IF(Clasament!V$3:V$72=\"+\",ROW(Clasament!$B$3:$B$74)-ROW(Clasament!$B$3)+1),ROWS(Clasament!$B$3:'Clasament'!$B9))),\"\")","v":""},{"$f":"IFERROR(INDEX(Clasament!$BH$3:$BH$72,SMALL(IF(Clasament!W$3:W$72=\"+\",ROW(Clasament!$B$3:$B$74)-ROW(Clasament!$B$3)+1),ROWS(Clasament!$B$3:'Clasament'!$B9))),\"\")","v":""},{"$f":"IFERROR(INDEX(Clasament!$BH$3:$BH$72,SMALL(IF(Clasament!Y$3:Y$72=\"+\",ROW(Clasament!$B$3:$B$74)-ROW(Clasament!$B$3)+1),ROWS(Clasament!$B$3:'Clasament'!$B9))),\"\")","v":""},{"$f":"IFERROR(INDEX(Clasament!$BH$3:$BH$72,SMALL(IF(Clasament!Z$3:Z$72=\"+\",ROW(Clasament!$B$3:$B$74)-ROW(Clasament!$B$3)+1),ROWS(Clasament!$B$3:'Clasament'!$B9))),\"\")","v":""},{"$f":"IFERROR(INDEX(Clasament!$BH$3:$BH$72,SMALL(IF(Clasament!AA$3:AA$72=\"+\",ROW(Clasament!$B$3:$B$74)-ROW(Clasament!$B$3)+1),ROWS(Clasament!$B$3:'Clasament'!$B9))),\"\")","v":""},{"$f":"IFERROR(INDEX(Clasament!$BH$3:$BH$72,SMALL(IF(Clasament!AB$3:AB$72=\"+\",ROW(Clasament!$B$3:$B$74)-ROW(Clasament!$B$3)+1),ROWS(Clasament!$B$3:'Clasament'!$B9))),\"\")","v":""},{"$f":"IFERROR(INDEX(Clasament!$BH$3:$BH$72,SMALL(IF(Clasament!AC$3:AC$72=\"+\",ROW(Clasament!$B$3:$B$74)-ROW(Clasament!$B$3)+1),ROWS(Clasament!$B$3:'Clasament'!$B9))),\"\")","v":""},{"$f":"IFERROR(INDEX(Clasament!$BH$3:$BH$72,SMALL(IF(Clasament!AD$3:AD$72=\"+\",ROW(Clasament!$B$3:$B$74)-ROW(Clasament!$B$3)+1),ROWS(Clasament!$B$3:'Clasament'!$B9))),\"\")","v":""},{"$f":"IFERROR(INDEX(Clasament!$BH$3:$BH$72,SMALL(IF(Clasament!AE$3:AE$72=\"+\",ROW(Clasament!$B$3:$B$74)-ROW(Clasament!$B$3)+1),ROWS(Clasament!$B$3:'Clasament'!$B9))),\"\")","v":""},{"$f":"IFERROR(INDEX(Clasament!$BH$3:$BH$72,SMALL(IF(Clasament!AF$3:AF$72=\"+\",ROW(Clasament!$B$3:$B$74)-ROW(Clasament!$B$3)+1),ROWS(Clasament!$B$3:'Clasament'!$B9))),\"\")","v":""},{"$f":"IFERROR(INDEX(Clasament!$BH$3:$BH$72,SMALL(IF(Clasament!AG$3:AG$72=\"+\",ROW(Clasament!$B$3:$B$74)-ROW(Clasament!$B$3)+1),ROWS(Clasament!$B$3:'Clasament'!$B9))),\"\")","v":""},{"$f":"IFERROR(INDEX(Clasament!$BH$3:$BH$72,SMALL(IF(Clasament!AH$3:AH$72=\"+\",ROW(Clasament!$B$3:$B$74)-ROW(Clasament!$B$3)+1),ROWS(Clasament!$B$3:'Clasament'!$B9))),\"\")","v":""},{"$f":"IFERROR(INDEX(Clasament!$BH$3:$BH$72,SMALL(IF(Clasament!AJ$3:AJ$72=\"+\",ROW(Clasament!$B$3:$B$74)-ROW(Clasament!$B$3)+1),ROWS(Clasament!$B$3:'Clasament'!$B9))),\"\")","v":""},{"$f":"IFERROR(INDEX(Clasament!$BH$3:$BH$72,SMALL(IF(Clasament!AK$3:AK$72=\"+\",ROW(Clasament!$B$3:$B$74)-ROW(Clasament!$B$3)+1),ROWS(Clasament!$B$3:'Clasament'!$B9))),\"\")","v":""},{"$f":"IFERROR(INDEX(Clasament!$BH$3:$BH$72,SMALL(IF(Clasament!AL$3:AL$72=\"+\",ROW(Clasament!$B$3:$B$74)-ROW(Clasament!$B$3)+1),ROWS(Clasament!$B$3:'Clasament'!$B9))),\"\")","v":""},{"$f":"IFERROR(INDEX(Clasament!$BH$3:$BH$72,SMALL(IF(Clasament!AM$3:AM$72=\"+\",ROW(Clasament!$B$3:$B$74)-ROW(Clasament!$B$3)+1),ROWS(Clasament!$B$3:'Clasament'!$B9))),\"\")","v":""},{"$f":"IFERROR(INDEX(Clasament!$BH$3:$BH$72,SMALL(IF(Clasament!AN$3:AN$72=\"+\",ROW(Clasament!$B$3:$B$74)-ROW(Clasament!$B$3)+1),ROWS(Clasament!$B$3:'Clasament'!$B9))),\"\")","v":""},{"$f":"IFERROR(INDEX(Clasament!$BH$3:$BH$72,SMALL(IF(Clasament!AO$3:AO$72=\"+\",ROW(Clasament!$B$3:$B$74)-ROW(Clasament!$B$3)+1),ROWS(Clasament!$B$3:'Clasament'!$B9))),\"\")","v":""},{"$f":"IFERROR(INDEX(Clasament!$BH$3:$BH$72,SMALL(IF(Clasament!AP$3:AP$72=\"+\",ROW(Clasament!$B$3:$B$74)-ROW(Clasament!$B$3)+1),ROWS(Clasament!$B$3:'Clasament'!$B9))),\"\")","v":""},{"$f":"IFERROR(INDEX(Clasament!$BH$3:$BH$72,SMALL(IF(Clasament!AQ$3:AQ$72=\"+\",ROW(Clasament!$B$3:$B$74)-ROW(Clasament!$B$3)+1),ROWS(Clasament!$B$3:'Clasament'!$B9))),\"\")","v":""},{"$f":"IFERROR(INDEX(Clasament!$BH$3:$BH$72,SMALL(IF(Clasament!AR$3:AR$72=\"+\",ROW(Clasament!$B$3:$B$74)-ROW(Clasament!$B$3)+1),ROWS(Clasament!$B$3:'Clasament'!$B9))),\"\")","v":""},{"$f":"IFERROR(INDEX(Clasament!$BH$3:$BH$72,SMALL(IF(Clasament!AS$3:AS$72=\"+\",ROW(Clasament!$B$3:$B$74)-ROW(Clasament!$B$3)+1),ROWS(Clasament!$B$3:'Clasament'!$B9))),\"\")","v":""},{"$f":"IFERROR(INDEX(Clasament!$BH$3:$BH$72,SMALL(IF(Clasament!AU$3:AU$72=\"+\",ROW(Clasament!$B$3:$B$74)-ROW(Clasament!$B$3)+1),ROWS(Clasament!$B$3:'Clasament'!$B9))),\"\")","v":""},{"$f":"IFERROR(INDEX(Clasament!$BH$3:$BH$72,SMALL(IF(Clasament!AV$3:AV$72=\"+\",ROW(Clasament!$B$3:$B$74)-ROW(Clasament!$B$3)+1),ROWS(Clasament!$B$3:'Clasament'!$B9))),\"\")","v":""},{"$f":"IFERROR(INDEX(Clasament!$BH$3:$BH$72,SMALL(IF(Clasament!AW$3:AW$72=\"+\",ROW(Clasament!$B$3:$B$74)-ROW(Clasament!$B$3)+1),ROWS(Clasament!$B$3:'Clasament'!$B9))),\"\")","v":""},{"$f":"IFERROR(INDEX(Clasament!$BH$3:$BH$72,SMALL(IF(Clasament!AX$3:AX$72=\"+\",ROW(Clasament!$B$3:$B$74)-ROW(Clasament!$B$3)+1),ROWS(Clasament!$B$3:'Clasament'!$B9))),\"\")","v":""},{"$f":"IFERROR(INDEX(Clasament!$BH$3:$BH$72,SMALL(IF(Clasament!AY$3:AY$72=\"+\",ROW(Clasament!$B$3:$B$74)-ROW(Clasament!$B$3)+1),ROWS(Clasament!$B$3:'Clasament'!$B9))),\"\")","v":""},{"$f":"IFERROR(INDEX(Clasament!$BH$3:$BH$72,SMALL(IF(Clasament!AZ$3:AZ$72=\"+\",ROW(Clasament!$B$3:$B$74)-ROW(Clasament!$B$3)+1),ROWS(Clasament!$B$3:'Clasament'!$B9))),\"\")","v":""},{"$f":"IFERROR(INDEX(Clasament!$BH$3:$BH$72,SMALL(IF(Clasament!BA$3:BA$72=\"+\",ROW(Clasament!$B$3:$B$74)-ROW(Clasament!$B$3)+1),ROWS(Clasament!$B$3:'Clasament'!$B9))),\"\")","v":""},{"$f":"IFERROR(INDEX(Clasament!$BH$3:$BH$72,SMALL(IF(Clasament!BB$3:BB$72=\"+\",ROW(Clasament!$B$3:$B$74)-ROW(Clasament!$B$3)+1),ROWS(Clasament!$B$3:'Clasament'!$B9))),\"\")","v":""},{"$f":"IFERROR(INDEX(Clasament!$BH$3:$BH$72,SMALL(IF(Clasament!BC$3:BC$72=\"+\",ROW(Clasament!$B$3:$B$74)-ROW(Clasament!$B$3)+1),ROWS(Clasament!$B$3:'Clasament'!$B9))),\"\")","v":""},{"$f":"IFERROR(INDEX(Clasament!$BH$3:$BH$72,SMALL(IF(Clasament!BD$3:BD$72=\"+\",ROW(Clasament!$B$3:$B$74)-ROW(Clasament!$B$3)+1),ROWS(Clasament!$B$3:'Clasament'!$B9))),\"\")","v":""}]
[null,{"$f":"IFERROR(INDEX(Clasament!$BH$3:$BH$72,SMALL(IF(Clasament!C$3:C$72=\"+\",ROW(Clasament!$B$3:$B$74)-ROW(Clasament!$B$3)+1),ROWS(Clasament!$B$3:'Clasament'!$B10))),\"\")","v":""},{"$f":"IFERROR(INDEX(Clasament!$BH$3:$BH$72,SMALL(IF(Clasament!D$3:D$72=\"+\",ROW(Clasament!$B$3:$B$74)-ROW(Clasament!$B$3)+1),ROWS(Clasament!$B$3:'Clasament'!$B10))),\"\")","v":""},{"$f":"IFERROR(INDEX(Clasament!$BH$3:$BH$72,SMALL(IF(Clasament!E$3:E$72=\"+\",ROW(Clasament!$B$3:$B$74)-ROW(Clasament!$B$3)+1),ROWS(Clasament!$B$3:'Clasament'!$B10))),\"\")","v":""},{"$f":"IFERROR(INDEX(Clasament!$BH$3:$BH$72,SMALL(IF(Clasament!F$3:F$72=\"+\",ROW(Clasament!$B$3:$B$74)-ROW(Clasament!$B$3)+1),ROWS(Clasament!$B$3:'Clasament'!$B10))),\"\")","v":""},{"$f":"IFERROR(INDEX(Clasament!$BH$3:$BH$72,SMALL(IF(Clasament!G$3:G$72=\"+\",ROW(Clasament!$B$3:$B$74)-ROW(Clasament!$B$3)+1),ROWS(Clasament!$B$3:'Clasament'!$B10))),\"\")","v":""},{"$f":"IFERROR(INDEX(Clasament!$BH$3:$BH$72,SMALL(IF(Clasament!H$3:H$72=\"+\",ROW(Clasament!$B$3:$B$74)-ROW(Clasament!$B$3)+1),ROWS(Clasament!$B$3:'Clasament'!$B10))),\"\")","v":""},{"$f":"IFERROR(INDEX(Clasament!$BH$3:$BH$72,SMALL(IF(Clasament!I$3:I$72=\"+\",ROW(Clasament!$B$3:$B$74)-ROW(Clasament!$B$3)+1),ROWS(Clasament!$B$3:'Clasament'!$B10))),\"\")","v":""},{"$f":"IFERROR(INDEX(Clasament!$BH$3:$BH$72,SMALL(IF(Clasament!J$3:J$72=\"+\",ROW(Clasament!$B$3:$B$74)-ROW(Clasament!$B$3)+1),ROWS(Clasament!$B$3:'Clasament'!$B10))),\"\")","v":""},{"$f":"IFERROR(INDEX(Clasament!$BH$3:$BH$72,SMALL(IF(Clasament!K$3:K$72=\"+\",ROW(Clasament!$B$3:$B$74)-ROW(Clasament!$B$3)+1),ROWS(Clasament!$B$3:'Clasament'!$B10))),\"\")","v":""},{"$f":"IFERROR(INDEX(Clasament!$BH$3:$BH$72,SMALL(IF(Clasament!L$3:L$72=\"+\",ROW(Clasament!$B$3:$B$74)-ROW(Clasament!$B$3)+1),ROWS(Clasament!$B$3:'Clasament'!$B10))),\"\")","v":""},{"$f":"IFERROR(INDEX(Clasament!$BH$3:$BH$72,SMALL(IF(Clasament!N$3:N$72=\"+\",ROW(Clasament!$B$3:$B$74)-ROW(Clasament!$B$3)+1),ROWS(Clasament!$B$3:'Clasament'!$B10))),\"\")","v":""},{"$f":"IFERROR(INDEX(Clasament!$BH$3:$BH$72,SMALL(IF(Clasament!O$3:O$72=\"+\",ROW(Clasament!$B$3:$B$74)-ROW(Clasament!$B$3)+1),ROWS(Clasament!$B$3:'Clasament'!$B10))),\"\")","v":""},{"$f":"IFERROR(INDEX(Clasament!$BH$3:$BH$72,SMALL(IF(Clasament!P$3:P$72=\"+\",ROW(Clasament!$B$3:$B$74)-ROW(Clasament!$B$3)+1),ROWS(Clasament!$B$3:'Clasament'!$B10))),\"\")","v":""},{"$f":"IFERROR(INDEX(Clasament!$BH$3:$BH$72,SMALL(IF(Clasament!Q$3:Q$72=\"+\",ROW(Clasament!$B$3:$B$74)-ROW(Clasament!$B$3)+1),ROWS(Clasament!$B$3:'Clasament'!$B10))),\"\")","v":""},{"$f":"IFERROR(INDEX(Clasament!$BH$3:$BH$72,SMALL(IF(Clasament!R$3:R$72=\"+\",ROW(Clasament!$B$3:$B$74)-ROW(Clasament!$B$3)+1),ROWS(Clasament!$B$3:'Clasament'!$B10))),\"\")","v":""},{"$f":"IFERROR(INDEX(Clasament!$BH$3:$BH$72,SMALL(IF(Clasament!S$3:S$72=\"+\",ROW(Clasament!$B$3:$B$74)-ROW(Clasament!$B$3)+1),ROWS(Clasament!$B$3:'Clasament'!$B10))),\"\")","v":""},{"$f":"IFERROR(INDEX(Clasament!$BH$3:$BH$72,SMALL(IF(Clasament!T$3:T$72=\"+\",ROW(Clasament!$B$3:$B$74)-ROW(Clasament!$B$3)+1),ROWS(Clasament!$B$3:'Clasament'!$B10))),\"\")","v":""},{"$f":"IFERROR(INDEX(Clasament!$BH$3:$BH$72,SMALL(IF(Clasament!U$3:U$72=\"+\",ROW(Clasament!$B$3:$B$74)-ROW(Clasament!$B$3)+1),ROWS(Clasament!$B$3:'Clasament'!$B10))),\"\")","v":""},{"$f":"IFERROR(INDEX(Clasament!$BH$3:$BH$72,SMALL(IF(Clasament!V$3:V$72=\"+\",ROW(Clasament!$B$3:$B$74)-ROW(Clasament!$B$3)+1),ROWS(Clasament!$B$3:'Clasament'!$B10))),\"\")","v":""},{"$f":"IFERROR(INDEX(Clasament!$BH$3:$BH$72,SMALL(IF(Clasament!W$3:W$72=\"+\",ROW(Clasament!$B$3:$B$74)-ROW(Clasament!$B$3)+1),ROWS(Clasament!$B$3:'Clasament'!$B10))),\"\")","v":""},{"$f":"IFERROR(INDEX(Clasament!$BH$3:$BH$72,SMALL(IF(Clasament!Y$3:Y$72=\"+\",ROW(Clasament!$B$3:$B$74)-ROW(Clasament!$B$3)+1),ROWS(Clasament!$B$3:'Clasament'!$B10))),\"\")","v":""},{"$f":"IFERROR(INDEX(Clasament!$BH$3:$BH$72,SMALL(IF(Clasament!Z$3:Z$72=\"+\",ROW(Clasament!$B$3:$B$74)-ROW(Clasament!$B$3)+1),ROWS(Clasament!$B$3:'Clasament'!$B10))),\"\")","v":""},{"$f":"IFERROR(INDEX(Clasament!$BH$3:$BH$72,SMALL(IF(Clasament!AA$3:AA$72=\"+\",ROW(Clasament!$B$3:$B$74)-ROW(Clasament!$B$3)+1),ROWS(Clasament!$B$3:'Clasament'!$B10))),\"\")","v":""},{"$f":"IFERROR(INDEX(Clasament!$BH$3:$BH$72,SMALL(IF(Clasament!AB$3:AB$72=\"+\",ROW(Clasament!$B$3:$B$74)-ROW(Clasament!$B$3)+1),ROWS(Clasament!$B$3:'Clasament'!$B10))),\"\")","v":""},{"$f":"IFERROR(INDEX(Clasament!$BH$3:$BH$72,SMALL(IF(Clasament!AC$3:AC$72=\"+\",ROW(Clasament!$B$3:$B$74)-ROW(Clasament!$B$3)+1),ROWS(Clasament!$B$3:'Clasament'!$B10))),\"\")","v":""},{"$f":"IFERROR(INDEX(Clasament!$BH$3:$BH$72,SMALL(IF(Clasament!AD$3:AD$72=\"+\",ROW(Clasament!$B$3:$B$74)-ROW(Clasament!$B$3)+1),ROWS(Clasament!$B$3:'Clasament'!$B10))),\"\")","v":""},{"$f":"IFERROR(INDEX(Clasament!$BH$3:$BH$72,SMALL(IF(Clasament!AE$3:AE$72=\"+\",ROW(Clasament!$B$3:$B$74)-ROW(Clasament!$B$3)+1),ROWS(Clasament!$B$3:'Clasament'!$B10))),\"\")","v":""},{"$f":"IFERROR(INDEX(Clasament!$BH$3:$BH$72,SMALL(IF(Clasament!AF$3:AF$72=\"+\",ROW(Clasament!$B$3:$B$74)-ROW(Clasament!$B$3)+1),ROWS(Clasament!$B$3:'Clasament'!$B10))),\"\")","v":""},{"$f":"IFERROR(INDEX(Clasament!$BH$3:$BH$72,SMALL(IF(Clasament!AG$3:AG$72=\"+\",ROW(Clasament!$B$3:$B$74)-ROW(Clasament!$B$3)+1),ROWS(Clasament!$B$3:'Clasament'!$B10))),\"\")","v":""},{"$f":"IFERROR(INDEX(Clasament!$BH$3:$BH$72,SMALL(IF(Clasament!AH$3:AH$72=\"+\",ROW(Clasament!$B$3:$B$74)-ROW(Clasament!$B$3)+1),ROWS(Clasament!$B$3:'Clasament'!$B10))),\"\")","v":""},{"$f":"IFERROR(INDEX(Clasament!$BH$3:$BH$72,SMALL(IF(Clasament!AJ$3:AJ$72=\"+\",ROW(Clasament!$B$3:$B$74)-ROW(Clasament!$B$3)+1),ROWS(Clasament!$B$3:'Clasament'!$B10))),\"\")","v":""},{"$f":"IFERROR(INDEX(Clasament!$BH$3:$BH$72,SMALL(IF(Clasament!AK$3:AK$72=\"+\",ROW(Clasament!$B$3:$B$74)-ROW(Clasament!$B$3)+1),ROWS(Clasament!$B$3:'Clasament'!$B10))),\"\")","v":""},{"$f":"IFERROR(INDEX(Clasament!$BH$3:$BH$72,SMALL(IF(Clasament!AL$3:AL$72=\"+\",ROW(Clasament!$B$3:$B$74)-ROW(Clasament!$B$3)+1),ROWS(Clasament!$B$3:'Clasament'!$B10))),\"\")","v":""},{"$f":"IFERROR(INDEX(Clasament!$BH$3:$BH$72,SMALL(IF(Clasament!AM$3:AM$72=\"+\",ROW(Clasament!$B$3:$B$74)-ROW(Clasament!$B$3)+1),ROWS(Clasament!$B$3:'Clasament'!$B10))),\"\")","v":""},{"$f":"IFERROR(INDEX(Clasament!$BH$3:$BH$72,SMALL(IF(Clasament!AN$3:AN$72=\"+\",ROW(Clasament!$B$3:$B$74)-ROW(Clasament!$B$3)+1),ROWS(Clasament!$B$3:'Clasament'!$B10))),\"\")","v":""},{"$f":"IFERROR(INDEX(Clasament!$BH$3:$BH$72,SMALL(IF(Clasament!AO$3:AO$72=\"+\",ROW(Clasament!$B$3:$B$74)-ROW(Clasament!$B$3)+1),ROWS(Clasament!$B$3:'Clasament'!$B10))),\"\")","v":""},{"$f":"IFERROR(INDEX(Clasament!$BH$3:$BH$72,SMALL(IF(Clasament!AP$3:AP$72=\"+\",ROW(Clasament!$B$3:$B$74)-ROW(Clasament!$B$3)+1),ROWS(Clasament!$B$3:'Clasament'!$B10))),\"\")","v":""},{"$f":"IFERROR(INDEX(Clasament!$BH$3:$BH$72,SMALL(IF(Clasament!AQ$3:AQ$72=\"+\",ROW(Clasament!$B$3:$B$74)-ROW(Clasament!$B$3)+1),ROWS(Clasament!$B$3:'Clasament'!$B10))),\"\")","v":""},{"$f":"IFERROR(INDEX(Clasament!$BH$3:$BH$72,SMALL(IF(Clasament!AR$3:AR$72=\"+\",ROW(Clasament!$B$3:$B$74)-ROW(Clasament!$B$3)+1),ROWS(Clasament!$B$3:'Clasament'!$B10))),\"\")","v":""},{"$f":"IFERROR(INDEX(Clasament!$BH$3:$BH$72,SMALL(IF(Clasament!AS$3:AS$72=\"+\",ROW(Clasament!$B$3:$B$74)-ROW(Clasament!$B$3)+1),ROWS(Clasament!$B$3:'Clasament'!$B10))),\"\")","v":""},{"$f":"IFERROR(INDEX(Clasament!$BH$3:$BH$72,SMALL(IF(Clasament!AU$3:AU$72=\"+\",ROW(Clasament!$B$3:$B$74)-ROW(Clasament!$B$3)+1),ROWS(Clasament!$B$3:'Clasament'!$B10))),\"\")","v":""},{"$f":"IFERROR(INDEX(Clasament!$BH$3:$BH$72,SMALL(IF(Clasament!AV$3:AV$72=\"+\",ROW(Clasament!$B$3:$B$74)-ROW(Clasament!$B$3)+1),ROWS(Clasament!$B$3:'Clasament'!$B10))),\"\")","v":""},{"$f":"IFERROR(INDEX(Clasament!$BH$3:$BH$72,SMALL(IF(Clasament!AW$3:AW$72=\"+\",ROW(Clasament!$B$3:$B$74)-ROW(Clasament!$B$3)+1),ROWS(Clasament!$B$3:'Clasament'!$B10))),\"\")","v":""},{"$f":"IFERROR(INDEX(Clasament!$BH$3:$BH$72,SMALL(IF(Clasament!AX$3:AX$72=\"+\",ROW(Clasament!$B$3:$B$74)-ROW(Clasament!$B$3)+1),ROWS(Clasament!$B$3:'Clasament'!$B10))),\"\")","v":""},{"$f":"IFERROR(INDEX(Clasament!$BH$3:$BH$72,SMALL(IF(Clasament!AY$3:AY$72=\"+\",ROW(Clasament!$B$3:$B$74)-ROW(Clasament!$B$3)+1),ROWS(Clasament!$B$3:'Clasament'!$B10))),\"\")","v":""},{"$f":"IFERROR(INDEX(Clasament!$BH$3:$BH$72,SMALL(IF(Clasament!AZ$3:AZ$72=\"+\",ROW(Clasament!$B$3:$B$74)-ROW(Clasament!$B$3)+1),ROWS(Clasament!$B$3:'Clasament'!$B10))),\"\")","v":""},{"$f":"IFERROR(INDEX(Clasament!$BH$3:$BH$72,SMALL(IF(Clasament!BA$3:BA$72=\"+\",ROW(Clasament!$B$3:$B$74)-ROW(Clasament!$B$3)+1),ROWS(Clasament!$B$3:'Clasament'!$B10))),\"\")","v":""},{"$f":"IFERROR(INDEX(Clasament!$BH$3:$BH$72,SMALL(IF(Clasament!BB$3:BB$72=\"+\",ROW(Clasament!$B$3:$B$74)-ROW(Clasament!$B$3)+1),ROWS(Clasament!$B$3:'Clasament'!$B10))),\"\")","v":""},{"$f":"IFERROR(INDEX(Clasament!$BH$3:$BH$72,SMALL(IF(Clasament!BC$3:BC$72=\"+\",ROW(Clasament!$B$3:$B$74)-ROW(Clasament!$B$3)+1),ROWS(Clasament!$B$3:'Clasament'!$B10))),\"\")","v":""},{"$f":"IFERROR(INDEX(Clasament!$BH$3:$BH$72,SMALL(IF(Clasament!BD$3:BD$72=\"+\",ROW(Clasament!$B$3:$B$74)-ROW(Clasament!$B$3)+1),ROWS(Clasament!$B$3:'Clasament'!$B10))),\"\")","v":""}]
[null,{"$f":"IFERROR(INDEX(Clasament!$BH$3:$BH$72,SMALL(IF(Clasament!C$3:C$72=\"+\",ROW(Clasament!$B$3:$B$74)-ROW(Clasament!$B$3)+1),ROWS(Clasament!$B$3:'Clasament'!$B11))),\"\")","v":""},{"$f":"IFERROR(INDEX(Clasament!$BH$3:$BH$72,SMALL(IF(Clasament!D$3:D$72=\"+\",ROW(Clasament!$B$3:$B$74)-ROW(Clasament!$B$3)+1),ROWS(Clasament!$B$3:'Clasament'!$B11))),\"\")","v":""},{"$f":"IFERROR(INDEX(Clasament!$BH$3:$BH$72,SMALL(IF(Clasament!E$3:E$72=\"+\",ROW(Clasament!$B$3:$B$74)-ROW(Clasament!$B$3)+1),ROWS(Clasament!$B$3:'Clasament'!$B11))),\"\")","v":""},{"$f":"IFERROR(INDEX(Clasament!$BH$3:$BH$72,SMALL(IF(Clasament!F$3:F$72=\"+\",ROW(Clasament!$B$3:$B$74)-ROW(Clasament!$B$3)+1),ROWS(Clasament!$B$3:'Clasament'!$B11))),\"\")","v":""},{"$f":"IFERROR(INDEX(Clasament!$BH$3:$BH$72,SMALL(IF(Clasament!G$3:G$72=\"+\",ROW(Clasament!$B$3:$B$74)-ROW(Clasament!$B$3)+1),ROWS(Clasament!$B$3:'Clasament'!$B11))),\"\")","v":""},{"$f":"IFERROR(INDEX(Clasament!$BH$3:$BH$72,SMALL(IF(Clasament!H$3:H$72=\"+\",ROW(Clasament!$B$3:$B$74)-ROW(Clasament!$B$3)+1),ROWS(Clasament!$B$3:'Clasament'!$B11))),\"\")","v":""},{"$f":"IFERROR(INDEX(Clasament!$BH$3:$BH$72,SMALL(IF(Clasament!I$3:I$72=\"+\",ROW(Clasament!$B$3:$B$74)-ROW(Clasament!$B$3)+1),ROWS(Clasament!$B$3:'Clasament'!$B11))),\"\")","v":""},{"$f":"IFERROR(INDEX(Clasament!$BH$3:$BH$72,SMALL(IF(Clasament!J$3:J$72=\"+\",ROW(Clasament!$B$3:$B$74)-ROW(Clasament!$B$3)+1),ROWS(Clasament!$B$3:'Clasament'!$B11))),\"\")","v":""},{"$f":"IFERROR(INDEX(Clasament!$BH$3:$BH$72,SMALL(IF(Clasament!K$3:K$72=\"+\",ROW(Clasament!$B$3:$B$74)-ROW(Clasament!$B$3)+1),ROWS(Clasament!$B$3:'Clasament'!$B11))),\"\")","v":""},{"$f":"IFERROR(INDEX(Clasament!$BH$3:$BH$72,SMALL(IF(Clasament!L$3:L$72=\"+\",ROW(Clasament!$B$3:$B$74)-ROW(Clasament!$B$3)+1),ROWS(Clasament!$B$3:'Clasament'!$B11))),\"\")","v":""},{"$f":"IFERROR(INDEX(Clasament!$BH$3:$BH$72,SMALL(IF(Clasament!N$3:N$72=\"+\",ROW(Clasament!$B$3:$B$74)-ROW(Clasament!$B$3)+1),ROWS(Clasament!$B$3:'Clasament'!$B11))),\"\")","v":""},{"$f":"IFERROR(INDEX(Clasament!$BH$3:$BH$72,SMALL(IF(Clasament!O$3:O$72=\"+\",ROW(Clasament!$B$3:$B$74)-ROW(Clasament!$B$3)+1),ROWS(Clasament!$B$3:'Clasament'!$B11))),\"\")","v":""},{"$f":"IFERROR(INDEX(Clasament!$BH$3:$BH$72,SMALL(IF(Clasament!P$3:P$72=\"+\",ROW(Clasament!$B$3:$B$74)-ROW(Clasament!$B$3)+1),ROWS(Clasament!$B$3:'Clasament'!$B11))),\"\")","v":""},{"$f":"IFERROR(INDEX(Clasament!$BH$3:$BH$72,SMALL(IF(Clasament!Q$3:Q$72=\"+\",ROW(Clasament!$B$3:$B$74)-ROW(Clasament!$B$3)+1),ROWS(Clasament!$B$3:'Clasament'!$B11))),\"\")","v":""},{"$f":"IFERROR(INDEX(Clasament!$BH$3:$BH$72,SMALL(IF(Clasament!R$3:R$72=\"+\",ROW(Clasament!$B$3:$B$74)-ROW(Clasament!$B$3)+1),ROWS(Clasament!$B$3:'Clasament'!$B11))),\"\")","v":""},{"$f":"IFERROR(INDEX(Clasament!$BH$3:$BH$72,SMALL(IF(Clasament!S$3:S$72=\"+\",ROW(Clasament!$B$3:$B$74)-ROW(Clasament!$B$3)+1),ROWS(Clasament!$B$3:'Clasament'!$B11))),\"\")","v":""},{"$f":"IFERROR(INDEX(Clasament!$BH$3:$BH$72,SMALL(IF(Clasament!T$3:T$72=\"+\",ROW(Clasament!$B$3:$B$74)-ROW(Clasament!$B$3)+1),ROWS(Clasament!$B$3:'Clasament'!$B11))),\"\")","v":""},{"$f":"IFERROR(INDEX(Clasament!$BH$3:$BH$72,SMALL(IF(Clasament!U$3:U$72=\"+\",ROW(Clasament!$B$3:$B$74)-ROW(Clasament!$B$3)+1),ROWS(Clasament!$B$3:'Clasament'!$B11))),\"\")","v":""},{"$f":"IFERROR(INDEX(Clasament!$BH$3:$BH$72,SMALL(IF(Clasament!V$3:V$72=\"+\",ROW(Clasament!$B$3:$B$74)-ROW(Clasament!$B$3)+1),ROWS(Clasament!$B$3:'Clasament'!$B11))),\"\")","v":""},{"$f":"IFERROR(INDEX(Clasament!$BH$3:$BH$72,SMALL(IF(Clasament!W$3:W$72=\"+\",ROW(Clasament!$B$3:$B$74)-ROW(Clasament!$B$3)+1),ROWS(Clasament!$B$3:'Clasament'!$B11))),\"\")","v":""},{"$f":"IFERROR(INDEX(Clasament!$BH$3:$BH$72,SMALL(IF(Clasament!Y$3:Y$72=\"+\",ROW(Clasament!$B$3:$B$74)-ROW(Clasament!$B$3)+1),ROWS(Clasament!$B$3:'Clasament'!$B11))),\"\")","v":""},{"$f":"IFERROR(INDEX(Clasament!$BH$3:$BH$72,SMALL(IF(Clasament!Z$3:Z$72=\"+\",ROW(Clasament!$B$3:$B$74)-ROW(Clasament!$B$3)+1),ROWS(Clasament!$B$3:'Clasament'!$B11))),\"\")","v":""},{"$f":"IFERROR(INDEX(Clasament!$BH$3:$BH$72,SMALL(IF(Clasament!AA$3:AA$72=\"+\",ROW(Clasament!$B$3:$B$74)-ROW(Clasament!$B$3)+1),ROWS(Clasament!$B$3:'Clasament'!$B11))),\"\")","v":""},{"$f":"IFERROR(INDEX(Clasament!$BH$3:$BH$72,SMALL(IF(Clasament!AB$3:AB$72=\"+\",ROW(Clasament!$B$3:$B$74)-ROW(Clasament!$B$3)+1),ROWS(Clasament!$B$3:'Clasament'!$B11))),\"\")","v":""},{"$f":"IFERROR(INDEX(Clasament!$BH$3:$BH$72,SMALL(IF(Clasament!AC$3:AC$72=\"+\",ROW(Clasament!$B$3:$B$74)-ROW(Clasament!$B$3)+1),ROWS(Clasament!$B$3:'Clasament'!$B11))),\"\")","v":""},{"$f":"IFERROR(INDEX(Clasament!$BH$3:$BH$72,SMALL(IF(Clasament!AD$3:AD$72=\"+\",ROW(Clasament!$B$3:$B$74)-ROW(Clasament!$B$3)+1),ROWS(Clasament!$B$3:'Clasament'!$B11))),\"\")","v":""},{"$f":"IFERROR(INDEX(Clasament!$BH$3:$BH$72,SMALL(IF(Clasament!AE$3:AE$72=\"+\",ROW(Clasament!$B$3:$B$74)-ROW(Clasament!$B$3)+1),ROWS(Clasament!$B$3:'Clasament'!$B11))),\"\")","v":""},{"$f":"IFERROR(INDEX(Clasament!$BH$3:$BH$72,SMALL(IF(Clasament!AF$3:AF$72=\"+\",ROW(Clasament!$B$3:$B$74)-ROW(Clasament!$B$3)+1),ROWS(Clasament!$B$3:'Clasament'!$B11))),\"\")","v":""},{"$f":"IFERROR(INDEX(Clasament!$BH$3:$BH$72,SMALL(IF(Clasament!AG$3:AG$72=\"+\",ROW(Clasament!$B$3:$B$74)-ROW(Clasament!$B$3)+1),ROWS(Clasament!$B$3:'Clasament'!$B11))),\"\")","v":""},{"$f":"IFERROR(INDEX(Clasament!$BH$3:$BH$72,SMALL(IF(Clasament!AH$3:AH$72=\"+\",ROW(Clasament!$B$3:$B$74)-ROW(Clasament!$B$3)+1),ROWS(Clasament!$B$3:'Clasament'!$B11))),\"\")","v":""},{"$f":"IFERROR(INDEX(Clasament!$BH$3:$BH$72,SMALL(IF(Clasament!AJ$3:AJ$72=\"+\",ROW(Clasament!$B$3:$B$74)-ROW(Clasament!$B$3)+1),ROWS(Clasament!$B$3:'Clasament'!$B11))),\"\")","v":""},{"$f":"IFERROR(INDEX(Clasament!$BH$3:$BH$72,SMALL(IF(Clasament!AK$3:AK$72=\"+\",ROW(Clasament!$B$3:$B$74)-ROW(Clasament!$B$3)+1),ROWS(Clasament!$B$3:'Clasament'!$B11))),\"\")","v":""},{"$f":"IFERROR(INDEX(Clasament!$BH$3:$BH$72,SMALL(IF(Clasament!AL$3:AL$72=\"+\",ROW(Clasament!$B$3:$B$74)-ROW(Clasament!$B$3)+1),ROWS(Clasament!$B$3:'Clasament'!$B11))),\"\")","v":""},{"$f":"IFERROR(INDEX(Clasament!$BH$3:$BH$72,SMALL(IF(Clasament!AM$3:AM$72=\"+\",ROW(Clasament!$B$3:$B$74)-ROW(Clasament!$B$3)+1),ROWS(Clasament!$B$3:'Clasament'!$B11))),\"\")","v":""},{"$f":"IFERROR(INDEX(Clasament!$BH$3:$BH$72,SMALL(IF(Clasament!AN$3:AN$72=\"+\",ROW(Clasament!$B$3:$B$74)-ROW(Clasament!$B$3)+1),ROWS(Clasament!$B$3:'Clasament'!$B11))),\"\")","v":""},{"$f":"IFERROR(INDEX(Clasament!$BH$3:$BH$72,SMALL(IF(Clasament!AO$3:AO$72=\"+\",ROW(Clasament!$B$3:$B$74)-ROW(Clasament!$B$3)+1),ROWS(Clasament!$B$3:'Clasament'!$B11))),\"\")","v":""},{"$f":"IFERROR(INDEX(Clasament!$BH$3:$BH$72,SMALL(IF(Clasament!AP$3:AP$72=\"+\",ROW(Clasament!$B$3:$B$74)-ROW(Clasament!$B$3)+1),ROWS(Clasament!$B$3:'Clasament'!$B11))),\"\")","v":""},{"$f":"IFERROR(INDEX(Clasament!$BH$3:$BH$72,SMALL(IF(Clasament!AQ$3:AQ$72=\"+\",ROW(Clasament!$B$3:$B$74)-ROW(Clasament!$B$3)+1),ROWS(Clasament!$B$3:'Clasament'!$B11))),\"\")","v":""},{"$f":"IFERROR(INDEX(Clasament!$BH$3:$BH$72,SMALL(IF(Clasament!AR$3:AR$72=\"+\",ROW(Clasament!$B$3:$B$74)-ROW(Clasament!$B$3)+1),ROWS(Clasament!$B$3:'Clasament'!$B11))),\"\")","v":""},{"$f":"IFERROR(INDEX(Clasament!$BH$3:$BH$72,SMALL(IF(Clasament!AS$3:AS$72=\"+\",ROW(Clasament!$B$3:$B$74)-ROW(Clasament!$B$3)+1),ROWS(Clasament!$B$3:'Clasament'!$B11))),\"\")","v":""},{"$f":"IFERROR(INDEX(Clasament!$BH$3:$BH$72,SMALL(IF(Clasament!AU$3:AU$72=\"+\",ROW(Clasament!$B$3:$B$74)-ROW(Clasament!$B$3)+1),ROWS(Clasament!$B$3:'Clasament'!$B11))),\"\")","v":""},{"$f":"IFERROR(INDEX(Clasament!$BH$3:$BH$72,SMALL(IF(Clasament!AV$3:AV$72=\"+\",ROW(Clasament!$B$3:$B$74)-ROW(Clasament!$B$3)+1),ROWS(Clasament!$B$3:'Clasament'!$B11))),\"\")","v":""},{"$f":"IFERROR(INDEX(Clasament!$BH$3:$BH$72,SMALL(IF(Clasament!AW$3:AW$72=\"+\",ROW(Clasament!$B$3:$B$74)-ROW(Clasament!$B$3)+1),ROWS(Clasament!$B$3:'Clasament'!$B11))),\"\")","v":""},{"$f":"IFERROR(INDEX(Clasament!$BH$3:$BH$72,SMALL(IF(Clasament!AX$3:AX$72=\"+\",ROW(Clasament!$B$3:$B$74)-ROW(Clasament!$B$3)+1),ROWS(Clasament!$B$3:'Clasament'!$B11))),\"\")","v":""},{"$f":"IFERROR(INDEX(Clasament!$BH$3:$BH$72,SMALL(IF(Clasament!AY$3:AY$72=\"+\",ROW(Clasament!$B$3:$B$74)-ROW(Clasament!$B$3)+1),ROWS(Clasament!$B$3:'Clasament'!$B11))),\"\")","v":""},{"$f":"IFERROR(INDEX(Clasament!$BH$3:$BH$72,SMALL(IF(Clasament!AZ$3:AZ$72=\"+\",ROW(Clasament!$B$3:$B$74)-ROW(Clasament!$B$3)+1),ROWS(Clasament!$B$3:'Clasament'!$B11))),\"\")","v":""},{"$f":"IFERROR(INDEX(Clasament!$BH$3:$BH$72,SMALL(IF(Clasament!BA$3:BA$72=\"+\",ROW(Clasament!$B$3:$B$74)-ROW(Clasament!$B$3)+1),ROWS(Clasament!$B$3:'Clasament'!$B11))),\"\")","v":""},{"$f":"IFERROR(INDEX(Clasament!$BH$3:$BH$72,SMALL(IF(Clasament!BB$3:BB$72=\"+\",ROW(Clasament!$B$3:$B$74)-ROW(Clasament!$B$3)+1),ROWS(Clasament!$B$3:'Clasament'!$B11))),\"\")","v":""},{"$f":"IFERROR(INDEX(Clasament!$BH$3:$BH$72,SMALL(IF(Clasament!BC$3:BC$72=\"+\",ROW(Clasament!$B$3:$B$74)-ROW(Clasament!$B$3)+1),ROWS(Clasament!$B$3:'Clasament'!$B11))),\"\")","v":""},{"$f":"IFERROR(INDEX(Clasament!$BH$3:$BH$72,SMALL(IF(Clasament!BD$3:BD$72=\"+\",ROW(Clasament!$B$3:$B$74)-ROW(Clasament!$B$3)+1),ROWS(Clasament!$B$3:'Clasament'!$B11))),\"\")","v":""}]
[null,{"$f":"IFERROR(INDEX(Clasament!$BH$3:$BH$72,SMALL(IF(Clasament!C$3:C$72=\"+\",ROW(Clasament!$B$3:$B$74)-ROW(Clasament!$B$3)+1),ROWS(Clasament!$B$3:'Clasament'!$B12))),\"\")","v":""},{"$f":"IFERROR(INDEX(Clasament!$BH$3:$BH$72,SMALL(IF(Clasament!D$3:D$72=\"+\",ROW(Clasament!$B$3:$B$74)-ROW(Clasament!$B$3)+1),ROWS(Clasament!$B$3:'Clasament'!$B12))),\"\")","v":""},{"$f":"IFERROR(INDEX(Clasament!$BH$3:$BH$72,SMALL(IF(Clasament!E$3:E$72=\"+\",ROW(Clasament!$B$3:$B$74)-ROW(Clasament!$B$3)+1),ROWS(Clasament!$B$3:'Clasament'!$B12))),\"\")","v":""},{"$f":"IFERROR(INDEX(Clasament!$BH$3:$BH$72,SMALL(IF(Clasament!F$3:F$72=\"+\",ROW(Clasament!$B$3:$B$74)-ROW(Clasament!$B$3)+1),ROWS(Clasament!$B$3:'Clasament'!$B12))),\"\")","v":""},{"$f":"IFERROR(INDEX(Clasament!$BH$3:$BH$72,SMALL(IF(Clasament!G$3:G$72=\"+\",ROW(Clasament!$B$3:$B$74)-ROW(Clasament!$B$3)+1),ROWS(Clasament!$B$3:'Clasament'!$B12))),\"\")","v":""},{"$f":"IFERROR(INDEX(Clasament!$BH$3:$BH$72,SMALL(IF(Clasament!H$3:H$72=\"+\",ROW(Clasament!$B$3:$B$74)-ROW(Clasament!$B$3)+1),ROWS(Clasament!$B$3:'Clasament'!$B12))),\"\")","v":""},{"$f":"IFERROR(INDEX(Clasament!$BH$3:$BH$72,SMALL(IF(Clasament!I$3:I$72=\"+\",ROW(Clasament!$B$3:$B$74)-ROW(Clasament!$B$3)+1),ROWS(Clasament!$B$3:'Clasament'!$B12))),\"\")","v":""},{"$f":"IFERROR(INDEX(Clasament!$BH$3:$BH$72,SMALL(IF(Clasament!J$3:J$72=\"+\",ROW(Clasament!$B$3:$B$74)-ROW(Clasament!$B$3)+1),ROWS(Clasament!$B$3:'Clasament'!$B12))),\"\")","v":""},{"$f":"IFERROR(INDEX(Clasament!$BH$3:$BH$72,SMALL(IF(Clasament!K$3:K$72=\"+\",ROW(Clasament!$B$3:$B$74)-ROW(Clasament!$B$3)+1),ROWS(Clasament!$B$3:'Clasament'!$B12))),\"\")","v":""},{"$f":"IFERROR(INDEX(Clasament!$BH$3:$BH$72,SMALL(IF(Clasament!L$3:L$72=\"+\",ROW(Clasament!$B$3:$B$74)-ROW(Clasament!$B$3)+1),ROWS(Clasament!$B$3:'Clasament'!$B12))),\"\")","v":""},{"$f":"IFERROR(INDEX(Clasament!$BH$3:$BH$72,SMALL(IF(Clasament!N$3:N$72=\"+\",ROW(Clasament!$B$3:$B$74)-ROW(Clasament!$B$3)+1),ROWS(Clasament!$B$3:'Clasament'!$B12))),\"\")","v":""},{"$f":"IFERROR(INDEX(Clasament!$BH$3:$BH$72,SMALL(IF(Clasament!O$3:O$72=\"+\",ROW(Clasament!$B$3:$B$74)-ROW(Clasament!$B$3)+1),ROWS(Clasament!$B$3:'Clasament'!$B12))),\"\")","v":""},{"$f":"IFERROR(INDEX(Clasament!$BH$3:$BH$72,SMALL(IF(Clasament!P$3:P$72=\"+\",ROW(Clasament!$B$3:$B$74)-ROW(Clasament!$B$3)+1),ROWS(Clasament!$B$3:'Clasament'!$B12))),\"\")","v":""},{"$f":"IFERROR(INDEX(Clasament!$BH$3:$BH$72,SMALL(IF(Clasament!Q$3:Q$72=\"+\",ROW(Clasament!$B$3:$B$74)-ROW(Clasament!$B$3)+1),ROWS(Clasament!$B$3:'Clasament'!$B12))),\"\")","v":""},{"$f":"IFERROR(INDEX(Clasament!$BH$3:$BH$72,SMALL(IF(Clasament!R$3:R$72=\"+\",ROW(Clasament!$B$3:$B$74)-ROW(Clasament!$B$3)+1),ROWS(Clasament!$B$3:'Clasament'!$B12))),\"\")","v":""},{"$f":"IFERROR(INDEX(Clasament!$BH$3:$BH$72,SMALL(IF(Clasament!S$3:S$72=\"+\",ROW(Clasament!$B$3:$B$74)-ROW(Clasament!$B$3)+1),ROWS(Clasament!$B$3:'Clasament'!$B12))),\"\")","v":""},{"$f":"IFERROR(INDEX(Clasament!$BH$3:$BH$72,SMALL(IF(Clasament!T$3:T$72=\"+\",ROW(Clasament!$B$3:$B$74)-ROW(Clasament!$B$3)+1),ROWS(Clasament!$B$3:'Clasament'!$B12))),\"\")","v":""},{"$f":"IFERROR(INDEX(Clasament!$BH$3:$BH$72,SMALL(IF(Clasament!U$3:U$72=\"+\",ROW(Clasament!$B$3:$B$74)-ROW(Clasament!$B$3)+1),ROWS(Clasament!$B$3:'Clasament'!$B12))),\"\")","v":""},{"$f":"IFERROR(INDEX(Clasament!$BH$3:$BH$72,SMALL(IF(Clasament!V$3:V$72=\"+\",ROW(Clasament!$B$3:$B$74)-ROW(Clasament!$B$3)+1),ROWS(Clasament!$B$3:'Clasament'!$B12))),\"\")","v":""},{"$f":"IFERROR(INDEX(Clasament!$BH$3:$BH$72,SMALL(IF(Clasament!W$3:W$72=\"+\",ROW(Clasament!$B$3:$B$74)-ROW(Clasament!$B$3)+1),ROWS(Clasament!$B$3:'Clasament'!$B12))),\"\")","v":""},{"$f":"IFERROR(INDEX(Clasament!$BH$3:$BH$72,SMALL(IF(Clasament!Y$3:Y$72=\"+\",ROW(Clasament!$B$3:$B$74)-ROW(Clasament!$B$3)+1),ROWS(Clasament!$B$3:'Clasament'!$B12))),\"\")","v":""},{"$f":"IFERROR(INDEX(Clasament!$BH$3:$BH$72,SMALL(IF(Clasament!Z$3:Z$72=\"+\",ROW(Clasament!$B$3:$B$74)-ROW(Clasament!$B$3)+1),ROWS(Clasament!$B$3:'Clasament'!$B12))),\"\")","v":""},{"$f":"IFERROR(INDEX(Clasament!$BH$3:$BH$72,SMALL(IF(Clasament!AA$3:AA$72=\"+\",ROW(Clasament!$B$3:$B$74)-ROW(Clasament!$B$3)+1),ROWS(Clasament!$B$3:'Clasament'!$B12))),\"\")","v":""},{"$f":"IFERROR(INDEX(Clasament!$BH$3:$BH$72,SMALL(IF(Clasament!AB$3:AB$72=\"+\",ROW(Clasament!$B$3:$B$74)-ROW(Clasament!$B$3)+1),ROWS(Clasament!$B$3:'Clasament'!$B12))),\"\")","v":""},{"$f":"IFERROR(INDEX(Clasament!$BH$3:$BH$72,SMALL(IF(Clasament!AC$3:AC$72=\"+\",ROW(Clasament!$B$3:$B$74)-ROW(Clasament!$B$3)+1),ROWS(Clasament!$B$3:'Clasament'!$B12))),\"\")","v":""},{"$f":"IFERROR(INDEX(Clasament!$BH$3:$BH$72,SMALL(IF(Clasament!AD$3:AD$72=\"+\",ROW(Clasament!$B$3:$B$74)-ROW(Clasament!$B$3)+1),ROWS(Clasament!$B$3:'Clasament'!$B12))),\"\")","v":""},{"$f":"IFERROR(INDEX(Clasament!$BH$3:$BH$72,SMALL(IF(Clasament!AE$3:AE$72=\"+\",ROW(Clasament!$B$3:$B$74)-ROW(Clasament!$B$3)+1),ROWS(Clasament!$B$3:'Clasament'!$B12))),\"\")","v":""},{"$f":"IFERROR(INDEX(Clasament!$BH$3:$BH$72,SMALL(IF(Clasament!AF$3:AF$72=\"+\",ROW(Clasament!$B$3:$B$74)-ROW(Clasament!$B$3)+1),ROWS(Clasament!$B$3:'Clasament'!$B12))),\"\")","v":""},{"$f":"IFERROR(INDEX(Clasament!$BH$3:$BH$72,SMALL(IF(Clasament!AG$3:AG$72=\"+\",ROW(Clasament!$B$3:$B$74)-ROW(Clasament!$B$3)+1),ROWS(Clasament!$B$3:'Clasament'!$B12))),\"\")","v":""},{"$f":"IFERROR(INDEX(Clasament!$BH$3:$BH$72,SMALL(IF(Clasament!AH$3:AH$72=\"+\",ROW(Clasament!$B$3:$B$74)-ROW(Clasament!$B$3)+1),ROWS(Clasament!$B$3:'Clasament'!$B12))),\"\")","v":""},{"$f":"IFERROR(INDEX(Clasament!$BH$3:$BH$72,SMALL(IF(Clasament!AJ$3:AJ$72=\"+\",ROW(Clasament!$B$3:$B$74)-ROW(Clasament!$B$3)+1),ROWS(Clasament!$B$3:'Clasament'!$B12))),\"\")","v":""},{"$f":"IFERROR(INDEX(Clasament!$BH$3:$BH$72,SMALL(IF(Clasament!AK$3:AK$72=\"+\",ROW(Clasament!$B$3:$B$74)-ROW(Clasament!$B$3)+1),ROWS(Clasament!$B$3:'Clasament'!$B12))),\"\")","v":""},{"$f":"IFERROR(INDEX(Clasament!$BH$3:$BH$72,SMALL(IF(Clasament!AL$3:AL$72=\"+\",ROW(Clasament!$B$3:$B$74)-ROW(Clasament!$B$3)+1),ROWS(Clasament!$B$3:'Clasament'!$B12))),\"\")","v":""},{"$f":"IFERROR(INDEX(Clasament!$BH$3:$BH$72,SMALL(IF(Clasament!AM$3:AM$72=\"+\",ROW(Clasament!$B$3:$B$74)-ROW(Clasament!$B$3)+1),ROWS(Clasament!$B$3:'Clasament'!$B12))),\"\")","v":""},{"$f":"IFERROR(INDEX(Clasament!$BH$3:$BH$72,SMALL(IF(Clasament!AN$3:AN$72=\"+\",ROW(Clasament!$B$3:$B$74)-ROW(Clasament!$B$3)+1),ROWS(Clasament!$B$3:'Clasament'!$B12))),\"\")","v":""},{"$f":"IFERROR(INDEX(Clasament!$BH$3:$BH$72,SMALL(IF(Clasament!AO$3:AO$72=\"+\",ROW(Clasament!$B$3:$B$74)-ROW(Clasament!$B$3)+1),ROWS(Clasament!$B$3:'Clasament'!$B12))),\"\")","v":""},{"$f":"IFERROR(INDEX(Clasament!$BH$3:$BH$72,SMALL(IF(Clasament!AP$3:AP$72=\"+\",ROW(Clasament!$B$3:$B$74)-ROW(Clasament!$B$3)+1),ROWS(Clasament!$B$3:'Clasament'!$B12))),\"\")","v":""},{"$f":"IFERROR(INDEX(Clasament!$BH$3:$BH$72,SMALL(IF(Clasament!AQ$3:AQ$72=\"+\",ROW(Clasament!$B$3:$B$74)-ROW(Clasament!$B$3)+1),ROWS(Clasament!$B$3:'Clasament'!$B12))),\"\")","v":""},{"$f":"IFERROR(INDEX(Clasament!$BH$3:$BH$72,SMALL(IF(Clasament!AR$3:AR$72=\"+\",ROW(Clasament!$B$3:$B$74)-ROW(Clasament!$B$3)+1),ROWS(Clasament!$B$3:'Clasament'!$B12))),\"\")","v":""},{"$f":"IFERROR(INDEX(Clasament!$BH$3:$BH$72,SMALL(IF(Clasament!AS$3:AS$72=\"+\",ROW(Clasament!$B$3:$B$74)-ROW(Clasament!$B$3)+1),ROWS(Clasament!$B$3:'Clasament'!$B12))),\"\")","v":""},{"$f":"IFERROR(INDEX(Clasament!$BH$3:$BH$72,SMALL(IF(Clasament!AU$3:AU$72=\"+\",ROW(Clasament!$B$3:$B$74)-ROW(Clasament!$B$3)+1),ROWS(Clasament!$B$3:'Clasament'!$B12))),\"\")","v":""},{"$f":"IFERROR(INDEX(Clasament!$BH$3:$BH$72,SMALL(IF(Clasament!AV$3:AV$72=\"+\",ROW(Clasament!$B$3:$B$74)-ROW(Clasament!$B$3)+1),ROWS(Clasament!$B$3:'Clasament'!$B12))),\"\")","v":""},{"$f":"IFERROR(INDEX(Clasament!$BH$3:$BH$72,SMALL(IF(Clasament!AW$3:AW$72=\"+\",ROW(Clasament!$B$3:$B$74)-ROW(Clasament!$B$3)+1),ROWS(Clasament!$B$3:'Clasament'!$B12))),\"\")","v":""},{"$f":"IFERROR(INDEX(Clasament!$BH$3:$BH$72,SMALL(IF(Clasament!AX$3:AX$72=\"+\",ROW(Clasament!$B$3:$B$74)-ROW(Clasament!$B$3)+1),ROWS(Clasament!$B$3:'Clasament'!$B12))),\"\")","v":""},{"$f":"IFERROR(INDEX(Clasament!$BH$3:$BH$72,SMALL(IF(Clasament!AY$3:AY$72=\"+\",ROW(Clasament!$B$3:$B$74)-ROW(Clasament!$B$3)+1),ROWS(Clasament!$B$3:'Clasament'!$B12))),\"\")","v":""},{"$f":"IFERROR(INDEX(Clasament!$BH$3:$BH$72,SMALL(IF(Clasament!AZ$3:AZ$72=\"+\",ROW(Clasament!$B$3:$B$74)-ROW(Clasament!$B$3)+1),ROWS(Clasament!$B$3:'Clasament'!$B12))),\"\")","v":""},{"$f":"IFERROR(INDEX(Clasament!$BH$3:$BH$72,SMALL(IF(Clasament!BA$3:BA$72=\"+\",ROW(Clasament!$B$3:$B$74)-ROW(Clasament!$B$3)+1),ROWS(Clasament!$B$3:'Clasament'!$B12))),\"\")","v":""},{"$f":"IFERROR(INDEX(Clasament!$BH$3:$BH$72,SMALL(IF(Clasament!BB$3:BB$72=\"+\",ROW(Clasament!$B$3:$B$74)-ROW(Clasament!$B$3)+1),ROWS(Clasament!$B$3:'Clasament'!$B12))),\"\")","v":""},{"$f":"IFERROR(INDEX(Clasament!$BH$3:$BH$72,SMALL(IF(Clasament!BC$3:BC$72=\"+\",ROW(Clasament!$B$3:$B$74)-ROW(Clasament!$B$3)+1),ROWS(Clasament!$B$3:'Clasament'!$B12))),\"\")","v":""},{"$f":"IFERROR(INDEX(Clasament!$BH$3:$BH$72,SMALL(IF(Clasament!BD$3:BD$72=\"+\",ROW(Clasament!$B$3:$B$74)-ROW(Clasament!$B$3)+1),ROWS(Clasament!$B$3:'Clasament'!$B12))),\"\")","v":""}]
[null,{"$f":"IFERROR(INDEX(Clasament!$BH$3:$BH$72,SMALL(IF(Clasament!C$3:C$72=\"+\",ROW(Clasament!$B$3:$B$74)-ROW(Clasament!$B$3)+1),ROWS(Clasament!$B$3:'Clasament'!$B13))),\"\")","v":""},{"$f":"IFERROR(INDEX(Clasament!$BH$3:$BH$72,SMALL(IF(Clasament!D$3:D$72=\"+\",ROW(Clasament!$B$3:$B$74)-ROW(Clasament!$B$3)+1),ROWS(Clasament!$B$3:'Clasament'!$B13))),\"\")","v":""},{"$f":"IFERROR(INDEX(Clasament!$BH$3:$BH$72,SMALL(IF(Clasament!E$3:E$72=\"+\",ROW(Clasament!$B$3:$B$74)-ROW(Clasament!$B$3)+1),ROWS(Clasament!$B$3:'Clasament'!$B13))),\"\")","v":""},{"$f":"IFERROR(INDEX(Clasament!$BH$3:$BH$72,SMALL(IF(Clasament!F$3:F$72=\"+\",ROW(Clasament!$B$3:$B$74)-ROW(Clasament!$B$3)+1),ROWS(Clasament!$B$3:'Clasament'!$B13))),\"\")","v":""},{"$f":"IFERROR(INDEX(Clasament!$BH$3:$BH$72,SMALL(IF(Clasament!G$3:G$72=\"+\",ROW(Clasament!$B$3:$B$74)-ROW(Clasament!$B$3)+1),ROWS(Clasament!$B$3:'Clasament'!$B13))),\"\")","v":""},{"$f":"IFERROR(INDEX(Clasament!$BH$3:$BH$72,SMALL(IF(Clasament!H$3:H$72=\"+\",ROW(Clasament!$B$3:$B$74)-ROW(Clasament!$B$3)+1),ROWS(Clasament!$B$3:'Clasament'!$B13))),\"\")","v":""},{"$f":"IFERROR(INDEX(Clasament!$BH$3:$BH$72,SMALL(IF(Clasament!I$3:I$72=\"+\",ROW(Clasament!$B$3:$B$74)-ROW(Clasament!$B$3)+1),ROWS(Clasament!$B$3:'Clasament'!$B13))),\"\")","v":""},{"$f":"IFERROR(INDEX(Clasament!$BH$3:$BH$72,SMALL(IF(Clasament!J$3:J$72=\"+\",ROW(Clasament!$B$3:$B$74)-ROW(Clasament!$B$3)+1),ROWS(Clasament!$B$3:'Clasament'!$B13))),\"\")","v":""},{"$f":"IFERROR(INDEX(Clasament!$BH$3:$BH$72,SMALL(IF(Clasament!K$3:K$72=\"+\",ROW(Clasament!$B$3:$B$74)-ROW(Clasament!$B$3)+1),ROWS(Clasament!$B$3:'Clasament'!$B13))),\"\")","v":""},{"$f":"IFERROR(INDEX(Clasament!$BH$3:$BH$72,SMALL(IF(Clasament!L$3:L$72=\"+\",ROW(Clasament!$B$3:$B$74)-ROW(Clasament!$B$3)+1),ROWS(Clasament!$B$3:'Clasament'!$B13))),\"\")","v":""},{"$f":"IFERROR(INDEX(Clasament!$BH$3:$BH$72,SMALL(IF(Clasament!N$3:N$72=\"+\",ROW(Clasament!$B$3:$B$74)-ROW(Clasament!$B$3)+1),ROWS(Clasament!$B$3:'Clasament'!$B13))),\"\")","v":""},{"$f":"IFERROR(INDEX(Clasament!$BH$3:$BH$72,SMALL(IF(Clasament!O$3:O$72=\"+\",ROW(Clasament!$B$3:$B$74)-ROW(Clasament!$B$3)+1),ROWS(Clasament!$B$3:'Clasament'!$B13))),\"\")","v":""},{"$f":"IFERROR(INDEX(Clasament!$BH$3:$BH$72,SMALL(IF(Clasament!P$3:P$72=\"+\",ROW(Clasament!$B$3:$B$74)-ROW(Clasament!$B$3)+1),ROWS(Clasament!$B$3:'Clasament'!$B13))),\"\")","v":""},{"$f":"IFERROR(INDEX(Clasament!$BH$3:$BH$72,SMALL(IF(Clasament!Q$3:Q$72=\"+\",ROW(Clasament!$B$3:$B$74)-ROW(Clasament!$B$3)+1),ROWS(Clasament!$B$3:'Clasament'!$B13))),\"\")","v":""},{"$f":"IFERROR(INDEX(Clasament!$BH$3:$BH$72,SMALL(IF(Clasament!R$3:R$72=\"+\",ROW(Clasament!$B$3:$B$74)-ROW(Clasament!$B$3)+1),ROWS(Clasament!$B$3:'Clasament'!$B13))),\"\")","v":""},{"$f":"IFERROR(INDEX(Clasament!$BH$3:$BH$72,SMALL(IF(Clasament!S$3:S$72=\"+\",ROW(Clasament!$B$3:$B$74)-ROW(Clasament!$B$3)+1),ROWS(Clasament!$B$3:'Clasament'!$B13))),\"\")","v":""},{"$f":"IFERROR(INDEX(Clasament!$BH$3:$BH$72,SMALL(IF(Clasament!T$3:T$72=\"+\",ROW(Clasament!$B$3:$B$74)-ROW(Clasament!$B$3)+1),ROWS(Clasament!$B$3:'Clasament'!$B13))),\"\")","v":""},{"$f":"IFERROR(INDEX(Clasament!$BH$3:$BH$72,SMALL(IF(Clasament!U$3:U$72=\"+\",ROW(Clasament!$B$3:$B$74)-ROW(Clasament!$B$3)+1),ROWS(Clasament!$B$3:'Clasament'!$B13))),\"\")","v":""},{"$f":"IFERROR(INDEX(Clasament!$BH$3:$BH$72,SMALL(IF(Clasament!V$3:V$72=\"+\",ROW(Clasament!$B$3:$B$74)-ROW(Clasament!$B$3)+1),ROWS(Clasament!$B$3:'Clasament'!$B13))),\"\")","v":""},{"$f":"IFERROR(INDEX(Clasament!$BH$3:$BH$72,SMALL(IF(Clasament!W$3:W$72=\"+\",ROW(Clasament!$B$3:$B$74)-ROW(Clasament!$B$3)+1),ROWS(Clasament!$B$3:'Clasament'!$B13))),\"\")","v":""},{"$f":"IFERROR(INDEX(Clasament!$BH$3:$BH$72,SMALL(IF(Clasament!Y$3:Y$72=\"+\",ROW(Clasament!$B$3:$B$74)-ROW(Clasament!$B$3)+1),ROWS(Clasament!$B$3:'Clasament'!$B13))),\"\")","v":""},{"$f":"IFERROR(INDEX(Clasament!$BH$3:$BH$72,SMALL(IF(Clasament!Z$3:Z$72=\"+\",ROW(Clasament!$B$3:$B$74)-ROW(Clasament!$B$3)+1),ROWS(Clasament!$B$3:'Clasament'!$B13))),\"\")","v":""},{"$f":"IFERROR(INDEX(Clasament!$BH$3:$BH$72,SMALL(IF(Clasament!AA$3:AA$72=\"+\",ROW(Clasament!$B$3:$B$74)-ROW(Clasament!$B$3)+1),ROWS(Clasament!$B$3:'Clasament'!$B13))),\"\")","v":""},{"$f":"IFERROR(INDEX(Clasament!$BH$3:$BH$72,SMALL(IF(Clasament!AB$3:AB$72=\"+\",ROW(Clasament!$B$3:$B$74)-ROW(Clasament!$B$3)+1),ROWS(Clasament!$B$3:'Clasament'!$B13))),\"\")","v":""},{"$f":"IFERROR(INDEX(Clasament!$BH$3:$BH$72,SMALL(IF(Clasament!AC$3:AC$72=\"+\",ROW(Clasament!$B$3:$B$74)-ROW(Clasament!$B$3)+1),ROWS(Clasament!$B$3:'Clasament'!$B13))),\"\")","v":""},{"$f":"IFERROR(INDEX(Clasament!$BH$3:$BH$72,SMALL(IF(Clasament!AD$3:AD$72=\"+\",ROW(Clasament!$B$3:$B$74)-ROW(Clasament!$B$3)+1),ROWS(Clasament!$B$3:'Clasament'!$B13))),\"\")","v":""},{"$f":"IFERROR(INDEX(Clasament!$BH$3:$BH$72,SMALL(IF(Clasament!AE$3:AE$72=\"+\",ROW(Clasament!$B$3:$B$74)-ROW(Clasament!$B$3)+1),ROWS(Clasament!$B$3:'Clasament'!$B13))),\"\")","v":""},{"$f":"IFERROR(INDEX(Clasament!$BH$3:$BH$72,SMALL(IF(Clasament!AF$3:AF$72=\"+\",ROW(Clasament!$B$3:$B$74)-ROW(Clasament!$B$3)+1),ROWS(Clasament!$B$3:'Clasament'!$B13))),\"\")","v":""},{"$f":"IFERROR(INDEX(Clasament!$BH$3:$BH$72,SMALL(IF(Clasament!AG$3:AG$72=\"+\",ROW(Clasament!$B$3:$B$74)-ROW(Clasament!$B$3)+1),ROWS(Clasament!$B$3:'Clasament'!$B13))),\"\")","v":""},{"$f":"IFERROR(INDEX(Clasament!$BH$3:$BH$72,SMALL(IF(Clasament!AH$3:AH$72=\"+\",ROW(Clasament!$B$3:$B$74)-ROW(Clasament!$B$3)+1),ROWS(Clasament!$B$3:'Clasament'!$B13))),\"\")","v":""},{"$f":"IFERROR(INDEX(Clasament!$BH$3:$BH$72,SMALL(IF(Clasament!AJ$3:AJ$72=\"+\",ROW(Clasament!$B$3:$B$74)-ROW(Clasament!$B$3)+1),ROWS(Clasament!$B$3:'Clasament'!$B13))),\"\")","v":""},{"$f":"IFERROR(INDEX(Clasament!$BH$3:$BH$72,SMALL(IF(Clasament!AK$3:AK$72=\"+\",ROW(Clasament!$B$3:$B$74)-ROW(Clasament!$B$3)+1),ROWS(Clasament!$B$3:'Clasament'!$B13))),\"\")","v":""},{"$f":"IFERROR(INDEX(Clasament!$BH$3:$BH$72,SMALL(IF(Clasament!AL$3:AL$72=\"+\",ROW(Clasament!$B$3:$B$74)-ROW(Clasament!$B$3)+1),ROWS(Clasament!$B$3:'Clasament'!$B13))),\"\")","v":""},{"$f":"IFERROR(INDEX(Clasament!$BH$3:$BH$72,SMALL(IF(Clasament!AM$3:AM$72=\"+\",ROW(Clasament!$B$3:$B$74)-ROW(Clasament!$B$3)+1),ROWS(Clasament!$B$3:'Clasament'!$B13))),\"\")","v":""},{"$f":"IFERROR(INDEX(Clasament!$BH$3:$BH$72,SMALL(IF(Clasament!AN$3:AN$72=\"+\",ROW(Clasament!$B$3:$B$74)-ROW(Clasament!$B$3)+1),ROWS(Clasament!$B$3:'Clasament'!$B13))),\"\")","v":""},{"$f":"IFERROR(INDEX(Clasament!$BH$3:$BH$72,SMALL(IF(Clasament!AO$3:AO$72=\"+\",ROW(Clasament!$B$3:$B$74)-ROW(Clasament!$B$3)+1),ROWS(Clasament!$B$3:'Clasament'!$B13))),\"\")","v":""},{"$f":"IFERROR(INDEX(Clasament!$BH$3:$BH$72,SMALL(IF(Clasament!AP$3:AP$72=\"+\",ROW(Clasament!$B$3:$B$74)-ROW(Clasament!$B$3)+1),ROWS(Clasament!$B$3:'Clasament'!$B13))),\"\")","v":""},{"$f":"IFERROR(INDEX(Clasament!$BH$3:$BH$72,SMALL(IF(Clasament!AQ$3:AQ$72=\"+\",ROW(Clasament!$B$3:$B$74)-ROW(Clasament!$B$3)+1),ROWS(Clasament!$B$3:'Clasament'!$B13))),\"\")","v":""},{"$f":"IFERROR(INDEX(Clasament!$BH$3:$BH$72,SMALL(IF(Clasament!AR$3:AR$72=\"+\",ROW(Clasament!$B$3:$B$74)-ROW(Clasament!$B$3)+1),ROWS(Clasament!$B$3:'Clasament'!$B13))),\"\")","v":""},{"$f":"IFERROR(INDEX(Clasament!$BH$3:$BH$72,SMALL(IF(Clasament!AS$3:AS$72=\"+\",ROW(Clasament!$B$3:$B$74)-ROW(Clasament!$B$3)+1),ROWS(Clasament!$B$3:'Clasament'!$B13))),\"\")","v":""},{"$f":"IFERROR(INDEX(Clasament!$BH$3:$BH$72,SMALL(IF(Clasament!AU$3:AU$72=\"+\",ROW(Clasament!$B$3:$B$74)-ROW(Clasament!$B$3)+1),ROWS(Clasament!$B$3:'Clasament'!$B13))),\"\")","v":""},{"$f":"IFERROR(INDEX(Clasament!$BH$3:$BH$72,SMALL(IF(Clasament!AV$3:AV$72=\"+\",ROW(Clasament!$B$3:$B$74)-ROW(Clasament!$B$3)+1),ROWS(Clasament!$B$3:'Clasament'!$B13))),\"\")","v":""},{"$f":"IFERROR(INDEX(Clasament!$BH$3:$BH$72,SMALL(IF(Clasament!AW$3:AW$72=\"+\",ROW(Clasament!$B$3:$B$74)-ROW(Clasament!$B$3)+1),ROWS(Clasament!$B$3:'Clasament'!$B13))),\"\")","v":""},{"$f":"IFERROR(INDEX(Clasament!$BH$3:$BH$72,SMALL(IF(Clasament!AX$3:AX$72=\"+\",ROW(Clasament!$B$3:$B$74)-ROW(Clasament!$B$3)+1),ROWS(Clasament!$B$3:'Clasament'!$B13))),\"\")","v":""},{"$f":"IFERROR(INDEX(Clasament!$BH$3:$BH$72,SMALL(IF(Clasament!AY$3:AY$72=\"+\",ROW(Clasament!$B$3:$B$74)-ROW(Clasament!$B$3)+1),ROWS(Clasament!$B$3:'Clasament'!$B13))),\"\")","v":""},{"$f":"IFERROR(INDEX(Clasament!$BH$3:$BH$72,SMALL(IF(Clasament!AZ$3:AZ$72=\"+\",ROW(Clasament!$B$3:$B$74)-ROW(Clasament!$B$3)+1),ROWS(Clasament!$B$3:'Clasament'!$B13))),\"\")","v":""},{"$f":"IFERROR(INDEX(Clasament!$BH$3:$BH$72,SMALL(IF(Clasament!BA$3:BA$72=\"+\",ROW(Clasament!$B$3:$B$74)-ROW(Clasament!$B$3)+1),ROWS(Clasament!$B$3:'Clasament'!$B13))),\"\")","v":""},{"$f":"IFERROR(INDEX(Clasament!$BH$3:$BH$72,SMALL(IF(Clasament!BB$3:BB$72=\"+\",ROW(Clasament!$B$3:$B$74)-ROW(Clasament!$B$3)+1),ROWS(Clasament!$B$3:'Clasament'!$B13))),\"\")","v":""},{"$f":"IFERROR(INDEX(Clasament!$BH$3:$BH$72,SMALL(IF(Clasament!BC$3:BC$72=\"+\",ROW(Clasament!$B$3:$B$74)-ROW(Clasament!$B$3)+1),ROWS(Clasament!$B$3:'Clasament'!$B13))),\"\")","v":""},{"$f":"IFERROR(INDEX(Clasament!$BH$3:$BH$72,SMALL(IF(Clasament!BD$3:BD$72=\"+\",ROW(Clasament!$B$3:$B$74)-ROW(Clasament!$B$3)+1),ROWS(Clasament!$B$3:'Clasament'!$B13))),\"\")","v":""}]
[null,{"$f":"IFERROR(INDEX(Clasament!$BH$3:$BH$72,SMALL(IF(Clasament!C$3:C$72=\"+\",ROW(Clasament!$B$3:$B$74)-ROW(Clasament!$B$3)+1),ROWS(Clasament!$B$3:'Clasament'!$B14))),\"\")","v":""},{"$f":"IFERROR(INDEX(Clasament!$BH$3:$BH$72,SMALL(IF(Clasament!D$3:D$72=\"+\",ROW(Clasament!$B$3:$B$74)-ROW(Clasament!$B$3)+1),ROWS(Clasament!$B$3:'Clasament'!$B14))),\"\")","v":""},{"$f":"IFERROR(INDEX(Clasament!$BH$3:$BH$72,SMALL(IF(Clasament!E$3:E$72=\"+\",ROW(Clasament!$B$3:$B$74)-ROW(Clasament!$B$3)+1),ROWS(Clasament!$B$3:'Clasament'!$B14))),\"\")","v":""},{"$f":"IFERROR(INDEX(Clasament!$BH$3:$BH$72,SMALL(IF(Clasament!F$3:F$72=\"+\",ROW(Clasament!$B$3:$B$74)-ROW(Clasament!$B$3)+1),ROWS(Clasament!$B$3:'Clasament'!$B14))),\"\")","v":""},{"$f":"IFERROR(INDEX(Clasament!$BH$3:$BH$72,SMALL(IF(Clasament!G$3:G$72=\"+\",ROW(Clasament!$B$3:$B$74)-ROW(Clasament!$B$3)+1),ROWS(Clasament!$B$3:'Clasament'!$B14))),\"\")","v":""},{"$f":"IFERROR(INDEX(Clasament!$BH$3:$BH$72,SMALL(IF(Clasament!H$3:H$72=\"+\",ROW(Clasament!$B$3:$B$74)-ROW(Clasament!$B$3)+1),ROWS(Clasament!$B$3:'Clasament'!$B14))),\"\")","v":""},{"$f":"IFERROR(INDEX(Clasament!$BH$3:$BH$72,SMALL(IF(Clasament!I$3:I$72=\"+\",ROW(Clasament!$B$3:$B$74)-ROW(Clasament!$B$3)+1),ROWS(Clasament!$B$3:'Clasament'!$B14))),\"\")","v":""},{"$f":"IFERROR(INDEX(Clasament!$BH$3:$BH$72,SMALL(IF(Clasament!J$3:J$72=\"+\",ROW(Clasament!$B$3:$B$74)-ROW(Clasament!$B$3)+1),ROWS(Clasament!$B$3:'Clasament'!$B14))),\"\")","v":""},{"$f":"IFERROR(INDEX(Clasament!$BH$3:$BH$72,SMALL(IF(Clasament!K$3:K$72=\"+\",ROW(Clasament!$B$3:$B$74)-ROW(Clasament!$B$3)+1),ROWS(Clasament!$B$3:'Clasament'!$B14))),\"\")","v":""},{"$f":"IFERROR(INDEX(Clasament!$BH$3:$BH$72,SMALL(IF(Clasament!L$3:L$72=\"+\",ROW(Clasament!$B$3:$B$74)-ROW(Clasament!$B$3)+1),ROWS(Clasament!$B$3:'Clasament'!$B14))),\"\")","v":""},{"$f":"IFERROR(INDEX(Clasament!$BH$3:$BH$72,SMALL(IF(Clasament!N$3:N$72=\"+\",ROW(Clasament!$B$3:$B$74)-ROW(Clasament!$B$3)+1),ROWS(Clasament!$B$3:'Clasament'!$B14))),\"\")","v":""},{"$f":"IFERROR(INDEX(Clasament!$BH$3:$BH$72,SMALL(IF(Clasament!O$3:O$72=\"+\",ROW(Clasament!$B$3:$B$74)-ROW(Clasament!$B$3)+1),ROWS(Clasament!$B$3:'Clasament'!$B14))),\"\")","v":""},{"$f":"IFERROR(INDEX(Clasament!$BH$3:$BH$72,SMALL(IF(Clasament!P$3:P$72=\"+\",ROW(Clasament!$B$3:$B$74)-ROW(Clasament!$B$3)+1),ROWS(Clasament!$B$3:'Clasament'!$B14))),\"\")","v":""},{"$f":"IFERROR(INDEX(Clasament!$BH$3:$BH$72,SMALL(IF(Clasament!Q$3:Q$72=\"+\",ROW(Clasament!$B$3:$B$74)-ROW(Clasament!$B$3)+1),ROWS(Clasament!$B$3:'Clasament'!$B14))),\"\")","v":""},{"$f":"IFERROR(INDEX(Clasament!$BH$3:$BH$72,SMALL(IF(Clasament!R$3:R$72=\"+\",ROW(Clasament!$B$3:$B$74)-ROW(Clasament!$B$3)+1),ROWS(Clasament!$B$3:'Clasament'!$B14))),\"\")","v":""},{"$f":"IFERROR(INDEX(Clasament!$BH$3:$BH$72,SMALL(IF(Clasament!S$3:S$72=\"+\",ROW(Clasament!$B$3:$B$74)-ROW(Clasament!$B$3)+1),ROWS(Clasament!$B$3:'Clasament'!$B14))),\"\")","v":""},{"$f":"IFERROR(INDEX(Clasament!$BH$3:$BH$72,SMALL(IF(Clasament!T$3:T$72=\"+\",ROW(Clasament!$B$3:$B$74)-ROW(Clasament!$B$3)+1),ROWS(Clasament!$B$3:'Clasament'!$B14))),\"\")","v":""},{"$f":"IFERROR(INDEX(Clasament!$BH$3:$BH$72,SMALL(IF(Clasament!U$3:U$72=\"+\",ROW(Clasament!$B$3:$B$74)-ROW(Clasament!$B$3)+1),ROWS(Clasament!$B$3:'Clasament'!$B14))),\"\")","v":""},{"$f":"IFERROR(INDEX(Clasament!$BH$3:$BH$72,SMALL(IF(Clasament!V$3:V$72=\"+\",ROW(Clasament!$B$3:$B$74)-ROW(Clasament!$B$3)+1),ROWS(Clasament!$B$3:'Clasament'!$B14))),\"\")","v":""},{"$f":"IFERROR(INDEX(Clasament!$BH$3:$BH$72,SMALL(IF(Clasament!W$3:W$72=\"+\",ROW(Clasament!$B$3:$B$74)-ROW(Clasament!$B$3)+1),ROWS(Clasament!$B$3:'Clasament'!$B14))),\"\")","v":""},{"$f":"IFERROR(INDEX(Clasament!$BH$3:$BH$72,SMALL(IF(Clasament!Y$3:Y$72=\"+\",ROW(Clasament!$B$3:$B$74)-ROW(Clasament!$B$3)+1),ROWS(Clasament!$B$3:'Clasament'!$B14))),\"\")","v":""},{"$f":"IFERROR(INDEX(Clasament!$BH$3:$BH$72,SMALL(IF(Clasament!Z$3:Z$72=\"+\",ROW(Clasament!$B$3:$B$74)-ROW(Clasament!$B$3)+1),ROWS(Clasament!$B$3:'Clasament'!$B14))),\"\")","v":""},{"$f":"IFERROR(INDEX(Clasament!$BH$3:$BH$72,SMALL(IF(Clasament!AA$3:AA$72=\"+\",ROW(Clasament!$B$3:$B$74)-ROW(Clasament!$B$3)+1),ROWS(Clasament!$B$3:'Clasament'!$B14))),\"\")","v":""},{"$f":"IFERROR(INDEX(Clasament!$BH$3:$BH$72,SMALL(IF(Clasament!AB$3:AB$72=\"+\",ROW(Clasament!$B$3:$B$74)-ROW(Clasament!$B$3)+1),ROWS(Clasament!$B$3:'Clasament'!$B14))),\"\")","v":""},{"$f":"IFERROR(INDEX(Clasament!$BH$3:$BH$72,SMALL(IF(Clasament!AC$3:AC$72=\"+\",ROW(Clasament!$B$3:$B$74)-ROW(Clasament!$B$3)+1),ROWS(Clasament!$B$3:'Clasament'!$B14))),\"\")","v":""},{"$f":"IFERROR(INDEX(Clasament!$BH$3:$BH$72,SMALL(IF(Clasament!AD$3:AD$72=\"+\",ROW(Clasament!$B$3:$B$74)-ROW(Clasament!$B$3)+1),ROWS(Clasament!$B$3:'Clasament'!$B14))),\"\")","v":""},{"$f":"IFERROR(INDEX(Clasament!$BH$3:$BH$72,SMALL(IF(Clasament!AE$3:AE$72=\"+\",ROW(Clasament!$B$3:$B$74)-ROW(Clasament!$B$3)+1),ROWS(Clasament!$B$3:'Clasament'!$B14))),\"\")","v":""},{"$f":"IFERROR(INDEX(Clasament!$BH$3:$BH$72,SMALL(IF(Clasament!AF$3:AF$72=\"+\",ROW(Clasament!$B$3:$B$74)-ROW(Clasament!$B$3)+1),ROWS(Clasament!$B$3:'Clasament'!$B14))),\"\")","v":""},{"$f":"IFERROR(INDEX(Clasament!$BH$3:$BH$72,SMALL(IF(Clasament!AG$3:AG$72=\"+\",ROW(Clasament!$B$3:$B$74)-ROW(Clasament!$B$3)+1),ROWS(Clasament!$B$3:'Clasament'!$B14))),\"\")","v":""},{"$f":"IFERROR(INDEX(Clasament!$BH$3:$BH$72,SMALL(IF(Clasament!AH$3:AH$72=\"+\",ROW(Clasament!$B$3:$B$74)-ROW(Clasament!$B$3)+1),ROWS(Clasament!$B$3:'Clasament'!$B14))),\"\")","v":""},{"$f":"IFERROR(INDEX(Clasament!$BH$3:$BH$72,SMALL(IF(Clasament!AJ$3:AJ$72=\"+\",ROW(Clasament!$B$3:$B$74)-ROW(Clasament!$B$3)+1),ROWS(Clasament!$B$3:'Clasament'!$B14))),\"\")","v":""},{"$f":"IFERROR(INDEX(Clasament!$BH$3:$BH$72,SMALL(IF(Clasament!AK$3:AK$72=\"+\",ROW(Clasament!$B$3:$B$74)-ROW(Clasament!$B$3)+1),ROWS(Clasament!$B$3:'Clasament'!$B14))),\"\")","v":""},{"$f":"IFERROR(INDEX(Clasament!$BH$3:$BH$72,SMALL(IF(Clasament!AL$3:AL$72=\"+\",ROW(Clasament!$B$3:$B$74)-ROW(Clasament!$B$3)+1),ROWS(Clasament!$B$3:'Clasament'!$B14))),\"\")","v":""},{"$f":"IFERROR(INDEX(Clasament!$BH$3:$BH$72,SMALL(IF(Clasament!AM$3:AM$72=\"+\",ROW(Clasament!$B$3:$B$74)-ROW(Clasament!$B$3)+1),ROWS(Clasament!$B$3:'Clasament'!$B14))),\"\")","v":""},{"$f":"IFERROR(INDEX(Clasament!$BH$3:$BH$72,SMALL(IF(Clasament!AN$3:AN$72=\"+\",ROW(Clasament!$B$3:$B$74)-ROW(Clasament!$B$3)+1),ROWS(Clasament!$B$3:'Clasament'!$B14))),\"\")","v":""},{"$f":"IFERROR(INDEX(Clasament!$BH$3:$BH$72,SMALL(IF(Clasament!AO$3:AO$72=\"+\",ROW(Clasament!$B$3:$B$74)-ROW(Clasament!$B$3)+1),ROWS(Clasament!$B$3:'Clasament'!$B14))),\"\")","v":""},{"$f":"IFERROR(INDEX(Clasament!$BH$3:$BH$72,SMALL(IF(Clasament!AP$3:AP$72=\"+\",ROW(Clasament!$B$3:$B$74)-ROW(Clasament!$B$3)+1),ROWS(Clasament!$B$3:'Clasament'!$B14))),\"\")","v":""},{"$f":"IFERROR(INDEX(Clasament!$BH$3:$BH$72,SMALL(IF(Clasament!AQ$3:AQ$72=\"+\",ROW(Clasament!$B$3:$B$74)-ROW(Clasament!$B$3)+1),ROWS(Clasament!$B$3:'Clasament'!$B14))),\"\")","v":""},{"$f":"IFERROR(INDEX(Clasament!$BH$3:$BH$72,SMALL(IF(Clasament!AR$3:AR$72=\"+\",ROW(Clasament!$B$3:$B$74)-ROW(Clasament!$B$3)+1),ROWS(Clasament!$B$3:'Clasament'!$B14))),\"\")","v":""},{"$f":"IFERROR(INDEX(Clasament!$BH$3:$BH$72,SMALL(IF(Clasament!AS$3:AS$72=\"+\",ROW(Clasament!$B$3:$B$74)-ROW(Clasament!$B$3)+1),ROWS(Clasament!$B$3:'Clasament'!$B14))),\"\")","v":""},{"$f":"IFERROR(INDEX(Clasament!$BH$3:$BH$72,SMALL(IF(Clasament!AU$3:AU$72=\"+\",ROW(Clasament!$B$3:$B$74)-ROW(Clasament!$B$3)+1),ROWS(Clasament!$B$3:'Clasament'!$B14))),\"\")","v":""},{"$f":"IFERROR(INDEX(Clasament!$BH$3:$BH$72,SMALL(IF(Clasament!AV$3:AV$72=\"+\",ROW(Clasament!$B$3:$B$74)-ROW(Clasament!$B$3)+1),ROWS(Clasament!$B$3:'Clasament'!$B14))),\"\")","v":""},{"$f":"IFERROR(INDEX(Clasament!$BH$3:$BH$72,SMALL(IF(Clasament!AW$3:AW$72=\"+\",ROW(Clasament!$B$3:$B$74)-ROW(Clasament!$B$3)+1),ROWS(Clasament!$B$3:'Clasament'!$B14))),\"\")","v":""},{"$f":"IFERROR(INDEX(Clasament!$BH$3:$BH$72,SMALL(IF(Clasament!AX$3:AX$72=\"+\",ROW(Clasament!$B$3:$B$74)-ROW(Clasament!$B$3)+1),ROWS(Clasament!$B$3:'Clasament'!$B14))),\"\")","v":""},{"$f":"IFERROR(INDEX(Clasament!$BH$3:$BH$72,SMALL(IF(Clasament!AY$3:AY$72=\"+\",ROW(Clasament!$B$3:$B$74)-ROW(Clasament!$B$3)+1),ROWS(Clasament!$B$3:'Clasament'!$B14))),\"\")","v":""},{"$f":"IFERROR(INDEX(Clasament!$BH$3:$BH$72,SMALL(IF(Clasament!AZ$3:AZ$72=\"+\",ROW(Clasament!$B$3:$B$74)-ROW(Clasament!$B$3)+1),ROWS(Clasament!$B$3:'Clasament'!$B14))),\"\")","v":""},{"$f":"IFERROR(INDEX(Clasament!$BH$3:$BH$72,SMALL(IF(Clasament!BA$3:BA$72=\"+\",ROW(Clasament!$B$3:$B$74)-ROW(Clasament!$B$3)+1),ROWS(Clasament!$B$3:'Clasament'!$B14))),\"\")","v":""},{"$f":"IFERROR(INDEX(Clasament!$BH$3:$BH$72,SMALL(IF(Clasament!BB$3:BB$72=\"+\",ROW(Clasament!$B$3:$B$74)-ROW(Clasament!$B$3)+1),ROWS(Clasament!$B$3:'Clasament'!$B14))),\"\")","v":""},{"$f":"IFERROR(INDEX(Clasament!$BH$3:$BH$72,SMALL(IF(Clasament!BC$3:BC$72=\"+\",ROW(Clasament!$B$3:$B$74)-ROW(Clasament!$B$3)+1),ROWS(Clasament!$B$3:'Clasament'!$B14))),\"\")","v":""},{"$f":"IFERROR(INDEX(Clasament!$BH$3:$BH$72,SMALL(IF(Clasament!BD$3:BD$72=\"+\",ROW(Clasament!$B$3:$B$74)-ROW(Clasament!$B$3)+1),ROWS(Clasament!$B$3:'Clasament'!$B14))),\"\")","v":""}]
[null,{"$f":"IFERROR(INDEX(Clasament!$BH$3:$BH$72,SMALL(IF(Clasament!C$3:C$72=\"+\",ROW(Clasament!$B$3:$B$74)-ROW(Clasament!$B$3)+1),ROWS(Clasament!$B$3:'Clasament'!$B15))),\"\")","v":""},{"$f":"IFERROR(INDEX(Clasament!$BH$3:$BH$72,SMALL(IF(Clasament!D$3:D$72=\"+\",ROW(Clasament!$B$3:$B$74)-ROW(Clasament!$B$3)+1),ROWS(Clasament!$B$3:'Clasament'!$B15))),\"\")","v":""},{"$f":"IFERROR(INDEX(Clasament!$BH$3:$BH$72,SMALL(IF(Clasament!E$3:E$72=\"+\",ROW(Clasament!$B$3:$B$74)-ROW(Clasament!$B$3)+1),ROWS(Clasament!$B$3:'Clasament'!$B15))),\"\")","v":""},{"$f":"IFERROR(INDEX(Clasament!$BH$3:$BH$72,SMALL(IF(Clasament!F$3:F$72=\"+\",ROW(Clasament!$B$3:$B$74)-ROW(Clasament!$B$3)+1),ROWS(Clasament!$B$3:'Clasament'!$B15))),\"\")","v":""},{"$f":"IFERROR(INDEX(Clasament!$BH$3:$BH$72,SMALL(IF(Clasament!G$3:G$72=\"+\",ROW(Clasament!$B$3:$B$74)-ROW(Clasament!$B$3)+1),ROWS(Clasament!$B$3:'Clasament'!$B15))),\"\")","v":""},{"$f":"IFERROR(INDEX(Clasament!$BH$3:$BH$72,SMALL(IF(Clasament!H$3:H$72=\"+\",ROW(Clasament!$B$3:$B$74)-ROW(Clasament!$B$3)+1),ROWS(Clasament!$B$3:'Clasament'!$B15))),\"\")","v":""},{"$f":"IFERROR(INDEX(Clasament!$BH$3:$BH$72,SMALL(IF(Clasament!I$3:I$72=\"+\",ROW(Clasament!$B$3:$B$74)-ROW(Clasament!$B$3)+1),ROWS(Clasament!$B$3:'Clasament'!$B15))),\"\")","v":""},{"$f":"IFERROR(INDEX(Clasament!$BH$3:$BH$72,SMALL(IF(Clasament!J$3:J$72=\"+\",ROW(Clasament!$B$3:$B$74)-ROW(Clasament!$B$3)+1),ROWS(Clasament!$B$3:'Clasament'!$B15))),\"\")","v":""},{"$f":"IFERROR(INDEX(Clasament!$BH$3:$BH$72,SMALL(IF(Clasament!K$3:K$72=\"+\",ROW(Clasament!$B$3:$B$74)-ROW(Clasament!$B$3)+1),ROWS(Clasament!$B$3:'Clasament'!$B15))),\"\")","v":""},{"$f":"IFERROR(INDEX(Clasament!$BH$3:$BH$72,SMALL(IF(Clasament!L$3:L$72=\"+\",ROW(Clasament!$B$3:$B$74)-ROW(Clasament!$B$3)+1),ROWS(Clasament!$B$3:'Clasament'!$B15))),\"\")","v":""},{"$f":"IFERROR(INDEX(Clasament!$BH$3:$BH$72,SMALL(IF(Clasament!N$3:N$72=\"+\",ROW(Clasament!$B$3:$B$74)-ROW(Clasament!$B$3)+1),ROWS(Clasament!$B$3:'Clasament'!$B15))),\"\")","v":""},{"$f":"IFERROR(INDEX(Clasament!$BH$3:$BH$72,SMALL(IF(Clasament!O$3:O$72=\"+\",ROW(Clasament!$B$3:$B$74)-ROW(Clasament!$B$3)+1),ROWS(Clasament!$B$3:'Clasament'!$B15))),\"\")","v":""},{"$f":"IFERROR(INDEX(Clasament!$BH$3:$BH$72,SMALL(IF(Clasament!P$3:P$72=\"+\",ROW(Clasament!$B$3:$B$74)-ROW(Clasament!$B$3)+1),ROWS(Clasament!$B$3:'Clasament'!$B15))),\"\")","v":""},{"$f":"IFERROR(INDEX(Clasament!$BH$3:$BH$72,SMALL(IF(Clasament!Q$3:Q$72=\"+\",ROW(Clasament!$B$3:$B$74)-ROW(Clasament!$B$3)+1),ROWS(Clasament!$B$3:'Clasament'!$B15))),\"\")","v":""},{"$f":"IFERROR(INDEX(Clasament!$BH$3:$BH$72,SMALL(IF(Clasament!R$3:R$72=\"+\",ROW(Clasament!$B$3:$B$74)-ROW(Clasament!$B$3)+1),ROWS(Clasament!$B$3:'Clasament'!$B15))),\"\")","v":""},{"$f":"IFERROR(INDEX(Clasament!$BH$3:$BH$72,SMALL(IF(Clasament!S$3:S$72=\"+\",ROW(Clasament!$B$3:$B$74)-ROW(Clasament!$B$3)+1),ROWS(Clasament!$B$3:'Clasament'!$B15))),\"\")","v":""},{"$f":"IFERROR(INDEX(Clasament!$BH$3:$BH$72,SMALL(IF(Clasament!T$3:T$72=\"+\",ROW(Clasament!$B$3:$B$74)-ROW(Clasament!$B$3)+1),ROWS(Clasament!$B$3:'Clasament'!$B15))),\"\")","v":""},{"$f":"IFERROR(INDEX(Clasament!$BH$3:$BH$72,SMALL(IF(Clasament!U$3:U$72=\"+\",ROW(Clasament!$B$3:$B$74)-ROW(Clasament!$B$3)+1),ROWS(Clasament!$B$3:'Clasament'!$B15))),\"\")","v":""},{"$f":"IFERROR(INDEX(Clasament!$BH$3:$BH$72,SMALL(IF(Clasament!V$3:V$72=\"+\",ROW(Clasament!$B$3:$B$74)-ROW(Clasament!$B$3)+1),ROWS(Clasament!$B$3:'Clasament'!$B15))),\"\")","v":""},{"$f":"IFERROR(INDEX(Clasament!$BH$3:$BH$72,SMALL(IF(Clasament!W$3:W$72=\"+\",ROW(Clasament!$B$3:$B$74)-ROW(Clasament!$B$3)+1),ROWS(Clasament!$B$3:'Clasament'!$B15))),\"\")","v":""},{"$f":"IFERROR(INDEX(Clasament!$BH$3:$BH$72,SMALL(IF(Clasament!Y$3:Y$72=\"+\",ROW(Clasament!$B$3:$B$74)-ROW(Clasament!$B$3)+1),ROWS(Clasament!$B$3:'Clasament'!$B15))),\"\")","v":""},{"$f":"IFERROR(INDEX(Clasament!$BH$3:$BH$72,SMALL(IF(Clasament!Z$3:Z$72=\"+\",ROW(Clasament!$B$3:$B$74)-ROW(Clasament!$B$3)+1),ROWS(Clasament!$B$3:'Clasament'!$B15))),\"\")","v":""},{"$f":"IFERROR(INDEX(Clasament!$BH$3:$BH$72,SMALL(IF(Clasament!AA$3:AA$72=\"+\",ROW(Clasament!$B$3:$B$74)-ROW(Clasament!$B$3)+1),ROWS(Clasament!$B$3:'Clasament'!$B15))),\"\")","v":""},{"$f":"IFERROR(INDEX(Clasament!$BH$3:$BH$72,SMALL(IF(Clasament!AB$3:AB$72=\"+\",ROW(Clasament!$B$3:$B$74)-ROW(Clasament!$B$3)+1),ROWS(Clasament!$B$3:'Clasament'!$B15))),\"\")","v":""},{"$f":"IFERROR(INDEX(Clasament!$BH$3:$BH$72,SMALL(IF(Clasament!AC$3:AC$72=\"+\",ROW(Clasament!$B$3:$B$74)-ROW(Clasament!$B$3)+1),ROWS(Clasament!$B$3:'Clasament'!$B15))),\"\")","v":""},{"$f":"IFERROR(INDEX(Clasament!$BH$3:$BH$72,SMALL(IF(Clasament!AD$3:AD$72=\"+\",ROW(Clasament!$B$3:$B$74)-ROW(Clasament!$B$3)+1),ROWS(Clasament!$B$3:'Clasament'!$B15))),\"\")","v":""},{"$f":"IFERROR(INDEX(Clasament!$BH$3:$BH$72,SMALL(IF(Clasament!AE$3:AE$72=\"+\",ROW(Clasament!$B$3:$B$74)-ROW(Clasament!$B$3)+1),ROWS(Clasament!$B$3:'Clasament'!$B15))),\"\")","v":""},{"$f":"IFERROR(INDEX(Clasament!$BH$3:$BH$72,SMALL(IF(Clasament!AF$3:AF$72=\"+\",ROW(Clasament!$B$3:$B$74)-ROW(Clasament!$B$3)+1),ROWS(Clasament!$B$3:'Clasament'!$B15))),\"\")","v":""},{"$f":"IFERROR(INDEX(Clasament!$BH$3:$BH$72,SMALL(IF(Clasament!AG$3:AG$72=\"+\",ROW(Clasament!$B$3:$B$74)-ROW(Clasament!$B$3)+1),ROWS(Clasament!$B$3:'Clasament'!$B15))),\"\")","v":""},{"$f":"IFERROR(INDEX(Clasament!$BH$3:$BH$72,SMALL(IF(Clasament!AH$3:AH$72=\"+\",ROW(Clasament!$B$3:$B$74)-ROW(Clasament!$B$3)+1),ROWS(Clasament!$B$3:'Clasament'!$B15))),\"\")","v":""},{"$f":"IFERROR(INDEX(Clasament!$BH$3:$BH$72,SMALL(IF(Clasament!AJ$3:AJ$72=\"+\",ROW(Clasament!$B$3:$B$74)-ROW(Clasament!$B$3)+1),ROWS(Clasament!$B$3:'Clasament'!$B15))),\"\")","v":""},{"$f":"IFERROR(INDEX(Clasament!$BH$3:$BH$72,SMALL(IF(Clasament!AK$3:AK$72=\"+\",ROW(Clasament!$B$3:$B$74)-ROW(Clasament!$B$3)+1),ROWS(Clasament!$B$3:'Clasament'!$B15))),\"\")","v":""},{"$f":"IFERROR(INDEX(Clasament!$BH$3:$BH$72,SMALL(IF(Clasament!AL$3:AL$72=\"+\",ROW(Clasament!$B$3:$B$74)-ROW(Clasament!$B$3)+1),ROWS(Clasament!$B$3:'Clasament'!$B15))),\"\")","v":""},{"$f":"IFERROR(INDEX(Clasament!$BH$3:$BH$72,SMALL(IF(Clasament!AM$3:AM$72=\"+\",ROW(Clasament!$B$3:$B$74)-ROW(Clasament!$B$3)+1),ROWS(Clasament!$B$3:'Clasament'!$B15))),\"\")","v":""},{"$f":"IFERROR(INDEX(Clasament!$BH$3:$BH$72,SMALL(IF(Clasament!AN$3:AN$72=\"+\",ROW(Clasament!$B$3:$B$74)-ROW(Clasament!$B$3)+1),ROWS(Clasament!$B$3:'Clasament'!$B15))),\"\")","v":""},{"$f":"IFERROR(INDEX(Clasament!$BH$3:$BH$72,SMALL(IF(Clasament!AO$3:AO$72=\"+\",ROW(Clasament!$B$3:$B$74)-ROW(Clasament!$B$3)+1),ROWS(Clasament!$B$3:'Clasament'!$B15))),\"\")","v":""},{"$f":"IFERROR(INDEX(Clasament!$BH$3:$BH$72,SMALL(IF(Clasament!AP$3:AP$72=\"+\",ROW(Clasament!$B$3:$B$74)-ROW(Clasament!$B$3)+1),ROWS(Clasament!$B$3:'Clasament'!$B15))),\"\")","v":""},{"$f":"IFERROR(INDEX(Clasament!$BH$3:$BH$72,SMALL(IF(Clasament!AQ$3:AQ$72=\"+\",ROW(Clasament!$B$3:$B$74)-ROW(Clasament!$B$3)+1),ROWS(Clasament!$B$3:'Clasament'!$B15))),\"\")","v":""},{"$f":"IFERROR(INDEX(Clasament!$BH$3:$BH$72,SMALL(IF(Clasament!AR$3:AR$72=\"+\",ROW(Clasament!$B$3:$B$74)-ROW(Clasament!$B$3)+1),ROWS(Clasament!$B$3:'Clasament'!$B15))),\"\")","v":""},{"$f":"IFERROR(INDEX(Clasament!$BH$3:$BH$72,SMALL(IF(Clasament!AS$3:AS$72=\"+\",ROW(Clasament!$B$3:$B$74)-ROW(Clasament!$B$3)+1),ROWS(Clasament!$B$3:'Clasament'!$B15))),\"\")","v":""},{"$f":"IFERROR(INDEX(Clasament!$BH$3:$BH$72,SMALL(IF(Clasament!AU$3:AU$72=\"+\",ROW(Clasament!$B$3:$B$74)-ROW(Clasament!$B$3)+1),ROWS(Clasament!$B$3:'Clasament'!$B15))),\"\")","v":""},{"$f":"IFERROR(INDEX(Clasament!$BH$3:$BH$72,SMALL(IF(Clasament!AV$3:AV$72=\"+\",ROW(Clasament!$B$3:$B$74)-ROW(Clasament!$B$3)+1),ROWS(Clasament!$B$3:'Clasament'!$B15))),\"\")","v":""},{"$f":"IFERROR(INDEX(Clasament!$BH$3:$BH$72,SMALL(IF(Clasament!AW$3:AW$72=\"+\",ROW(Clasament!$B$3:$B$74)-ROW(Clasament!$B$3)+1),ROWS(Clasament!$B$3:'Clasament'!$B15))),\"\")","v":""},{"$f":"IFERROR(INDEX(Clasament!$BH$3:$BH$72,SMALL(IF(Clasament!AX$3:AX$72=\"+\",ROW(Clasament!$B$3:$B$74)-ROW(Clasament!$B$3)+1),ROWS(Clasament!$B$3:'Clasament'!$B15))),\"\")","v":""},{"$f":"IFERROR(INDEX(Clasament!$BH$3:$BH$72,SMALL(IF(Clasament!AY$3:AY$72=\"+\",ROW(Clasament!$B$3:$B$74)-ROW(Clasament!$B$3)+1),ROWS(Clasament!$B$3:'Clasament'!$B15))),\"\")","v":""},{"$f":"IFERROR(INDEX(Clasament!$BH$3:$BH$72,SMALL(IF(Clasament!AZ$3:AZ$72=\"+\",ROW(Clasament!$B$3:$B$74)-ROW(Clasament!$B$3)+1),ROWS(Clasament!$B$3:'Clasament'!$B15))),\"\")","v":""},{"$f":"IFERROR(INDEX(Clasament!$BH$3:$BH$72,SMALL(IF(Clasament!BA$3:BA$72=\"+\",ROW(Clasament!$B$3:$B$74)-ROW(Clasament!$B$3)+1),ROWS(Clasament!$B$3:'Clasament'!$B15))),\"\")","v":""},{"$f":"IFERROR(INDEX(Clasament!$BH$3:$BH$72,SMALL(IF(Clasament!BB$3:BB$72=\"+\",ROW(Clasament!$B$3:$B$74)-ROW(Clasament!$B$3)+1),ROWS(Clasament!$B$3:'Clasament'!$B15))),\"\")","v":""},{"$f":"IFERROR(INDEX(Clasament!$BH$3:$BH$72,SMALL(IF(Clasament!BC$3:BC$72=\"+\",ROW(Clasament!$B$3:$B$74)-ROW(Clasament!$B$3)+1),ROWS(Clasament!$B$3:'Clasament'!$B15))),\"\")","v":""},{"$f":"IFERROR(INDEX(Clasament!$BH$3:$BH$72,SMALL(IF(Clasament!BD$3:BD$72=\"+\",ROW(Clasament!$B$3:$B$74)-ROW(Clasament!$B$3)+1),ROWS(Clasament!$B$3:'Clasament'!$B15))),\"\")","v":""}]
[null,{"$f":"IFERROR(INDEX(Clasament!$BH$3:$BH$72,SMALL(IF(Clasament!C$3:C$72=\"+\",ROW(Clasament!$B$3:$B$74)-ROW(Clasament!$B$3)+1),ROWS(Clasament!$B$3:'Clasament'!$B16))),\"\")","v":""},{"$f":"IFERROR(INDEX(Clasament!$BH$3:$BH$72,SMALL(IF(Clasament!D$3:D$72=\"+\",ROW(Clasament!$B$3:$B$74)-ROW(Clasament!$B$3)+1),ROWS(Clasament!$B$3:'Clasament'!$B16))),\"\")","v":""},{"$f":"IFERROR(INDEX(Clasament!$BH$3:$BH$72,SMALL(IF(Clasament!E$3:E$72=\"+\",ROW(Clasament!$B$3:$B$74)-ROW(Clasament!$B$3)+1),ROWS(Clasament!$B$3:'Clasament'!$B16))),\"\")","v":""},{"$f":"IFERROR(INDEX(Clasament!$BH$3:$BH$72,SMALL(IF(Clasament!F$3:F$72=\"+\",ROW(Clasament!$B$3:$B$74)-ROW(Clasament!$B$3)+1),ROWS(Clasament!$B$3:'Clasament'!$B16))),\"\")","v":""},{"$f":"IFERROR(INDEX(Clasament!$BH$3:$BH$72,SMALL(IF(Clasament!G$3:G$72=\"+\",ROW(Clasament!$B$3:$B$74)-ROW(Clasament!$B$3)+1),ROWS(Clasament!$B$3:'Clasament'!$B16))),\"\")","v":""},{"$f":"IFERROR(INDEX(Clasament!$BH$3:$BH$72,SMALL(IF(Clasament!H$3:H$72=\"+\",ROW(Clasament!$B$3:$B$74)-ROW(Clasament!$B$3)+1),ROWS(Clasament!$B$3:'Clasament'!$B16))),\"\")","v":""},{"$f":"IFERROR(INDEX(Clasament!$BH$3:$BH$72,SMALL(IF(Clasament!I$3:I$72=\"+\",ROW(Clasament!$B$3:$B$74)-ROW(Clasament!$B$3)+1),ROWS(Clasament!$B$3:'Clasament'!$B16))),\"\")","v":""},{"$f":"IFERROR(INDEX(Clasament!$BH$3:$BH$72,SMALL(IF(Clasament!J$3:J$72=\"+\",ROW(Clasament!$B$3:$B$74)-ROW(Clasament!$B$3)+1),ROWS(Clasament!$B$3:'Clasament'!$B16))),\"\")","v":""},{"$f":"IFERROR(INDEX(Clasament!$BH$3:$BH$72,SMALL(IF(Clasament!K$3:K$72=\"+\",ROW(Clasament!$B$3:$B$74)-ROW(Clasament!$B$3)+1),ROWS(Clasament!$B$3:'Clasament'!$B16))),\"\")","v":""},{"$f":"IFERROR(INDEX(Clasament!$BH$3:$BH$72,SMALL(IF(Clasament!L$3:L$72=\"+\",ROW(Clasament!$B$3:$B$74)-ROW(Clasament!$B$3)+1),ROWS(Clasament!$B$3:'Clasament'!$B16))),\"\")","v":""},{"$f":"IFERROR(INDEX(Clasament!$BH$3:$BH$72,SMALL(IF(Clasament!N$3:N$72=\"+\",ROW(Clasament!$B$3:$B$74)-ROW(Clasament!$B$3)+1),ROWS(Clasament!$B$3:'Clasament'!$B16))),\"\")","v":""},{"$f":"IFERROR(INDEX(Clasament!$BH$3:$BH$72,SMALL(IF(Clasament!O$3:O$72=\"+\",ROW(Clasament!$B$3:$B$74)-ROW(Clasament!$B$3)+1),ROWS(Clasament!$B$3:'Clasament'!$B16))),\"\")","v":""},{"$f":"IFERROR(INDEX(Clasament!$BH$3:$BH$72,SMALL(IF(Clasament!P$3:P$72=\"+\",ROW(Clasament!$B$3:$B$74)-ROW(Clasament!$B$3)+1),ROWS(Clasament!$B$3:'Clasament'!$B16))),\"\")","v":""},{"$f":"IFERROR(INDEX(Clasament!$BH$3:$BH$72,SMALL(IF(Clasament!Q$3:Q$72=\"+\",ROW(Clasament!$B$3:$B$74)-ROW(Clasament!$B$3)+1),ROWS(Clasament!$B$3:'Clasament'!$B16))),\"\")","v":""},{"$f":"IFERROR(INDEX(Clasament!$BH$3:$BH$72,SMALL(IF(Clasament!R$3:R$72=\"+\",ROW(Clasament!$B$3:$B$74)-ROW(Clasament!$B$3)+1),ROWS(Clasament!$B$3:'Clasament'!$B16))),\"\")","v":""},{"$f":"IFERROR(INDEX(Clasament!$BH$3:$BH$72,SMALL(IF(Clasament!S$3:S$72=\"+\",ROW(Clasament!$B$3:$B$74)-ROW(Clasament!$B$3)+1),ROWS(Clasament!$B$3:'Clasament'!$B16))),\"\")","v":""},{"$f":"IFERROR(INDEX(Clasament!$BH$3:$BH$72,SMALL(IF(Clasament!T$3:T$72=\"+\",ROW(Clasament!$B$3:$B$74)-ROW(Clasament!$B$3)+1),ROWS(Clasament!$B$3:'Clasament'!$B16))),\"\")","v":""},{"$f":"IFERROR(INDEX(Clasament!$BH$3:$BH$72,SMALL(IF(Clasament!U$3:U$72=\"+\",ROW(Clasament!$B$3:$B$74)-ROW(Clasament!$B$3)+1),ROWS(Clasament!$B$3:'Clasament'!$B16))),\"\")","v":""},{"$f":"IFERROR(INDEX(Clasament!$BH$3:$BH$72,SMALL(IF(Clasament!V$3:V$72=\"+\",ROW(Clasament!$B$3:$B$74)-ROW(Clasament!$B$3)+1),ROWS(Clasament!$B$3:'Clasament'!$B16))),\"\")","v":""},{"$f":"IFERROR(INDEX(Clasament!$BH$3:$BH$72,SMALL(IF(Clasament!W$3:W$72=\"+\",ROW(Clasament!$B$3:$B$74)-ROW(Clasament!$B$3)+1),ROWS(Clasament!$B$3:'Clasament'!$B16))),\"\")","v":""},{"$f":"IFERROR(INDEX(Clasament!$BH$3:$BH$72,SMALL(IF(Clasament!Y$3:Y$72=\"+\",ROW(Clasament!$B$3:$B$74)-ROW(Clasament!$B$3)+1),ROWS(Clasament!$B$3:'Clasament'!$B16))),\"\")","v":""},{"$f":"IFERROR(INDEX(Clasament!$BH$3:$BH$72,SMALL(IF(Clasament!Z$3:Z$72=\"+\",ROW(Clasament!$B$3:$B$74)-ROW(Clasament!$B$3)+1),ROWS(Clasament!$B$3:'Clasament'!$B16))),\"\")","v":""},{"$f":"IFERROR(INDEX(Clasament!$BH$3:$BH$72,SMALL(IF(Clasament!AA$3:AA$72=\"+\",ROW(Clasament!$B$3:$B$74)-ROW(Clasament!$B$3)+1),ROWS(Clasament!$B$3:'Clasament'!$B16))),\"\")","v":""},{"$f":"IFERROR(INDEX(Clasament!$BH$3:$BH$72,SMALL(IF(Clasament!AB$3:AB$72=\"+\",ROW(Clasament!$B$3:$B$74)-ROW(Clasament!$B$3)+1),ROWS(Clasament!$B$3:'Clasament'!$B16))),\"\")","v":""},{"$f":"IFERROR(INDEX(Clasament!$BH$3:$BH$72,SMALL(IF(Clasament!AC$3:AC$72=\"+\",ROW(Clasament!$B$3:$B$74)-ROW(Clasament!$B$3)+1),ROWS(Clasament!$B$3:'Clasament'!$B16))),\"\")","v":""},{"$f":"IFERROR(INDEX(Clasament!$BH$3:$BH$72,SMALL(IF(Clasament!AD$3:AD$72=\"+\",ROW(Clasament!$B$3:$B$74)-ROW(Clasament!$B$3)+1),ROWS(Clasament!$B$3:'Clasament'!$B16))),\"\")","v":""},{"$f":"IFERROR(INDEX(Clasament!$BH$3:$BH$72,SMALL(IF(Clasament!AE$3:AE$72=\"+\",ROW(Clasament!$B$3:$B$74)-ROW(Clasament!$B$3)+1),ROWS(Clasament!$B$3:'Clasament'!$B16))),\"\")","v":""},{"$f":"IFERROR(INDEX(Clasament!$BH$3:$BH$72,SMALL(IF(Clasament!AF$3:AF$72=\"+\",ROW(Clasament!$B$3:$B$74)-ROW(Clasament!$B$3)+1),ROWS(Clasament!$B$3:'Clasament'!$B16))),\"\")","v":""},{"$f":"IFERROR(INDEX(Clasament!$BH$3:$BH$72,SMALL(IF(Clasament!AG$3:AG$72=\"+\",ROW(Clasament!$B$3:$B$74)-ROW(Clasament!$B$3)+1),ROWS(Clasament!$B$3:'Clasament'!$B16))),\"\")","v":""},{"$f":"IFERROR(INDEX(Clasament!$BH$3:$BH$72,SMALL(IF(Clasament!AH$3:AH$72=\"+\",ROW(Clasament!$B$3:$B$74)-ROW(Clasament!$B$3)+1),ROWS(Clasament!$B$3:'Clasament'!$B16))),\"\")","v":""},{"$f":"IFERROR(INDEX(Clasament!$BH$3:$BH$72,SMALL(IF(Clasament!AJ$3:AJ$72=\"+\",ROW(Clasament!$B$3:$B$74)-ROW(Clasament!$B$3)+1),ROWS(Clasament!$B$3:'Clasament'!$B16))),\"\")","v":""},{"$f":"IFERROR(INDEX(Clasament!$BH$3:$BH$72,SMALL(IF(Clasament!AK$3:AK$72=\"+\",ROW(Clasament!$B$3:$B$74)-ROW(Clasament!$B$3)+1),ROWS(Clasament!$B$3:'Clasament'!$B16))),\"\")","v":""},{"$f":"IFERROR(INDEX(Clasament!$BH$3:$BH$72,SMALL(IF(Clasament!AL$3:AL$72=\"+\",ROW(Clasament!$B$3:$B$74)-ROW(Clasament!$B$3)+1),ROWS(Clasament!$B$3:'Clasament'!$B16))),\"\")","v":""},{"$f":"IFERROR(INDEX(Clasament!$BH$3:$BH$72,SMALL(IF(Clasament!AM$3:AM$72=\"+\",ROW(Clasament!$B$3:$B$74)-ROW(Clasament!$B$3)+1),ROWS(Clasament!$B$3:'Clasament'!$B16))),\"\")","v":""},{"$f":"IFERROR(INDEX(Clasament!$BH$3:$BH$72,SMALL(IF(Clasament!AN$3:AN$72=\"+\",ROW(Clasament!$B$3:$B$74)-ROW(Clasament!$B$3)+1),ROWS(Clasament!$B$3:'Clasament'!$B16))),\"\")","v":""},{"$f":"IFERROR(INDEX(Clasament!$BH$3:$BH$72,SMALL(IF(Clasament!AO$3:AO$72=\"+\",ROW(Clasament!$B$3:$B$74)-ROW(Clasament!$B$3)+1),ROWS(Clasament!$B$3:'Clasament'!$B16))),\"\")","v":""},{"$f":"IFERROR(INDEX(Clasament!$BH$3:$BH$72,SMALL(IF(Clasament!AP$3:AP$72=\"+\",ROW(Clasament!$B$3:$B$74)-ROW(Clasament!$B$3)+1),ROWS(Clasament!$B$3:'Clasament'!$B16))),\"\")","v":""},{"$f":"IFERROR(INDEX(Clasament!$BH$3:$BH$72,SMALL(IF(Clasament!AQ$3:AQ$72=\"+\",ROW(Clasament!$B$3:$B$74)-ROW(Clasament!$B$3)+1),ROWS(Clasament!$B$3:'Clasament'!$B16))),\"\")","v":""},{"$f":"IFERROR(INDEX(Clasament!$BH$3:$BH$72,SMALL(IF(Clasament!AR$3:AR$72=\"+\",ROW(Clasament!$B$3:$B$74)-ROW(Clasament!$B$3)+1),ROWS(Clasament!$B$3:'Clasament'!$B16))),\"\")","v":""},{"$f":"IFERROR(INDEX(Clasament!$BH$3:$BH$72,SMALL(IF(Clasament!AS$3:AS$72=\"+\",ROW(Clasament!$B$3:$B$74)-ROW(Clasament!$B$3)+1),ROWS(Clasament!$B$3:'Clasament'!$B16))),\"\")","v":""},{"$f":"IFERROR(INDEX(Clasament!$BH$3:$BH$72,SMALL(IF(Clasament!AU$3:AU$72=\"+\",ROW(Clasament!$B$3:$B$74)-ROW(Clasament!$B$3)+1),ROWS(Clasament!$B$3:'Clasament'!$B16))),\"\")","v":""},{"$f":"IFERROR(INDEX(Clasament!$BH$3:$BH$72,SMALL(IF(Clasament!AV$3:AV$72=\"+\",ROW(Clasament!$B$3:$B$74)-ROW(Clasament!$B$3)+1),ROWS(Clasament!$B$3:'Clasament'!$B16))),\"\")","v":""},{"$f":"IFERROR(INDEX(Clasament!$BH$3:$BH$72,SMALL(IF(Clasament!AW$3:AW$72=\"+\",ROW(Clasament!$B$3:$B$74)-ROW(Clasament!$B$3)+1),ROWS(Clasament!$B$3:'Clasament'!$B16))),\"\")","v":""},{"$f":"IFERROR(INDEX(Clasament!$BH$3:$BH$72,SMALL(IF(Clasament!AX$3:AX$72=\"+\",ROW(Clasament!$B$3:$B$74)-ROW(Clasament!$B$3)+1),ROWS(Clasament!$B$3:'Clasament'!$B16))),\"\")","v":""},{"$f":"IFERROR(INDEX(Clasament!$BH$3:$BH$72,SMALL(IF(Clasament!AY$3:AY$72=\"+\",ROW(Clasament!$B$3:$B$74)-ROW(Clasament!$B$3)+1),ROWS(Clasament!$B$3:'Clasament'!$B16))),\"\")","v":""},{"$f":"IFERROR(INDEX(Clasament!$BH$3:$BH$72,SMALL(IF(Clasament!AZ$3:AZ$72=\"+\",ROW(Clasament!$B$3:$B$74)-ROW(Clasament!$B$3)+1),ROWS(Clasament!$B$3:'Clasament'!$B16))),\"\")","v":""},{"$f":"IFERROR(INDEX(Clasament!$BH$3:$BH$72,SMALL(IF(Clasament!BA$3:BA$72=\"+\",ROW(Clasament!$B$3:$B$74)-ROW(Clasament!$B$3)+1),ROWS(Clasament!$B$3:'Clasament'!$B16))),\"\")","v":""},{"$f":"IFERROR(INDEX(Clasament!$BH$3:$BH$72,SMALL(IF(Clasament!BB$3:BB$72=\"+\",ROW(Clasament!$B$3:$B$74)-ROW(Clasament!$B$3)+1),ROWS(Clasament!$B$3:'Clasament'!$B16))),\"\")","v":""},{"$f":"IFERROR(INDEX(Clasament!$BH$3:$BH$72,SMALL(IF(Clasament!BC$3:BC$72=\"+\",ROW(Clasament!$B$3:$B$74)-ROW(Clasament!$B$3)+1),ROWS(Clasament!$B$3:'Clasament'!$B16))),\"\")","v":""},{"$f":"IFERROR(INDEX(Clasament!$BH$3:$BH$72,SMALL(IF(Clasament!BD$3:BD$72=\"+\",ROW(Clasament!$B$3:$B$74)-ROW(Clasament!$B$3)+1),ROWS(Clasament!$B$3:'Clasament'!$B16))),\"\")","v":""}]
[null,{"$f":"IFERROR(INDEX(Clasament!$BH$3:$BH$72,SMALL(IF(Clasament!C$3:C$72=\"+\",ROW(Clasament!$B$3:$B$74)-ROW(Clasament!$B$3)+1),ROWS(Clasament!$B$3:'Clasament'!$B17))),\"\")","v":""},{"$f":"IFERROR(INDEX(Clasament!$BH$3:$BH$72,SMALL(IF(Clasament!D$3:D$72=\"+\",ROW(Clasament!$B$3:$B$74)-ROW(Clasament!$B$3)+1),ROWS(Clasament!$B$3:'Clasament'!$B17))),\"\")","v":""},{"$f":"IFERROR(INDEX(Clasament!$BH$3:$BH$72,SMALL(IF(Clasament!E$3:E$72=\"+\",ROW(Clasament!$B$3:$B$74)-ROW(Clasament!$B$3)+1),ROWS(Clasament!$B$3:'Clasament'!$B17))),\"\")","v":""},{"$f":"IFERROR(INDEX(Clasament!$BH$3:$BH$72,SMALL(IF(Clasament!F$3:F$72=\"+\",ROW(Clasament!$B$3:$B$74)-ROW(Clasament!$B$3)+1),ROWS(Clasament!$B$3:'Clasament'!$B17))),\"\")","v":""},{"$f":"IFERROR(INDEX(Clasament!$BH$3:$BH$72,SMALL(IF(Clasament!G$3:G$72=\"+\",ROW(Clasament!$B$3:$B$74)-ROW(Clasament!$B$3)+1),ROWS(Clasament!$B$3:'Clasament'!$B17))),\"\")","v":""},{"$f":"IFERROR(INDEX(Clasament!$BH$3:$BH$72,SMALL(IF(Clasament!H$3:H$72=\"+\",ROW(Clasament!$B$3:$B$74)-ROW(Clasament!$B$3)+1),ROWS(Clasament!$B$3:'Clasament'!$B17))),\"\")","v":""},{"$f":"IFERROR(INDEX(Clasament!$BH$3:$BH$72,SMALL(IF(Clasament!I$3:I$72=\"+\",ROW(Clasament!$B$3:$B$74)-ROW(Clasament!$B$3)+1),ROWS(Clasament!$B$3:'Clasament'!$B17))),\"\")","v":""},{"$f":"IFERROR(INDEX(Clasament!$BH$3:$BH$72,SMALL(IF(Clasament!J$3:J$72=\"+\",ROW(Clasament!$B$3:$B$74)-ROW(Clasament!$B$3)+1),ROWS(Clasament!$B$3:'Clasament'!$B17))),\"\")","v":""},{"$f":"IFERROR(INDEX(Clasament!$BH$3:$BH$72,SMALL(IF(Clasament!K$3:K$72=\"+\",ROW(Clasament!$B$3:$B$74)-ROW(Clasament!$B$3)+1),ROWS(Clasament!$B$3:'Clasament'!$B17))),\"\")","v":""},{"$f":"IFERROR(INDEX(Clasament!$BH$3:$BH$72,SMALL(IF(Clasament!L$3:L$72=\"+\",ROW(Clasament!$B$3:$B$74)-ROW(Clasament!$B$3)+1),ROWS(Clasament!$B$3:'Clasament'!$B17))),\"\")","v":""},{"$f":"IFERROR(INDEX(Clasament!$BH$3:$BH$72,SMALL(IF(Clasament!N$3:N$72=\"+\",ROW(Clasament!$B$3:$B$74)-ROW(Clasament!$B$3)+1),ROWS(Clasament!$B$3:'Clasament'!$B17))),\"\")","v":""},{"$f":"IFERROR(INDEX(Clasament!$BH$3:$BH$72,SMALL(IF(Clasament!O$3:O$72=\"+\",ROW(Clasament!$B$3:$B$74)-ROW(Clasament!$B$3)+1),ROWS(Clasament!$B$3:'Clasament'!$B17))),\"\")","v":""},{"$f":"IFERROR(INDEX(Clasament!$BH$3:$BH$72,SMALL(IF(Clasament!P$3:P$72=\"+\",ROW(Clasament!$B$3:$B$74)-ROW(Clasament!$B$3)+1),ROWS(Clasament!$B$3:'Clasament'!$B17))),\"\")","v":""},{"$f":"IFERROR(INDEX(Clasament!$BH$3:$BH$72,SMALL(IF(Clasament!Q$3:Q$72=\"+\",ROW(Clasament!$B$3:$B$74)-ROW(Clasament!$B$3)+1),ROWS(Clasament!$B$3:'Clasament'!$B17))),\"\")","v":""},{"$f":"IFERROR(INDEX(Clasament!$BH$3:$BH$72,SMALL(IF(Clasament!R$3:R$72=\"+\",ROW(Clasament!$B$3:$B$74)-ROW(Clasament!$B$3)+1),ROWS(Clasament!$B$3:'Clasament'!$B17))),\"\")","v":""},{"$f":"IFERROR(INDEX(Clasament!$BH$3:$BH$72,SMALL(IF(Clasament!S$3:S$72=\"+\",ROW(Clasament!$B$3:$B$74)-ROW(Clasament!$B$3)+1),ROWS(Clasament!$B$3:'Clasament'!$B17))),\"\")","v":""},{"$f":"IFERROR(INDEX(Clasament!$BH$3:$BH$72,SMALL(IF(Clasament!T$3:T$72=\"+\",ROW(Clasament!$B$3:$B$74)-ROW(Clasament!$B$3)+1),ROWS(Clasament!$B$3:'Clasament'!$B17))),\"\")","v":""},{"$f":"IFERROR(INDEX(Clasament!$BH$3:$BH$72,SMALL(IF(Clasament!U$3:U$72=\"+\",ROW(Clasament!$B$3:$B$74)-ROW(Clasament!$B$3)+1),ROWS(Clasament!$B$3:'Clasament'!$B17))),\"\")","v":""},{"$f":"IFERROR(INDEX(Clasament!$BH$3:$BH$72,SMALL(IF(Clasament!V$3:V$72=\"+\",ROW(Clasament!$B$3:$B$74)-ROW(Clasament!$B$3)+1),ROWS(Clasament!$B$3:'Clasament'!$B17))),\"\")","v":""},{"$f":"IFERROR(INDEX(Clasament!$BH$3:$BH$72,SMALL(IF(Clasament!W$3:W$72=\"+\",ROW(Clasament!$B$3:$B$74)-ROW(Clasament!$B$3)+1),ROWS(Clasament!$B$3:'Clasament'!$B17))),\"\")","v":""},{"$f":"IFERROR(INDEX(Clasament!$BH$3:$BH$72,SMALL(IF(Clasament!Y$3:Y$72=\"+\",ROW(Clasament!$B$3:$B$74)-ROW(Clasament!$B$3)+1),ROWS(Clasament!$B$3:'Clasament'!$B17))),\"\")","v":""},{"$f":"IFERROR(INDEX(Clasament!$BH$3:$BH$72,SMALL(IF(Clasament!Z$3:Z$72=\"+\",ROW(Clasament!$B$3:$B$74)-ROW(Clasament!$B$3)+1),ROWS(Clasament!$B$3:'Clasament'!$B17))),\"\")","v":""},{"$f":"IFERROR(INDEX(Clasament!$BH$3:$BH$72,SMALL(IF(Clasament!AA$3:AA$72=\"+\",ROW(Clasament!$B$3:$B$74)-ROW(Clasament!$B$3)+1),ROWS(Clasament!$B$3:'Clasament'!$B17))),\"\")","v":""},{"$f":"IFERROR(INDEX(Clasament!$BH$3:$BH$72,SMALL(IF(Clasament!AB$3:AB$72=\"+\",ROW(Clasament!$B$3:$B$74)-ROW(Clasament!$B$3)+1),ROWS(Clasament!$B$3:'Clasament'!$B17))),\"\")","v":""},{"$f":"IFERROR(INDEX(Clasament!$BH$3:$BH$72,SMALL(IF(Clasament!AC$3:AC$72=\"+\",ROW(Clasament!$B$3:$B$74)-ROW(Clasament!$B$3)+1),ROWS(Clasament!$B$3:'Clasament'!$B17))),\"\")","v":""},{"$f":"IFERROR(INDEX(Clasament!$BH$3:$BH$72,SMALL(IF(Clasament!AD$3:AD$72=\"+\",ROW(Clasament!$B$3:$B$74)-ROW(Clasament!$B$3)+1),ROWS(Clasament!$B$3:'Clasament'!$B17))),\"\")","v":""},{"$f":"IFERROR(INDEX(Clasament!$BH$3:$BH$72,SMALL(IF(Clasament!AE$3:AE$72=\"+\",ROW(Clasament!$B$3:$B$74)-ROW(Clasament!$B$3)+1),ROWS(Clasament!$B$3:'Clasament'!$B17))),\"\")","v":""},{"$f":"IFERROR(INDEX(Clasament!$BH$3:$BH$72,SMALL(IF(Clasament!AF$3:AF$72=\"+\",ROW(Clasament!$B$3:$B$74)-ROW(Clasament!$B$3)+1),ROWS(Clasament!$B$3:'Clasament'!$B17))),\"\")","v":""},{"$f":"IFERROR(INDEX(Clasament!$BH$3:$BH$72,SMALL(IF(Clasament!AG$3:AG$72=\"+\",ROW(Clasament!$B$3:$B$74)-ROW(Clasament!$B$3)+1),ROWS(Clasament!$B$3:'Clasament'!$B17))),\"\")","v":""},{"$f":"IFERROR(INDEX(Clasament!$BH$3:$BH$72,SMALL(IF(Clasament!AH$3:AH$72=\"+\",ROW(Clasament!$B$3:$B$74)-ROW(Clasament!$B$3)+1),ROWS(Clasament!$B$3:'Clasament'!$B17))),\"\")","v":""},{"$f":"IFERROR(INDEX(Clasament!$BH$3:$BH$72,SMALL(IF(Clasament!AJ$3:AJ$72=\"+\",ROW(Clasament!$B$3:$B$74)-ROW(Clasament!$B$3)+1),ROWS(Clasament!$B$3:'Clasament'!$B17))),\"\")","v":""},{"$f":"IFERROR(INDEX(Clasament!$BH$3:$BH$72,SMALL(IF(Clasament!AK$3:AK$72=\"+\",ROW(Clasament!$B$3:$B$74)-ROW(Clasament!$B$3)+1),ROWS(Clasament!$B$3:'Clasament'!$B17))),\"\")","v":""},{"$f":"IFERROR(INDEX(Clasament!$BH$3:$BH$72,SMALL(IF(Clasament!AL$3:AL$72=\"+\",ROW(Clasament!$B$3:$B$74)-ROW(Clasament!$B$3)+1),ROWS(Clasament!$B$3:'Clasament'!$B17))),\"\")","v":""},{"$f":"IFERROR(INDEX(Clasament!$BH$3:$BH$72,SMALL(IF(Clasament!AM$3:AM$72=\"+\",ROW(Clasament!$B$3:$B$74)-ROW(Clasament!$B$3)+1),ROWS(Clasament!$B$3:'Clasament'!$B17))),\"\")","v":""},{"$f":"IFERROR(INDEX(Clasament!$BH$3:$BH$72,SMALL(IF(Clasament!AN$3:AN$72=\"+\",ROW(Clasament!$B$3:$B$74)-ROW(Clasament!$B$3)+1),ROWS(Clasament!$B$3:'Clasament'!$B17))),\"\")","v":""},{"$f":"IFERROR(INDEX(Clasament!$BH$3:$BH$72,SMALL(IF(Clasament!AO$3:AO$72=\"+\",ROW(Clasament!$B$3:$B$74)-ROW(Clasament!$B$3)+1),ROWS(Clasament!$B$3:'Clasament'!$B17))),\"\")","v":""},{"$f":"IFERROR(INDEX(Clasament!$BH$3:$BH$72,SMALL(IF(Clasament!AP$3:AP$72=\"+\",ROW(Clasament!$B$3:$B$74)-ROW(Clasament!$B$3)+1),ROWS(Clasament!$B$3:'Clasament'!$B17))),\"\")","v":""},{"$f":"IFERROR(INDEX(Clasament!$BH$3:$BH$72,SMALL(IF(Clasament!AQ$3:AQ$72=\"+\",ROW(Clasament!$B$3:$B$74)-ROW(Clasament!$B$3)+1),ROWS(Clasament!$B$3:'Clasament'!$B17))),\"\")","v":""},{"$f":"IFERROR(INDEX(Clasament!$BH$3:$BH$72,SMALL(IF(Clasament!AR$3:AR$72=\"+\",ROW(Clasament!$B$3:$B$74)-ROW(Clasament!$B$3)+1),ROWS(Clasament!$B$3:'Clasament'!$B17))),\"\")","v":""},{"$f":"IFERROR(INDEX(Clasament!$BH$3:$BH$72,SMALL(IF(Clasament!AS$3:AS$72=\"+\",ROW(Clasament!$B$3:$B$74)-ROW(Clasament!$B$3)+1),ROWS(Clasament!$B$3:'Clasament'!$B17))),\"\")","v":""},{"$f":"IFERROR(INDEX(Clasament!$BH$3:$BH$72,SMALL(IF(Clasament!AU$3:AU$72=\"+\",ROW(Clasament!$B$3:$B$74)-ROW(Clasament!$B$3)+1),ROWS(Clasament!$B$3:'Clasament'!$B17))),\"\")","v":""},{"$f":"IFERROR(INDEX(Clasament!$BH$3:$BH$72,SMALL(IF(Clasament!AV$3:AV$72=\"+\",ROW(Clasament!$B$3:$B$74)-ROW(Clasament!$B$3)+1),ROWS(Clasament!$B$3:'Clasament'!$B17))),\"\")","v":""},{"$f":"IFERROR(INDEX(Clasament!$BH$3:$BH$72,SMALL(IF(Clasament!AW$3:AW$72=\"+\",ROW(Clasament!$B$3:$B$74)-ROW(Clasament!$B$3)+1),ROWS(Clasament!$B$3:'Clasament'!$B17))),\"\")","v":""},{"$f":"IFERROR(INDEX(Clasament!$BH$3:$BH$72,SMALL(IF(Clasament!AX$3:AX$72=\"+\",ROW(Clasament!$B$3:$B$74)-ROW(Clasament!$B$3)+1),ROWS(Clasament!$B$3:'Clasament'!$B17))),\"\")","v":""},{"$f":"IFERROR(INDEX(Clasament!$BH$3:$BH$72,SMALL(IF(Clasament!AY$3:AY$72=\"+\",ROW(Clasament!$B$3:$B$74)-ROW(Clasament!$B$3)+1),ROWS(Clasament!$B$3:'Clasament'!$B17))),\"\")","v":""},{"$f":"IFERROR(INDEX(Clasament!$BH$3:$BH$72,SMALL(IF(Clasament!AZ$3:AZ$72=\"+\",ROW(Clasament!$B$3:$B$74)-ROW(Clasament!$B$3)+1),ROWS(Clasament!$B$3:'Clasament'!$B17))),\"\")","v":""},{"$f":"IFERROR(INDEX(Clasament!$BH$3:$BH$72,SMALL(IF(Clasament!BA$3:BA$72=\"+\",ROW(Clasament!$B$3:$B$74)-ROW(Clasament!$B$3)+1),ROWS(Clasament!$B$3:'Clasament'!$B17))),\"\")","v":""},{"$f":"IFERROR(INDEX(Clasament!$BH$3:$BH$72,SMALL(IF(Clasament!BB$3:BB$72=\"+\",ROW(Clasament!$B$3:$B$74)-ROW(Clasament!$B$3)+1),ROWS(Clasament!$B$3:'Clasament'!$B17))),\"\")","v":""},{"$f":"IFERROR(INDEX(Clasament!$BH$3:$BH$72,SMALL(IF(Clasament!BC$3:BC$72=\"+\",ROW(Clasament!$B$3:$B$74)-ROW(Clasament!$B$3)+1),ROWS(Clasament!$B$3:'Clasament'!$B17))),\"\")","v":""},{"$f":"IFERROR(INDEX(Clasament!$BH$3:$BH$72,SMALL(IF(Clasament!BD$3:BD$72=\"+\",ROW(Clasament!$B$3:$B$74)-ROW(Clasament!$B$3)+1),ROWS(Clasament!$B$3:'Clasament'!$B17))),\"\")","v":""}]
[null,{"$f":"IFERROR(INDEX(Clasament!$BH$3:$BH$72,SMALL(IF(Clasament!C$3:C$72=\"+\",ROW(Clasament!$B$3:$B$74)-ROW(Clasament!$B$3)+1),ROWS(Clasament!$B$3:'Clasament'!$B18))),\"\")","v":""},{"$f":"IFERROR(INDEX(Clasament!$BH$3:$BH$72,SMALL(IF(Clasament!D$3:D$72=\"+\",ROW(Clasament!$B$3:$B$74)-ROW(Clasament!$B$3)+1),ROWS(Clasament!$B$3:'Clasament'!$B18))),\"\")","v":""},{"$f":"IFERROR(INDEX(Clasament!$BH$3:$BH$72,SMALL(IF(Clasament!E$3:E$72=\"+\",ROW(Clasament!$B$3:$B$74)-ROW(Clasament!$B$3)+1),ROWS(Clasament!$B$3:'Clasament'!$B18))),\"\")","v":""},{"$f":"IFERROR(INDEX(Clasament!$BH$3:$BH$72,SMALL(IF(Clasament!F$3:F$72=\"+\",ROW(Clasament!$B$3:$B$74)-ROW(Clasament!$B$3)+1),ROWS(Clasament!$B$3:'Clasament'!$B18))),\"\")","v":""},{"$f":"IFERROR(INDEX(Clasament!$BH$3:$BH$72,SMALL(IF(Clasament!G$3:G$72=\"+\",ROW(Clasament!$B$3:$B$74)-ROW(Clasament!$B$3)+1),ROWS(Clasament!$B$3:'Clasament'!$B18))),\"\")","v":""},{"$f":"IFERROR(INDEX(Clasament!$BH$3:$BH$72,SMALL(IF(Clasament!H$3:H$72=\"+\",ROW(Clasament!$B$3:$B$74)-ROW(Clasament!$B$3)+1),ROWS(Clasament!$B$3:'Clasament'!$B18))),\"\")","v":""},{"$f":"IFERROR(INDEX(Clasament!$BH$3:$BH$72,SMALL(IF(Clasament!I$3:I$72=\"+\",ROW(Clasament!$B$3:$B$74)-ROW(Clasament!$B$3)+1),ROWS(Clasament!$B$3:'Clasament'!$B18))),\"\")","v":""},{"$f":"IFERROR(INDEX(Clasament!$BH$3:$BH$72,SMALL(IF(Clasament!J$3:J$72=\"+\",ROW(Clasament!$B$3:$B$74)-ROW(Clasament!$B$3)+1),ROWS(Clasament!$B$3:'Clasament'!$B18))),\"\")","v":""},{"$f":"IFERROR(INDEX(Clasament!$BH$3:$BH$72,SMALL(IF(Clasament!K$3:K$72=\"+\",ROW(Clasament!$B$3:$B$74)-ROW(Clasament!$B$3)+1),ROWS(Clasament!$B$3:'Clasament'!$B18))),\"\")","v":""},{"$f":"IFERROR(INDEX(Clasament!$BH$3:$BH$72,SMALL(IF(Clasament!L$3:L$72=\"+\",ROW(Clasament!$B$3:$B$74)-ROW(Clasament!$B$3)+1),ROWS(Clasament!$B$3:'Clasament'!$B18))),\"\")","v":""},{"$f":"IFERROR(INDEX(Clasament!$BH$3:$BH$72,SMALL(IF(Clasament!N$3:N$72=\"+\",ROW(Clasament!$B$3:$B$74)-ROW(Clasament!$B$3)+1),ROWS(Clasament!$B$3:'Clasament'!$B18))),\"\")","v":""},{"$f":"IFERROR(INDEX(Clasament!$BH$3:$BH$72,SMALL(IF(Clasament!O$3:O$72=\"+\",ROW(Clasament!$B$3:$B$74)-ROW(Clasament!$B$3)+1),ROWS(Clasament!$B$3:'Clasament'!$B18))),\"\")","v":""},{"$f":"IFERROR(INDEX(Clasament!$BH$3:$BH$72,SMALL(IF(Clasament!P$3:P$72=\"+\",ROW(Clasament!$B$3:$B$74)-ROW(Clasament!$B$3)+1),ROWS(Clasament!$B$3:'Clasament'!$B18))),\"\")","v":""},{"$f":"IFERROR(INDEX(Clasament!$BH$3:$BH$72,SMALL(IF(Clasament!Q$3:Q$72=\"+\",ROW(Clasament!$B$3:$B$74)-ROW(Clasament!$B$3)+1),ROWS(Clasament!$B$3:'Clasament'!$B18))),\"\")","v":""},{"$f":"IFERROR(INDEX(Clasament!$BH$3:$BH$72,SMALL(IF(Clasament!R$3:R$72=\"+\",ROW(Clasament!$B$3:$B$74)-ROW(Clasament!$B$3)+1),ROWS(Clasament!$B$3:'Clasament'!$B18))),\"\")","v":""},{"$f":"IFERROR(INDEX(Clasament!$BH$3:$BH$72,SMALL(IF(Clasament!S$3:S$72=\"+\",ROW(Clasament!$B$3:$B$74)-ROW(Clasament!$B$3)+1),ROWS(Clasament!$B$3:'Clasament'!$B18))),\"\")","v":""},{"$f":"IFERROR(INDEX(Clasament!$BH$3:$BH$72,SMALL(IF(Clasament!T$3:T$72=\"+\",ROW(Clasament!$B$3:$B$74)-ROW(Clasament!$B$3)+1),ROWS(Clasament!$B$3:'Clasament'!$B18))),\"\")","v":""},{"$f":"IFERROR(INDEX(Clasament!$BH$3:$BH$72,SMALL(IF(Clasament!U$3:U$72=\"+\",ROW(Clasament!$B$3:$B$74)-ROW(Clasament!$B$3)+1),ROWS(Clasament!$B$3:'Clasament'!$B18))),\"\")","v":""},{"$f":"IFERROR(INDEX(Clasament!$BH$3:$BH$72,SMALL(IF(Clasament!V$3:V$72=\"+\",ROW(Clasament!$B$3:$B$74)-ROW(Clasament!$B$3)+1),ROWS(Clasament!$B$3:'Clasament'!$B18))),\"\")","v":""},{"$f":"IFERROR(INDEX(Clasament!$BH$3:$BH$72,SMALL(IF(Clasament!W$3:W$72=\"+\",ROW(Clasament!$B$3:$B$74)-ROW(Clasament!$B$3)+1),ROWS(Clasament!$B$3:'Clasament'!$B18))),\"\")","v":""},{"$f":"IFERROR(INDEX(Clasament!$BH$3:$BH$72,SMALL(IF(Clasament!Y$3:Y$72=\"+\",ROW(Clasament!$B$3:$B$74)-ROW(Clasament!$B$3)+1),ROWS(Clasament!$B$3:'Clasament'!$B18))),\"\")","v":""},{"$f":"IFERROR(INDEX(Clasament!$BH$3:$BH$72,SMALL(IF(Clasament!Z$3:Z$72=\"+\",ROW(Clasament!$B$3:$B$74)-ROW(Clasament!$B$3)+1),ROWS(Clasament!$B$3:'Clasament'!$B18))),\"\")","v":""},{"$f":"IFERROR(INDEX(Clasament!$BH$3:$BH$72,SMALL(IF(Clasament!AA$3:AA$72=\"+\",ROW(Clasament!$B$3:$B$74)-ROW(Clasament!$B$3)+1),ROWS(Clasament!$B$3:'Clasament'!$B18))),\"\")","v":""},{"$f":"IFERROR(INDEX(Clasament!$BH$3:$BH$72,SMALL(IF(Clasament!AB$3:AB$72=\"+\",ROW(Clasament!$B$3:$B$74)-ROW(Clasament!$B$3)+1),ROWS(Clasament!$B$3:'Clasament'!$B18))),\"\")","v":""},{"$f":"IFERROR(INDEX(Clasament!$BH$3:$BH$72,SMALL(IF(Clasament!AC$3:AC$72=\"+\",ROW(Clasament!$B$3:$B$74)-ROW(Clasament!$B$3)+1),ROWS(Clasament!$B$3:'Clasament'!$B18))),\"\")","v":""},{"$f":"IFERROR(INDEX(Clasament!$BH$3:$BH$72,SMALL(IF(Clasament!AD$3:AD$72=\"+\",ROW(Clasament!$B$3:$B$74)-ROW(Clasament!$B$3)+1),ROWS(Clasament!$B$3:'Clasament'!$B18))),\"\")","v":""},{"$f":"IFERROR(INDEX(Clasament!$BH$3:$BH$72,SMALL(IF(Clasament!AE$3:AE$72=\"+\",ROW(Clasament!$B$3:$B$74)-ROW(Clasament!$B$3)+1),ROWS(Clasament!$B$3:'Clasament'!$B18))),\"\")","v":""},{"$f":"IFERROR(INDEX(Clasament!$BH$3:$BH$72,SMALL(IF(Clasament!AF$3:AF$72=\"+\",ROW(Clasament!$B$3:$B$74)-ROW(Clasament!$B$3)+1),ROWS(Clasament!$B$3:'Clasament'!$B18))),\"\")","v":""},{"$f":"IFERROR(INDEX(Clasament!$BH$3:$BH$72,SMALL(IF(Clasament!AG$3:AG$72=\"+\",ROW(Clasament!$B$3:$B$74)-ROW(Clasament!$B$3)+1),ROWS(Clasament!$B$3:'Clasament'!$B18))),\"\")","v":""},{"$f":"IFERROR(INDEX(Clasament!$BH$3:$BH$72,SMALL(IF(Clasament!AH$3:AH$72=\"+\",ROW(Clasament!$B$3:$B$74)-ROW(Clasament!$B$3)+1),ROWS(Clasament!$B$3:'Clasament'!$B18))),\"\")","v":""},{"$f":"IFERROR(INDEX(Clasament!$BH$3:$BH$72,SMALL(IF(Clasament!AJ$3:AJ$72=\"+\",ROW(Clasament!$B$3:$B$74)-ROW(Clasament!$B$3)+1),ROWS(Clasament!$B$3:'Clasament'!$B18))),\"\")","v":""},{"$f":"IFERROR(INDEX(Clasament!$BH$3:$BH$72,SMALL(IF(Clasament!AK$3:AK$72=\"+\",ROW(Clasament!$B$3:$B$74)-ROW(Clasament!$B$3)+1),ROWS(Clasament!$B$3:'Clasament'!$B18))),\"\")","v":""},{"$f":"IFERROR(INDEX(Clasament!$BH$3:$BH$72,SMALL(IF(Clasament!AL$3:AL$72=\"+\",ROW(Clasament!$B$3:$B$74)-ROW(Clasament!$B$3)+1),ROWS(Clasament!$B$3:'Clasament'!$B18))),\"\")","v":""},{"$f":"IFERROR(INDEX(Clasament!$BH$3:$BH$72,SMALL(IF(Clasament!AM$3:AM$72=\"+\",ROW(Clasament!$B$3:$B$74)-ROW(Clasament!$B$3)+1),ROWS(Clasament!$B$3:'Clasament'!$B18))),\"\")","v":""},{"$f":"IFERROR(INDEX(Clasament!$BH$3:$BH$72,SMALL(IF(Clasament!AN$3:AN$72=\"+\",ROW(Clasament!$B$3:$B$74)-ROW(Clasament!$B$3)+1),ROWS(Clasament!$B$3:'Clasament'!$B18))),\"\")","v":""},{"$f":"IFERROR(INDEX(Clasament!$BH$3:$BH$72,SMALL(IF(Clasament!AO$3:AO$72=\"+\",ROW(Clasament!$B$3:$B$74)-ROW(Clasament!$B$3)+1),ROWS(Clasament!$B$3:'Clasament'!$B18))),\"\")","v":""},{"$f":"IFERROR(INDEX(Clasament!$BH$3:$BH$72,SMALL(IF(Clasament!AP$3:AP$72=\"+\",ROW(Clasament!$B$3:$B$74)-ROW(Clasament!$B$3)+1),ROWS(Clasament!$B$3:'Clasament'!$B18))),\"\")","v":""},{"$f":"IFERROR(INDEX(Clasament!$BH$3:$BH$72,SMALL(IF(Clasament!AQ$3:AQ$72=\"+\",ROW(Clasament!$B$3:$B$74)-ROW(Clasament!$B$3)+1),ROWS(Clasament!$B$3:'Clasament'!$B18))),\"\")","v":""},{"$f":"IFERROR(INDEX(Clasament!$BH$3:$BH$72,SMALL(IF(Clasament!AR$3:AR$72=\"+\",ROW(Clasament!$B$3:$B$74)-ROW(Clasament!$B$3)+1),ROWS(Clasament!$B$3:'Clasament'!$B18))),\"\")","v":""},{"$f":"IFERROR(INDEX(Clasament!$BH$3:$BH$72,SMALL(IF(Clasament!AS$3:AS$72=\"+\",ROW(Clasament!$B$3:$B$74)-ROW(Clasament!$B$3)+1),ROWS(Clasament!$B$3:'Clasament'!$B18))),\"\")","v":""},{"$f":"IFERROR(INDEX(Clasament!$BH$3:$BH$72,SMALL(IF(Clasament!AU$3:AU$72=\"+\",ROW(Clasament!$B$3:$B$74)-ROW(Clasament!$B$3)+1),ROWS(Clasament!$B$3:'Clasament'!$B18))),\"\")","v":""},{"$f":"IFERROR(INDEX(Clasament!$BH$3:$BH$72,SMALL(IF(Clasament!AV$3:AV$72=\"+\",ROW(Clasament!$B$3:$B$74)-ROW(Clasament!$B$3)+1),ROWS(Clasament!$B$3:'Clasament'!$B18))),\"\")","v":""},{"$f":"IFERROR(INDEX(Clasament!$BH$3:$BH$72,SMALL(IF(Clasament!AW$3:AW$72=\"+\",ROW(Clasament!$B$3:$B$74)-ROW(Clasament!$B$3)+1),ROWS(Clasament!$B$3:'Clasament'!$B18))),\"\")","v":""},{"$f":"IFERROR(INDEX(Clasament!$BH$3:$BH$72,SMALL(IF(Clasament!AX$3:AX$72=\"+\",ROW(Clasament!$B$3:$B$74)-ROW(Clasament!$B$3)+1),ROWS(Clasament!$B$3:'Clasament'!$B18))),\"\")","v":""},{"$f":"IFERROR(INDEX(Clasament!$BH$3:$BH$72,SMALL(IF(Clasament!AY$3:AY$72=\"+\",ROW(Clasament!$B$3:$B$74)-ROW(Clasament!$B$3)+1),ROWS(Clasament!$B$3:'Clasament'!$B18))),\"\")","v":""},{"$f":"IFERROR(INDEX(Clasament!$BH$3:$BH$72,SMALL(IF(Clasament!AZ$3:AZ$72=\"+\",ROW(Clasament!$B$3:$B$74)-ROW(Clasament!$B$3)+1),ROWS(Clasament!$B$3:'Clasament'!$B18))),\"\")","v":""},{"$f":"IFERROR(INDEX(Clasament!$BH$3:$BH$72,SMALL(IF(Clasament!BA$3:BA$72=\"+\",ROW(Clasament!$B$3:$B$74)-ROW(Clasament!$B$3)+1),ROWS(Clasament!$B$3:'Clasament'!$B18))),\"\")","v":""},{"$f":"IFERROR(INDEX(Clasament!$BH$3:$BH$72,SMALL(IF(Clasament!BB$3:BB$72=\"+\",ROW(Clasament!$B$3:$B$74)-ROW(Clasament!$B$3)+1),ROWS(Clasament!$B$3:'Clasament'!$B18))),\"\")","v":""},{"$f":"IFERROR(INDEX(Clasament!$BH$3:$BH$72,SMALL(IF(Clasament!BC$3:BC$72=\"+\",ROW(Clasament!$B$3:$B$74)-ROW(Clasament!$B$3)+1),ROWS(Clasament!$B$3:'Clasament'!$B18))),\"\")","v":""},{"$f":"IFERROR(INDEX(Clasament!$BH$3:$BH$72,SMALL(IF(Clasament!BD$3:BD$72=\"+\",ROW(Clasament!$B$3:$B$74)-ROW(Clasament!$B$3)+1),ROWS(Clasament!$B$3:'Clasament'!$B18))),\"\")","v":""}]
[null,{"$f":"IFERROR(INDEX(Clasament!$BH$3:$BH$72,SMALL(IF(Clasament!C$3:C$72=\"+\",ROW(Clasament!$B$3:$B$74)-ROW(Clasament!$B$3)+1),ROWS(Clasament!$B$3:'Clasament'!$B19))),\"\")","v":""},{"$f":"IFERROR(INDEX(Clasament!$BH$3:$BH$72,SMALL(IF(Clasament!D$3:D$72=\"+\",ROW(Clasament!$B$3:$B$74)-ROW(Clasament!$B$3)+1),ROWS(Clasament!$B$3:'Clasament'!$B19))),\"\")","v":""},{"$f":"IFERROR(INDEX(Clasament!$BH$3:$BH$72,SMALL(IF(Clasament!E$3:E$72=\"+\",ROW(Clasament!$B$3:$B$74)-ROW(Clasament!$B$3)+1),ROWS(Clasament!$B$3:'Clasament'!$B19))),\"\")","v":""},{"$f":"IFERROR(INDEX(Clasament!$BH$3:$BH$72,SMALL(IF(Clasament!F$3:F$72=\"+\",ROW(Clasament!$B$3:$B$74)-ROW(Clasament!$B$3)+1),ROWS(Clasament!$B$3:'Clasament'!$B19))),\"\")","v":""},{"$f":"IFERROR(INDEX(Clasament!$BH$3:$BH$72,SMALL(IF(Clasament!G$3:G$72=\"+\",ROW(Clasament!$B$3:$B$74)-ROW(Clasament!$B$3)+1),ROWS(Clasament!$B$3:'Clasament'!$B19))),\"\")","v":""},{"$f":"IFERROR(INDEX(Clasament!$BH$3:$BH$72,SMALL(IF(Clasament!H$3:H$72=\"+\",ROW(Clasament!$B$3:$B$74)-ROW(Clasament!$B$3)+1),ROWS(Clasament!$B$3:'Clasament'!$B19))),\"\")","v":""},{"$f":"IFERROR(INDEX(Clasament!$BH$3:$BH$72,SMALL(IF(Clasament!I$3:I$72=\"+\",ROW(Clasament!$B$3:$B$74)-ROW(Clasament!$B$3)+1),ROWS(Clasament!$B$3:'Clasament'!$B19))),\"\")","v":""},{"$f":"IFERROR(INDEX(Clasament!$BH$3:$BH$72,SMALL(IF(Clasament!J$3:J$72=\"+\",ROW(Clasament!$B$3:$B$74)-ROW(Clasament!$B$3)+1),ROWS(Clasament!$B$3:'Clasament'!$B19))),\"\")","v":""},{"$f":"IFERROR(INDEX(Clasament!$BH$3:$BH$72,SMALL(IF(Clasament!K$3:K$72=\"+\",ROW(Clasament!$B$3:$B$74)-ROW(Clasament!$B$3)+1),ROWS(Clasament!$B$3:'Clasament'!$B19))),\"\")","v":""},{"$f":"IFERROR(INDEX(Clasament!$BH$3:$BH$72,SMALL(IF(Clasament!L$3:L$72=\"+\",ROW(Clasament!$B$3:$B$74)-ROW(Clasament!$B$3)+1),ROWS(Clasament!$B$3:'Clasament'!$B19))),\"\")","v":""},{"$f":"IFERROR(INDEX(Clasament!$BH$3:$BH$72,SMALL(IF(Clasament!N$3:N$72=\"+\",ROW(Clasament!$B$3:$B$74)-ROW(Clasament!$B$3)+1),ROWS(Clasament!$B$3:'Clasament'!$B19))),\"\")","v":""},{"$f":"IFERROR(INDEX(Clasament!$BH$3:$BH$72,SMALL(IF(Clasament!O$3:O$72=\"+\",ROW(Clasament!$B$3:$B$74)-ROW(Clasament!$B$3)+1),ROWS(Clasament!$B$3:'Clasament'!$B19))),\"\")","v":""},{"$f":"IFERROR(INDEX(Clasament!$BH$3:$BH$72,SMALL(IF(Clasament!P$3:P$72=\"+\",ROW(Clasament!$B$3:$B$74)-ROW(Clasament!$B$3)+1),ROWS(Clasament!$B$3:'Clasament'!$B19))),\"\")","v":""},{"$f":"IFERROR(INDEX(Clasament!$BH$3:$BH$72,SMALL(IF(Clasament!Q$3:Q$72=\"+\",ROW(Clasament!$B$3:$B$74)-ROW(Clasament!$B$3)+1),ROWS(Clasament!$B$3:'Clasament'!$B19))),\"\")","v":""},{"$f":"IFERROR(INDEX(Clasament!$BH$3:$BH$72,SMALL(IF(Clasament!R$3:R$72=\"+\",ROW(Clasament!$B$3:$B$74)-ROW(Clasament!$B$3)+1),ROWS(Clasament!$B$3:'Clasament'!$B19))),\"\")","v":""},{"$f":"IFERROR(INDEX(Clasament!$BH$3:$BH$72,SMALL(IF(Clasament!S$3:S$72=\"+\",ROW(Clasament!$B$3:$B$74)-ROW(Clasament!$B$3)+1),ROWS(Clasament!$B$3:'Clasament'!$B19))),\"\")","v":""},{"$f":"IFERROR(INDEX(Clasament!$BH$3:$BH$72,SMALL(IF(Clasament!T$3:T$72=\"+\",ROW(Clasament!$B$3:$B$74)-ROW(Clasament!$B$3)+1),ROWS(Clasament!$B$3:'Clasament'!$B19))),\"\")","v":""},{"$f":"IFERROR(INDEX(Clasament!$BH$3:$BH$72,SMALL(IF(Clasament!U$3:U$72=\"+\",ROW(Clasament!$B$3:$B$74)-ROW(Clasament!$B$3)+1),ROWS(Clasament!$B$3:'Clasament'!$B19))),\"\")","v":""},{"$f":"IFERROR(INDEX(Clasament!$BH$3:$BH$72,SMALL(IF(Clasament!V$3:V$72=\"+\",ROW(Clasament!$B$3:$B$74)-ROW(Clasament!$B$3)+1),ROWS(Clasament!$B$3:'Clasament'!$B19))),\"\")","v":""},{"$f":"IFERROR(INDEX(Clasament!$BH$3:$BH$72,SMALL(IF(Clasament!W$3:W$72=\"+\",ROW(Clasament!$B$3:$B$74)-ROW(Clasament!$B$3)+1),ROWS(Clasament!$B$3:'Clasament'!$B19))),\"\")","v":""},{"$f":"IFERROR(INDEX(Clasament!$BH$3:$BH$72,SMALL(IF(Clasament!Y$3:Y$72=\"+\",ROW(Clasament!$B$3:$B$74)-ROW(Clasament!$B$3)+1),ROWS(Clasament!$B$3:'Clasament'!$B19))),\"\")","v":""},{"$f":"IFERROR(INDEX(Clasament!$BH$3:$BH$72,SMALL(IF(Clasament!Z$3:Z$72=\"+\",ROW(Clasament!$B$3:$B$74)-ROW(Clasament!$B$3)+1),ROWS(Clasament!$B$3:'Clasament'!$B19))),\"\")","v":""},{"$f":"IFERROR(INDEX(Clasament!$BH$3:$BH$72,SMALL(IF(Clasament!AA$3:AA$72=\"+\",ROW(Clasament!$B$3:$B$74)-ROW(Clasament!$B$3)+1),ROWS(Clasament!$B$3:'Clasament'!$B19))),\"\")","v":""},{"$f":"IFERROR(INDEX(Clasament!$BH$3:$BH$72,SMALL(IF(Clasament!AB$3:AB$72=\"+\",ROW(Clasament!$B$3:$B$74)-ROW(Clasament!$B$3)+1),ROWS(Clasament!$B$3:'Clasament'!$B19))),\"\")","v":""},{"$f":"IFERROR(INDEX(Clasament!$BH$3:$BH$72,SMALL(IF(Clasament!AC$3:AC$72=\"+\",ROW(Clasament!$B$3:$B$74)-ROW(Clasament!$B$3)+1),ROWS(Clasament!$B$3:'Clasament'!$B19))),\"\")","v":""},{"$f":"IFERROR(INDEX(Clasament!$BH$3:$BH$72,SMALL(IF(Clasament!AD$3:AD$72=\"+\",ROW(Clasament!$B$3:$B$74)-ROW(Clasament!$B$3)+1),ROWS(Clasament!$B$3:'Clasament'!$B19))),\"\")","v":""},{"$f":"IFERROR(INDEX(Clasament!$BH$3:$BH$72,SMALL(IF(Clasament!AE$3:AE$72=\"+\",ROW(Clasament!$B$3:$B$74)-ROW(Clasament!$B$3)+1),ROWS(Clasament!$B$3:'Clasament'!$B19))),\"\")","v":""},{"$f":"IFERROR(INDEX(Clasament!$BH$3:$BH$72,SMALL(IF(Clasament!AF$3:AF$72=\"+\",ROW(Clasament!$B$3:$B$74)-ROW(Clasament!$B$3)+1),ROWS(Clasament!$B$3:'Clasament'!$B19))),\"\")","v":""},{"$f":"IFERROR(INDEX(Clasament!$BH$3:$BH$72,SMALL(IF(Clasament!AG$3:AG$72=\"+\",ROW(Clasament!$B$3:$B$74)-ROW(Clasament!$B$3)+1),ROWS(Clasament!$B$3:'Clasament'!$B19))),\"\")","v":""},{"$f":"IFERROR(INDEX(Clasament!$BH$3:$BH$72,SMALL(IF(Clasament!AH$3:AH$72=\"+\",ROW(Clasament!$B$3:$B$74)-ROW(Clasament!$B$3)+1),ROWS(Clasament!$B$3:'Clasament'!$B19))),\"\")","v":""},{"$f":"IFERROR(INDEX(Clasament!$BH$3:$BH$72,SMALL(IF(Clasament!AJ$3:AJ$72=\"+\",ROW(Clasament!$B$3:$B$74)-ROW(Clasament!$B$3)+1),ROWS(Clasament!$B$3:'Clasament'!$B19))),\"\")","v":""},{"$f":"IFERROR(INDEX(Clasament!$BH$3:$BH$72,SMALL(IF(Clasament!AK$3:AK$72=\"+\",ROW(Clasament!$B$3:$B$74)-ROW(Clasament!$B$3)+1),ROWS(Clasament!$B$3:'Clasament'!$B19))),\"\")","v":""},{"$f":"IFERROR(INDEX(Clasament!$BH$3:$BH$72,SMALL(IF(Clasament!AL$3:AL$72=\"+\",ROW(Clasament!$B$3:$B$74)-ROW(Clasament!$B$3)+1),ROWS(Clasament!$B$3:'Clasament'!$B19))),\"\")","v":""},{"$f":"IFERROR(INDEX(Clasament!$BH$3:$BH$72,SMALL(IF(Clasament!AM$3:AM$72=\"+\",ROW(Clasament!$B$3:$B$74)-ROW(Clasament!$B$3)+1),ROWS(Clasament!$B$3:'Clasament'!$B19))),\"\")","v":""},{"$f":"IFERROR(INDEX(Clasament!$BH$3:$BH$72,SMALL(IF(Clasament!AN$3:AN$72=\"+\",ROW(Clasament!$B$3:$B$74)-ROW(Clasament!$B$3)+1),ROWS(Clasament!$B$3:'Clasament'!$B19))),\"\")","v":""},{"$f":"IFERROR(INDEX(Clasament!$BH$3:$BH$72,SMALL(IF(Clasament!AO$3:AO$72=\"+\",ROW(Clasament!$B$3:$B$74)-ROW(Clasament!$B$3)+1),ROWS(Clasament!$B$3:'Clasament'!$B19))),\"\")","v":""},{"$f":"IFERROR(INDEX(Clasament!$BH$3:$BH$72,SMALL(IF(Clasament!AP$3:AP$72=\"+\",ROW(Clasament!$B$3:$B$74)-ROW(Clasament!$B$3)+1),ROWS(Clasament!$B$3:'Clasament'!$B19))),\"\")","v":""},{"$f":"IFERROR(INDEX(Clasament!$BH$3:$BH$72,SMALL(IF(Clasament!AQ$3:AQ$72=\"+\",ROW(Clasament!$B$3:$B$74)-ROW(Clasament!$B$3)+1),ROWS(Clasament!$B$3:'Clasament'!$B19))),\"\")","v":""},{"$f":"IFERROR(INDEX(Clasament!$BH$3:$BH$72,SMALL(IF(Clasament!AR$3:AR$72=\"+\",ROW(Clasament!$B$3:$B$74)-ROW(Clasament!$B$3)+1),ROWS(Clasament!$B$3:'Clasament'!$B19))),\"\")","v":""},{"$f":"IFERROR(INDEX(Clasament!$BH$3:$BH$72,SMALL(IF(Clasament!AS$3:AS$72=\"+\",ROW(Clasament!$B$3:$B$74)-ROW(Clasament!$B$3)+1),ROWS(Clasament!$B$3:'Clasament'!$B19))),\"\")","v":""},{"$f":"IFERROR(INDEX(Clasament!$BH$3:$BH$72,SMALL(IF(Clasament!AU$3:AU$72=\"+\",ROW(Clasament!$B$3:$B$74)-ROW(Clasament!$B$3)+1),ROWS(Clasament!$B$3:'Clasament'!$B19))),\"\")","v":""},{"$f":"IFERROR(INDEX(Clasament!$BH$3:$BH$72,SMALL(IF(Clasament!AV$3:AV$72=\"+\",ROW(Clasament!$B$3:$B$74)-ROW(Clasament!$B$3)+1),ROWS(Clasament!$B$3:'Clasament'!$B19))),\"\")","v":""},{"$f":"IFERROR(INDEX(Clasament!$BH$3:$BH$72,SMALL(IF(Clasament!AW$3:AW$72=\"+\",ROW(Clasament!$B$3:$B$74)-ROW(Clasament!$B$3)+1),ROWS(Clasament!$B$3:'Clasament'!$B19))),\"\")","v":""},{"$f":"IFERROR(INDEX(Clasament!$BH$3:$BH$72,SMALL(IF(Clasament!AX$3:AX$72=\"+\",ROW(Clasament!$B$3:$B$74)-ROW(Clasament!$B$3)+1),ROWS(Clasament!$B$3:'Clasament'!$B19))),\"\")","v":""},{"$f":"IFERROR(INDEX(Clasament!$BH$3:$BH$72,SMALL(IF(Clasament!AY$3:AY$72=\"+\",ROW(Clasament!$B$3:$B$74)-ROW(Clasament!$B$3)+1),ROWS(Clasament!$B$3:'Clasament'!$B19))),\"\")","v":""},{"$f":"IFERROR(INDEX(Clasament!$BH$3:$BH$72,SMALL(IF(Clasament!AZ$3:AZ$72=\"+\",ROW(Clasament!$B$3:$B$74)-ROW(Clasament!$B$3)+1),ROWS(Clasament!$B$3:'Clasament'!$B19))),\"\")","v":""},{"$f":"IFERROR(INDEX(Clasament!$BH$3:$BH$72,SMALL(IF(Clasament!BA$3:BA$72=\"+\",ROW(Clasament!$B$3:$B$74)-ROW(Clasament!$B$3)+1),ROWS(Clasament!$B$3:'Clasament'!$B19))),\"\")","v":""},{"$f":"IFERROR(INDEX(Clasament!$BH$3:$BH$72,SMALL(IF(Clasament!BB$3:BB$72=\"+\",ROW(Clasament!$B$3:$B$74)-ROW(Clasament!$B$3)+1),ROWS(Clasament!$B$3:'Clasament'!$B19))),\"\")","v":""},{"$f":"IFERROR(INDEX(Clasament!$BH$3:$BH$72,SMALL(IF(Clasament!BC$3:BC$72=\"+\",ROW(Clasament!$B$3:$B$74)-ROW(Clasament!$B$3)+1),ROWS(Clasament!$B$3:'Clasament'!$B19))),\"\")","v":""},{"$f":"IFERROR(INDEX(Clasament!$BH$3:$BH$72,SMALL(IF(Clasament!BD$3:BD$72=\"+\",ROW(Clasament!$B$3:$B$74)-ROW(Clasament!$B$3)+1),ROWS(Clasament!$B$3:'Clasament'!$B19))),\"\")","v":""}]
[null,{"$f":"IFERROR(INDEX(Clasament!$BH$3:$BH$72,SMALL(IF(Clasament!C$3:C$72=\"+\",ROW(Clasament!$B$3:$B$74)-ROW(Clasament!$B$3)+1),ROWS(Clasament!$B$3:'Clasament'!$B20))),\"\")","v":""},{"$f":"IFERROR(INDEX(Clasament!$BH$3:$BH$72,SMALL(IF(Clasament!D$3:D$72=\"+\",ROW(Clasament!$B$3:$B$74)-ROW(Clasament!$B$3)+1),ROWS(Clasament!$B$3:'Clasament'!$B20))),\"\")","v":""},{"$f":"IFERROR(INDEX(Clasament!$BH$3:$BH$72,SMALL(IF(Clasament!E$3:E$72=\"+\",ROW(Clasament!$B$3:$B$74)-ROW(Clasament!$B$3)+1),ROWS(Clasament!$B$3:'Clasament'!$B20))),\"\")","v":""},{"$f":"IFERROR(INDEX(Clasament!$BH$3:$BH$72,SMALL(IF(Clasament!F$3:F$72=\"+\",ROW(Clasament!$B$3:$B$74)-ROW(Clasament!$B$3)+1),ROWS(Clasament!$B$3:'Clasament'!$B20))),\"\")","v":""},{"$f":"IFERROR(INDEX(Clasament!$BH$3:$BH$72,SMALL(IF(Clasament!G$3:G$72=\"+\",ROW(Clasament!$B$3:$B$74)-ROW(Clasament!$B$3)+1),ROWS(Clasament!$B$3:'Clasament'!$B20))),\"\")","v":""},{"$f":"IFERROR(INDEX(Clasament!$BH$3:$BH$72,SMALL(IF(Clasament!H$3:H$72=\"+\",ROW(Clasament!$B$3:$B$74)-ROW(Clasament!$B$3)+1),ROWS(Clasament!$B$3:'Clasament'!$B20))),\"\")","v":""},{"$f":"IFERROR(INDEX(Clasament!$BH$3:$BH$72,SMALL(IF(Clasament!I$3:I$72=\"+\",ROW(Clasament!$B$3:$B$74)-ROW(Clasament!$B$3)+1),ROWS(Clasament!$B$3:'Clasament'!$B20))),\"\")","v":""},{"$f":"IFERROR(INDEX(Clasament!$BH$3:$BH$72,SMALL(IF(Clasament!J$3:J$72=\"+\",ROW(Clasament!$B$3:$B$74)-ROW(Clasament!$B$3)+1),ROWS(Clasament!$B$3:'Clasament'!$B20))),\"\")","v":""},{"$f":"IFERROR(INDEX(Clasament!$BH$3:$BH$72,SMALL(IF(Clasament!K$3:K$72=\"+\",ROW(Clasament!$B$3:$B$74)-ROW(Clasament!$B$3)+1),ROWS(Clasament!$B$3:'Clasament'!$B20))),\"\")","v":""},{"$f":"IFERROR(INDEX(Clasament!$BH$3:$BH$72,SMALL(IF(Clasament!L$3:L$72=\"+\",ROW(Clasament!$B$3:$B$74)-ROW(Clasament!$B$3)+1),ROWS(Clasament!$B$3:'Clasament'!$B20))),\"\")","v":""},{"$f":"IFERROR(INDEX(Clasament!$BH$3:$BH$72,SMALL(IF(Clasament!N$3:N$72=\"+\",ROW(Clasament!$B$3:$B$74)-ROW(Clasament!$B$3)+1),ROWS(Clasament!$B$3:'Clasament'!$B20))),\"\")","v":""},{"$f":"IFERROR(INDEX(Clasament!$BH$3:$BH$72,SMALL(IF(Clasament!O$3:O$72=\"+\",ROW(Clasament!$B$3:$B$74)-ROW(Clasament!$B$3)+1),ROWS(Clasament!$B$3:'Clasament'!$B20))),\"\")","v":""},{"$f":"IFERROR(INDEX(Clasament!$BH$3:$BH$72,SMALL(IF(Clasament!P$3:P$72=\"+\",ROW(Clasament!$B$3:$B$74)-ROW(Clasament!$B$3)+1),ROWS(Clasament!$B$3:'Clasament'!$B20))),\"\")","v":""},{"$f":"IFERROR(INDEX(Clasament!$BH$3:$BH$72,SMALL(IF(Clasament!Q$3:Q$72=\"+\",ROW(Clasament!$B$3:$B$74)-ROW(Clasament!$B$3)+1),ROWS(Clasament!$B$3:'Clasament'!$B20))),\"\")","v":""},{"$f":"IFERROR(INDEX(Clasament!$BH$3:$BH$72,SMALL(IF(Clasament!R$3:R$72=\"+\",ROW(Clasament!$B$3:$B$74)-ROW(Clasament!$B$3)+1),ROWS(Clasament!$B$3:'Clasament'!$B20))),\"\")","v":""},{"$f":"IFERROR(INDEX(Clasament!$BH$3:$BH$72,SMALL(IF(Clasament!S$3:S$72=\"+\",ROW(Clasament!$B$3:$B$74)-ROW(Clasament!$B$3)+1),ROWS(Clasament!$B$3:'Clasament'!$B20))),\"\")","v":""},{"$f":"IFERROR(INDEX(Clasament!$BH$3:$BH$72,SMALL(IF(Clasament!T$3:T$72=\"+\",ROW(Clasament!$B$3:$B$74)-ROW(Clasament!$B$3)+1),ROWS(Clasament!$B$3:'Clasament'!$B20))),\"\")","v":""},{"$f":"IFERROR(INDEX(Clasament!$BH$3:$BH$72,SMALL(IF(Clasament!U$3:U$72=\"+\",ROW(Clasament!$B$3:$B$74)-ROW(Clasament!$B$3)+1),ROWS(Clasament!$B$3:'Clasament'!$B20))),\"\")","v":""},{"$f":"IFERROR(INDEX(Clasament!$BH$3:$BH$72,SMALL(IF(Clasament!V$3:V$72=\"+\",ROW(Clasament!$B$3:$B$74)-ROW(Clasament!$B$3)+1),ROWS(Clasament!$B$3:'Clasament'!$B20))),\"\")","v":""},{"$f":"IFERROR(INDEX(Clasament!$BH$3:$BH$72,SMALL(IF(Clasament!W$3:W$72=\"+\",ROW(Clasament!$B$3:$B$74)-ROW(Clasament!$B$3)+1),ROWS(Clasament!$B$3:'Clasament'!$B20))),\"\")","v":""},{"$f":"IFERROR(INDEX(Clasament!$BH$3:$BH$72,SMALL(IF(Clasament!Y$3:Y$72=\"+\",ROW(Clasament!$B$3:$B$74)-ROW(Clasament!$B$3)+1),ROWS(Clasament!$B$3:'Clasament'!$B20))),\"\")","v":""},{"$f":"IFERROR(INDEX(Clasament!$BH$3:$BH$72,SMALL(IF(Clasament!Z$3:Z$72=\"+\",ROW(Clasament!$B$3:$B$74)-ROW(Clasament!$B$3)+1),ROWS(Clasament!$B$3:'Clasament'!$B20))),\"\")","v":""},{"$f":"IFERROR(INDEX(Clasament!$BH$3:$BH$72,SMALL(IF(Clasament!AA$3:AA$72=\"+\",ROW(Clasament!$B$3:$B$74)-ROW(Clasament!$B$3)+1),ROWS(Clasament!$B$3:'Clasament'!$B20))),\"\")","v":""},{"$f":"IFERROR(INDEX(Clasament!$BH$3:$BH$72,SMALL(IF(Clasament!AB$3:AB$72=\"+\",ROW(Clasament!$B$3:$B$74)-ROW(Clasament!$B$3)+1),ROWS(Clasament!$B$3:'Clasament'!$B20))),\"\")","v":""},{"$f":"IFERROR(INDEX(Clasament!$BH$3:$BH$72,SMALL(IF(Clasament!AC$3:AC$72=\"+\",ROW(Clasament!$B$3:$B$74)-ROW(Clasament!$B$3)+1),ROWS(Clasament!$B$3:'Clasament'!$B20))),\"\")","v":""},{"$f":"IFERROR(INDEX(Clasament!$BH$3:$BH$72,SMALL(IF(Clasament!AD$3:AD$72=\"+\",ROW(Clasament!$B$3:$B$74)-ROW(Clasament!$B$3)+1),ROWS(Clasament!$B$3:'Clasament'!$B20))),\"\")","v":""},{"$f":"IFERROR(INDEX(Clasament!$BH$3:$BH$72,SMALL(IF(Clasament!AE$3:AE$72=\"+\",ROW(Clasament!$B$3:$B$74)-ROW(Clasament!$B$3)+1),ROWS(Clasament!$B$3:'Clasament'!$B20))),\"\")","v":""},{"$f":"IFERROR(INDEX(Clasament!$BH$3:$BH$72,SMALL(IF(Clasament!AF$3:AF$72=\"+\",ROW(Clasament!$B$3:$B$74)-ROW(Clasament!$B$3)+1),ROWS(Clasament!$B$3:'Clasament'!$B20))),\"\")","v":""},{"$f":"IFERROR(INDEX(Clasament!$BH$3:$BH$72,SMALL(IF(Clasament!AG$3:AG$72=\"+\",ROW(Clasament!$B$3:$B$74)-ROW(Clasament!$B$3)+1),ROWS(Clasament!$B$3:'Clasament'!$B20))),\"\")","v":""},{"$f":"IFERROR(INDEX(Clasament!$BH$3:$BH$72,SMALL(IF(Clasament!AH$3:AH$72=\"+\",ROW(Clasament!$B$3:$B$74)-ROW(Clasament!$B$3)+1),ROWS(Clasament!$B$3:'Clasament'!$B20))),\"\")","v":""},{"$f":"IFERROR(INDEX(Clasament!$BH$3:$BH$72,SMALL(IF(Clasament!AJ$3:AJ$72=\"+\",ROW(Clasament!$B$3:$B$74)-ROW(Clasament!$B$3)+1),ROWS(Clasament!$B$3:'Clasament'!$B20))),\"\")","v":""},{"$f":"IFERROR(INDEX(Clasament!$BH$3:$BH$72,SMALL(IF(Clasament!AK$3:AK$72=\"+\",ROW(Clasament!$B$3:$B$74)-ROW(Clasament!$B$3)+1),ROWS(Clasament!$B$3:'Clasament'!$B20))),\"\")","v":""},{"$f":"IFERROR(INDEX(Clasament!$BH$3:$BH$72,SMALL(IF(Clasament!AL$3:AL$72=\"+\",ROW(Clasament!$B$3:$B$74)-ROW(Clasament!$B$3)+1),ROWS(Clasament!$B$3:'Clasament'!$B20))),\"\")","v":""},{"$f":"IFERROR(INDEX(Clasament!$BH$3:$BH$72,SMALL(IF(Clasament!AM$3:AM$72=\"+\",ROW(Clasament!$B$3:$B$74)-ROW(Clasament!$B$3)+1),ROWS(Clasament!$B$3:'Clasament'!$B20))),\"\")","v":""},{"$f":"IFERROR(INDEX(Clasament!$BH$3:$BH$72,SMALL(IF(Clasament!AN$3:AN$72=\"+\",ROW(Clasament!$B$3:$B$74)-ROW(Clasament!$B$3)+1),ROWS(Clasament!$B$3:'Clasament'!$B20))),\"\")","v":""},{"$f":"IFERROR(INDEX(Clasament!$BH$3:$BH$72,SMALL(IF(Clasament!AO$3:AO$72=\"+\",ROW(Clasament!$B$3:$B$74)-ROW(Clasament!$B$3)+1),ROWS(Clasament!$B$3:'Clasament'!$B20))),\"\")","v":""},{"$f":"IFERROR(INDEX(Clasament!$BH$3:$BH$72,SMALL(IF(Clasament!AP$3:AP$72=\"+\",ROW(Clasament!$B$3:$B$74)-ROW(Clasament!$B$3)+1),ROWS(Clasament!$B$3:'Clasament'!$B20))),\"\")","v":""},{"$f":"IFERROR(INDEX(Clasament!$BH$3:$BH$72,SMALL(IF(Clasament!AQ$3:AQ$72=\"+\",ROW(Clasament!$B$3:$B$74)-ROW(Clasament!$B$3)+1),ROWS(Clasament!$B$3:'Clasament'!$B20))),\"\")","v":""},{"$f":"IFERROR(INDEX(Clasament!$BH$3:$BH$72,SMALL(IF(Clasament!AR$3:AR$72=\"+\",ROW(Clasament!$B$3:$B$74)-ROW(Clasament!$B$3)+1),ROWS(Clasament!$B$3:'Clasament'!$B20))),\"\")","v":""},{"$f":"IFERROR(INDEX(Clasament!$BH$3:$BH$72,SMALL(IF(Clasament!AS$3:AS$72=\"+\",ROW(Clasament!$B$3:$B$74)-ROW(Clasament!$B$3)+1),ROWS(Clasament!$B$3:'Clasament'!$B20))),\"\")","v":""},{"$f":"IFERROR(INDEX(Clasament!$BH$3:$BH$72,SMALL(IF(Clasament!AU$3:AU$72=\"+\",ROW(Clasament!$B$3:$B$74)-ROW(Clasament!$B$3)+1),ROWS(Clasament!$B$3:'Clasament'!$B20))),\"\")","v":""},{"$f":"IFERROR(INDEX(Clasament!$BH$3:$BH$72,SMALL(IF(Clasament!AV$3:AV$72=\"+\",ROW(Clasament!$B$3:$B$74)-ROW(Clasament!$B$3)+1),ROWS(Clasament!$B$3:'Clasament'!$B20))),\"\")","v":""},{"$f":"IFERROR(INDEX(Clasament!$BH$3:$BH$72,SMALL(IF(Clasament!AW$3:AW$72=\"+\",ROW(Clasament!$B$3:$B$74)-ROW(Clasament!$B$3)+1),ROWS(Clasament!$B$3:'Clasament'!$B20))),\"\")","v":""},{"$f":"IFERROR(INDEX(Clasament!$BH$3:$BH$72,SMALL(IF(Clasament!AX$3:AX$72=\"+\",ROW(Clasament!$B$3:$B$74)-ROW(Clasament!$B$3)+1),ROWS(Clasament!$B$3:'Clasament'!$B20))),\"\")","v":""},{"$f":"IFERROR(INDEX(Clasament!$BH$3:$BH$72,SMALL(IF(Clasament!AY$3:AY$72=\"+\",ROW(Clasament!$B$3:$B$74)-ROW(Clasament!$B$3)+1),ROWS(Clasament!$B$3:'Clasament'!$B20))),\"\")","v":""},{"$f":"IFERROR(INDEX(Clasament!$BH$3:$BH$72,SMALL(IF(Clasament!AZ$3:AZ$72=\"+\",ROW(Clasament!$B$3:$B$74)-ROW(Clasament!$B$3)+1),ROWS(Clasament!$B$3:'Clasament'!$B20))),\"\")","v":""},{"$f":"IFERROR(INDEX(Clasament!$BH$3:$BH$72,SMALL(IF(Clasament!BA$3:BA$72=\"+\",ROW(Clasament!$B$3:$B$74)-ROW(Clasament!$B$3)+1),ROWS(Clasament!$B$3:'Clasament'!$B20))),\"\")","v":""},{"$f":"IFERROR(INDEX(Clasament!$BH$3:$BH$72,SMALL(IF(Clasament!BB$3:BB$72=\"+\",ROW(Clasament!$B$3:$B$74)-ROW(Clasament!$B$3)+1),ROWS(Clasament!$B$3:'Clasament'!$B20))),\"\")","v":""},{"$f":"IFERROR(INDEX(Clasament!$BH$3:$BH$72,SMALL(IF(Clasament!BC$3:BC$72=\"+\",ROW(Clasament!$B$3:$B$74)-ROW(Clasament!$B$3)+1),ROWS(Clasament!$B$3:'Clasament'!$B20))),\"\")","v":""},{"$f":"IFERROR(INDEX(Clasament!$BH$3:$BH$72,SMALL(IF(Clasament!BD$3:BD$72=\"+\",ROW(Clasament!$B$3:$B$74)-ROW(Clasament!$B$3)+1),ROWS(Clasament!$B$3:'Clasament'!$B20))),\"\")","v":""}]
[null,{"$f":"IFERROR(INDEX(Clasament!$BH$3:$BH$72,SMALL(IF(Clasament!C$3:C$72=\"+\",ROW(Clasament!$B$3:$B$74)-ROW(Clasament!$B$3)+1),ROWS(Clasament!$B$3:'Clasament'!$B21))),\"\")","v":""},{"$f":"IFERROR(INDEX(Clasament!$BH$3:$BH$72,SMALL(IF(Clasament!D$3:D$72=\"+\",ROW(Clasament!$B$3:$B$74)-ROW(Clasament!$B$3)+1),ROWS(Clasament!$B$3:'Clasament'!$B21))),\"\")","v":""},{"$f":"IFERROR(INDEX(Clasament!$BH$3:$BH$72,SMALL(IF(Clasament!E$3:E$72=\"+\",ROW(Clasament!$B$3:$B$74)-ROW(Clasament!$B$3)+1),ROWS(Clasament!$B$3:'Clasament'!$B21))),\"\")","v":""},{"$f":"IFERROR(INDEX(Clasament!$BH$3:$BH$72,SMALL(IF(Clasament!F$3:F$72=\"+\",ROW(Clasament!$B$3:$B$74)-ROW(Clasament!$B$3)+1),ROWS(Clasament!$B$3:'Clasament'!$B21))),\"\")","v":""},{"$f":"IFERROR(INDEX(Clasament!$BH$3:$BH$72,SMALL(IF(Clasament!G$3:G$72=\"+\",ROW(Clasament!$B$3:$B$74)-ROW(Clasament!$B$3)+1),ROWS(Clasament!$B$3:'Clasament'!$B21))),\"\")","v":""},{"$f":"IFERROR(INDEX(Clasament!$BH$3:$BH$72,SMALL(IF(Clasament!H$3:H$72=\"+\",ROW(Clasament!$B$3:$B$74)-ROW(Clasament!$B$3)+1),ROWS(Clasament!$B$3:'Clasament'!$B21))),\"\")","v":""},{"$f":"IFERROR(INDEX(Clasament!$BH$3:$BH$72,SMALL(IF(Clasament!I$3:I$72=\"+\",ROW(Clasament!$B$3:$B$74)-ROW(Clasament!$B$3)+1),ROWS(Clasament!$B$3:'Clasament'!$B21))),\"\")","v":""},{"$f":"IFERROR(INDEX(Clasament!$BH$3:$BH$72,SMALL(IF(Clasament!J$3:J$72=\"+\",ROW(Clasament!$B$3:$B$74)-ROW(Clasament!$B$3)+1),ROWS(Clasament!$B$3:'Clasament'!$B21))),\"\")","v":""},{"$f":"IFERROR(INDEX(Clasament!$BH$3:$BH$72,SMALL(IF(Clasament!K$3:K$72=\"+\",ROW(Clasament!$B$3:$B$74)-ROW(Clasament!$B$3)+1),ROWS(Clasament!$B$3:'Clasament'!$B21))),\"\")","v":""},{"$f":"IFERROR(INDEX(Clasament!$BH$3:$BH$72,SMALL(IF(Clasament!L$3:L$72=\"+\",ROW(Clasament!$B$3:$B$74)-ROW(Clasament!$B$3)+1),ROWS(Clasament!$B$3:'Clasament'!$B21))),\"\")","v":""},{"$f":"IFERROR(INDEX(Clasament!$BH$3:$BH$72,SMALL(IF(Clasament!N$3:N$72=\"+\",ROW(Clasament!$B$3:$B$74)-ROW(Clasament!$B$3)+1),ROWS(Clasament!$B$3:'Clasament'!$B21))),\"\")","v":""},{"$f":"IFERROR(INDEX(Clasament!$BH$3:$BH$72,SMALL(IF(Clasament!O$3:O$72=\"+\",ROW(Clasament!$B$3:$B$74)-ROW(Clasament!$B$3)+1),ROWS(Clasament!$B$3:'Clasament'!$B21))),\"\")","v":""},{"$f":"IFERROR(INDEX(Clasament!$BH$3:$BH$72,SMALL(IF(Clasament!P$3:P$72=\"+\",ROW(Clasament!$B$3:$B$74)-ROW(Clasament!$B$3)+1),ROWS(Clasament!$B$3:'Clasament'!$B21))),\"\")","v":""},{"$f":"IFERROR(INDEX(Clasament!$BH$3:$BH$72,SMALL(IF(Clasament!Q$3:Q$72=\"+\",ROW(Clasament!$B$3:$B$74)-ROW(Clasament!$B$3)+1),ROWS(Clasament!$B$3:'Clasament'!$B21))),\"\")","v":""},{"$f":"IFERROR(INDEX(Clasament!$BH$3:$BH$72,SMALL(IF(Clasament!R$3:R$72=\"+\",ROW(Clasament!$B$3:$B$74)-ROW(Clasament!$B$3)+1),ROWS(Clasament!$B$3:'Clasament'!$B21))),\"\")","v":""},{"$f":"IFERROR(INDEX(Clasament!$BH$3:$BH$72,SMALL(IF(Clasament!S$3:S$72=\"+\",ROW(Clasament!$B$3:$B$74)-ROW(Clasament!$B$3)+1),ROWS(Clasament!$B$3:'Clasament'!$B21))),\"\")","v":""},{"$f":"IFERROR(INDEX(Clasament!$BH$3:$BH$72,SMALL(IF(Clasament!T$3:T$72=\"+\",ROW(Clasament!$B$3:$B$74)-ROW(Clasament!$B$3)+1),ROWS(Clasament!$B$3:'Clasament'!$B21))),\"\")","v":""},{"$f":"IFERROR(INDEX(Clasament!$BH$3:$BH$72,SMALL(IF(Clasament!U$3:U$72=\"+\",ROW(Clasament!$B$3:$B$74)-ROW(Clasament!$B$3)+1),ROWS(Clasament!$B$3:'Clasament'!$B21))),\"\")","v":""},{"$f":"IFERROR(INDEX(Clasament!$BH$3:$BH$72,SMALL(IF(Clasament!V$3:V$72=\"+\",ROW(Clasament!$B$3:$B$74)-ROW(Clasament!$B$3)+1),ROWS(Clasament!$B$3:'Clasament'!$B21))),\"\")","v":""},{"$f":"IFERROR(INDEX(Clasament!$BH$3:$BH$72,SMALL(IF(Clasament!W$3:W$72=\"+\",ROW(Clasament!$B$3:$B$74)-ROW(Clasament!$B$3)+1),ROWS(Clasament!$B$3:'Clasament'!$B21))),\"\")","v":""},{"$f":"IFERROR(INDEX(Clasament!$BH$3:$BH$72,SMALL(IF(Clasament!Y$3:Y$72=\"+\",ROW(Clasament!$B$3:$B$74)-ROW(Clasament!$B$3)+1),ROWS(Clasament!$B$3:'Clasament'!$B21))),\"\")","v":""},{"$f":"IFERROR(INDEX(Clasament!$BH$3:$BH$72,SMALL(IF(Clasament!Z$3:Z$72=\"+\",ROW(Clasament!$B$3:$B$74)-ROW(Clasament!$B$3)+1),ROWS(Clasament!$B$3:'Clasament'!$B21))),\"\")","v":""},{"$f":"IFERROR(INDEX(Clasament!$BH$3:$BH$72,SMALL(IF(Clasament!AA$3:AA$72=\"+\",ROW(Clasament!$B$3:$B$74)-ROW(Clasament!$B$3)+1),ROWS(Clasament!$B$3:'Clasament'!$B21))),\"\")","v":""},{"$f":"IFERROR(INDEX(Clasament!$BH$3:$BH$72,SMALL(IF(Clasament!AB$3:AB$72=\"+\",ROW(Clasament!$B$3:$B$74)-ROW(Clasament!$B$3)+1),ROWS(Clasament!$B$3:'Clasament'!$B21))),\"\")","v":""},{"$f":"IFERROR(INDEX(Clasament!$BH$3:$BH$72,SMALL(IF(Clasament!AC$3:AC$72=\"+\",ROW(Clasament!$B$3:$B$74)-ROW(Clasament!$B$3)+1),ROWS(Clasament!$B$3:'Clasament'!$B21))),\"\")","v":""},{"$f":"IFERROR(INDEX(Clasament!$BH$3:$BH$72,SMALL(IF(Clasament!AD$3:AD$72=\"+\",ROW(Clasament!$B$3:$B$74)-ROW(Clasament!$B$3)+1),ROWS(Clasament!$B$3:'Clasament'!$B21))),\"\")","v":""},{"$f":"IFERROR(INDEX(Clasament!$BH$3:$BH$72,SMALL(IF(Clasament!AE$3:AE$72=\"+\",ROW(Clasament!$B$3:$B$74)-ROW(Clasament!$B$3)+1),ROWS(Clasament!$B$3:'Clasament'!$B21))),\"\")","v":""},{"$f":"IFERROR(INDEX(Clasament!$BH$3:$BH$72,SMALL(IF(Clasament!AF$3:AF$72=\"+\",ROW(Clasament!$B$3:$B$74)-ROW(Clasament!$B$3)+1),ROWS(Clasament!$B$3:'Clasament'!$B21))),\"\")","v":""},{"$f":"IFERROR(INDEX(Clasament!$BH$3:$BH$72,SMALL(IF(Clasament!AG$3:AG$72=\"+\",ROW(Clasament!$B$3:$B$74)-ROW(Clasament!$B$3)+1),ROWS(Clasament!$B$3:'Clasament'!$B21))),\"\")","v":""},{"$f":"IFERROR(INDEX(Clasament!$BH$3:$BH$72,SMALL(IF(Clasament!AH$3:AH$72=\"+\",ROW(Clasament!$B$3:$B$74)-ROW(Clasament!$B$3)+1),ROWS(Clasament!$B$3:'Clasament'!$B21))),\"\")","v":""},{"$f":"IFERROR(INDEX(Clasament!$BH$3:$BH$72,SMALL(IF(Clasament!AJ$3:AJ$72=\"+\",ROW(Clasament!$B$3:$B$74)-ROW(Clasament!$B$3)+1),ROWS(Clasament!$B$3:'Clasament'!$B21))),\"\")","v":""},{"$f":"IFERROR(INDEX(Clasament!$BH$3:$BH$72,SMALL(IF(Clasament!AK$3:AK$72=\"+\",ROW(Clasament!$B$3:$B$74)-ROW(Clasament!$B$3)+1),ROWS(Clasament!$B$3:'Clasament'!$B21))),\"\")","v":""},{"$f":"IFERROR(INDEX(Clasament!$BH$3:$BH$72,SMALL(IF(Clasament!AL$3:AL$72=\"+\",ROW(Clasament!$B$3:$B$74)-ROW(Clasament!$B$3)+1),ROWS(Clasament!$B$3:'Clasament'!$B21))),\"\")","v":""},{"$f":"IFERROR(INDEX(Clasament!$BH$3:$BH$72,SMALL(IF(Clasament!AM$3:AM$72=\"+\",ROW(Clasament!$B$3:$B$74)-ROW(Clasament!$B$3)+1),ROWS(Clasament!$B$3:'Clasament'!$B21))),\"\")","v":""},{"$f":"IFERROR(INDEX(Clasament!$BH$3:$BH$72,SMALL(IF(Clasament!AN$3:AN$72=\"+\",ROW(Clasament!$B$3:$B$74)-ROW(Clasament!$B$3)+1),ROWS(Clasament!$B$3:'Clasament'!$B21))),\"\")","v":""},{"$f":"IFERROR(INDEX(Clasament!$BH$3:$BH$72,SMALL(IF(Clasament!AO$3:AO$72=\"+\",ROW(Clasament!$B$3:$B$74)-ROW(Clasament!$B$3)+1),ROWS(Clasament!$B$3:'Clasament'!$B21))),\"\")","v":""},{"$f":"IFERROR(INDEX(Clasament!$BH$3:$BH$72,SMALL(IF(Clasament!AP$3:AP$72=\"+\",ROW(Clasament!$B$3:$B$74)-ROW(Clasament!$B$3)+1),ROWS(Clasament!$B$3:'Clasament'!$B21))),\"\")","v":""},{"$f":"IFERROR(INDEX(Clasament!$BH$3:$BH$72,SMALL(IF(Clasament!AQ$3:AQ$72=\"+\",ROW(Clasament!$B$3:$B$74)-ROW(Clasament!$B$3)+1),ROWS(Clasament!$B$3:'Clasament'!$B21))),\"\")","v":""},{"$f":"IFERROR(INDEX(Clasament!$BH$3:$BH$72,SMALL(IF(Clasament!AR$3:AR$72=\"+\",ROW(Clasament!$B$3:$B$74)-ROW(Clasament!$B$3)+1),ROWS(Clasament!$B$3:'Clasament'!$B21))),\"\")","v":""},{"$f":"IFERROR(INDEX(Clasament!$BH$3:$BH$72,SMALL(IF(Clasament!AS$3:AS$72=\"+\",ROW(Clasament!$B$3:$B$74)-ROW(Clasament!$B$3)+1),ROWS(Clasament!$B$3:'Clasament'!$B21))),\"\")","v":""},{"$f":"IFERROR(INDEX(Clasament!$BH$3:$BH$72,SMALL(IF(Clasament!AU$3:AU$72=\"+\",ROW(Clasament!$B$3:$B$74)-ROW(Clasament!$B$3)+1),ROWS(Clasament!$B$3:'Clasament'!$B21))),\"\")","v":""},{"$f":"IFERROR(INDEX(Clasament!$BH$3:$BH$72,SMALL(IF(Clasament!AV$3:AV$72=\"+\",ROW(Clasament!$B$3:$B$74)-ROW(Clasament!$B$3)+1),ROWS(Clasament!$B$3:'Clasament'!$B21))),\"\")","v":""},{"$f":"IFERROR(INDEX(Clasament!$BH$3:$BH$72,SMALL(IF(Clasament!AW$3:AW$72=\"+\",ROW(Clasament!$B$3:$B$74)-ROW(Clasament!$B$3)+1),ROWS(Clasament!$B$3:'Clasament'!$B21))),\"\")","v":""},{"$f":"IFERROR(INDEX(Clasament!$BH$3:$BH$72,SMALL(IF(Clasament!AX$3:AX$72=\"+\",ROW(Clasament!$B$3:$B$74)-ROW(Clasament!$B$3)+1),ROWS(Clasament!$B$3:'Clasament'!$B21))),\"\")","v":""},{"$f":"IFERROR(INDEX(Clasament!$BH$3:$BH$72,SMALL(IF(Clasament!AY$3:AY$72=\"+\",ROW(Clasament!$B$3:$B$74)-ROW(Clasament!$B$3)+1),ROWS(Clasament!$B$3:'Clasament'!$B21))),\"\")","v":""},{"$f":"IFERROR(INDEX(Clasament!$BH$3:$BH$72,SMALL(IF(Clasament!AZ$3:AZ$72=\"+\",ROW(Clasament!$B$3:$B$74)-ROW(Clasament!$B$3)+1),ROWS(Clasament!$B$3:'Clasament'!$B21))),\"\")","v":""},{"$f":"IFERROR(INDEX(Clasament!$BH$3:$BH$72,SMALL(IF(Clasament!BA$3:BA$72=\"+\",ROW(Clasament!$B$3:$B$74)-ROW(Clasament!$B$3)+1),ROWS(Clasament!$B$3:'Clasament'!$B21))),\"\")","v":""},{"$f":"IFERROR(INDEX(Clasament!$BH$3:$BH$72,SMALL(IF(Clasament!BB$3:BB$72=\"+\",ROW(Clasament!$B$3:$B$74)-ROW(Clasament!$B$3)+1),ROWS(Clasament!$B$3:'Clasament'!$B21))),\"\")","v":""},{"$f":"IFERROR(INDEX(Clasament!$BH$3:$BH$72,SMALL(IF(Clasament!BC$3:BC$72=\"+\",ROW(Clasament!$B$3:$B$74)-ROW(Clasament!$B$3)+1),ROWS(Clasament!$B$3:'Clasament'!$B21))),\"\")","v":""},{"$f":"IFERROR(INDEX(Clasament!$BH$3:$BH$72,SMALL(IF(Clasament!BD$3:BD$72=\"+\",ROW(Clasament!$B$3:$B$74)-ROW(Clasament!$B$3)+1),ROWS(Clasament!$B$3:'Clasament'!$B21))),\"\")","v":""}]
[null,{"$f":"IFERROR(INDEX(Clasament!$BH$3:$BH$72,SMALL(IF(Clasament!C$3:C$72=\"+\",ROW(Clasament!$B$3:$B$74)-ROW(Clasament!$B$3)+1),ROWS(Clasament!$B$3:'Clasament'!$B22))),\"\")","v":""},{"$f":"IFERROR(INDEX(Clasament!$BH$3:$BH$72,SMALL(IF(Clasament!D$3:D$72=\"+\",ROW(Clasament!$B$3:$B$74)-ROW(Clasament!$B$3)+1),ROWS(Clasament!$B$3:'Clasament'!$B22))),\"\")","v":""},{"$f":"IFERROR(INDEX(Clasament!$BH$3:$BH$72,SMALL(IF(Clasament!E$3:E$72=\"+\",ROW(Clasament!$B$3:$B$74)-ROW(Clasament!$B$3)+1),ROWS(Clasament!$B$3:'Clasament'!$B22))),\"\")","v":""},{"$f":"IFERROR(INDEX(Clasament!$BH$3:$BH$72,SMALL(IF(Clasament!F$3:F$72=\"+\",ROW(Clasament!$B$3:$B$74)-ROW(Clasament!$B$3)+1),ROWS(Clasament!$B$3:'Clasament'!$B22))),\"\")","v":""},{"$f":"IFERROR(INDEX(Clasament!$BH$3:$BH$72,SMALL(IF(Clasament!G$3:G$72=\"+\",ROW(Clasament!$B$3:$B$74)-ROW(Clasament!$B$3)+1),ROWS(Clasament!$B$3:'Clasament'!$B22))),\"\")","v":""},{"$f":"IFERROR(INDEX(Clasament!$BH$3:$BH$72,SMALL(IF(Clasament!H$3:H$72=\"+\",ROW(Clasament!$B$3:$B$74)-ROW(Clasament!$B$3)+1),ROWS(Clasament!$B$3:'Clasament'!$B22))),\"\")","v":""},{"$f":"IFERROR(INDEX(Clasament!$BH$3:$BH$72,SMALL(IF(Clasament!I$3:I$72=\"+\",ROW(Clasament!$B$3:$B$74)-ROW(Clasament!$B$3)+1),ROWS(Clasament!$B$3:'Clasament'!$B22))),\"\")","v":""},{"$f":"IFERROR(INDEX(Clasament!$BH$3:$BH$72,SMALL(IF(Clasament!J$3:J$72=\"+\",ROW(Clasament!$B$3:$B$74)-ROW(Clasament!$B$3)+1),ROWS(Clasament!$B$3:'Clasament'!$B22))),\"\")","v":""},{"$f":"IFERROR(INDEX(Clasament!$BH$3:$BH$72,SMALL(IF(Clasament!K$3:K$72=\"+\",ROW(Clasament!$B$3:$B$74)-ROW(Clasament!$B$3)+1),ROWS(Clasament!$B$3:'Clasament'!$B22))),\"\")","v":""},{"$f":"IFERROR(INDEX(Clasament!$BH$3:$BH$72,SMALL(IF(Clasament!L$3:L$72=\"+\",ROW(Clasament!$B$3:$B$74)-ROW(Clasament!$B$3)+1),ROWS(Clasament!$B$3:'Clasament'!$B22))),\"\")","v":""},{"$f":"IFERROR(INDEX(Clasament!$BH$3:$BH$72,SMALL(IF(Clasament!N$3:N$72=\"+\",ROW(Clasament!$B$3:$B$74)-ROW(Clasament!$B$3)+1),ROWS(Clasament!$B$3:'Clasament'!$B22))),\"\")","v":""},{"$f":"IFERROR(INDEX(Clasament!$BH$3:$BH$72,SMALL(IF(Clasament!O$3:O$72=\"+\",ROW(Clasament!$B$3:$B$74)-ROW(Clasament!$B$3)+1),ROWS(Clasament!$B$3:'Clasament'!$B22))),\"\")","v":""},{"$f":"IFERROR(INDEX(Clasament!$BH$3:$BH$72,SMALL(IF(Clasament!P$3:P$72=\"+\",ROW(Clasament!$B$3:$B$74)-ROW(Clasament!$B$3)+1),ROWS(Clasament!$B$3:'Clasament'!$B22))),\"\")","v":""},{"$f":"IFERROR(INDEX(Clasament!$BH$3:$BH$72,SMALL(IF(Clasament!Q$3:Q$72=\"+\",ROW(Clasament!$B$3:$B$74)-ROW(Clasament!$B$3)+1),ROWS(Clasament!$B$3:'Clasament'!$B22))),\"\")","v":""},{"$f":"IFERROR(INDEX(Clasament!$BH$3:$BH$72,SMALL(IF(Clasament!R$3:R$72=\"+\",ROW(Clasament!$B$3:$B$74)-ROW(Clasament!$B$3)+1),ROWS(Clasament!$B$3:'Clasament'!$B22))),\"\")","v":""},{"$f":"IFERROR(INDEX(Clasament!$BH$3:$BH$72,SMALL(IF(Clasament!S$3:S$72=\"+\",ROW(Clasament!$B$3:$B$74)-ROW(Clasament!$B$3)+1),ROWS(Clasament!$B$3:'Clasament'!$B22))),\"\")","v":""},{"$f":"IFERROR(INDEX(Clasament!$BH$3:$BH$72,SMALL(IF(Clasament!T$3:T$72=\"+\",ROW(Clasament!$B$3:$B$74)-ROW(Clasament!$B$3)+1),ROWS(Clasament!$B$3:'Clasament'!$B22))),\"\")","v":""},{"$f":"IFERROR(INDEX(Clasament!$BH$3:$BH$72,SMALL(IF(Clasament!U$3:U$72=\"+\",ROW(Clasament!$B$3:$B$74)-ROW(Clasament!$B$3)+1),ROWS(Clasament!$B$3:'Clasament'!$B22))),\"\")","v":""},{"$f":"IFERROR(INDEX(Clasament!$BH$3:$BH$72,SMALL(IF(Clasament!V$3:V$72=\"+\",ROW(Clasament!$B$3:$B$74)-ROW(Clasament!$B$3)+1),ROWS(Clasament!$B$3:'Clasament'!$B22))),\"\")","v":""},{"$f":"IFERROR(INDEX(Clasament!$BH$3:$BH$72,SMALL(IF(Clasament!W$3:W$72=\"+\",ROW(Clasament!$B$3:$B$74)-ROW(Clasament!$B$3)+1),ROWS(Clasament!$B$3:'Clasament'!$B22))),\"\")","v":""},{"$f":"IFERROR(INDEX(Clasament!$BH$3:$BH$72,SMALL(IF(Clasament!Y$3:Y$72=\"+\",ROW(Clasament!$B$3:$B$74)-ROW(Clasament!$B$3)+1),ROWS(Clasament!$B$3:'Clasament'!$B22))),\"\")","v":""},{"$f":"IFERROR(INDEX(Clasament!$BH$3:$BH$72,SMALL(IF(Clasament!Z$3:Z$72=\"+\",ROW(Clasament!$B$3:$B$74)-ROW(Clasament!$B$3)+1),ROWS(Clasament!$B$3:'Clasament'!$B22))),\"\")","v":""},{"$f":"IFERROR(INDEX(Clasament!$BH$3:$BH$72,SMALL(IF(Clasament!AA$3:AA$72=\"+\",ROW(Clasament!$B$3:$B$74)-ROW(Clasament!$B$3)+1),ROWS(Clasament!$B$3:'Clasament'!$B22))),\"\")","v":""},{"$f":"IFERROR(INDEX(Clasament!$BH$3:$BH$72,SMALL(IF(Clasament!AB$3:AB$72=\"+\",ROW(Clasament!$B$3:$B$74)-ROW(Clasament!$B$3)+1),ROWS(Clasament!$B$3:'Clasament'!$B22))),\"\")","v":""},{"$f":"IFERROR(INDEX(Clasament!$BH$3:$BH$72,SMALL(IF(Clasament!AC$3:AC$72=\"+\",ROW(Clasament!$B$3:$B$74)-ROW(Clasament!$B$3)+1),ROWS(Clasament!$B$3:'Clasament'!$B22))),\"\")","v":""},{"$f":"IFERROR(INDEX(Clasament!$BH$3:$BH$72,SMALL(IF(Clasament!AD$3:AD$72=\"+\",ROW(Clasament!$B$3:$B$74)-ROW(Clasament!$B$3)+1),ROWS(Clasament!$B$3:'Clasament'!$B22))),\"\")","v":""},{"$f":"IFERROR(INDEX(Clasament!$BH$3:$BH$72,SMALL(IF(Clasament!AE$3:AE$72=\"+\",ROW(Clasament!$B$3:$B$74)-ROW(Clasament!$B$3)+1),ROWS(Clasament!$B$3:'Clasament'!$B22))),\"\")","v":""},{"$f":"IFERROR(INDEX(Clasament!$BH$3:$BH$72,SMALL(IF(Clasament!AF$3:AF$72=\"+\",ROW(Clasament!$B$3:$B$74)-ROW(Clasament!$B$3)+1),ROWS(Clasament!$B$3:'Clasament'!$B22))),\"\")","v":""},{"$f":"IFERROR(INDEX(Clasament!$BH$3:$BH$72,SMALL(IF(Clasament!AG$3:AG$72=\"+\",ROW(Clasament!$B$3:$B$74)-ROW(Clasament!$B$3)+1),ROWS(Clasament!$B$3:'Clasament'!$B22))),\"\")","v":""},{"$f":"IFERROR(INDEX(Clasament!$BH$3:$BH$72,SMALL(IF(Clasament!AH$3:AH$72=\"+\",ROW(Clasament!$B$3:$B$74)-ROW(Clasament!$B$3)+1),ROWS(Clasament!$B$3:'Clasament'!$B22))),\"\")","v":""},{"$f":"IFERROR(INDEX(Clasament!$BH$3:$BH$72,SMALL(IF(Clasament!AJ$3:AJ$72=\"+\",ROW(Clasament!$B$3:$B$74)-ROW(Clasament!$B$3)+1),ROWS(Clasament!$B$3:'Clasament'!$B22))),\"\")","v":""},{"$f":"IFERROR(INDEX(Clasament!$BH$3:$BH$72,SMALL(IF(Clasament!AK$3:AK$72=\"+\",ROW(Clasament!$B$3:$B$74)-ROW(Clasament!$B$3)+1),ROWS(Clasament!$B$3:'Clasament'!$B22))),\"\")","v":""},{"$f":"IFERROR(INDEX(Clasament!$BH$3:$BH$72,SMALL(IF(Clasament!AL$3:AL$72=\"+\",ROW(Clasament!$B$3:$B$74)-ROW(Clasament!$B$3)+1),ROWS(Clasament!$B$3:'Clasament'!$B22))),\"\")","v":""},{"$f":"IFERROR(INDEX(Clasament!$BH$3:$BH$72,SMALL(IF(Clasament!AM$3:AM$72=\"+\",ROW(Clasament!$B$3:$B$74)-ROW(Clasament!$B$3)+1),ROWS(Clasament!$B$3:'Clasament'!$B22))),\"\")","v":""},{"$f":"IFERROR(INDEX(Clasament!$BH$3:$BH$72,SMALL(IF(Clasament!AN$3:AN$72=\"+\",ROW(Clasament!$B$3:$B$74)-ROW(Clasament!$B$3)+1),ROWS(Clasament!$B$3:'Clasament'!$B22))),\"\")","v":""},{"$f":"IFERROR(INDEX(Clasament!$BH$3:$BH$72,SMALL(IF(Clasament!AO$3:AO$72=\"+\",ROW(Clasament!$B$3:$B$74)-ROW(Clasament!$B$3)+1),ROWS(Clasament!$B$3:'Clasament'!$B22))),\"\")","v":""},{"$f":"IFERROR(INDEX(Clasament!$BH$3:$BH$72,SMALL(IF(Clasament!AP$3:AP$72=\"+\",ROW(Clasament!$B$3:$B$74)-ROW(Clasament!$B$3)+1),ROWS(Clasament!$B$3:'Clasament'!$B22))),\"\")","v":""},{"$f":"IFERROR(INDEX(Clasament!$BH$3:$BH$72,SMALL(IF(Clasament!AQ$3:AQ$72=\"+\",ROW(Clasament!$B$3:$B$74)-ROW(Clasament!$B$3)+1),ROWS(Clasament!$B$3:'Clasament'!$B22))),\"\")","v":""},{"$f":"IFERROR(INDEX(Clasament!$BH$3:$BH$72,SMALL(IF(Clasament!AR$3:AR$72=\"+\",ROW(Clasament!$B$3:$B$74)-ROW(Clasament!$B$3)+1),ROWS(Clasament!$B$3:'Clasament'!$B22))),\"\")","v":""},{"$f":"IFERROR(INDEX(Clasament!$BH$3:$BH$72,SMALL(IF(Clasament!AS$3:AS$72=\"+\",ROW(Clasament!$B$3:$B$74)-ROW(Clasament!$B$3)+1),ROWS(Clasament!$B$3:'Clasament'!$B22))),\"\")","v":""},{"$f":"IFERROR(INDEX(Clasament!$BH$3:$BH$72,SMALL(IF(Clasament!AU$3:AU$72=\"+\",ROW(Clasament!$B$3:$B$74)-ROW(Clasament!$B$3)+1),ROWS(Clasament!$B$3:'Clasament'!$B22))),\"\")","v":""},{"$f":"IFERROR(INDEX(Clasament!$BH$3:$BH$72,SMALL(IF(Clasament!AV$3:AV$72=\"+\",ROW(Clasament!$B$3:$B$74)-ROW(Clasament!$B$3)+1),ROWS(Clasament!$B$3:'Clasament'!$B22))),\"\")","v":""},{"$f":"IFERROR(INDEX(Clasament!$BH$3:$BH$72,SMALL(IF(Clasament!AW$3:AW$72=\"+\",ROW(Clasament!$B$3:$B$74)-ROW(Clasament!$B$3)+1),ROWS(Clasament!$B$3:'Clasament'!$B22))),\"\")","v":""},{"$f":"IFERROR(INDEX(Clasament!$BH$3:$BH$72,SMALL(IF(Clasament!AX$3:AX$72=\"+\",ROW(Clasament!$B$3:$B$74)-ROW(Clasament!$B$3)+1),ROWS(Clasament!$B$3:'Clasament'!$B22))),\"\")","v":""},{"$f":"IFERROR(INDEX(Clasament!$BH$3:$BH$72,SMALL(IF(Clasament!AY$3:AY$72=\"+\",ROW(Clasament!$B$3:$B$74)-ROW(Clasament!$B$3)+1),ROWS(Clasament!$B$3:'Clasament'!$B22))),\"\")","v":""},{"$f":"IFERROR(INDEX(Clasament!$BH$3:$BH$72,SMALL(IF(Clasament!AZ$3:AZ$72=\"+\",ROW(Clasament!$B$3:$B$74)-ROW(Clasament!$B$3)+1),ROWS(Clasament!$B$3:'Clasament'!$B22))),\"\")","v":""},{"$f":"IFERROR(INDEX(Clasament!$BH$3:$BH$72,SMALL(IF(Clasament!BA$3:BA$72=\"+\",ROW(Clasament!$B$3:$B$74)-ROW(Clasament!$B$3)+1),ROWS(Clasament!$B$3:'Clasament'!$B22))),\"\")","v":""},{"$f":"IFERROR(INDEX(Clasament!$BH$3:$BH$72,SMALL(IF(Clasament!BB$3:BB$72=\"+\",ROW(Clasament!$B$3:$B$74)-ROW(Clasament!$B$3)+1),ROWS(Clasament!$B$3:'Clasament'!$B22))),\"\")","v":""},{"$f":"IFERROR(INDEX(Clasament!$BH$3:$BH$72,SMALL(IF(Clasament!BC$3:BC$72=\"+\",ROW(Clasament!$B$3:$B$74)-ROW(Clasament!$B$3)+1),ROWS(Clasament!$B$3:'Clasament'!$B22))),\"\")","v":""},{"$f":"IFERROR(INDEX(Clasament!$BH$3:$BH$72,SMALL(IF(Clasament!BD$3:BD$72=\"+\",ROW(Clasament!$B$3:$B$74)-ROW(Clasament!$B$3)+1),ROWS(Clasament!$B$3:'Clasament'!$B22))),\"\")","v":""}]
[null,{"$f":"IFERROR(INDEX(Clasament!$BH$3:$BH$72,SMALL(IF(Clasament!C$3:C$72=\"+\",ROW(Clasament!$B$3:$B$74)-ROW(Clasament!$B$3)+1),ROWS(Clasament!$B$3:'Clasament'!$B23))),\"\")","v":""},{"$f":"IFERROR(INDEX(Clasament!$BH$3:$BH$72,SMALL(IF(Clasament!D$3:D$72=\"+\",ROW(Clasament!$B$3:$B$74)-ROW(Clasament!$B$3)+1),ROWS(Clasament!$B$3:'Clasament'!$B23))),\"\")","v":""},{"$f":"IFERROR(INDEX(Clasament!$BH$3:$BH$72,SMALL(IF(Clasament!E$3:E$72=\"+\",ROW(Clasament!$B$3:$B$74)-ROW(Clasament!$B$3)+1),ROWS(Clasament!$B$3:'Clasament'!$B23))),\"\")","v":""},{"$f":"IFERROR(INDEX(Clasament!$BH$3:$BH$72,SMALL(IF(Clasament!F$3:F$72=\"+\",ROW(Clasament!$B$3:$B$74)-ROW(Clasament!$B$3)+1),ROWS(Clasament!$B$3:'Clasament'!$B23))),\"\")","v":""},{"$f":"IFERROR(INDEX(Clasament!$BH$3:$BH$72,SMALL(IF(Clasament!G$3:G$72=\"+\",ROW(Clasament!$B$3:$B$74)-ROW(Clasament!$B$3)+1),ROWS(Clasament!$B$3:'Clasament'!$B23))),\"\")","v":""},{"$f":"IFERROR(INDEX(Clasament!$BH$3:$BH$72,SMALL(IF(Clasament!H$3:H$72=\"+\",ROW(Clasament!$B$3:$B$74)-ROW(Clasament!$B$3)+1),ROWS(Clasament!$B$3:'Clasament'!$B23))),\"\")","v":""},{"$f":"IFERROR(INDEX(Clasament!$BH$3:$BH$72,SMALL(IF(Clasament!I$3:I$72=\"+\",ROW(Clasament!$B$3:$B$74)-ROW(Clasament!$B$3)+1),ROWS(Clasament!$B$3:'Clasament'!$B23))),\"\")","v":""},{"$f":"IFERROR(INDEX(Clasament!$BH$3:$BH$72,SMALL(IF(Clasament!J$3:J$72=\"+\",ROW(Clasament!$B$3:$B$74)-ROW(Clasament!$B$3)+1),ROWS(Clasament!$B$3:'Clasament'!$B23))),\"\")","v":""},{"$f":"IFERROR(INDEX(Clasament!$BH$3:$BH$72,SMALL(IF(Clasament!K$3:K$72=\"+\",ROW(Clasament!$B$3:$B$74)-ROW(Clasament!$B$3)+1),ROWS(Clasament!$B$3:'Clasament'!$B23))),\"\")","v":""},{"$f":"IFERROR(INDEX(Clasament!$BH$3:$BH$72,SMALL(IF(Clasament!L$3:L$72=\"+\",ROW(Clasament!$B$3:$B$74)-ROW(Clasament!$B$3)+1),ROWS(Clasament!$B$3:'Clasament'!$B23))),\"\")","v":""},{"$f":"IFERROR(INDEX(Clasament!$BH$3:$BH$72,SMALL(IF(Clasament!N$3:N$72=\"+\",ROW(Clasament!$B$3:$B$74)-ROW(Clasament!$B$3)+1),ROWS(Clasament!$B$3:'Clasament'!$B23))),\"\")","v":""},{"$f":"IFERROR(INDEX(Clasament!$BH$3:$BH$72,SMALL(IF(Clasament!O$3:O$72=\"+\",ROW(Clasament!$B$3:$B$74)-ROW(Clasament!$B$3)+1),ROWS(Clasament!$B$3:'Clasament'!$B23))),\"\")","v":""},{"$f":"IFERROR(INDEX(Clasament!$BH$3:$BH$72,SMALL(IF(Clasament!P$3:P$72=\"+\",ROW(Clasament!$B$3:$B$74)-ROW(Clasament!$B$3)+1),ROWS(Clasament!$B$3:'Clasament'!$B23))),\"\")","v":""},{"$f":"IFERROR(INDEX(Clasament!$BH$3:$BH$72,SMALL(IF(Clasament!Q$3:Q$72=\"+\",ROW(Clasament!$B$3:$B$74)-ROW(Clasament!$B$3)+1),ROWS(Clasament!$B$3:'Clasament'!$B23))),\"\")","v":""},{"$f":"IFERROR(INDEX(Clasament!$BH$3:$BH$72,SMALL(IF(Clasament!R$3:R$72=\"+\",ROW(Clasament!$B$3:$B$74)-ROW(Clasament!$B$3)+1),ROWS(Clasament!$B$3:'Clasament'!$B23))),\"\")","v":""},{"$f":"IFERROR(INDEX(Clasament!$BH$3:$BH$72,SMALL(IF(Clasament!S$3:S$72=\"+\",ROW(Clasament!$B$3:$B$74)-ROW(Clasament!$B$3)+1),ROWS(Clasament!$B$3:'Clasament'!$B23))),\"\")","v":""},{"$f":"IFERROR(INDEX(Clasament!$BH$3:$BH$72,SMALL(IF(Clasament!T$3:T$72=\"+\",ROW(Clasament!$B$3:$B$74)-ROW(Clasament!$B$3)+1),ROWS(Clasament!$B$3:'Clasament'!$B23))),\"\")","v":""},{"$f":"IFERROR(INDEX(Clasament!$BH$3:$BH$72,SMALL(IF(Clasament!U$3:U$72=\"+\",ROW(Clasament!$B$3:$B$74)-ROW(Clasament!$B$3)+1),ROWS(Clasament!$B$3:'Clasament'!$B23))),\"\")","v":""},{"$f":"IFERROR(INDEX(Clasament!$BH$3:$BH$72,SMALL(IF(Clasament!V$3:V$72=\"+\",ROW(Clasament!$B$3:$B$74)-ROW(Clasament!$B$3)+1),ROWS(Clasament!$B$3:'Clasament'!$B23))),\"\")","v":""},{"$f":"IFERROR(INDEX(Clasament!$BH$3:$BH$72,SMALL(IF(Clasament!W$3:W$72=\"+\",ROW(Clasament!$B$3:$B$74)-ROW(Clasament!$B$3)+1),ROWS(Clasament!$B$3:'Clasament'!$B23))),\"\")","v":""},{"$f":"IFERROR(INDEX(Clasament!$BH$3:$BH$72,SMALL(IF(Clasament!Y$3:Y$72=\"+\",ROW(Clasament!$B$3:$B$74)-ROW(Clasament!$B$3)+1),ROWS(Clasament!$B$3:'Clasament'!$B23))),\"\")","v":""},{"$f":"IFERROR(INDEX(Clasament!$BH$3:$BH$72,SMALL(IF(Clasament!Z$3:Z$72=\"+\",ROW(Clasament!$B$3:$B$74)-ROW(Clasament!$B$3)+1),ROWS(Clasament!$B$3:'Clasament'!$B23))),\"\")","v":""},{"$f":"IFERROR(INDEX(Clasament!$BH$3:$BH$72,SMALL(IF(Clasament!AA$3:AA$72=\"+\",ROW(Clasament!$B$3:$B$74)-ROW(Clasament!$B$3)+1),ROWS(Clasament!$B$3:'Clasament'!$B23))),\"\")","v":""},{"$f":"IFERROR(INDEX(Clasament!$BH$3:$BH$72,SMALL(IF(Clasament!AB$3:AB$72=\"+\",ROW(Clasament!$B$3:$B$74)-ROW(Clasament!$B$3)+1),ROWS(Clasament!$B$3:'Clasament'!$B23))),\"\")","v":""},{"$f":"IFERROR(INDEX(Clasament!$BH$3:$BH$72,SMALL(IF(Clasament!AC$3:AC$72=\"+\",ROW(Clasament!$B$3:$B$74)-ROW(Clasament!$B$3)+1),ROWS(Clasament!$B$3:'Clasament'!$B23))),\"\")","v":""},{"$f":"IFERROR(INDEX(Clasament!$BH$3:$BH$72,SMALL(IF(Clasament!AD$3:AD$72=\"+\",ROW(Clasament!$B$3:$B$74)-ROW(Clasament!$B$3)+1),ROWS(Clasament!$B$3:'Clasament'!$B23))),\"\")","v":""},{"$f":"IFERROR(INDEX(Clasament!$BH$3:$BH$72,SMALL(IF(Clasament!AE$3:AE$72=\"+\",ROW(Clasament!$B$3:$B$74)-ROW(Clasament!$B$3)+1),ROWS(Clasament!$B$3:'Clasament'!$B23))),\"\")","v":""},{"$f":"IFERROR(INDEX(Clasament!$BH$3:$BH$72,SMALL(IF(Clasament!AF$3:AF$72=\"+\",ROW(Clasament!$B$3:$B$74)-ROW(Clasament!$B$3)+1),ROWS(Clasament!$B$3:'Clasament'!$B23))),\"\")","v":""},{"$f":"IFERROR(INDEX(Clasament!$BH$3:$BH$72,SMALL(IF(Clasament!AG$3:AG$72=\"+\",ROW(Clasament!$B$3:$B$74)-ROW(Clasament!$B$3)+1),ROWS(Clasament!$B$3:'Clasament'!$B23))),\"\")","v":""},{"$f":"IFERROR(INDEX(Clasament!$BH$3:$BH$72,SMALL(IF(Clasament!AH$3:AH$72=\"+\",ROW(Clasament!$B$3:$B$74)-ROW(Clasament!$B$3)+1),ROWS(Clasament!$B$3:'Clasament'!$B23))),\"\")","v":""},{"$f":"IFERROR(INDEX(Clasament!$BH$3:$BH$72,SMALL(IF(Clasament!AJ$3:AJ$72=\"+\",ROW(Clasament!$B$3:$B$74)-ROW(Clasament!$B$3)+1),ROWS(Clasament!$B$3:'Clasament'!$B23))),\"\")","v":""},{"$f":"IFERROR(INDEX(Clasament!$BH$3:$BH$72,SMALL(IF(Clasament!AK$3:AK$72=\"+\",ROW(Clasament!$B$3:$B$74)-ROW(Clasament!$B$3)+1),ROWS(Clasament!$B$3:'Clasament'!$B23))),\"\")","v":""},{"$f":"IFERROR(INDEX(Clasament!$BH$3:$BH$72,SMALL(IF(Clasament!AL$3:AL$72=\"+\",ROW(Clasament!$B$3:$B$74)-ROW(Clasament!$B$3)+1),ROWS(Clasament!$B$3:'Clasament'!$B23))),\"\")","v":""},{"$f":"IFERROR(INDEX(Clasament!$BH$3:$BH$72,SMALL(IF(Clasament!AM$3:AM$72=\"+\",ROW(Clasament!$B$3:$B$74)-ROW(Clasament!$B$3)+1),ROWS(Clasament!$B$3:'Clasament'!$B23))),\"\")","v":""},{"$f":"IFERROR(INDEX(Clasament!$BH$3:$BH$72,SMALL(IF(Clasament!AN$3:AN$72=\"+\",ROW(Clasament!$B$3:$B$74)-ROW(Clasament!$B$3)+1),ROWS(Clasament!$B$3:'Clasament'!$B23))),\"\")","v":""},{"$f":"IFERROR(INDEX(Clasament!$BH$3:$BH$72,SMALL(IF(Clasament!AO$3:AO$72=\"+\",ROW(Clasament!$B$3:$B$74)-ROW(Clasament!$B$3)+1),ROWS(Clasament!$B$3:'Clasament'!$B23))),\"\")","v":""},{"$f":"IFERROR(INDEX(Clasament!$BH$3:$BH$72,SMALL(IF(Clasament!AP$3:AP$72=\"+\",ROW(Clasament!$B$3:$B$74)-ROW(Clasament!$B$3)+1),ROWS(Clasament!$B$3:'Clasament'!$B23))),\"\")","v":""},{"$f":"IFERROR(INDEX(Clasament!$BH$3:$BH$72,SMALL(IF(Clasament!AQ$3:AQ$72=\"+\",ROW(Clasament!$B$3:$B$74)-ROW(Clasament!$B$3)+1),ROWS(Clasament!$B$3:'Clasament'!$B23))),\"\")","v":""},{"$f":"IFERROR(INDEX(Clasament!$BH$3:$BH$72,SMALL(IF(Clasament!AR$3:AR$72=\"+\",ROW(Clasament!$B$3:$B$74)-ROW(Clasament!$B$3)+1),ROWS(Clasament!$B$3:'Clasament'!$B23))),\"\")","v":""},{"$f":"IFERROR(INDEX(Clasament!$BH$3:$BH$72,SMALL(IF(Clasament!AS$3:AS$72=\"+\",ROW(Clasament!$B$3:$B$74)-ROW(Clasament!$B$3)+1),ROWS(Clasament!$B$3:'Clasament'!$B23))),\"\")","v":""},{"$f":"IFERROR(INDEX(Clasament!$BH$3:$BH$72,SMALL(IF(Clasament!AU$3:AU$72=\"+\",ROW(Clasament!$B$3:$B$74)-ROW(Clasament!$B$3)+1),ROWS(Clasament!$B$3:'Clasament'!$B23))),\"\")","v":""},{"$f":"IFERROR(INDEX(Clasament!$BH$3:$BH$72,SMALL(IF(Clasament!AV$3:AV$72=\"+\",ROW(Clasament!$B$3:$B$74)-ROW(Clasament!$B$3)+1),ROWS(Clasament!$B$3:'Clasament'!$B23))),\"\")","v":""},{"$f":"IFERROR(INDEX(Clasament!$BH$3:$BH$72,SMALL(IF(Clasament!AW$3:AW$72=\"+\",ROW(Clasament!$B$3:$B$74)-ROW(Clasament!$B$3)+1),ROWS(Clasament!$B$3:'Clasament'!$B23))),\"\")","v":""},{"$f":"IFERROR(INDEX(Clasament!$BH$3:$BH$72,SMALL(IF(Clasament!AX$3:AX$72=\"+\",ROW(Clasament!$B$3:$B$74)-ROW(Clasament!$B$3)+1),ROWS(Clasament!$B$3:'Clasament'!$B23))),\"\")","v":""},{"$f":"IFERROR(INDEX(Clasament!$BH$3:$BH$72,SMALL(IF(Clasament!AY$3:AY$72=\"+\",ROW(Clasament!$B$3:$B$74)-ROW(Clasament!$B$3)+1),ROWS(Clasament!$B$3:'Clasament'!$B23))),\"\")","v":""},{"$f":"IFERROR(INDEX(Clasament!$BH$3:$BH$72,SMALL(IF(Clasament!AZ$3:AZ$72=\"+\",ROW(Clasament!$B$3:$B$74)-ROW(Clasament!$B$3)+1),ROWS(Clasament!$B$3:'Clasament'!$B23))),\"\")","v":""},{"$f":"IFERROR(INDEX(Clasament!$BH$3:$BH$72,SMALL(IF(Clasament!BA$3:BA$72=\"+\",ROW(Clasament!$B$3:$B$74)-ROW(Clasament!$B$3)+1),ROWS(Clasament!$B$3:'Clasament'!$B23))),\"\")","v":""},{"$f":"IFERROR(INDEX(Clasament!$BH$3:$BH$72,SMALL(IF(Clasament!BB$3:BB$72=\"+\",ROW(Clasament!$B$3:$B$74)-ROW(Clasament!$B$3)+1),ROWS(Clasament!$B$3:'Clasament'!$B23))),\"\")","v":""},{"$f":"IFERROR(INDEX(Clasament!$BH$3:$BH$72,SMALL(IF(Clasament!BC$3:BC$72=\"+\",ROW(Clasament!$B$3:$B$74)-ROW(Clasament!$B$3)+1),ROWS(Clasament!$B$3:'Clasament'!$B23))),\"\")","v":""},{"$f":"IFERROR(INDEX(Clasament!$BH$3:$BH$72,SMALL(IF(Clasament!BD$3:BD$72=\"+\",ROW(Clasament!$B$3:$B$74)-ROW(Clasament!$B$3)+1),ROWS(Clasament!$B$3:'Clasament'!$B23))),\"\")","v":""}]
[null,{"$f":"IFERROR(INDEX(Clasament!$BH$3:$BH$72,SMALL(IF(Clasament!C$3:C$72=\"+\",ROW(Clasament!$B$3:$B$74)-ROW(Clasament!$B$3)+1),ROWS(Clasament!$B$3:'Clasament'!$B24))),\"\")","v":""},{"$f":"IFERROR(INDEX(Clasament!$BH$3:$BH$72,SMALL(IF(Clasament!D$3:D$72=\"+\",ROW(Clasament!$B$3:$B$74)-ROW(Clasament!$B$3)+1),ROWS(Clasament!$B$3:'Clasament'!$B24))),\"\")","v":""},{"$f":"IFERROR(INDEX(Clasament!$BH$3:$BH$72,SMALL(IF(Clasament!E$3:E$72=\"+\",ROW(Clasament!$B$3:$B$74)-ROW(Clasament!$B$3)+1),ROWS(Clasament!$B$3:'Clasament'!$B24))),\"\")","v":""},{"$f":"IFERROR(INDEX(Clasament!$BH$3:$BH$72,SMALL(IF(Clasament!F$3:F$72=\"+\",ROW(Clasament!$B$3:$B$74)-ROW(Clasament!$B$3)+1),ROWS(Clasament!$B$3:'Clasament'!$B24))),\"\")","v":""},{"$f":"IFERROR(INDEX(Clasament!$BH$3:$BH$72,SMALL(IF(Clasament!G$3:G$72=\"+\",ROW(Clasament!$B$3:$B$74)-ROW(Clasament!$B$3)+1),ROWS(Clasament!$B$3:'Clasament'!$B24))),\"\")","v":""},{"$f":"IFERROR(INDEX(Clasament!$BH$3:$BH$72,SMALL(IF(Clasament!H$3:H$72=\"+\",ROW(Clasament!$B$3:$B$74)-ROW(Clasament!$B$3)+1),ROWS(Clasament!$B$3:'Clasament'!$B24))),\"\")","v":""},{"$f":"IFERROR(INDEX(Clasament!$BH$3:$BH$72,SMALL(IF(Clasament!I$3:I$72=\"+\",ROW(Clasament!$B$3:$B$74)-ROW(Clasament!$B$3)+1),ROWS(Clasament!$B$3:'Clasament'!$B24))),\"\")","v":""},{"$f":"IFERROR(INDEX(Clasament!$BH$3:$BH$72,SMALL(IF(Clasament!J$3:J$72=\"+\",ROW(Clasament!$B$3:$B$74)-ROW(Clasament!$B$3)+1),ROWS(Clasament!$B$3:'Clasament'!$B24))),\"\")","v":""},{"$f":"IFERROR(INDEX(Clasament!$BH$3:$BH$72,SMALL(IF(Clasament!K$3:K$72=\"+\",ROW(Clasament!$B$3:$B$74)-ROW(Clasament!$B$3)+1),ROWS(Clasament!$B$3:'Clasament'!$B24))),\"\")","v":""},{"$f":"IFERROR(INDEX(Clasament!$BH$3:$BH$72,SMALL(IF(Clasament!L$3:L$72=\"+\",ROW(Clasament!$B$3:$B$74)-ROW(Clasament!$B$3)+1),ROWS(Clasament!$B$3:'Clasament'!$B24))),\"\")","v":""},{"$f":"IFERROR(INDEX(Clasament!$BH$3:$BH$72,SMALL(IF(Clasament!N$3:N$72=\"+\",ROW(Clasament!$B$3:$B$74)-ROW(Clasament!$B$3)+1),ROWS(Clasament!$B$3:'Clasament'!$B24))),\"\")","v":""},{"$f":"IFERROR(INDEX(Clasament!$BH$3:$BH$72,SMALL(IF(Clasament!O$3:O$72=\"+\",ROW(Clasament!$B$3:$B$74)-ROW(Clasament!$B$3)+1),ROWS(Clasament!$B$3:'Clasament'!$B24))),\"\")","v":""},{"$f":"IFERROR(INDEX(Clasament!$BH$3:$BH$72,SMALL(IF(Clasament!P$3:P$72=\"+\",ROW(Clasament!$B$3:$B$74)-ROW(Clasament!$B$3)+1),ROWS(Clasament!$B$3:'Clasament'!$B24))),\"\")","v":""},{"$f":"IFERROR(INDEX(Clasament!$BH$3:$BH$72,SMALL(IF(Clasament!Q$3:Q$72=\"+\",ROW(Clasament!$B$3:$B$74)-ROW(Clasament!$B$3)+1),ROWS(Clasament!$B$3:'Clasament'!$B24))),\"\")","v":""},{"$f":"IFERROR(INDEX(Clasament!$BH$3:$BH$72,SMALL(IF(Clasament!R$3:R$72=\"+\",ROW(Clasament!$B$3:$B$74)-ROW(Clasament!$B$3)+1),ROWS(Clasament!$B$3:'Clasament'!$B24))),\"\")","v":""},{"$f":"IFERROR(INDEX(Clasament!$BH$3:$BH$72,SMALL(IF(Clasament!S$3:S$72=\"+\",ROW(Clasament!$B$3:$B$74)-ROW(Clasament!$B$3)+1),ROWS(Clasament!$B$3:'Clasament'!$B24))),\"\")","v":""},{"$f":"IFERROR(INDEX(Clasament!$BH$3:$BH$72,SMALL(IF(Clasament!T$3:T$72=\"+\",ROW(Clasament!$B$3:$B$74)-ROW(Clasament!$B$3)+1),ROWS(Clasament!$B$3:'Clasament'!$B24))),\"\")","v":""},{"$f":"IFERROR(INDEX(Clasament!$BH$3:$BH$72,SMALL(IF(Clasament!U$3:U$72=\"+\",ROW(Clasament!$B$3:$B$74)-ROW(Clasament!$B$3)+1),ROWS(Clasament!$B$3:'Clasament'!$B24))),\"\")","v":""},{"$f":"IFERROR(INDEX(Clasament!$BH$3:$BH$72,SMALL(IF(Clasament!V$3:V$72=\"+\",ROW(Clasament!$B$3:$B$74)-ROW(Clasament!$B$3)+1),ROWS(Clasament!$B$3:'Clasament'!$B24))),\"\")","v":""},{"$f":"IFERROR(INDEX(Clasament!$BH$3:$BH$72,SMALL(IF(Clasament!W$3:W$72=\"+\",ROW(Clasament!$B$3:$B$74)-ROW(Clasament!$B$3)+1),ROWS(Clasament!$B$3:'Clasament'!$B24))),\"\")","v":""},{"$f":"IFERROR(INDEX(Clasament!$BH$3:$BH$72,SMALL(IF(Clasament!Y$3:Y$72=\"+\",ROW(Clasament!$B$3:$B$74)-ROW(Clasament!$B$3)+1),ROWS(Clasament!$B$3:'Clasament'!$B24))),\"\")","v":""},{"$f":"IFERROR(INDEX(Clasament!$BH$3:$BH$72,SMALL(IF(Clasament!Z$3:Z$72=\"+\",ROW(Clasament!$B$3:$B$74)-ROW(Clasament!$B$3)+1),ROWS(Clasament!$B$3:'Clasament'!$B24))),\"\")","v":""},{"$f":"IFERROR(INDEX(Clasament!$BH$3:$BH$72,SMALL(IF(Clasament!AA$3:AA$72=\"+\",ROW(Clasament!$B$3:$B$74)-ROW(Clasament!$B$3)+1),ROWS(Clasament!$B$3:'Clasament'!$B24))),\"\")","v":""},{"$f":"IFERROR(INDEX(Clasament!$BH$3:$BH$72,SMALL(IF(Clasament!AB$3:AB$72=\"+\",ROW(Clasament!$B$3:$B$74)-ROW(Clasament!$B$3)+1),ROWS(Clasament!$B$3:'Clasament'!$B24))),\"\")","v":""},{"$f":"IFERROR(INDEX(Clasament!$BH$3:$BH$72,SMALL(IF(Clasament!AC$3:AC$72=\"+\",ROW(Clasament!$B$3:$B$74)-ROW(Clasament!$B$3)+1),ROWS(Clasament!$B$3:'Clasament'!$B24))),\"\")","v":""},{"$f":"IFERROR(INDEX(Clasament!$BH$3:$BH$72,SMALL(IF(Clasament!AD$3:AD$72=\"+\",ROW(Clasament!$B$3:$B$74)-ROW(Clasament!$B$3)+1),ROWS(Clasament!$B$3:'Clasament'!$B24))),\"\")","v":""},{"$f":"IFERROR(INDEX(Clasament!$BH$3:$BH$72,SMALL(IF(Clasament!AE$3:AE$72=\"+\",ROW(Clasament!$B$3:$B$74)-ROW(Clasament!$B$3)+1),ROWS(Clasament!$B$3:'Clasament'!$B24))),\"\")","v":""},{"$f":"IFERROR(INDEX(Clasament!$BH$3:$BH$72,SMALL(IF(Clasament!AF$3:AF$72=\"+\",ROW(Clasament!$B$3:$B$74)-ROW(Clasament!$B$3)+1),ROWS(Clasament!$B$3:'Clasament'!$B24))),\"\")","v":""},{"$f":"IFERROR(INDEX(Clasament!$BH$3:$BH$72,SMALL(IF(Clasament!AG$3:AG$72=\"+\",ROW(Clasament!$B$3:$B$74)-ROW(Clasament!$B$3)+1),ROWS(Clasament!$B$3:'Clasament'!$B24))),\"\")","v":""},{"$f":"IFERROR(INDEX(Clasament!$BH$3:$BH$72,SMALL(IF(Clasament!AH$3:AH$72=\"+\",ROW(Clasament!$B$3:$B$74)-ROW(Clasament!$B$3)+1),ROWS(Clasament!$B$3:'Clasament'!$B24))),\"\")","v":""},{"$f":"IFERROR(INDEX(Clasament!$BH$3:$BH$72,SMALL(IF(Clasament!AJ$3:AJ$72=\"+\",ROW(Clasament!$B$3:$B$74)-ROW(Clasament!$B$3)+1),ROWS(Clasament!$B$3:'Clasament'!$B24))),\"\")","v":""},{"$f":"IFERROR(INDEX(Clasament!$BH$3:$BH$72,SMALL(IF(Clasament!AK$3:AK$72=\"+\",ROW(Clasament!$B$3:$B$74)-ROW(Clasament!$B$3)+1),ROWS(Clasament!$B$3:'Clasament'!$B24))),\"\")","v":""},{"$f":"IFERROR(INDEX(Clasament!$BH$3:$BH$72,SMALL(IF(Clasament!AL$3:AL$72=\"+\",ROW(Clasament!$B$3:$B$74)-ROW(Clasament!$B$3)+1),ROWS(Clasament!$B$3:'Clasament'!$B24))),\"\")","v":""},{"$f":"IFERROR(INDEX(Clasament!$BH$3:$BH$72,SMALL(IF(Clasament!AM$3:AM$72=\"+\",ROW(Clasament!$B$3:$B$74)-ROW(Clasament!$B$3)+1),ROWS(Clasament!$B$3:'Clasament'!$B24))),\"\")","v":""},{"$f":"IFERROR(INDEX(Clasament!$BH$3:$BH$72,SMALL(IF(Clasament!AN$3:AN$72=\"+\",ROW(Clasament!$B$3:$B$74)-ROW(Clasament!$B$3)+1),ROWS(Clasament!$B$3:'Clasament'!$B24))),\"\")","v":""},{"$f":"IFERROR(INDEX(Clasament!$BH$3:$BH$72,SMALL(IF(Clasament!AO$3:AO$72=\"+\",ROW(Clasament!$B$3:$B$74)-ROW(Clasament!$B$3)+1),ROWS(Clasament!$B$3:'Clasament'!$B24))),\"\")","v":""},{"$f":"IFERROR(INDEX(Clasament!$BH$3:$BH$72,SMALL(IF(Clasament!AP$3:AP$72=\"+\",ROW(Clasament!$B$3:$B$74)-ROW(Clasament!$B$3)+1),ROWS(Clasament!$B$3:'Clasament'!$B24))),\"\")","v":""},{"$f":"IFERROR(INDEX(Clasament!$BH$3:$BH$72,SMALL(IF(Clasament!AQ$3:AQ$72=\"+\",ROW(Clasament!$B$3:$B$74)-ROW(Clasament!$B$3)+1),ROWS(Clasament!$B$3:'Clasament'!$B24))),\"\")","v":""},{"$f":"IFERROR(INDEX(Clasament!$BH$3:$BH$72,SMALL(IF(Clasament!AR$3:AR$72=\"+\",ROW(Clasament!$B$3:$B$74)-ROW(Clasament!$B$3)+1),ROWS(Clasament!$B$3:'Clasament'!$B24))),\"\")","v":""},{"$f":"IFERROR(INDEX(Clasament!$BH$3:$BH$72,SMALL(IF(Clasament!AS$3:AS$72=\"+\",ROW(Clasament!$B$3:$B$74)-ROW(Clasament!$B$3)+1),ROWS(Clasament!$B$3:'Clasament'!$B24))),\"\")","v":""},{"$f":"IFERROR(INDEX(Clasament!$BH$3:$BH$72,SMALL(IF(Clasament!AU$3:AU$72=\"+\",ROW(Clasament!$B$3:$B$74)-ROW(Clasament!$B$3)+1),ROWS(Clasament!$B$3:'Clasament'!$B24))),\"\")","v":""},{"$f":"IFERROR(INDEX(Clasament!$BH$3:$BH$72,SMALL(IF(Clasament!AV$3:AV$72=\"+\",ROW(Clasament!$B$3:$B$74)-ROW(Clasament!$B$3)+1),ROWS(Clasament!$B$3:'Clasament'!$B24))),\"\")","v":""},{"$f":"IFERROR(INDEX(Clasament!$BH$3:$BH$72,SMALL(IF(Clasament!AW$3:AW$72=\"+\",ROW(Clasament!$B$3:$B$74)-ROW(Clasament!$B$3)+1),ROWS(Clasament!$B$3:'Clasament'!$B24))),\"\")","v":""},{"$f":"IFERROR(INDEX(Clasament!$BH$3:$BH$72,SMALL(IF(Clasament!AX$3:AX$72=\"+\",ROW(Clasament!$B$3:$B$74)-ROW(Clasament!$B$3)+1),ROWS(Clasament!$B$3:'Clasament'!$B24))),\"\")","v":""},{"$f":"IFERROR(INDEX(Clasament!$BH$3:$BH$72,SMALL(IF(Clasament!AY$3:AY$72=\"+\",ROW(Clasament!$B$3:$B$74)-ROW(Clasament!$B$3)+1),ROWS(Clasament!$B$3:'Clasament'!$B24))),\"\")","v":""},{"$f":"IFERROR(INDEX(Clasament!$BH$3:$BH$72,SMALL(IF(Clasament!AZ$3:AZ$72=\"+\",ROW(Clasament!$B$3:$B$74)-ROW(Clasament!$B$3)+1),ROWS(Clasament!$B$3:'Clasament'!$B24))),\"\")","v":""},{"$f":"IFERROR(INDEX(Clasament!$BH$3:$BH$72,SMALL(IF(Clasament!BA$3:BA$72=\"+\",ROW(Clasament!$B$3:$B$74)-ROW(Clasament!$B$3)+1),ROWS(Clasament!$B$3:'Clasament'!$B24))),\"\")","v":""},{"$f":"IFERROR(INDEX(Clasament!$BH$3:$BH$72,SMALL(IF(Clasament!BB$3:BB$72=\"+\",ROW(Clasament!$B$3:$B$74)-ROW(Clasament!$B$3)+1),ROWS(Clasament!$B$3:'Clasament'!$B24))),\"\")","v":""},{"$f":"IFERROR(INDEX(Clasament!$BH$3:$BH$72,SMALL(IF(Clasament!BC$3:BC$72=\"+\",ROW(Clasament!$B$3:$B$74)-ROW(Clasament!$B$3)+1),ROWS(Clasament!$B$3:'Clasament'!$B24))),\"\")","v":""},{"$f":"IFERROR(INDEX(Clasament!$BH$3:$BH$72,SMALL(IF(Clasament!BD$3:BD$72=\"+\",ROW(Clasament!$B$3:$B$74)-ROW(Clasament!$B$3)+1),ROWS(Clasament!$B$3:'Clasament'!$B24))),\"\")","v":""}]
[null,{"$f":"IFERROR(INDEX(Clasament!$BH$3:$BH$72,SMALL(IF(Clasament!C$3:C$72=\"+\",ROW(Clasament!$B$3:$B$74)-ROW(Clasament!$B$3)+1),ROWS(Clasament!$B$3:'Clasament'!$B25))),\"\")","v":""},{"$f":"IFERROR(INDEX(Clasament!$BH$3:$BH$72,SMALL(IF(Clasament!D$3:D$72=\"+\",ROW(Clasament!$B$3:$B$74)-ROW(Clasament!$B$3)+1),ROWS(Clasament!$B$3:'Clasament'!$B25))),\"\")","v":""},{"$f":"IFERROR(INDEX(Clasament!$BH$3:$BH$72,SMALL(IF(Clasament!E$3:E$72=\"+\",ROW(Clasament!$B$3:$B$74)-ROW(Clasament!$B$3)+1),ROWS(Clasament!$B$3:'Clasament'!$B25))),\"\")","v":""},{"$f":"IFERROR(INDEX(Clasament!$BH$3:$BH$72,SMALL(IF(Clasament!F$3:F$72=\"+\",ROW(Clasament!$B$3:$B$74)-ROW(Clasament!$B$3)+1),ROWS(Clasament!$B$3:'Clasament'!$B25))),\"\")","v":""},{"$f":"IFERROR(INDEX(Clasament!$BH$3:$BH$72,SMALL(IF(Clasament!G$3:G$72=\"+\",ROW(Clasament!$B$3:$B$74)-ROW(Clasament!$B$3)+1),ROWS(Clasament!$B$3:'Clasament'!$B25))),\"\")","v":""},{"$f":"IFERROR(INDEX(Clasament!$BH$3:$BH$72,SMALL(IF(Clasament!H$3:H$72=\"+\",ROW(Clasament!$B$3:$B$74)-ROW(Clasament!$B$3)+1),ROWS(Clasament!$B$3:'Clasament'!$B25))),\"\")","v":""},{"$f":"IFERROR(INDEX(Clasament!$BH$3:$BH$72,SMALL(IF(Clasament!I$3:I$72=\"+\",ROW(Clasament!$B$3:$B$74)-ROW(Clasament!$B$3)+1),ROWS(Clasament!$B$3:'Clasament'!$B25))),\"\")","v":""},{"$f":"IFERROR(INDEX(Clasament!$BH$3:$BH$72,SMALL(IF(Clasament!J$3:J$72=\"+\",ROW(Clasament!$B$3:$B$74)-ROW(Clasament!$B$3)+1),ROWS(Clasament!$B$3:'Clasament'!$B25))),\"\")","v":""},{"$f":"IFERROR(INDEX(Clasament!$BH$3:$BH$72,SMALL(IF(Clasament!K$3:K$72=\"+\",ROW(Clasament!$B$3:$B$74)-ROW(Clasament!$B$3)+1),ROWS(Clasament!$B$3:'Clasament'!$B25))),\"\")","v":""},{"$f":"IFERROR(INDEX(Clasament!$BH$3:$BH$72,SMALL(IF(Clasament!L$3:L$72=\"+\",ROW(Clasament!$B$3:$B$74)-ROW(Clasament!$B$3)+1),ROWS(Clasament!$B$3:'Clasament'!$B25))),\"\")","v":""},{"$f":"IFERROR(INDEX(Clasament!$BH$3:$BH$72,SMALL(IF(Clasament!N$3:N$72=\"+\",ROW(Clasament!$B$3:$B$74)-ROW(Clasament!$B$3)+1),ROWS(Clasament!$B$3:'Clasament'!$B25))),\"\")","v":""},{"$f":"IFERROR(INDEX(Clasament!$BH$3:$BH$72,SMALL(IF(Clasament!O$3:O$72=\"+\",ROW(Clasament!$B$3:$B$74)-ROW(Clasament!$B$3)+1),ROWS(Clasament!$B$3:'Clasament'!$B25))),\"\")","v":""},{"$f":"IFERROR(INDEX(Clasament!$BH$3:$BH$72,SMALL(IF(Clasament!P$3:P$72=\"+\",ROW(Clasament!$B$3:$B$74)-ROW(Clasament!$B$3)+1),ROWS(Clasament!$B$3:'Clasament'!$B25))),\"\")","v":""},{"$f":"IFERROR(INDEX(Clasament!$BH$3:$BH$72,SMALL(IF(Clasament!Q$3:Q$72=\"+\",ROW(Clasament!$B$3:$B$74)-ROW(Clasament!$B$3)+1),ROWS(Clasament!$B$3:'Clasament'!$B25))),\"\")","v":""},{"$f":"IFERROR(INDEX(Clasament!$BH$3:$BH$72,SMALL(IF(Clasament!R$3:R$72=\"+\",ROW(Clasament!$B$3:$B$74)-ROW(Clasament!$B$3)+1),ROWS(Clasament!$B$3:'Clasament'!$B25))),\"\")","v":""},{"$f":"IFERROR(INDEX(Clasament!$BH$3:$BH$72,SMALL(IF(Clasament!S$3:S$72=\"+\",ROW(Clasament!$B$3:$B$74)-ROW(Clasament!$B$3)+1),ROWS(Clasament!$B$3:'Clasament'!$B25))),\"\")","v":""},{"$f":"IFERROR(INDEX(Clasament!$BH$3:$BH$72,SMALL(IF(Clasament!T$3:T$72=\"+\",ROW(Clasament!$B$3:$B$74)-ROW(Clasament!$B$3)+1),ROWS(Clasament!$B$3:'Clasament'!$B25))),\"\")","v":""},{"$f":"IFERROR(INDEX(Clasament!$BH$3:$BH$72,SMALL(IF(Clasament!U$3:U$72=\"+\",ROW(Clasament!$B$3:$B$74)-ROW(Clasament!$B$3)+1),ROWS(Clasament!$B$3:'Clasament'!$B25))),\"\")","v":""},{"$f":"IFERROR(INDEX(Clasament!$BH$3:$BH$72,SMALL(IF(Clasament!V$3:V$72=\"+\",ROW(Clasament!$B$3:$B$74)-ROW(Clasament!$B$3)+1),ROWS(Clasament!$B$3:'Clasament'!$B25))),\"\")","v":""},{"$f":"IFERROR(INDEX(Clasament!$BH$3:$BH$72,SMALL(IF(Clasament!W$3:W$72=\"+\",ROW(Clasament!$B$3:$B$74)-ROW(Clasament!$B$3)+1),ROWS(Clasament!$B$3:'Clasament'!$B25))),\"\")","v":""},{"$f":"IFERROR(INDEX(Clasament!$BH$3:$BH$72,SMALL(IF(Clasament!Y$3:Y$72=\"+\",ROW(Clasament!$B$3:$B$74)-ROW(Clasament!$B$3)+1),ROWS(Clasament!$B$3:'Clasament'!$B25))),\"\")","v":""},{"$f":"IFERROR(INDEX(Clasament!$BH$3:$BH$72,SMALL(IF(Clasament!Z$3:Z$72=\"+\",ROW(Clasament!$B$3:$B$74)-ROW(Clasament!$B$3)+1),ROWS(Clasament!$B$3:'Clasament'!$B25))),\"\")","v":""},{"$f":"IFERROR(INDEX(Clasament!$BH$3:$BH$72,SMALL(IF(Clasament!AA$3:AA$72=\"+\",ROW(Clasament!$B$3:$B$74)-ROW(Clasament!$B$3)+1),ROWS(Clasament!$B$3:'Clasament'!$B25))),\"\")","v":""},{"$f":"IFERROR(INDEX(Clasament!$BH$3:$BH$72,SMALL(IF(Clasament!AB$3:AB$72=\"+\",ROW(Clasament!$B$3:$B$74)-ROW(Clasament!$B$3)+1),ROWS(Clasament!$B$3:'Clasament'!$B25))),\"\")","v":""},{"$f":"IFERROR(INDEX(Clasament!$BH$3:$BH$72,SMALL(IF(Clasament!AC$3:AC$72=\"+\",ROW(Clasament!$B$3:$B$74)-ROW(Clasament!$B$3)+1),ROWS(Clasament!$B$3:'Clasament'!$B25))),\"\")","v":""},{"$f":"IFERROR(INDEX(Clasament!$BH$3:$BH$72,SMALL(IF(Clasament!AD$3:AD$72=\"+\",ROW(Clasament!$B$3:$B$74)-ROW(Clasament!$B$3)+1),ROWS(Clasament!$B$3:'Clasament'!$B25))),\"\")","v":""},{"$f":"IFERROR(INDEX(Clasament!$BH$3:$BH$72,SMALL(IF(Clasament!AE$3:AE$72=\"+\",ROW(Clasament!$B$3:$B$74)-ROW(Clasament!$B$3)+1),ROWS(Clasament!$B$3:'Clasament'!$B25))),\"\")","v":""},{"$f":"IFERROR(INDEX(Clasament!$BH$3:$BH$72,SMALL(IF(Clasament!AF$3:AF$72=\"+\",ROW(Clasament!$B$3:$B$74)-ROW(Clasament!$B$3)+1),ROWS(Clasament!$B$3:'Clasament'!$B25))),\"\")","v":""},{"$f":"IFERROR(INDEX(Clasament!$BH$3:$BH$72,SMALL(IF(Clasament!AG$3:AG$72=\"+\",ROW(Clasament!$B$3:$B$74)-ROW(Clasament!$B$3)+1),ROWS(Clasament!$B$3:'Clasament'!$B25))),\"\")","v":""},{"$f":"IFERROR(INDEX(Clasament!$BH$3:$BH$72,SMALL(IF(Clasament!AH$3:AH$72=\"+\",ROW(Clasament!$B$3:$B$74)-ROW(Clasament!$B$3)+1),ROWS(Clasament!$B$3:'Clasament'!$B25))),\"\")","v":""},{"$f":"IFERROR(INDEX(Clasament!$BH$3:$BH$72,SMALL(IF(Clasament!AJ$3:AJ$72=\"+\",ROW(Clasament!$B$3:$B$74)-ROW(Clasament!$B$3)+1),ROWS(Clasament!$B$3:'Clasament'!$B25))),\"\")","v":""},{"$f":"IFERROR(INDEX(Clasament!$BH$3:$BH$72,SMALL(IF(Clasament!AK$3:AK$72=\"+\",ROW(Clasament!$B$3:$B$74)-ROW(Clasament!$B$3)+1),ROWS(Clasament!$B$3:'Clasament'!$B25))),\"\")","v":""},{"$f":"IFERROR(INDEX(Clasament!$BH$3:$BH$72,SMALL(IF(Clasament!AL$3:AL$72=\"+\",ROW(Clasament!$B$3:$B$74)-ROW(Clasament!$B$3)+1),ROWS(Clasament!$B$3:'Clasament'!$B25))),\"\")","v":""},{"$f":"IFERROR(INDEX(Clasament!$BH$3:$BH$72,SMALL(IF(Clasament!AM$3:AM$72=\"+\",ROW(Clasament!$B$3:$B$74)-ROW(Clasament!$B$3)+1),ROWS(Clasament!$B$3:'Clasament'!$B25))),\"\")","v":""},{"$f":"IFERROR(INDEX(Clasament!$BH$3:$BH$72,SMALL(IF(Clasament!AN$3:AN$72=\"+\",ROW(Clasament!$B$3:$B$74)-ROW(Clasament!$B$3)+1),ROWS(Clasament!$B$3:'Clasament'!$B25))),\"\")","v":""},{"$f":"IFERROR(INDEX(Clasament!$BH$3:$BH$72,SMALL(IF(Clasament!AO$3:AO$72=\"+\",ROW(Clasament!$B$3:$B$74)-ROW(Clasament!$B$3)+1),ROWS(Clasament!$B$3:'Clasament'!$B25))),\"\")","v":""},{"$f":"IFERROR(INDEX(Clasament!$BH$3:$BH$72,SMALL(IF(Clasament!AP$3:AP$72=\"+\",ROW(Clasament!$B$3:$B$74)-ROW(Clasament!$B$3)+1),ROWS(Clasament!$B$3:'Clasament'!$B25))),\"\")","v":""},{"$f":"IFERROR(INDEX(Clasament!$BH$3:$BH$72,SMALL(IF(Clasament!AQ$3:AQ$72=\"+\",ROW(Clasament!$B$3:$B$74)-ROW(Clasament!$B$3)+1),ROWS(Clasament!$B$3:'Clasament'!$B25))),\"\")","v":""},{"$f":"IFERROR(INDEX(Clasament!$BH$3:$BH$72,SMALL(IF(Clasament!AR$3:AR$72=\"+\",ROW(Clasament!$B$3:$B$74)-ROW(Clasament!$B$3)+1),ROWS(Clasament!$B$3:'Clasament'!$B25))),\"\")","v":""},{"$f":"IFERROR(INDEX(Clasament!$BH$3:$BH$72,SMALL(IF(Clasament!AS$3:AS$72=\"+\",ROW(Clasament!$B$3:$B$74)-ROW(Clasament!$B$3)+1),ROWS(Clasament!$B$3:'Clasament'!$B25))),\"\")","v":""},{"$f":"IFERROR(INDEX(Clasament!$BH$3:$BH$72,SMALL(IF(Clasament!AU$3:AU$72=\"+\",ROW(Clasament!$B$3:$B$74)-ROW(Clasament!$B$3)+1),ROWS(Clasament!$B$3:'Clasament'!$B25))),\"\")","v":""},{"$f":"IFERROR(INDEX(Clasament!$BH$3:$BH$72,SMALL(IF(Clasament!AV$3:AV$72=\"+\",ROW(Clasament!$B$3:$B$74)-ROW(Clasament!$B$3)+1),ROWS(Clasament!$B$3:'Clasament'!$B25))),\"\")","v":""},{"$f":"IFERROR(INDEX(Clasament!$BH$3:$BH$72,SMALL(IF(Clasament!AW$3:AW$72=\"+\",ROW(Clasament!$B$3:$B$74)-ROW(Clasament!$B$3)+1),ROWS(Clasament!$B$3:'Clasament'!$B25))),\"\")","v":""},{"$f":"IFERROR(INDEX(Clasament!$BH$3:$BH$72,SMALL(IF(Clasament!AX$3:AX$72=\"+\",ROW(Clasament!$B$3:$B$74)-ROW(Clasament!$B$3)+1),ROWS(Clasament!$B$3:'Clasament'!$B25))),\"\")","v":""},{"$f":"IFERROR(INDEX(Clasament!$BH$3:$BH$72,SMALL(IF(Clasament!AY$3:AY$72=\"+\",ROW(Clasament!$B$3:$B$74)-ROW(Clasament!$B$3)+1),ROWS(Clasament!$B$3:'Clasament'!$B25))),\"\")","v":""},{"$f":"IFERROR(INDEX(Clasament!$BH$3:$BH$72,SMALL(IF(Clasament!AZ$3:AZ$72=\"+\",ROW(Clasament!$B$3:$B$74)-ROW(Clasament!$B$3)+1),ROWS(Clasament!$B$3:'Clasament'!$B25))),\"\")","v":""},{"$f":"IFERROR(INDEX(Clasament!$BH$3:$BH$72,SMALL(IF(Clasament!BA$3:BA$72=\"+\",ROW(Clasament!$B$3:$B$74)-ROW(Clasament!$B$3)+1),ROWS(Clasament!$B$3:'Clasament'!$B25))),\"\")","v":""},{"$f":"IFERROR(INDEX(Clasament!$BH$3:$BH$72,SMALL(IF(Clasament!BB$3:BB$72=\"+\",ROW(Clasament!$B$3:$B$74)-ROW(Clasament!$B$3)+1),ROWS(Clasament!$B$3:'Clasament'!$B25))),\"\")","v":""},{"$f":"IFERROR(INDEX(Clasament!$BH$3:$BH$72,SMALL(IF(Clasament!BC$3:BC$72=\"+\",ROW(Clasament!$B$3:$B$74)-ROW(Clasament!$B$3)+1),ROWS(Clasament!$B$3:'Clasament'!$B25))),\"\")","v":""},{"$f":"IFERROR(INDEX(Clasament!$BH$3:$BH$72,SMALL(IF(Clasament!BD$3:BD$72=\"+\",ROW(Clasament!$B$3:$B$74)-ROW(Clasament!$B$3)+1),ROWS(Clasament!$B$3:'Clasament'!$B25))),\"\")","v":""}]
[null,{"$f":"IFERROR(INDEX(Clasament!$BH$3:$BH$72,SMALL(IF(Clasament!C$3:C$72=\"+\",ROW(Clasament!$B$3:$B$74)-ROW(Clasament!$B$3)+1),ROWS(Clasament!$B$3:'Clasament'!$B26))),\"\")","v":""},{"$f":"IFERROR(INDEX(Clasament!$BH$3:$BH$72,SMALL(IF(Clasament!D$3:D$72=\"+\",ROW(Clasament!$B$3:$B$74)-ROW(Clasament!$B$3)+1),ROWS(Clasament!$B$3:'Clasament'!$B26))),\"\")","v":""},{"$f":"IFERROR(INDEX(Clasament!$BH$3:$BH$72,SMALL(IF(Clasament!E$3:E$72=\"+\",ROW(Clasament!$B$3:$B$74)-ROW(Clasament!$B$3)+1),ROWS(Clasament!$B$3:'Clasament'!$B26))),\"\")","v":""},{"$f":"IFERROR(INDEX(Clasament!$BH$3:$BH$72,SMALL(IF(Clasament!F$3:F$72=\"+\",ROW(Clasament!$B$3:$B$74)-ROW(Clasament!$B$3)+1),ROWS(Clasament!$B$3:'Clasament'!$B26))),\"\")","v":""},{"$f":"IFERROR(INDEX(Clasament!$BH$3:$BH$72,SMALL(IF(Clasament!G$3:G$72=\"+\",ROW(Clasament!$B$3:$B$74)-ROW(Clasament!$B$3)+1),ROWS(Clasament!$B$3:'Clasament'!$B26))),\"\")","v":""},{"$f":"IFERROR(INDEX(Clasament!$BH$3:$BH$72,SMALL(IF(Clasament!H$3:H$72=\"+\",ROW(Clasament!$B$3:$B$74)-ROW(Clasament!$B$3)+1),ROWS(Clasament!$B$3:'Clasament'!$B26))),\"\")","v":""},{"$f":"IFERROR(INDEX(Clasament!$BH$3:$BH$72,SMALL(IF(Clasament!I$3:I$72=\"+\",ROW(Clasament!$B$3:$B$74)-ROW(Clasament!$B$3)+1),ROWS(Clasament!$B$3:'Clasament'!$B26))),\"\")","v":""},{"$f":"IFERROR(INDEX(Clasament!$BH$3:$BH$72,SMALL(IF(Clasament!J$3:J$72=\"+\",ROW(Clasament!$B$3:$B$74)-ROW(Clasament!$B$3)+1),ROWS(Clasament!$B$3:'Clasament'!$B26))),\"\")","v":""},{"$f":"IFERROR(INDEX(Clasament!$BH$3:$BH$72,SMALL(IF(Clasament!K$3:K$72=\"+\",ROW(Clasament!$B$3:$B$74)-ROW(Clasament!$B$3)+1),ROWS(Clasament!$B$3:'Clasament'!$B26))),\"\")","v":""},{"$f":"IFERROR(INDEX(Clasament!$BH$3:$BH$72,SMALL(IF(Clasament!L$3:L$72=\"+\",ROW(Clasament!$B$3:$B$74)-ROW(Clasament!$B$3)+1),ROWS(Clasament!$B$3:'Clasament'!$B26))),\"\")","v":""},{"$f":"IFERROR(INDEX(Clasament!$BH$3:$BH$72,SMALL(IF(Clasament!N$3:N$72=\"+\",ROW(Clasament!$B$3:$B$74)-ROW(Clasament!$B$3)+1),ROWS(Clasament!$B$3:'Clasament'!$B26))),\"\")","v":""},{"$f":"IFERROR(INDEX(Clasament!$BH$3:$BH$72,SMALL(IF(Clasament!O$3:O$72=\"+\",ROW(Clasament!$B$3:$B$74)-ROW(Clasament!$B$3)+1),ROWS(Clasament!$B$3:'Clasament'!$B26))),\"\")","v":""},{"$f":"IFERROR(INDEX(Clasament!$BH$3:$BH$72,SMALL(IF(Clasament!P$3:P$72=\"+\",ROW(Clasament!$B$3:$B$74)-ROW(Clasament!$B$3)+1),ROWS(Clasament!$B$3:'Clasament'!$B26))),\"\")","v":""},{"$f":"IFERROR(INDEX(Clasament!$BH$3:$BH$72,SMALL(IF(Clasament!Q$3:Q$72=\"+\",ROW(Clasament!$B$3:$B$74)-ROW(Clasament!$B$3)+1),ROWS(Clasament!$B$3:'Clasament'!$B26))),\"\")","v":""},{"$f":"IFERROR(INDEX(Clasament!$BH$3:$BH$72,SMALL(IF(Clasament!R$3:R$72=\"+\",ROW(Clasament!$B$3:$B$74)-ROW(Clasament!$B$3)+1),ROWS(Clasament!$B$3:'Clasament'!$B26))),\"\")","v":""},{"$f":"IFERROR(INDEX(Clasament!$BH$3:$BH$72,SMALL(IF(Clasament!S$3:S$72=\"+\",ROW(Clasament!$B$3:$B$74)-ROW(Clasament!$B$3)+1),ROWS(Clasament!$B$3:'Clasament'!$B26))),\"\")","v":""},{"$f":"IFERROR(INDEX(Clasament!$BH$3:$BH$72,SMALL(IF(Clasament!T$3:T$72=\"+\",ROW(Clasament!$B$3:$B$74)-ROW(Clasament!$B$3)+1),ROWS(Clasament!$B$3:'Clasament'!$B26))),\"\")","v":""},{"$f":"IFERROR(INDEX(Clasament!$BH$3:$BH$72,SMALL(IF(Clasament!U$3:U$72=\"+\",ROW(Clasament!$B$3:$B$74)-ROW(Clasament!$B$3)+1),ROWS(Clasament!$B$3:'Clasament'!$B26))),\"\")","v":""},{"$f":"IFERROR(INDEX(Clasament!$BH$3:$BH$72,SMALL(IF(Clasament!V$3:V$72=\"+\",ROW(Clasament!$B$3:$B$74)-ROW(Clasament!$B$3)+1),ROWS(Clasament!$B$3:'Clasament'!$B26))),\"\")","v":""},{"$f":"IFERROR(INDEX(Clasament!$BH$3:$BH$72,SMALL(IF(Clasament!W$3:W$72=\"+\",ROW(Clasament!$B$3:$B$74)-ROW(Clasament!$B$3)+1),ROWS(Clasament!$B$3:'Clasament'!$B26))),\"\")","v":""},{"$f":"IFERROR(INDEX(Clasament!$BH$3:$BH$72,SMALL(IF(Clasament!Y$3:Y$72=\"+\",ROW(Clasament!$B$3:$B$74)-ROW(Clasament!$B$3)+1),ROWS(Clasament!$B$3:'Clasament'!$B26))),\"\")","v":""},{"$f":"IFERROR(INDEX(Clasament!$BH$3:$BH$72,SMALL(IF(Clasament!Z$3:Z$72=\"+\",ROW(Clasament!$B$3:$B$74)-ROW(Clasament!$B$3)+1),ROWS(Clasament!$B$3:'Clasament'!$B26))),\"\")","v":""},{"$f":"IFERROR(INDEX(Clasament!$BH$3:$BH$72,SMALL(IF(Clasament!AA$3:AA$72=\"+\",ROW(Clasament!$B$3:$B$74)-ROW(Clasament!$B$3)+1),ROWS(Clasament!$B$3:'Clasament'!$B26))),\"\")","v":""},{"$f":"IFERROR(INDEX(Clasament!$BH$3:$BH$72,SMALL(IF(Clasament!AB$3:AB$72=\"+\",ROW(Clasament!$B$3:$B$74)-ROW(Clasament!$B$3)+1),ROWS(Clasament!$B$3:'Clasament'!$B26))),\"\")","v":""},{"$f":"IFERROR(INDEX(Clasament!$BH$3:$BH$72,SMALL(IF(Clasament!AC$3:AC$72=\"+\",ROW(Clasament!$B$3:$B$74)-ROW(Clasament!$B$3)+1),ROWS(Clasament!$B$3:'Clasament'!$B26))),\"\")","v":""},{"$f":"IFERROR(INDEX(Clasament!$BH$3:$BH$72,SMALL(IF(Clasament!AD$3:AD$72=\"+\",ROW(Clasament!$B$3:$B$74)-ROW(Clasament!$B$3)+1),ROWS(Clasament!$B$3:'Clasament'!$B26))),\"\")","v":""},{"$f":"IFERROR(INDEX(Clasament!$BH$3:$BH$72,SMALL(IF(Clasament!AE$3:AE$72=\"+\",ROW(Clasament!$B$3:$B$74)-ROW(Clasament!$B$3)+1),ROWS(Clasament!$B$3:'Clasament'!$B26))),\"\")","v":""},{"$f":"IFERROR(INDEX(Clasament!$BH$3:$BH$72,SMALL(IF(Clasament!AF$3:AF$72=\"+\",ROW(Clasament!$B$3:$B$74)-ROW(Clasament!$B$3)+1),ROWS(Clasament!$B$3:'Clasament'!$B26))),\"\")","v":""},{"$f":"IFERROR(INDEX(Clasament!$BH$3:$BH$72,SMALL(IF(Clasament!AG$3:AG$72=\"+\",ROW(Clasament!$B$3:$B$74)-ROW(Clasament!$B$3)+1),ROWS(Clasament!$B$3:'Clasament'!$B26))),\"\")","v":""},{"$f":"IFERROR(INDEX(Clasament!$BH$3:$BH$72,SMALL(IF(Clasament!AH$3:AH$72=\"+\",ROW(Clasament!$B$3:$B$74)-ROW(Clasament!$B$3)+1),ROWS(Clasament!$B$3:'Clasament'!$B26))),\"\")","v":""},{"$f":"IFERROR(INDEX(Clasament!$BH$3:$BH$72,SMALL(IF(Clasament!AJ$3:AJ$72=\"+\",ROW(Clasament!$B$3:$B$74)-ROW(Clasament!$B$3)+1),ROWS(Clasament!$B$3:'Clasament'!$B26))),\"\")","v":""},{"$f":"IFERROR(INDEX(Clasament!$BH$3:$BH$72,SMALL(IF(Clasament!AK$3:AK$72=\"+\",ROW(Clasament!$B$3:$B$74)-ROW(Clasament!$B$3)+1),ROWS(Clasament!$B$3:'Clasament'!$B26))),\"\")","v":""},{"$f":"IFERROR(INDEX(Clasament!$BH$3:$BH$72,SMALL(IF(Clasament!AL$3:AL$72=\"+\",ROW(Clasament!$B$3:$B$74)-ROW(Clasament!$B$3)+1),ROWS(Clasament!$B$3:'Clasament'!$B26))),\"\")","v":""},{"$f":"IFERROR(INDEX(Clasament!$BH$3:$BH$72,SMALL(IF(Clasament!AM$3:AM$72=\"+\",ROW(Clasament!$B$3:$B$74)-ROW(Clasament!$B$3)+1),ROWS(Clasament!$B$3:'Clasament'!$B26))),\"\")","v":""},{"$f":"IFERROR(INDEX(Clasament!$BH$3:$BH$72,SMALL(IF(Clasament!AN$3:AN$72=\"+\",ROW(Clasament!$B$3:$B$74)-ROW(Clasament!$B$3)+1),ROWS(Clasament!$B$3:'Clasament'!$B26))),\"\")","v":""},{"$f":"IFERROR(INDEX(Clasament!$BH$3:$BH$72,SMALL(IF(Clasament!AO$3:AO$72=\"+\",ROW(Clasament!$B$3:$B$74)-ROW(Clasament!$B$3)+1),ROWS(Clasament!$B$3:'Clasament'!$B26))),\"\")","v":""},{"$f":"IFERROR(INDEX(Clasament!$BH$3:$BH$72,SMALL(IF(Clasament!AP$3:AP$72=\"+\",ROW(Clasament!$B$3:$B$74)-ROW(Clasament!$B$3)+1),ROWS(Clasament!$B$3:'Clasament'!$B26))),\"\")","v":""},{"$f":"IFERROR(INDEX(Clasament!$BH$3:$BH$72,SMALL(IF(Clasament!AQ$3:AQ$72=\"+\",ROW(Clasament!$B$3:$B$74)-ROW(Clasament!$B$3)+1),ROWS(Clasament!$B$3:'Clasament'!$B26))),\"\")","v":""},{"$f":"IFERROR(INDEX(Clasament!$BH$3:$BH$72,SMALL(IF(Clasament!AR$3:AR$72=\"+\",ROW(Clasament!$B$3:$B$74)-ROW(Clasament!$B$3)+1),ROWS(Clasament!$B$3:'Clasament'!$B26))),\"\")","v":""},{"$f":"IFERROR(INDEX(Clasament!$BH$3:$BH$72,SMALL(IF(Clasament!AS$3:AS$72=\"+\",ROW(Clasament!$B$3:$B$74)-ROW(Clasament!$B$3)+1),ROWS(Clasament!$B$3:'Clasament'!$B26))),\"\")","v":""},{"$f":"IFERROR(INDEX(Clasament!$BH$3:$BH$72,SMALL(IF(Clasament!AU$3:AU$72=\"+\",ROW(Clasament!$B$3:$B$74)-ROW(Clasament!$B$3)+1),ROWS(Clasament!$B$3:'Clasament'!$B26))),\"\")","v":""},{"$f":"IFERROR(INDEX(Clasament!$BH$3:$BH$72,SMALL(IF(Clasament!AV$3:AV$72=\"+\",ROW(Clasament!$B$3:$B$74)-ROW(Clasament!$B$3)+1),ROWS(Clasament!$B$3:'Clasament'!$B26))),\"\")","v":""},{"$f":"IFERROR(INDEX(Clasament!$BH$3:$BH$72,SMALL(IF(Clasament!AW$3:AW$72=\"+\",ROW(Clasament!$B$3:$B$74)-ROW(Clasament!$B$3)+1),ROWS(Clasament!$B$3:'Clasament'!$B26))),\"\")","v":""},{"$f":"IFERROR(INDEX(Clasament!$BH$3:$BH$72,SMALL(IF(Clasament!AX$3:AX$72=\"+\",ROW(Clasament!$B$3:$B$74)-ROW(Clasament!$B$3)+1),ROWS(Clasament!$B$3:'Clasament'!$B26))),\"\")","v":""},{"$f":"IFERROR(INDEX(Clasament!$BH$3:$BH$72,SMALL(IF(Clasament!AY$3:AY$72=\"+\",ROW(Clasament!$B$3:$B$74)-ROW(Clasament!$B$3)+1),ROWS(Clasament!$B$3:'Clasament'!$B26))),\"\")","v":""},{"$f":"IFERROR(INDEX(Clasament!$BH$3:$BH$72,SMALL(IF(Clasament!AZ$3:AZ$72=\"+\",ROW(Clasament!$B$3:$B$74)-ROW(Clasament!$B$3)+1),ROWS(Clasament!$B$3:'Clasament'!$B26))),\"\")","v":""},{"$f":"IFERROR(INDEX(Clasament!$BH$3:$BH$72,SMALL(IF(Clasament!BA$3:BA$72=\"+\",ROW(Clasament!$B$3:$B$74)-ROW(Clasament!$B$3)+1),ROWS(Clasament!$B$3:'Clasament'!$B26))),\"\")","v":""},{"$f":"IFERROR(INDEX(Clasament!$BH$3:$BH$72,SMALL(IF(Clasament!BB$3:BB$72=\"+\",ROW(Clasament!$B$3:$B$74)-ROW(Clasament!$B$3)+1),ROWS(Clasament!$B$3:'Clasament'!$B26))),\"\")","v":""},{"$f":"IFERROR(INDEX(Clasament!$BH$3:$BH$72,SMALL(IF(Clasament!BC$3:BC$72=\"+\",ROW(Clasament!$B$3:$B$74)-ROW(Clasament!$B$3)+1),ROWS(Clasament!$B$3:'Clasament'!$B26))),\"\")","v":""},{"$f":"IFERROR(INDEX(Clasament!$BH$3:$BH$72,SMALL(IF(Clasament!BD$3:BD$72=\"+\",ROW(Clasament!$B$3:$B$74)-ROW(Clasament!$B$3)+1),ROWS(Clasament!$B$3:'Clasament'!$B26))),\"\")","v":""}]
[null,{"$f":"IFERROR(INDEX(Clasament!$BH$3:$BH$72,SMALL(IF(Clasament!C$3:C$72=\"+\",ROW(Clasament!$B$3:$B$74)-ROW(Clasament!$B$3)+1),ROWS(Clasament!$B$3:'Clasament'!$B27))),\"\")","v":""},{"$f":"IFERROR(INDEX(Clasament!$BH$3:$BH$72,SMALL(IF(Clasament!D$3:D$72=\"+\",ROW(Clasament!$B$3:$B$74)-ROW(Clasament!$B$3)+1),ROWS(Clasament!$B$3:'Clasament'!$B27))),\"\")","v":""},{"$f":"IFERROR(INDEX(Clasament!$BH$3:$BH$72,SMALL(IF(Clasament!E$3:E$72=\"+\",ROW(Clasament!$B$3:$B$74)-ROW(Clasament!$B$3)+1),ROWS(Clasament!$B$3:'Clasament'!$B27))),\"\")","v":""},{"$f":"IFERROR(INDEX(Clasament!$BH$3:$BH$72,SMALL(IF(Clasament!F$3:F$72=\"+\",ROW(Clasament!$B$3:$B$74)-ROW(Clasament!$B$3)+1),ROWS(Clasament!$B$3:'Clasament'!$B27))),\"\")","v":""},{"$f":"IFERROR(INDEX(Clasament!$BH$3:$BH$72,SMALL(IF(Clasament!G$3:G$72=\"+\",ROW(Clasament!$B$3:$B$74)-ROW(Clasament!$B$3)+1),ROWS(Clasament!$B$3:'Clasament'!$B27))),\"\")","v":""},{"$f":"IFERROR(INDEX(Clasament!$BH$3:$BH$72,SMALL(IF(Clasament!H$3:H$72=\"+\",ROW(Clasament!$B$3:$B$74)-ROW(Clasament!$B$3)+1),ROWS(Clasament!$B$3:'Clasament'!$B27))),\"\")","v":""},{"$f":"IFERROR(INDEX(Clasament!$BH$3:$BH$72,SMALL(IF(Clasament!I$3:I$72=\"+\",ROW(Clasament!$B$3:$B$74)-ROW(Clasament!$B$3)+1),ROWS(Clasament!$B$3:'Clasament'!$B27))),\"\")","v":""},{"$f":"IFERROR(INDEX(Clasament!$BH$3:$BH$72,SMALL(IF(Clasament!J$3:J$72=\"+\",ROW(Clasament!$B$3:$B$74)-ROW(Clasament!$B$3)+1),ROWS(Clasament!$B$3:'Clasament'!$B27))),\"\")","v":""},{"$f":"IFERROR(INDEX(Clasament!$BH$3:$BH$72,SMALL(IF(Clasament!K$3:K$72=\"+\",ROW(Clasament!$B$3:$B$74)-ROW(Clasament!$B$3)+1),ROWS(Clasament!$B$3:'Clasament'!$B27))),\"\")","v":""},{"$f":"IFERROR(INDEX(Clasament!$BH$3:$BH$72,SMALL(IF(Clasament!L$3:L$72=\"+\",ROW(Clasament!$B$3:$B$74)-ROW(Clasament!$B$3)+1),ROWS(Clasament!$B$3:'Clasament'!$B27))),\"\")","v":""},{"$f":"IFERROR(INDEX(Clasament!$BH$3:$BH$72,SMALL(IF(Clasament!N$3:N$72=\"+\",ROW(Clasament!$B$3:$B$74)-ROW(Clasament!$B$3)+1),ROWS(Clasament!$B$3:'Clasament'!$B27))),\"\")","v":""},{"$f":"IFERROR(INDEX(Clasament!$BH$3:$BH$72,SMALL(IF(Clasament!O$3:O$72=\"+\",ROW(Clasament!$B$3:$B$74)-ROW(Clasament!$B$3)+1),ROWS(Clasament!$B$3:'Clasament'!$B27))),\"\")","v":""},{"$f":"IFERROR(INDEX(Clasament!$BH$3:$BH$72,SMALL(IF(Clasament!P$3:P$72=\"+\",ROW(Clasament!$B$3:$B$74)-ROW(Clasament!$B$3)+1),ROWS(Clasament!$B$3:'Clasament'!$B27))),\"\")","v":""},{"$f":"IFERROR(INDEX(Clasament!$BH$3:$BH$72,SMALL(IF(Clasament!Q$3:Q$72=\"+\",ROW(Clasament!$B$3:$B$74)-ROW(Clasament!$B$3)+1),ROWS(Clasament!$B$3:'Clasament'!$B27))),\"\")","v":""},{"$f":"IFERROR(INDEX(Clasament!$BH$3:$BH$72,SMALL(IF(Clasament!R$3:R$72=\"+\",ROW(Clasament!$B$3:$B$74)-ROW(Clasament!$B$3)+1),ROWS(Clasament!$B$3:'Clasament'!$B27))),\"\")","v":""},{"$f":"IFERROR(INDEX(Clasament!$BH$3:$BH$72,SMALL(IF(Clasament!S$3:S$72=\"+\",ROW(Clasament!$B$3:$B$74)-ROW(Clasament!$B$3)+1),ROWS(Clasament!$B$3:'Clasament'!$B27))),\"\")","v":""},{"$f":"IFERROR(INDEX(Clasament!$BH$3:$BH$72,SMALL(IF(Clasament!T$3:T$72=\"+\",ROW(Clasament!$B$3:$B$74)-ROW(Clasament!$B$3)+1),ROWS(Clasament!$B$3:'Clasament'!$B27))),\"\")","v":""},{"$f":"IFERROR(INDEX(Clasament!$BH$3:$BH$72,SMALL(IF(Clasament!U$3:U$72=\"+\",ROW(Clasament!$B$3:$B$74)-ROW(Clasament!$B$3)+1),ROWS(Clasament!$B$3:'Clasament'!$B27))),\"\")","v":""},{"$f":"IFERROR(INDEX(Clasament!$BH$3:$BH$72,SMALL(IF(Clasament!V$3:V$72=\"+\",ROW(Clasament!$B$3:$B$74)-ROW(Clasament!$B$3)+1),ROWS(Clasament!$B$3:'Clasament'!$B27))),\"\")","v":""},{"$f":"IFERROR(INDEX(Clasament!$BH$3:$BH$72,SMALL(IF(Clasament!W$3:W$72=\"+\",ROW(Clasament!$B$3:$B$74)-ROW(Clasament!$B$3)+1),ROWS(Clasament!$B$3:'Clasament'!$B27))),\"\")","v":""},{"$f":"IFERROR(INDEX(Clasament!$BH$3:$BH$72,SMALL(IF(Clasament!Y$3:Y$72=\"+\",ROW(Clasament!$B$3:$B$74)-ROW(Clasament!$B$3)+1),ROWS(Clasament!$B$3:'Clasament'!$B27))),\"\")","v":""},{"$f":"IFERROR(INDEX(Clasament!$BH$3:$BH$72,SMALL(IF(Clasament!Z$3:Z$72=\"+\",ROW(Clasament!$B$3:$B$74)-ROW(Clasament!$B$3)+1),ROWS(Clasament!$B$3:'Clasament'!$B27))),\"\")","v":""},{"$f":"IFERROR(INDEX(Clasament!$BH$3:$BH$72,SMALL(IF(Clasament!AA$3:AA$72=\"+\",ROW(Clasament!$B$3:$B$74)-ROW(Clasament!$B$3)+1),ROWS(Clasament!$B$3:'Clasament'!$B27))),\"\")","v":""},{"$f":"IFERROR(INDEX(Clasament!$BH$3:$BH$72,SMALL(IF(Clasament!AB$3:AB$72=\"+\",ROW(Clasament!$B$3:$B$74)-ROW(Clasament!$B$3)+1),ROWS(Clasament!$B$3:'Clasament'!$B27))),\"\")","v":""},{"$f":"IFERROR(INDEX(Clasament!$BH$3:$BH$72,SMALL(IF(Clasament!AC$3:AC$72=\"+\",ROW(Clasament!$B$3:$B$74)-ROW(Clasament!$B$3)+1),ROWS(Clasament!$B$3:'Clasament'!$B27))),\"\")","v":""},{"$f":"IFERROR(INDEX(Clasament!$BH$3:$BH$72,SMALL(IF(Clasament!AD$3:AD$72=\"+\",ROW(Clasament!$B$3:$B$74)-ROW(Clasament!$B$3)+1),ROWS(Clasament!$B$3:'Clasament'!$B27))),\"\")","v":""},{"$f":"IFERROR(INDEX(Clasament!$BH$3:$BH$72,SMALL(IF(Clasament!AE$3:AE$72=\"+\",ROW(Clasament!$B$3:$B$74)-ROW(Clasament!$B$3)+1),ROWS(Clasament!$B$3:'Clasament'!$B27))),\"\")","v":""},{"$f":"IFERROR(INDEX(Clasament!$BH$3:$BH$72,SMALL(IF(Clasament!AF$3:AF$72=\"+\",ROW(Clasament!$B$3:$B$74)-ROW(Clasament!$B$3)+1),ROWS(Clasament!$B$3:'Clasament'!$B27))),\"\")","v":""},{"$f":"IFERROR(INDEX(Clasament!$BH$3:$BH$72,SMALL(IF(Clasament!AG$3:AG$72=\"+\",ROW(Clasament!$B$3:$B$74)-ROW(Clasament!$B$3)+1),ROWS(Clasament!$B$3:'Clasament'!$B27))),\"\")","v":""},{"$f":"IFERROR(INDEX(Clasament!$BH$3:$BH$72,SMALL(IF(Clasament!AH$3:AH$72=\"+\",ROW(Clasament!$B$3:$B$74)-ROW(Clasament!$B$3)+1),ROWS(Clasament!$B$3:'Clasament'!$B27))),\"\")","v":""},{"$f":"IFERROR(INDEX(Clasament!$BH$3:$BH$72,SMALL(IF(Clasament!AJ$3:AJ$72=\"+\",ROW(Clasament!$B$3:$B$74)-ROW(Clasament!$B$3)+1),ROWS(Clasament!$B$3:'Clasament'!$B27))),\"\")","v":""},{"$f":"IFERROR(INDEX(Clasament!$BH$3:$BH$72,SMALL(IF(Clasament!AK$3:AK$72=\"+\",ROW(Clasament!$B$3:$B$74)-ROW(Clasament!$B$3)+1),ROWS(Clasament!$B$3:'Clasament'!$B27))),\"\")","v":""},{"$f":"IFERROR(INDEX(Clasament!$BH$3:$BH$72,SMALL(IF(Clasament!AL$3:AL$72=\"+\",ROW(Clasament!$B$3:$B$74)-ROW(Clasament!$B$3)+1),ROWS(Clasament!$B$3:'Clasament'!$B27))),\"\")","v":""},{"$f":"IFERROR(INDEX(Clasament!$BH$3:$BH$72,SMALL(IF(Clasament!AM$3:AM$72=\"+\",ROW(Clasament!$B$3:$B$74)-ROW(Clasament!$B$3)+1),ROWS(Clasament!$B$3:'Clasament'!$B27))),\"\")","v":""},{"$f":"IFERROR(INDEX(Clasament!$BH$3:$BH$72,SMALL(IF(Clasament!AN$3:AN$72=\"+\",ROW(Clasament!$B$3:$B$74)-ROW(Clasament!$B$3)+1),ROWS(Clasament!$B$3:'Clasament'!$B27))),\"\")","v":""},{"$f":"IFERROR(INDEX(Clasament!$BH$3:$BH$72,SMALL(IF(Clasament!AO$3:AO$72=\"+\",ROW(Clasament!$B$3:$B$74)-ROW(Clasament!$B$3)+1),ROWS(Clasament!$B$3:'Clasament'!$B27))),\"\")","v":""},{"$f":"IFERROR(INDEX(Clasament!$BH$3:$BH$72,SMALL(IF(Clasament!AP$3:AP$72=\"+\",ROW(Clasament!$B$3:$B$74)-ROW(Clasament!$B$3)+1),ROWS(Clasament!$B$3:'Clasament'!$B27))),\"\")","v":""},{"$f":"IFERROR(INDEX(Clasament!$BH$3:$BH$72,SMALL(IF(Clasament!AQ$3:AQ$72=\"+\",ROW(Clasament!$B$3:$B$74)-ROW(Clasament!$B$3)+1),ROWS(Clasament!$B$3:'Clasament'!$B27))),\"\")","v":""},{"$f":"IFERROR(INDEX(Clasament!$BH$3:$BH$72,SMALL(IF(Clasament!AR$3:AR$72=\"+\",ROW(Clasament!$B$3:$B$74)-ROW(Clasament!$B$3)+1),ROWS(Clasament!$B$3:'Clasament'!$B27))),\"\")","v":""},{"$f":"IFERROR(INDEX(Clasament!$BH$3:$BH$72,SMALL(IF(Clasament!AS$3:AS$72=\"+\",ROW(Clasament!$B$3:$B$74)-ROW(Clasament!$B$3)+1),ROWS(Clasament!$B$3:'Clasament'!$B27))),\"\")","v":""},{"$f":"IFERROR(INDEX(Clasament!$BH$3:$BH$72,SMALL(IF(Clasament!AU$3:AU$72=\"+\",ROW(Clasament!$B$3:$B$74)-ROW(Clasament!$B$3)+1),ROWS(Clasament!$B$3:'Clasament'!$B27))),\"\")","v":""},{"$f":"IFERROR(INDEX(Clasament!$BH$3:$BH$72,SMALL(IF(Clasament!AV$3:AV$72=\"+\",ROW(Clasament!$B$3:$B$74)-ROW(Clasament!$B$3)+1),ROWS(Clasament!$B$3:'Clasament'!$B27))),\"\")","v":""},{"$f":"IFERROR(INDEX(Clasament!$BH$3:$BH$72,SMALL(IF(Clasament!AW$3:AW$72=\"+\",ROW(Clasament!$B$3:$B$74)-ROW(Clasament!$B$3)+1),ROWS(Clasament!$B$3:'Clasament'!$B27))),\"\")","v":""},{"$f":"IFERROR(INDEX(Clasament!$BH$3:$BH$72,SMALL(IF(Clasament!AX$3:AX$72=\"+\",ROW(Clasament!$B$3:$B$74)-ROW(Clasament!$B$3)+1),ROWS(Clasament!$B$3:'Clasament'!$B27))),\"\")","v":""},{"$f":"IFERROR(INDEX(Clasament!$BH$3:$BH$72,SMALL(IF(Clasament!AY$3:AY$72=\"+\",ROW(Clasament!$B$3:$B$74)-ROW(Clasament!$B$3)+1),ROWS(Clasament!$B$3:'Clasament'!$B27))),\"\")","v":""},{"$f":"IFERROR(INDEX(Clasament!$BH$3:$BH$72,SMALL(IF(Clasament!AZ$3:AZ$72=\"+\",ROW(Clasament!$B$3:$B$74)-ROW(Clasament!$B$3)+1),ROWS(Clasament!$B$3:'Clasament'!$B27))),\"\")","v":""},{"$f":"IFERROR(INDEX(Clasament!$BH$3:$BH$72,SMALL(IF(Clasament!BA$3:BA$72=\"+\",ROW(Clasament!$B$3:$B$74)-ROW(Clasament!$B$3)+1),ROWS(Clasament!$B$3:'Clasament'!$B27))),\"\")","v":""},{"$f":"IFERROR(INDEX(Clasament!$BH$3:$BH$72,SMALL(IF(Clasament!BB$3:BB$72=\"+\",ROW(Clasament!$B$3:$B$74)-ROW(Clasament!$B$3)+1),ROWS(Clasament!$B$3:'Clasament'!$B27))),\"\")","v":""},{"$f":"IFERROR(INDEX(Clasament!$BH$3:$BH$72,SMALL(IF(Clasament!BC$3:BC$72=\"+\",ROW(Clasament!$B$3:$B$74)-ROW(Clasament!$B$3)+1),ROWS(Clasament!$B$3:'Clasament'!$B27))),\"\")","v":""},{"$f":"IFERROR(INDEX(Clasament!$BH$3:$BH$72,SMALL(IF(Clasament!BD$3:BD$72=\"+\",ROW(Clasament!$B$3:$B$74)-ROW(Clasament!$B$3)+1),ROWS(Clasament!$B$3:'Clasament'!$B27))),\"\")","v":""}]
[null,{"$f":"IFERROR(INDEX(Clasament!$BH$3:$BH$72,SMALL(IF(Clasament!C$3:C$72=\"+\",ROW(Clasament!$B$3:$B$74)-ROW(Clasament!$B$3)+1),ROWS(Clasament!$B$3:'Clasament'!$B28))),\"\")","v":""},{"$f":"IFERROR(INDEX(Clasament!$BH$3:$BH$72,SMALL(IF(Clasament!D$3:D$72=\"+\",ROW(Clasament!$B$3:$B$74)-ROW(Clasament!$B$3)+1),ROWS(Clasament!$B$3:'Clasament'!$B28))),\"\")","v":""},{"$f":"IFERROR(INDEX(Clasament!$BH$3:$BH$72,SMALL(IF(Clasament!E$3:E$72=\"+\",ROW(Clasament!$B$3:$B$74)-ROW(Clasament!$B$3)+1),ROWS(Clasament!$B$3:'Clasament'!$B28))),\"\")","v":""},{"$f":"IFERROR(INDEX(Clasament!$BH$3:$BH$72,SMALL(IF(Clasament!F$3:F$72=\"+\",ROW(Clasament!$B$3:$B$74)-ROW(Clasament!$B$3)+1),ROWS(Clasament!$B$3:'Clasament'!$B28))),\"\")","v":""},{"$f":"IFERROR(INDEX(Clasament!$BH$3:$BH$72,SMALL(IF(Clasament!G$3:G$72=\"+\",ROW(Clasament!$B$3:$B$74)-ROW(Clasament!$B$3)+1),ROWS(Clasament!$B$3:'Clasament'!$B28))),\"\")","v":""},{"$f":"IFERROR(INDEX(Clasament!$BH$3:$BH$72,SMALL(IF(Clasament!H$3:H$72=\"+\",ROW(Clasament!$B$3:$B$74)-ROW(Clasament!$B$3)+1),ROWS(Clasament!$B$3:'Clasament'!$B28))),\"\")","v":""},{"$f":"IFERROR(INDEX(Clasament!$BH$3:$BH$72,SMALL(IF(Clasament!I$3:I$72=\"+\",ROW(Clasament!$B$3:$B$74)-ROW(Clasament!$B$3)+1),ROWS(Clasament!$B$3:'Clasament'!$B28))),\"\")","v":""},{"$f":"IFERROR(INDEX(Clasament!$BH$3:$BH$72,SMALL(IF(Clasament!J$3:J$72=\"+\",ROW(Clasament!$B$3:$B$74)-ROW(Clasament!$B$3)+1),ROWS(Clasament!$B$3:'Clasament'!$B28))),\"\")","v":""},{"$f":"IFERROR(INDEX(Clasament!$BH$3:$BH$72,SMALL(IF(Clasament!K$3:K$72=\"+\",ROW(Clasament!$B$3:$B$74)-ROW(Clasament!$B$3)+1),ROWS(Clasament!$B$3:'Clasament'!$B28))),\"\")","v":""},{"$f":"IFERROR(INDEX(Clasament!$BH$3:$BH$72,SMALL(IF(Clasament!L$3:L$72=\"+\",ROW(Clasament!$B$3:$B$74)-ROW(Clasament!$B$3)+1),ROWS(Clasament!$B$3:'Clasament'!$B28))),\"\")","v":""},{"$f":"IFERROR(INDEX(Clasament!$BH$3:$BH$72,SMALL(IF(Clasament!N$3:N$72=\"+\",ROW(Clasament!$B$3:$B$74)-ROW(Clasament!$B$3)+1),ROWS(Clasament!$B$3:'Clasament'!$B28))),\"\")","v":""},{"$f":"IFERROR(INDEX(Clasament!$BH$3:$BH$72,SMALL(IF(Clasament!O$3:O$72=\"+\",ROW(Clasament!$B$3:$B$74)-ROW(Clasament!$B$3)+1),ROWS(Clasament!$B$3:'Clasament'!$B28))),\"\")","v":""},{"$f":"IFERROR(INDEX(Clasament!$BH$3:$BH$72,SMALL(IF(Clasament!P$3:P$72=\"+\",ROW(Clasament!$B$3:$B$74)-ROW(Clasament!$B$3)+1),ROWS(Clasament!$B$3:'Clasament'!$B28))),\"\")","v":""},{"$f":"IFERROR(INDEX(Clasament!$BH$3:$BH$72,SMALL(IF(Clasament!Q$3:Q$72=\"+\",ROW(Clasament!$B$3:$B$74)-ROW(Clasament!$B$3)+1),ROWS(Clasament!$B$3:'Clasament'!$B28))),\"\")","v":""},{"$f":"IFERROR(INDEX(Clasament!$BH$3:$BH$72,SMALL(IF(Clasament!R$3:R$72=\"+\",ROW(Clasament!$B$3:$B$74)-ROW(Clasament!$B$3)+1),ROWS(Clasament!$B$3:'Clasament'!$B28))),\"\")","v":""},{"$f":"IFERROR(INDEX(Clasament!$BH$3:$BH$72,SMALL(IF(Clasament!S$3:S$72=\"+\",ROW(Clasament!$B$3:$B$74)-ROW(Clasament!$B$3)+1),ROWS(Clasament!$B$3:'Clasament'!$B28))),\"\")","v":""},{"$f":"IFERROR(INDEX(Clasament!$BH$3:$BH$72,SMALL(IF(Clasament!T$3:T$72=\"+\",ROW(Clasament!$B$3:$B$74)-ROW(Clasament!$B$3)+1),ROWS(Clasament!$B$3:'Clasament'!$B28))),\"\")","v":""},{"$f":"IFERROR(INDEX(Clasament!$BH$3:$BH$72,SMALL(IF(Clasament!U$3:U$72=\"+\",ROW(Clasament!$B$3:$B$74)-ROW(Clasament!$B$3)+1),ROWS(Clasament!$B$3:'Clasament'!$B28))),\"\")","v":""},{"$f":"IFERROR(INDEX(Clasament!$BH$3:$BH$72,SMALL(IF(Clasament!V$3:V$72=\"+\",ROW(Clasament!$B$3:$B$74)-ROW(Clasament!$B$3)+1),ROWS(Clasament!$B$3:'Clasament'!$B28))),\"\")","v":""},{"$f":"IFERROR(INDEX(Clasament!$BH$3:$BH$72,SMALL(IF(Clasament!W$3:W$72=\"+\",ROW(Clasament!$B$3:$B$74)-ROW(Clasament!$B$3)+1),ROWS(Clasament!$B$3:'Clasament'!$B28))),\"\")","v":""},{"$f":"IFERROR(INDEX(Clasament!$BH$3:$BH$72,SMALL(IF(Clasament!Y$3:Y$72=\"+\",ROW(Clasament!$B$3:$B$74)-ROW(Clasament!$B$3)+1),ROWS(Clasament!$B$3:'Clasament'!$B28))),\"\")","v":""},{"$f":"IFERROR(INDEX(Clasament!$BH$3:$BH$72,SMALL(IF(Clasament!Z$3:Z$72=\"+\",ROW(Clasament!$B$3:$B$74)-ROW(Clasament!$B$3)+1),ROWS(Clasament!$B$3:'Clasament'!$B28))),\"\")","v":""},{"$f":"IFERROR(INDEX(Clasament!$BH$3:$BH$72,SMALL(IF(Clasament!AA$3:AA$72=\"+\",ROW(Clasament!$B$3:$B$74)-ROW(Clasament!$B$3)+1),ROWS(Clasament!$B$3:'Clasament'!$B28))),\"\")","v":""},{"$f":"IFERROR(INDEX(Clasament!$BH$3:$BH$72,SMALL(IF(Clasament!AB$3:AB$72=\"+\",ROW(Clasament!$B$3:$B$74)-ROW(Clasament!$B$3)+1),ROWS(Clasament!$B$3:'Clasament'!$B28))),\"\")","v":""},{"$f":"IFERROR(INDEX(Clasament!$BH$3:$BH$72,SMALL(IF(Clasament!AC$3:AC$72=\"+\",ROW(Clasament!$B$3:$B$74)-ROW(Clasament!$B$3)+1),ROWS(Clasament!$B$3:'Clasament'!$B28))),\"\")","v":""},{"$f":"IFERROR(INDEX(Clasament!$BH$3:$BH$72,SMALL(IF(Clasament!AD$3:AD$72=\"+\",ROW(Clasament!$B$3:$B$74)-ROW(Clasament!$B$3)+1),ROWS(Clasament!$B$3:'Clasament'!$B28))),\"\")","v":""},{"$f":"IFERROR(INDEX(Clasament!$BH$3:$BH$72,SMALL(IF(Clasament!AE$3:AE$72=\"+\",ROW(Clasament!$B$3:$B$74)-ROW(Clasament!$B$3)+1),ROWS(Clasament!$B$3:'Clasament'!$B28))),\"\")","v":""},{"$f":"IFERROR(INDEX(Clasament!$BH$3:$BH$72,SMALL(IF(Clasament!AF$3:AF$72=\"+\",ROW(Clasament!$B$3:$B$74)-ROW(Clasament!$B$3)+1),ROWS(Clasament!$B$3:'Clasament'!$B28))),\"\")","v":""},{"$f":"IFERROR(INDEX(Clasament!$BH$3:$BH$72,SMALL(IF(Clasament!AG$3:AG$72=\"+\",ROW(Clasament!$B$3:$B$74)-ROW(Clasament!$B$3)+1),ROWS(Clasament!$B$3:'Clasament'!$B28))),\"\")","v":""},{"$f":"IFERROR(INDEX(Clasament!$BH$3:$BH$72,SMALL(IF(Clasament!AH$3:AH$72=\"+\",ROW(Clasament!$B$3:$B$74)-ROW(Clasament!$B$3)+1),ROWS(Clasament!$B$3:'Clasament'!$B28))),\"\")","v":""},{"$f":"IFERROR(INDEX(Clasament!$BH$3:$BH$72,SMALL(IF(Clasament!AJ$3:AJ$72=\"+\",ROW(Clasament!$B$3:$B$74)-ROW(Clasament!$B$3)+1),ROWS(Clasament!$B$3:'Clasament'!$B28))),\"\")","v":""},{"$f":"IFERROR(INDEX(Clasament!$BH$3:$BH$72,SMALL(IF(Clasament!AK$3:AK$72=\"+\",ROW(Clasament!$B$3:$B$74)-ROW(Clasament!$B$3)+1),ROWS(Clasament!$B$3:'Clasament'!$B28))),\"\")","v":""},{"$f":"IFERROR(INDEX(Clasament!$BH$3:$BH$72,SMALL(IF(Clasament!AL$3:AL$72=\"+\",ROW(Clasament!$B$3:$B$74)-ROW(Clasament!$B$3)+1),ROWS(Clasament!$B$3:'Clasament'!$B28))),\"\")","v":""},{"$f":"IFERROR(INDEX(Clasament!$BH$3:$BH$72,SMALL(IF(Clasament!AM$3:AM$72=\"+\",ROW(Clasament!$B$3:$B$74)-ROW(Clasament!$B$3)+1),ROWS(Clasament!$B$3:'Clasament'!$B28))),\"\")","v":""},{"$f":"IFERROR(INDEX(Clasament!$BH$3:$BH$72,SMALL(IF(Clasament!AN$3:AN$72=\"+\",ROW(Clasament!$B$3:$B$74)-ROW(Clasament!$B$3)+1),ROWS(Clasament!$B$3:'Clasament'!$B28))),\"\")","v":""},{"$f":"IFERROR(INDEX(Clasament!$BH$3:$BH$72,SMALL(IF(Clasament!AO$3:AO$72=\"+\",ROW(Clasament!$B$3:$B$74)-ROW(Clasament!$B$3)+1),ROWS(Clasament!$B$3:'Clasament'!$B28))),\"\")","v":""},{"$f":"IFERROR(INDEX(Clasament!$BH$3:$BH$72,SMALL(IF(Clasament!AP$3:AP$72=\"+\",ROW(Clasament!$B$3:$B$74)-ROW(Clasament!$B$3)+1),ROWS(Clasament!$B$3:'Clasament'!$B28))),\"\")","v":""},{"$f":"IFERROR(INDEX(Clasament!$BH$3:$BH$72,SMALL(IF(Clasament!AQ$3:AQ$72=\"+\",ROW(Clasament!$B$3:$B$74)-ROW(Clasament!$B$3)+1),ROWS(Clasament!$B$3:'Clasament'!$B28))),\"\")","v":""},{"$f":"IFERROR(INDEX(Clasament!$BH$3:$BH$72,SMALL(IF(Clasament!AR$3:AR$72=\"+\",ROW(Clasament!$B$3:$B$74)-ROW(Clasament!$B$3)+1),ROWS(Clasament!$B$3:'Clasament'!$B28))),\"\")","v":""},{"$f":"IFERROR(INDEX(Clasament!$BH$3:$BH$72,SMALL(IF(Clasament!AS$3:AS$72=\"+\",ROW(Clasament!$B$3:$B$74)-ROW(Clasament!$B$3)+1),ROWS(Clasament!$B$3:'Clasament'!$B28))),\"\")","v":""},{"$f":"IFERROR(INDEX(Clasament!$BH$3:$BH$72,SMALL(IF(Clasament!AU$3:AU$72=\"+\",ROW(Clasament!$B$3:$B$74)-ROW(Clasament!$B$3)+1),ROWS(Clasament!$B$3:'Clasament'!$B28))),\"\")","v":""},{"$f":"IFERROR(INDEX(Clasament!$BH$3:$BH$72,SMALL(IF(Clasament!AV$3:AV$72=\"+\",ROW(Clasament!$B$3:$B$74)-ROW(Clasament!$B$3)+1),ROWS(Clasament!$B$3:'Clasament'!$B28))),\"\")","v":""},{"$f":"IFERROR(INDEX(Clasament!$BH$3:$BH$72,SMALL(IF(Clasament!AW$3:AW$72=\"+\",ROW(Clasament!$B$3:$B$74)-ROW(Clasament!$B$3)+1),ROWS(Clasament!$B$3:'Clasament'!$B28))),\"\")","v":""},{"$f":"IFERROR(INDEX(Clasament!$BH$3:$BH$72,SMALL(IF(Clasament!AX$3:AX$72=\"+\",ROW(Clasament!$B$3:$B$74)-ROW(Clasament!$B$3)+1),ROWS(Clasament!$B$3:'Clasament'!$B28))),\"\")","v":""},{"$f":"IFERROR(INDEX(Clasament!$BH$3:$BH$72,SMALL(IF(Clasament!AY$3:AY$72=\"+\",ROW(Clasament!$B$3:$B$74)-ROW(Clasament!$B$3)+1),ROWS(Clasament!$B$3:'Clasament'!$B28))),\"\")","v":""},{"$f":"IFERROR(INDEX(Clasament!$BH$3:$BH$72,SMALL(IF(Clasament!AZ$3:AZ$72=\"+\",ROW(Clasament!$B$3:$B$74)-ROW(Clasament!$B$3)+1),ROWS(Clasament!$B$3:'Clasament'!$B28))),\"\")","v":""},{"$f":"IFERROR(INDEX(Clasament!$BH$3:$BH$72,SMALL(IF(Clasament!BA$3:BA$72=\"+\",ROW(Clasament!$B$3:$B$74)-ROW(Clasament!$B$3)+1),ROWS(Clasament!$B$3:'Clasament'!$B28))),\"\")","v":""},{"$f":"IFERROR(INDEX(Clasament!$BH$3:$BH$72,SMALL(IF(Clasament!BB$3:BB$72=\"+\",ROW(Clasament!$B$3:$B$74)-ROW(Clasament!$B$3)+1),ROWS(Clasament!$B$3:'Clasament'!$B28))),\"\")","v":""},{"$f":"IFERROR(INDEX(Clasament!$BH$3:$BH$72,SMALL(IF(Clasament!BC$3:BC$72=\"+\",ROW(Clasament!$B$3:$B$74)-ROW(Clasament!$B$3)+1),ROWS(Clasament!$B$3:'Clasament'!$B28))),\"\")","v":""},{"$f":"IFERROR(INDEX(Clasament!$BH$3:$BH$72,SMALL(IF(Clasament!BD$3:BD$72=\"+\",ROW(Clasament!$B$3:$B$74)-ROW(Clasament!$B$3)+1),ROWS(Clasament!$B$3:'Clasament'!$B28))),\"\")","v":""}]
[null,{"$f":"IFERROR(INDEX(Clasament!$BH$3:$BH$72,SMALL(IF(Clasament!C$3:C$72=\"+\",ROW(Clasament!$B$3:$B$74)-ROW(Clasament!$B$3)+1),ROWS(Clasament!$B$3:'Clasament'!$B29))),\"\")","v":""},{"$f":"IFERROR(INDEX(Clasament!$BH$3:$BH$72,SMALL(IF(Clasament!D$3:D$72=\"+\",ROW(Clasament!$B$3:$B$74)-ROW(Clasament!$B$3)+1),ROWS(Clasament!$B$3:'Clasament'!$B29))),\"\")","v":""},{"$f":"IFERROR(INDEX(Clasament!$BH$3:$BH$72,SMALL(IF(Clasament!E$3:E$72=\"+\",ROW(Clasament!$B$3:$B$74)-ROW(Clasament!$B$3)+1),ROWS(Clasament!$B$3:'Clasament'!$B29))),\"\")","v":""},{"$f":"IFERROR(INDEX(Clasament!$BH$3:$BH$72,SMALL(IF(Clasament!F$3:F$72=\"+\",ROW(Clasament!$B$3:$B$74)-ROW(Clasament!$B$3)+1),ROWS(Clasament!$B$3:'Clasament'!$B29))),\"\")","v":""},{"$f":"IFERROR(INDEX(Clasament!$BH$3:$BH$72,SMALL(IF(Clasament!G$3:G$72=\"+\",ROW(Clasament!$B$3:$B$74)-ROW(Clasament!$B$3)+1),ROWS(Clasament!$B$3:'Clasament'!$B29))),\"\")","v":""},{"$f":"IFERROR(INDEX(Clasament!$BH$3:$BH$72,SMALL(IF(Clasament!H$3:H$72=\"+\",ROW(Clasament!$B$3:$B$74)-ROW(Clasament!$B$3)+1),ROWS(Clasament!$B$3:'Clasament'!$B29))),\"\")","v":""},{"$f":"IFERROR(INDEX(Clasament!$BH$3:$BH$72,SMALL(IF(Clasament!I$3:I$72=\"+\",ROW(Clasament!$B$3:$B$74)-ROW(Clasament!$B$3)+1),ROWS(Clasament!$B$3:'Clasament'!$B29))),\"\")","v":""},{"$f":"IFERROR(INDEX(Clasament!$BH$3:$BH$72,SMALL(IF(Clasament!J$3:J$72=\"+\",ROW(Clasament!$B$3:$B$74)-ROW(Clasament!$B$3)+1),ROWS(Clasament!$B$3:'Clasament'!$B29))),\"\")","v":""},{"$f":"IFERROR(INDEX(Clasament!$BH$3:$BH$72,SMALL(IF(Clasament!K$3:K$72=\"+\",ROW(Clasament!$B$3:$B$74)-ROW(Clasament!$B$3)+1),ROWS(Clasament!$B$3:'Clasament'!$B29))),\"\")","v":""},{"$f":"IFERROR(INDEX(Clasament!$BH$3:$BH$72,SMALL(IF(Clasament!L$3:L$72=\"+\",ROW(Clasament!$B$3:$B$74)-ROW(Clasament!$B$3)+1),ROWS(Clasament!$B$3:'Clasament'!$B29))),\"\")","v":""},{"$f":"IFERROR(INDEX(Clasament!$BH$3:$BH$72,SMALL(IF(Clasament!N$3:N$72=\"+\",ROW(Clasament!$B$3:$B$74)-ROW(Clasament!$B$3)+1),ROWS(Clasament!$B$3:'Clasament'!$B29))),\"\")","v":""},{"$f":"IFERROR(INDEX(Clasament!$BH$3:$BH$72,SMALL(IF(Clasament!O$3:O$72=\"+\",ROW(Clasament!$B$3:$B$74)-ROW(Clasament!$B$3)+1),ROWS(Clasament!$B$3:'Clasament'!$B29))),\"\")","v":""},{"$f":"IFERROR(INDEX(Clasament!$BH$3:$BH$72,SMALL(IF(Clasament!P$3:P$72=\"+\",ROW(Clasament!$B$3:$B$74)-ROW(Clasament!$B$3)+1),ROWS(Clasament!$B$3:'Clasament'!$B29))),\"\")","v":""},{"$f":"IFERROR(INDEX(Clasament!$BH$3:$BH$72,SMALL(IF(Clasament!Q$3:Q$72=\"+\",ROW(Clasament!$B$3:$B$74)-ROW(Clasament!$B$3)+1),ROWS(Clasament!$B$3:'Clasament'!$B29))),\"\")","v":""},{"$f":"IFERROR(INDEX(Clasament!$BH$3:$BH$72,SMALL(IF(Clasament!R$3:R$72=\"+\",ROW(Clasament!$B$3:$B$74)-ROW(Clasament!$B$3)+1),ROWS(Clasament!$B$3:'Clasament'!$B29))),\"\")","v":""},{"$f":"IFERROR(INDEX(Clasament!$BH$3:$BH$72,SMALL(IF(Clasament!S$3:S$72=\"+\",ROW(Clasament!$B$3:$B$74)-ROW(Clasament!$B$3)+1),ROWS(Clasament!$B$3:'Clasament'!$B29))),\"\")","v":""},{"$f":"IFERROR(INDEX(Clasament!$BH$3:$BH$72,SMALL(IF(Clasament!T$3:T$72=\"+\",ROW(Clasament!$B$3:$B$74)-ROW(Clasament!$B$3)+1),ROWS(Clasament!$B$3:'Clasament'!$B29))),\"\")","v":""},{"$f":"IFERROR(INDEX(Clasament!$BH$3:$BH$72,SMALL(IF(Clasament!U$3:U$72=\"+\",ROW(Clasament!$B$3:$B$74)-ROW(Clasament!$B$3)+1),ROWS(Clasament!$B$3:'Clasament'!$B29))),\"\")","v":""},{"$f":"IFERROR(INDEX(Clasament!$BH$3:$BH$72,SMALL(IF(Clasament!V$3:V$72=\"+\",ROW(Clasament!$B$3:$B$74)-ROW(Clasament!$B$3)+1),ROWS(Clasament!$B$3:'Clasament'!$B29))),\"\")","v":""},{"$f":"IFERROR(INDEX(Clasament!$BH$3:$BH$72,SMALL(IF(Clasament!W$3:W$72=\"+\",ROW(Clasament!$B$3:$B$74)-ROW(Clasament!$B$3)+1),ROWS(Clasament!$B$3:'Clasament'!$B29))),\"\")","v":""},{"$f":"IFERROR(INDEX(Clasament!$BH$3:$BH$72,SMALL(IF(Clasament!Y$3:Y$72=\"+\",ROW(Clasament!$B$3:$B$74)-ROW(Clasament!$B$3)+1),ROWS(Clasament!$B$3:'Clasament'!$B29))),\"\")","v":""},{"$f":"IFERROR(INDEX(Clasament!$BH$3:$BH$72,SMALL(IF(Clasament!Z$3:Z$72=\"+\",ROW(Clasament!$B$3:$B$74)-ROW(Clasament!$B$3)+1),ROWS(Clasament!$B$3:'Clasament'!$B29))),\"\")","v":""},{"$f":"IFERROR(INDEX(Clasament!$BH$3:$BH$72,SMALL(IF(Clasament!AA$3:AA$72=\"+\",ROW(Clasament!$B$3:$B$74)-ROW(Clasament!$B$3)+1),ROWS(Clasament!$B$3:'Clasament'!$B29))),\"\")","v":""},{"$f":"IFERROR(INDEX(Clasament!$BH$3:$BH$72,SMALL(IF(Clasament!AB$3:AB$72=\"+\",ROW(Clasament!$B$3:$B$74)-ROW(Clasament!$B$3)+1),ROWS(Clasament!$B$3:'Clasament'!$B29))),\"\")","v":""},{"$f":"IFERROR(INDEX(Clasament!$BH$3:$BH$72,SMALL(IF(Clasament!AC$3:AC$72=\"+\",ROW(Clasament!$B$3:$B$74)-ROW(Clasament!$B$3)+1),ROWS(Clasament!$B$3:'Clasament'!$B29))),\"\")","v":""},{"$f":"IFERROR(INDEX(Clasament!$BH$3:$BH$72,SMALL(IF(Clasament!AD$3:AD$72=\"+\",ROW(Clasament!$B$3:$B$74)-ROW(Clasament!$B$3)+1),ROWS(Clasament!$B$3:'Clasament'!$B29))),\"\")","v":""},{"$f":"IFERROR(INDEX(Clasament!$BH$3:$BH$72,SMALL(IF(Clasament!AE$3:AE$72=\"+\",ROW(Clasament!$B$3:$B$74)-ROW(Clasament!$B$3)+1),ROWS(Clasament!$B$3:'Clasament'!$B29))),\"\")","v":""},{"$f":"IFERROR(INDEX(Clasament!$BH$3:$BH$72,SMALL(IF(Clasament!AF$3:AF$72=\"+\",ROW(Clasament!$B$3:$B$74)-ROW(Clasament!$B$3)+1),ROWS(Clasament!$B$3:'Clasament'!$B29))),\"\")","v":""},{"$f":"IFERROR(INDEX(Clasament!$BH$3:$BH$72,SMALL(IF(Clasament!AG$3:AG$72=\"+\",ROW(Clasament!$B$3:$B$74)-ROW(Clasament!$B$3)+1),ROWS(Clasament!$B$3:'Clasament'!$B29))),\"\")","v":""},{"$f":"IFERROR(INDEX(Clasament!$BH$3:$BH$72,SMALL(IF(Clasament!AH$3:AH$72=\"+\",ROW(Clasament!$B$3:$B$74)-ROW(Clasament!$B$3)+1),ROWS(Clasament!$B$3:'Clasament'!$B29))),\"\")","v":""},{"$f":"IFERROR(INDEX(Clasament!$BH$3:$BH$72,SMALL(IF(Clasament!AJ$3:AJ$72=\"+\",ROW(Clasament!$B$3:$B$74)-ROW(Clasament!$B$3)+1),ROWS(Clasament!$B$3:'Clasament'!$B29))),\"\")","v":""},{"$f":"IFERROR(INDEX(Clasament!$BH$3:$BH$72,SMALL(IF(Clasament!AK$3:AK$72=\"+\",ROW(Clasament!$B$3:$B$74)-ROW(Clasament!$B$3)+1),ROWS(Clasament!$B$3:'Clasament'!$B29))),\"\")","v":""},{"$f":"IFERROR(INDEX(Clasament!$BH$3:$BH$72,SMALL(IF(Clasament!AL$3:AL$72=\"+\",ROW(Clasament!$B$3:$B$74)-ROW(Clasament!$B$3)+1),ROWS(Clasament!$B$3:'Clasament'!$B29))),\"\")","v":""},{"$f":"IFERROR(INDEX(Clasament!$BH$3:$BH$72,SMALL(IF(Clasament!AM$3:AM$72=\"+\",ROW(Clasament!$B$3:$B$74)-ROW(Clasament!$B$3)+1),ROWS(Clasament!$B$3:'Clasament'!$B29))),\"\")","v":""},{"$f":"IFERROR(INDEX(Clasament!$BH$3:$BH$72,SMALL(IF(Clasament!AN$3:AN$72=\"+\",ROW(Clasament!$B$3:$B$74)-ROW(Clasament!$B$3)+1),ROWS(Clasament!$B$3:'Clasament'!$B29))),\"\")","v":""},{"$f":"IFERROR(INDEX(Clasament!$BH$3:$BH$72,SMALL(IF(Clasament!AO$3:AO$72=\"+\",ROW(Clasament!$B$3:$B$74)-ROW(Clasament!$B$3)+1),ROWS(Clasament!$B$3:'Clasament'!$B29))),\"\")","v":""},{"$f":"IFERROR(INDEX(Clasament!$BH$3:$BH$72,SMALL(IF(Clasament!AP$3:AP$72=\"+\",ROW(Clasament!$B$3:$B$74)-ROW(Clasament!$B$3)+1),ROWS(Clasament!$B$3:'Clasament'!$B29))),\"\")","v":""},{"$f":"IFERROR(INDEX(Clasament!$BH$3:$BH$72,SMALL(IF(Clasament!AQ$3:AQ$72=\"+\",ROW(Clasament!$B$3:$B$74)-ROW(Clasament!$B$3)+1),ROWS(Clasament!$B$3:'Clasament'!$B29))),\"\")","v":""},{"$f":"IFERROR(INDEX(Clasament!$BH$3:$BH$72,SMALL(IF(Clasament!AR$3:AR$72=\"+\",ROW(Clasament!$B$3:$B$74)-ROW(Clasament!$B$3)+1),ROWS(Clasament!$B$3:'Clasament'!$B29))),\"\")","v":""},{"$f":"IFERROR(INDEX(Clasament!$BH$3:$BH$72,SMALL(IF(Clasament!AS$3:AS$72=\"+\",ROW(Clasament!$B$3:$B$74)-ROW(Clasament!$B$3)+1),ROWS(Clasament!$B$3:'Clasament'!$B29))),\"\")","v":""},{"$f":"IFERROR(INDEX(Clasament!$BH$3:$BH$72,SMALL(IF(Clasament!AU$3:AU$72=\"+\",ROW(Clasament!$B$3:$B$74)-ROW(Clasament!$B$3)+1),ROWS(Clasament!$B$3:'Clasament'!$B29))),\"\")","v":""},{"$f":"IFERROR(INDEX(Clasament!$BH$3:$BH$72,SMALL(IF(Clasament!AV$3:AV$72=\"+\",ROW(Clasament!$B$3:$B$74)-ROW(Clasament!$B$3)+1),ROWS(Clasament!$B$3:'Clasament'!$B29))),\"\")","v":""},{"$f":"IFERROR(INDEX(Clasament!$BH$3:$BH$72,SMALL(IF(Clasament!AW$3:AW$72=\"+\",ROW(Clasament!$B$3:$B$74)-ROW(Clasament!$B$3)+1),ROWS(Clasament!$B$3:'Clasament'!$B29))),\"\")","v":""},{"$f":"IFERROR(INDEX(Clasament!$BH$3:$BH$72,SMALL(IF(Clasament!AX$3:AX$72=\"+\",ROW(Clasament!$B$3:$B$74)-ROW(Clasament!$B$3)+1),ROWS(Clasament!$B$3:'Clasament'!$B29))),\"\")","v":""},{"$f":"IFERROR(INDEX(Clasament!$BH$3:$BH$72,SMALL(IF(Clasament!AY$3:AY$72=\"+\",ROW(Clasament!$B$3:$B$74)-ROW(Clasament!$B$3)+1),ROWS(Clasament!$B$3:'Clasament'!$B29))),\"\")","v":""},{"$f":"IFERROR(INDEX(Clasament!$BH$3:$BH$72,SMALL(IF(Clasament!AZ$3:AZ$72=\"+\",ROW(Clasament!$B$3:$B$74)-ROW(Clasament!$B$3)+1),ROWS(Clasament!$B$3:'Clasament'!$B29))),\"\")","v":""},{"$f":"IFERROR(INDEX(Clasament!$BH$3:$BH$72,SMALL(IF(Clasament!BA$3:BA$72=\"+\",ROW(Clasament!$B$3:$B$74)-ROW(Clasament!$B$3)+1),ROWS(Clasament!$B$3:'Clasament'!$B29))),\"\")","v":""},{"$f":"IFERROR(INDEX(Clasament!$BH$3:$BH$72,SMALL(IF(Clasament!BB$3:BB$72=\"+\",ROW(Clasament!$B$3:$B$74)-ROW(Clasament!$B$3)+1),ROWS(Clasament!$B$3:'Clasament'!$B29))),\"\")","v":""},{"$f":"IFERROR(INDEX(Clasament!$BH$3:$BH$72,SMALL(IF(Clasament!BC$3:BC$72=\"+\",ROW(Clasament!$B$3:$B$74)-ROW(Clasament!$B$3)+1),ROWS(Clasament!$B$3:'Clasament'!$B29))),\"\")","v":""},{"$f":"IFERROR(INDEX(Clasament!$BH$3:$BH$72,SMALL(IF(Clasament!BD$3:BD$72=\"+\",ROW(Clasament!$B$3:$B$74)-ROW(Clasament!$B$3)+1),ROWS(Clasament!$B$3:'Clasament'!$B29))),\"\")","v":""}]
[null,{"$f":"IFERROR(INDEX(Clasament!$BH$3:$BH$72,SMALL(IF(Clasament!C$3:C$72=\"+\",ROW(Clasament!$B$3:$B$74)-ROW(Clasament!$B$3)+1),ROWS(Clasament!$B$3:'Clasament'!$B30))),\"\")","v":""},{"$f":"IFERROR(INDEX(Clasament!$BH$3:$BH$72,SMALL(IF(Clasament!D$3:D$72=\"+\",ROW(Clasament!$B$3:$B$74)-ROW(Clasament!$B$3)+1),ROWS(Clasament!$B$3:'Clasament'!$B30))),\"\")","v":""},{"$f":"IFERROR(INDEX(Clasament!$BH$3:$BH$72,SMALL(IF(Clasament!E$3:E$72=\"+\",ROW(Clasament!$B$3:$B$74)-ROW(Clasament!$B$3)+1),ROWS(Clasament!$B$3:'Clasament'!$B30))),\"\")","v":""},{"$f":"IFERROR(INDEX(Clasament!$BH$3:$BH$72,SMALL(IF(Clasament!F$3:F$72=\"+\",ROW(Clasament!$B$3:$B$74)-ROW(Clasament!$B$3)+1),ROWS(Clasament!$B$3:'Clasament'!$B30))),\"\")","v":""},{"$f":"IFERROR(INDEX(Clasament!$BH$3:$BH$72,SMALL(IF(Clasament!G$3:G$72=\"+\",ROW(Clasament!$B$3:$B$74)-ROW(Clasament!$B$3)+1),ROWS(Clasament!$B$3:'Clasament'!$B30))),\"\")","v":""},{"$f":"IFERROR(INDEX(Clasament!$BH$3:$BH$72,SMALL(IF(Clasament!H$3:H$72=\"+\",ROW(Clasament!$B$3:$B$74)-ROW(Clasament!$B$3)+1),ROWS(Clasament!$B$3:'Clasament'!$B30))),\"\")","v":""},{"$f":"IFERROR(INDEX(Clasament!$BH$3:$BH$72,SMALL(IF(Clasament!I$3:I$72=\"+\",ROW(Clasament!$B$3:$B$74)-ROW(Clasament!$B$3)+1),ROWS(Clasament!$B$3:'Clasament'!$B30))),\"\")","v":""},{"$f":"IFERROR(INDEX(Clasament!$BH$3:$BH$72,SMALL(IF(Clasament!J$3:J$72=\"+\",ROW(Clasament!$B$3:$B$74)-ROW(Clasament!$B$3)+1),ROWS(Clasament!$B$3:'Clasament'!$B30))),\"\")","v":""},{"$f":"IFERROR(INDEX(Clasament!$BH$3:$BH$72,SMALL(IF(Clasament!K$3:K$72=\"+\",ROW(Clasament!$B$3:$B$74)-ROW(Clasament!$B$3)+1),ROWS(Clasament!$B$3:'Clasament'!$B30))),\"\")","v":""},{"$f":"IFERROR(INDEX(Clasament!$BH$3:$BH$72,SMALL(IF(Clasament!L$3:L$72=\"+\",ROW(Clasament!$B$3:$B$74)-ROW(Clasament!$B$3)+1),ROWS(Clasament!$B$3:'Clasament'!$B30))),\"\")","v":""},{"$f":"IFERROR(INDEX(Clasament!$BH$3:$BH$72,SMALL(IF(Clasament!N$3:N$72=\"+\",ROW(Clasament!$B$3:$B$74)-ROW(Clasament!$B$3)+1),ROWS(Clasament!$B$3:'Clasament'!$B30))),\"\")","v":""},{"$f":"IFERROR(INDEX(Clasament!$BH$3:$BH$72,SMALL(IF(Clasament!O$3:O$72=\"+\",ROW(Clasament!$B$3:$B$74)-ROW(Clasament!$B$3)+1),ROWS(Clasament!$B$3:'Clasament'!$B30))),\"\")","v":""},{"$f":"IFERROR(INDEX(Clasament!$BH$3:$BH$72,SMALL(IF(Clasament!P$3:P$72=\"+\",ROW(Clasament!$B$3:$B$74)-ROW(Clasament!$B$3)+1),ROWS(Clasament!$B$3:'Clasament'!$B30))),\"\")","v":""},{"$f":"IFERROR(INDEX(Clasament!$BH$3:$BH$72,SMALL(IF(Clasament!Q$3:Q$72=\"+\",ROW(Clasament!$B$3:$B$74)-ROW(Clasament!$B$3)+1),ROWS(Clasament!$B$3:'Clasament'!$B30))),\"\")","v":""},{"$f":"IFERROR(INDEX(Clasament!$BH$3:$BH$72,SMALL(IF(Clasament!R$3:R$72=\"+\",ROW(Clasament!$B$3:$B$74)-ROW(Clasament!$B$3)+1),ROWS(Clasament!$B$3:'Clasament'!$B30))),\"\")","v":""},{"$f":"IFERROR(INDEX(Clasament!$BH$3:$BH$72,SMALL(IF(Clasament!S$3:S$72=\"+\",ROW(Clasament!$B$3:$B$74)-ROW(Clasament!$B$3)+1),ROWS(Clasament!$B$3:'Clasament'!$B30))),\"\")","v":""},{"$f":"IFERROR(INDEX(Clasament!$BH$3:$BH$72,SMALL(IF(Clasament!T$3:T$72=\"+\",ROW(Clasament!$B$3:$B$74)-ROW(Clasament!$B$3)+1),ROWS(Clasament!$B$3:'Clasament'!$B30))),\"\")","v":""},{"$f":"IFERROR(INDEX(Clasament!$BH$3:$BH$72,SMALL(IF(Clasament!U$3:U$72=\"+\",ROW(Clasament!$B$3:$B$74)-ROW(Clasament!$B$3)+1),ROWS(Clasament!$B$3:'Clasament'!$B30))),\"\")","v":""},{"$f":"IFERROR(INDEX(Clasament!$BH$3:$BH$72,SMALL(IF(Clasament!V$3:V$72=\"+\",ROW(Clasament!$B$3:$B$74)-ROW(Clasament!$B$3)+1),ROWS(Clasament!$B$3:'Clasament'!$B30))),\"\")","v":""},{"$f":"IFERROR(INDEX(Clasament!$BH$3:$BH$72,SMALL(IF(Clasament!W$3:W$72=\"+\",ROW(Clasament!$B$3:$B$74)-ROW(Clasament!$B$3)+1),ROWS(Clasament!$B$3:'Clasament'!$B30))),\"\")","v":""},{"$f":"IFERROR(INDEX(Clasament!$BH$3:$BH$72,SMALL(IF(Clasament!Y$3:Y$72=\"+\",ROW(Clasament!$B$3:$B$74)-ROW(Clasament!$B$3)+1),ROWS(Clasament!$B$3:'Clasament'!$B30))),\"\")","v":""},{"$f":"IFERROR(INDEX(Clasament!$BH$3:$BH$72,SMALL(IF(Clasament!Z$3:Z$72=\"+\",ROW(Clasament!$B$3:$B$74)-ROW(Clasament!$B$3)+1),ROWS(Clasament!$B$3:'Clasament'!$B30))),\"\")","v":""},{"$f":"IFERROR(INDEX(Clasament!$BH$3:$BH$72,SMALL(IF(Clasament!AA$3:AA$72=\"+\",ROW(Clasament!$B$3:$B$74)-ROW(Clasament!$B$3)+1),ROWS(Clasament!$B$3:'Clasament'!$B30))),\"\")","v":""},{"$f":"IFERROR(INDEX(Clasament!$BH$3:$BH$72,SMALL(IF(Clasament!AB$3:AB$72=\"+\",ROW(Clasament!$B$3:$B$74)-ROW(Clasament!$B$3)+1),ROWS(Clasament!$B$3:'Clasament'!$B30))),\"\")","v":""},{"$f":"IFERROR(INDEX(Clasament!$BH$3:$BH$72,SMALL(IF(Clasament!AC$3:AC$72=\"+\",ROW(Clasament!$B$3:$B$74)-ROW(Clasament!$B$3)+1),ROWS(Clasament!$B$3:'Clasament'!$B30))),\"\")","v":""},{"$f":"IFERROR(INDEX(Clasament!$BH$3:$BH$72,SMALL(IF(Clasament!AD$3:AD$72=\"+\",ROW(Clasament!$B$3:$B$74)-ROW(Clasament!$B$3)+1),ROWS(Clasament!$B$3:'Clasament'!$B30))),\"\")","v":""},{"$f":"IFERROR(INDEX(Clasament!$BH$3:$BH$72,SMALL(IF(Clasament!AE$3:AE$72=\"+\",ROW(Clasament!$B$3:$B$74)-ROW(Clasament!$B$3)+1),ROWS(Clasament!$B$3:'Clasament'!$B30))),\"\")","v":""},{"$f":"IFERROR(INDEX(Clasament!$BH$3:$BH$72,SMALL(IF(Clasament!AF$3:AF$72=\"+\",ROW(Clasament!$B$3:$B$74)-ROW(Clasament!$B$3)+1),ROWS(Clasament!$B$3:'Clasament'!$B30))),\"\")","v":""},{"$f":"IFERROR(INDEX(Clasament!$BH$3:$BH$72,SMALL(IF(Clasament!AG$3:AG$72=\"+\",ROW(Clasament!$B$3:$B$74)-ROW(Clasament!$B$3)+1),ROWS(Clasament!$B$3:'Clasament'!$B30))),\"\")","v":""},{"$f":"IFERROR(INDEX(Clasament!$BH$3:$BH$72,SMALL(IF(Clasament!AH$3:AH$72=\"+\",ROW(Clasament!$B$3:$B$74)-ROW(Clasament!$B$3)+1),ROWS(Clasament!$B$3:'Clasament'!$B30))),\"\")","v":""},{"$f":"IFERROR(INDEX(Clasament!$BH$3:$BH$72,SMALL(IF(Clasament!AJ$3:AJ$72=\"+\",ROW(Clasament!$B$3:$B$74)-ROW(Clasament!$B$3)+1),ROWS(Clasament!$B$3:'Clasament'!$B30))),\"\")","v":""},{"$f":"IFERROR(INDEX(Clasament!$BH$3:$BH$72,SMALL(IF(Clasament!AK$3:AK$72=\"+\",ROW(Clasament!$B$3:$B$74)-ROW(Clasament!$B$3)+1),ROWS(Clasament!$B$3:'Clasament'!$B30))),\"\")","v":""},{"$f":"IFERROR(INDEX(Clasament!$BH$3:$BH$72,SMALL(IF(Clasament!AL$3:AL$72=\"+\",ROW(Clasament!$B$3:$B$74)-ROW(Clasament!$B$3)+1),ROWS(Clasament!$B$3:'Clasament'!$B30))),\"\")","v":""},{"$f":"IFERROR(INDEX(Clasament!$BH$3:$BH$72,SMALL(IF(Clasament!AM$3:AM$72=\"+\",ROW(Clasament!$B$3:$B$74)-ROW(Clasament!$B$3)+1),ROWS(Clasament!$B$3:'Clasament'!$B30))),\"\")","v":""},{"$f":"IFERROR(INDEX(Clasament!$BH$3:$BH$72,SMALL(IF(Clasament!AN$3:AN$72=\"+\",ROW(Clasament!$B$3:$B$74)-ROW(Clasament!$B$3)+1),ROWS(Clasament!$B$3:'Clasament'!$B30))),\"\")","v":""},{"$f":"IFERROR(INDEX(Clasament!$BH$3:$BH$72,SMALL(IF(Clasament!AO$3:AO$72=\"+\",ROW(Clasament!$B$3:$B$74)-ROW(Clasament!$B$3)+1),ROWS(Clasament!$B$3:'Clasament'!$B30))),\"\")","v":""},{"$f":"IFERROR(INDEX(Clasament!$BH$3:$BH$72,SMALL(IF(Clasament!AP$3:AP$72=\"+\",ROW(Clasament!$B$3:$B$74)-ROW(Clasament!$B$3)+1),ROWS(Clasament!$B$3:'Clasament'!$B30))),\"\")","v":""},{"$f":"IFERROR(INDEX(Clasament!$BH$3:$BH$72,SMALL(IF(Clasament!AQ$3:AQ$72=\"+\",ROW(Clasament!$B$3:$B$74)-ROW(Clasament!$B$3)+1),ROWS(Clasament!$B$3:'Clasament'!$B30))),\"\")","v":""},{"$f":"IFERROR(INDEX(Clasament!$BH$3:$BH$72,SMALL(IF(Clasament!AR$3:AR$72=\"+\",ROW(Clasament!$B$3:$B$74)-ROW(Clasament!$B$3)+1),ROWS(Clasament!$B$3:'Clasament'!$B30))),\"\")","v":""},{"$f":"IFERROR(INDEX(Clasament!$BH$3:$BH$72,SMALL(IF(Clasament!AS$3:AS$72=\"+\",ROW(Clasament!$B$3:$B$74)-ROW(Clasament!$B$3)+1),ROWS(Clasament!$B$3:'Clasament'!$B30))),\"\")","v":""},{"$f":"IFERROR(INDEX(Clasament!$BH$3:$BH$72,SMALL(IF(Clasament!AU$3:AU$72=\"+\",ROW(Clasament!$B$3:$B$74)-ROW(Clasament!$B$3)+1),ROWS(Clasament!$B$3:'Clasament'!$B30))),\"\")","v":""},{"$f":"IFERROR(INDEX(Clasament!$BH$3:$BH$72,SMALL(IF(Clasament!AV$3:AV$72=\"+\",ROW(Clasament!$B$3:$B$74)-ROW(Clasament!$B$3)+1),ROWS(Clasament!$B$3:'Clasament'!$B30))),\"\")","v":""},{"$f":"IFERROR(INDEX(Clasament!$BH$3:$BH$72,SMALL(IF(Clasament!AW$3:AW$72=\"+\",ROW(Clasament!$B$3:$B$74)-ROW(Clasament!$B$3)+1),ROWS(Clasament!$B$3:'Clasament'!$B30))),\"\")","v":""},{"$f":"IFERROR(INDEX(Clasament!$BH$3:$BH$72,SMALL(IF(Clasament!AX$3:AX$72=\"+\",ROW(Clasament!$B$3:$B$74)-ROW(Clasament!$B$3)+1),ROWS(Clasament!$B$3:'Clasament'!$B30))),\"\")","v":""},{"$f":"IFERROR(INDEX(Clasament!$BH$3:$BH$72,SMALL(IF(Clasament!AY$3:AY$72=\"+\",ROW(Clasament!$B$3:$B$74)-ROW(Clasament!$B$3)+1),ROWS(Clasament!$B$3:'Clasament'!$B30))),\"\")","v":""},{"$f":"IFERROR(INDEX(Clasament!$BH$3:$BH$72,SMALL(IF(Clasament!AZ$3:AZ$72=\"+\",ROW(Clasament!$B$3:$B$74)-ROW(Clasament!$B$3)+1),ROWS(Clasament!$B$3:'Clasament'!$B30))),\"\")","v":""},{"$f":"IFERROR(INDEX(Clasament!$BH$3:$BH$72,SMALL(IF(Clasament!BA$3:BA$72=\"+\",ROW(Clasament!$B$3:$B$74)-ROW(Clasament!$B$3)+1),ROWS(Clasament!$B$3:'Clasament'!$B30))),\"\")","v":""},{"$f":"IFERROR(INDEX(Clasament!$BH$3:$BH$72,SMALL(IF(Clasament!BB$3:BB$72=\"+\",ROW(Clasament!$B$3:$B$74)-ROW(Clasament!$B$3)+1),ROWS(Clasament!$B$3:'Clasament'!$B30))),\"\")","v":""},{"$f":"IFERROR(INDEX(Clasament!$BH$3:$BH$72,SMALL(IF(Clasament!BC$3:BC$72=\"+\",ROW(Clasament!$B$3:$B$74)-ROW(Clasament!$B$3)+1),ROWS(Clasament!$B$3:'Clasament'!$B30))),\"\")","v":""},{"$f":"IFERROR(INDEX(Clasament!$BH$3:$BH$72,SMALL(IF(Clasament!BD$3:BD$72=\"+\",ROW(Clasament!$B$3:$B$74)-ROW(Clasament!$B$3)+1),ROWS(Clasament!$B$3:'Clasament'!$B30))),\"\")","v":""}]
[null,{"$f":"IFERROR(INDEX(Clasament!$BH$3:$BH$72,SMALL(IF(Clasament!C$3:C$72=\"+\",ROW(Clasament!$B$3:$B$74)-ROW(Clasament!$B$3)+1),ROWS(Clasament!$B$3:'Clasament'!$B32))),\"\")","v":""},{"$f":"IFERROR(INDEX(Clasament!$BH$3:$BH$72,SMALL(IF(Clasament!D$3:D$72=\"+\",ROW(Clasament!$B$3:$B$74)-ROW(Clasament!$B$3)+1),ROWS(Clasament!$B$3:'Clasament'!$B32))),\"\")","v":""},{"$f":"IFERROR(INDEX(Clasament!$BH$3:$BH$72,SMALL(IF(Clasament!E$3:E$72=\"+\",ROW(Clasament!$B$3:$B$74)-ROW(Clasament!$B$3)+1),ROWS(Clasament!$B$3:'Clasament'!$B32))),\"\")","v":""},{"$f":"IFERROR(INDEX(Clasament!$BH$3:$BH$72,SMALL(IF(Clasament!F$3:F$72=\"+\",ROW(Clasament!$B$3:$B$74)-ROW(Clasament!$B$3)+1),ROWS(Clasament!$B$3:'Clasament'!$B32))),\"\")","v":""},{"$f":"IFERROR(INDEX(Clasament!$BH$3:$BH$72,SMALL(IF(Clasament!G$3:G$72=\"+\",ROW(Clasament!$B$3:$B$74)-ROW(Clasament!$B$3)+1),ROWS(Clasament!$B$3:'Clasament'!$B32))),\"\")","v":""},{"$f":"IFERROR(INDEX(Clasament!$BH$3:$BH$72,SMALL(IF(Clasament!H$3:H$72=\"+\",ROW(Clasament!$B$3:$B$74)-ROW(Clasament!$B$3)+1),ROWS(Clasament!$B$3:'Clasament'!$B32))),\"\")","v":""},{"$f":"IFERROR(INDEX(Clasament!$BH$3:$BH$72,SMALL(IF(Clasament!I$3:I$72=\"+\",ROW(Clasament!$B$3:$B$74)-ROW(Clasament!$B$3)+1),ROWS(Clasament!$B$3:'Clasament'!$B32))),\"\")","v":""},{"$f":"IFERROR(INDEX(Clasament!$BH$3:$BH$72,SMALL(IF(Clasament!J$3:J$72=\"+\",ROW(Clasament!$B$3:$B$74)-ROW(Clasament!$B$3)+1),ROWS(Clasament!$B$3:'Clasament'!$B32))),\"\")","v":""},{"$f":"IFERROR(INDEX(Clasament!$BH$3:$BH$72,SMALL(IF(Clasament!K$3:K$72=\"+\",ROW(Clasament!$B$3:$B$74)-ROW(Clasament!$B$3)+1),ROWS(Clasament!$B$3:'Clasament'!$B32))),\"\")","v":""},{"$f":"IFERROR(INDEX(Clasament!$BH$3:$BH$72,SMALL(IF(Clasament!L$3:L$72=\"+\",ROW(Clasament!$B$3:$B$74)-ROW(Clasament!$B$3)+1),ROWS(Clasament!$B$3:'Clasament'!$B32))),\"\")","v":""},{"$f":"IFERROR(INDEX(Clasament!$BH$3:$BH$72,SMALL(IF(Clasament!N$3:N$72=\"+\",ROW(Clasament!$B$3:$B$74)-ROW(Clasament!$B$3)+1),ROWS(Clasament!$B$3:'Clasament'!$B32))),\"\")","v":""},{"$f":"IFERROR(INDEX(Clasament!$BH$3:$BH$72,SMALL(IF(Clasament!O$3:O$72=\"+\",ROW(Clasament!$B$3:$B$74)-ROW(Clasament!$B$3)+1),ROWS(Clasament!$B$3:'Clasament'!$B32))),\"\")","v":""},{"$f":"IFERROR(INDEX(Clasament!$BH$3:$BH$72,SMALL(IF(Clasament!P$3:P$72=\"+\",ROW(Clasament!$B$3:$B$74)-ROW(Clasament!$B$3)+1),ROWS(Clasament!$B$3:'Clasament'!$B32))),\"\")","v":""},{"$f":"IFERROR(INDEX(Clasament!$BH$3:$BH$72,SMALL(IF(Clasament!Q$3:Q$72=\"+\",ROW(Clasament!$B$3:$B$74)-ROW(Clasament!$B$3)+1),ROWS(Clasament!$B$3:'Clasament'!$B32))),\"\")","v":""},{"$f":"IFERROR(INDEX(Clasament!$BH$3:$BH$72,SMALL(IF(Clasament!R$3:R$72=\"+\",ROW(Clasament!$B$3:$B$74)-ROW(Clasament!$B$3)+1),ROWS(Clasament!$B$3:'Clasament'!$B32))),\"\")","v":""},{"$f":"IFERROR(INDEX(Clasament!$BH$3:$BH$72,SMALL(IF(Clasament!S$3:S$72=\"+\",ROW(Clasament!$B$3:$B$74)-ROW(Clasament!$B$3)+1),ROWS(Clasament!$B$3:'Clasament'!$B32))),\"\")","v":""},{"$f":"IFERROR(INDEX(Clasament!$BH$3:$BH$72,SMALL(IF(Clasament!T$3:T$72=\"+\",ROW(Clasament!$B$3:$B$74)-ROW(Clasament!$B$3)+1),ROWS(Clasament!$B$3:'Clasament'!$B32))),\"\")","v":""},{"$f":"IFERROR(INDEX(Clasament!$BH$3:$BH$72,SMALL(IF(Clasament!U$3:U$72=\"+\",ROW(Clasament!$B$3:$B$74)-ROW(Clasament!$B$3)+1),ROWS(Clasament!$B$3:'Clasament'!$B32))),\"\")","v":""},{"$f":"IFERROR(INDEX(Clasament!$BH$3:$BH$72,SMALL(IF(Clasament!V$3:V$72=\"+\",ROW(Clasament!$B$3:$B$74)-ROW(Clasament!$B$3)+1),ROWS(Clasament!$B$3:'Clasament'!$B32))),\"\")","v":""},{"$f":"IFERROR(INDEX(Clasament!$BH$3:$BH$72,SMALL(IF(Clasament!W$3:W$72=\"+\",ROW(Clasament!$B$3:$B$74)-ROW(Clasament!$B$3)+1),ROWS(Clasament!$B$3:'Clasament'!$B32))),\"\")","v":""},{"$f":"IFERROR(INDEX(Clasament!$BH$3:$BH$72,SMALL(IF(Clasament!Y$3:Y$72=\"+\",ROW(Clasament!$B$3:$B$74)-ROW(Clasament!$B$3)+1),ROWS(Clasament!$B$3:'Clasament'!$B32))),\"\")","v":""},{"$f":"IFERROR(INDEX(Clasament!$BH$3:$BH$72,SMALL(IF(Clasament!Z$3:Z$72=\"+\",ROW(Clasament!$B$3:$B$74)-ROW(Clasament!$B$3)+1),ROWS(Clasament!$B$3:'Clasament'!$B32))),\"\")","v":""},{"$f":"IFERROR(INDEX(Clasament!$BH$3:$BH$72,SMALL(IF(Clasament!AA$3:AA$72=\"+\",ROW(Clasament!$B$3:$B$74)-ROW(Clasament!$B$3)+1),ROWS(Clasament!$B$3:'Clasament'!$B32))),\"\")","v":""},{"$f":"IFERROR(INDEX(Clasament!$BH$3:$BH$72,SMALL(IF(Clasament!AB$3:AB$72=\"+\",ROW(Clasament!$B$3:$B$74)-ROW(Clasament!$B$3)+1),ROWS(Clasament!$B$3:'Clasament'!$B32))),\"\")","v":""},{"$f":"IFERROR(INDEX(Clasament!$BH$3:$BH$72,SMALL(IF(Clasament!AC$3:AC$72=\"+\",ROW(Clasament!$B$3:$B$74)-ROW(Clasament!$B$3)+1),ROWS(Clasament!$B$3:'Clasament'!$B32))),\"\")","v":""},{"$f":"IFERROR(INDEX(Clasament!$BH$3:$BH$72,SMALL(IF(Clasament!AD$3:AD$72=\"+\",ROW(Clasament!$B$3:$B$74)-ROW(Clasament!$B$3)+1),ROWS(Clasament!$B$3:'Clasament'!$B32))),\"\")","v":""},{"$f":"IFERROR(INDEX(Clasament!$BH$3:$BH$72,SMALL(IF(Clasament!AE$3:AE$72=\"+\",ROW(Clasament!$B$3:$B$74)-ROW(Clasament!$B$3)+1),ROWS(Clasament!$B$3:'Clasament'!$B32))),\"\")","v":""},{"$f":"IFERROR(INDEX(Clasament!$BH$3:$BH$72,SMALL(IF(Clasament!AF$3:AF$72=\"+\",ROW(Clasament!$B$3:$B$74)-ROW(Clasament!$B$3)+1),ROWS(Clasament!$B$3:'Clasament'!$B32))),\"\")","v":""},{"$f":"IFERROR(INDEX(Clasament!$BH$3:$BH$72,SMALL(IF(Clasament!AG$3:AG$72=\"+\",ROW(Clasament!$B$3:$B$74)-ROW(Clasament!$B$3)+1),ROWS(Clasament!$B$3:'Clasament'!$B32))),\"\")","v":""},{"$f":"IFERROR(INDEX(Clasament!$BH$3:$BH$72,SMALL(IF(Clasament!AH$3:AH$72=\"+\",ROW(Clasament!$B$3:$B$74)-ROW(Clasament!$B$3)+1),ROWS(Clasament!$B$3:'Clasament'!$B32))),\"\")","v":""},{"$f":"IFERROR(INDEX(Clasament!$BH$3:$BH$72,SMALL(IF(Clasament!AJ$3:AJ$72=\"+\",ROW(Clasament!$B$3:$B$74)-ROW(Clasament!$B$3)+1),ROWS(Clasament!$B$3:'Clasament'!$B32))),\"\")","v":""},{"$f":"IFERROR(INDEX(Clasament!$BH$3:$BH$72,SMALL(IF(Clasament!AK$3:AK$72=\"+\",ROW(Clasament!$B$3:$B$74)-ROW(Clasament!$B$3)+1),ROWS(Clasament!$B$3:'Clasament'!$B32))),\"\")","v":""},{"$f":"IFERROR(INDEX(Clasament!$BH$3:$BH$72,SMALL(IF(Clasament!AL$3:AL$72=\"+\",ROW(Clasament!$B$3:$B$74)-ROW(Clasament!$B$3)+1),ROWS(Clasament!$B$3:'Clasament'!$B32))),\"\")","v":""},{"$f":"IFERROR(INDEX(Clasament!$BH$3:$BH$72,SMALL(IF(Clasament!AM$3:AM$72=\"+\",ROW(Clasament!$B$3:$B$74)-ROW(Clasament!$B$3)+1),ROWS(Clasament!$B$3:'Clasament'!$B32))),\"\")","v":""},{"$f":"IFERROR(INDEX(Clasament!$BH$3:$BH$72,SMALL(IF(Clasament!AN$3:AN$72=\"+\",ROW(Clasament!$B$3:$B$74)-ROW(Clasament!$B$3)+1),ROWS(Clasament!$B$3:'Clasament'!$B32))),\"\")","v":""},{"$f":"IFERROR(INDEX(Clasament!$BH$3:$BH$72,SMALL(IF(Clasament!AO$3:AO$72=\"+\",ROW(Clasament!$B$3:$B$74)-ROW(Clasament!$B$3)+1),ROWS(Clasament!$B$3:'Clasament'!$B32))),\"\")","v":""},{"$f":"IFERROR(INDEX(Clasament!$BH$3:$BH$72,SMALL(IF(Clasament!AP$3:AP$72=\"+\",ROW(Clasament!$B$3:$B$74)-ROW(Clasament!$B$3)+1),ROWS(Clasament!$B$3:'Clasament'!$B32))),\"\")","v":""},{"$f":"IFERROR(INDEX(Clasament!$BH$3:$BH$72,SMALL(IF(Clasament!AQ$3:AQ$72=\"+\",ROW(Clasament!$B$3:$B$74)-ROW(Clasament!$B$3)+1),ROWS(Clasament!$B$3:'Clasament'!$B32))),\"\")","v":""},{"$f":"IFERROR(INDEX(Clasament!$BH$3:$BH$72,SMALL(IF(Clasament!AR$3:AR$72=\"+\",ROW(Clasament!$B$3:$B$74)-ROW(Clasament!$B$3)+1),ROWS(Clasament!$B$3:'Clasament'!$B32))),\"\")","v":""},{"$f":"IFERROR(INDEX(Clasament!$BH$3:$BH$72,SMALL(IF(Clasament!AS$3:AS$72=\"+\",ROW(Clasament!$B$3:$B$74)-ROW(Clasament!$B$3)+1),ROWS(Clasament!$B$3:'Clasament'!$B32))),\"\")","v":""},{"$f":"IFERROR(INDEX(Clasament!$BH$3:$BH$72,SMALL(IF(Clasament!AU$3:AU$72=\"+\",ROW(Clasament!$B$3:$B$74)-ROW(Clasament!$B$3)+1),ROWS(Clasament!$B$3:'Clasament'!$B32))),\"\")","v":""},{"$f":"IFERROR(INDEX(Clasament!$BH$3:$BH$72,SMALL(IF(Clasament!AV$3:AV$72=\"+\",ROW(Clasament!$B$3:$B$74)-ROW(Clasament!$B$3)+1),ROWS(Clasament!$B$3:'Clasament'!$B32))),\"\")","v":""},{"$f":"IFERROR(INDEX(Clasament!$BH$3:$BH$72,SMALL(IF(Clasament!AW$3:AW$72=\"+\",ROW(Clasament!$B$3:$B$74)-ROW(Clasament!$B$3)+1),ROWS(Clasament!$B$3:'Clasament'!$B32))),\"\")","v":""},{"$f":"IFERROR(INDEX(Clasament!$BH$3:$BH$72,SMALL(IF(Clasament!AX$3:AX$72=\"+\",ROW(Clasament!$B$3:$B$74)-ROW(Clasament!$B$3)+1),ROWS(Clasament!$B$3:'Clasament'!$B32))),\"\")","v":""},{"$f":"IFERROR(INDEX(Clasament!$BH$3:$BH$72,SMALL(IF(Clasament!AY$3:AY$72=\"+\",ROW(Clasament!$B$3:$B$74)-ROW(Clasament!$B$3)+1),ROWS(Clasament!$B$3:'Clasament'!$B32))),\"\")","v":""},{"$f":"IFERROR(INDEX(Clasament!$BH$3:$BH$72,SMALL(IF(Clasament!AZ$3:AZ$72=\"+\",ROW(Clasament!$B$3:$B$74)-ROW(Clasament!$B$3)+1),ROWS(Clasament!$B$3:'Clasament'!$B32))),\"\")","v":""},{"$f":"IFERROR(INDEX(Clasament!$BH$3:$BH$72,SMALL(IF(Clasament!BA$3:BA$72=\"+\",ROW(Clasament!$B$3:$B$74)-ROW(Clasament!$B$3)+1),ROWS(Clasament!$B$3:'Clasament'!$B32))),\"\")","v":""},{"$f":"IFERROR(INDEX(Clasament!$BH$3:$BH$72,SMALL(IF(Clasament!BB$3:BB$72=\"+\",ROW(Clasament!$B$3:$B$74)-ROW(Clasament!$B$3)+1),ROWS(Clasament!$B$3:'Clasament'!$B32))),\"\")","v":""},{"$f":"IFERROR(INDEX(Clasament!$BH$3:$BH$72,SMALL(IF(Clasament!BC$3:BC$72=\"+\",ROW(Clasament!$B$3:$B$74)-ROW(Clasament!$B$3)+1),ROWS(Clasament!$B$3:'Clasament'!$B32))),\"\")","v":""},{"$f":"IFERROR(INDEX(Clasament!$BH$3:$BH$72,SMALL(IF(Clasament!BD$3:BD$72=\"+\",ROW(Clasament!$B$3:$B$74)-ROW(Clasament!$B$3)+1),ROWS(Clasament!$B$3:'Clasament'!$B32))),\"\")","v":""}]
[null,{"$f":"IFERROR(INDEX(Clasament!$BH$3:$BH$72,SMALL(IF(Clasament!C$3:C$72=\"+\",ROW(Clasament!$B$3:$B$74)-ROW(Clasament!$B$3)+1),ROWS(Clasament!$B$3:'Clasament'!$B33))),\"\")","v":""},{"$f":"IFERROR(INDEX(Clasament!$BH$3:$BH$72,SMALL(IF(Clasament!D$3:D$72=\"+\",ROW(Clasament!$B$3:$B$74)-ROW(Clasament!$B$3)+1),ROWS(Clasament!$B$3:'Clasament'!$B33))),\"\")","v":""},{"$f":"IFERROR(INDEX(Clasament!$BH$3:$BH$72,SMALL(IF(Clasament!E$3:E$72=\"+\",ROW(Clasament!$B$3:$B$74)-ROW(Clasament!$B$3)+1),ROWS(Clasament!$B$3:'Clasament'!$B33))),\"\")","v":""},{"$f":"IFERROR(INDEX(Clasament!$BH$3:$BH$72,SMALL(IF(Clasament!F$3:F$72=\"+\",ROW(Clasament!$B$3:$B$74)-ROW(Clasament!$B$3)+1),ROWS(Clasament!$B$3:'Clasament'!$B33))),\"\")","v":""},{"$f":"IFERROR(INDEX(Clasament!$BH$3:$BH$72,SMALL(IF(Clasament!G$3:G$72=\"+\",ROW(Clasament!$B$3:$B$74)-ROW(Clasament!$B$3)+1),ROWS(Clasament!$B$3:'Clasament'!$B33))),\"\")","v":""},{"$f":"IFERROR(INDEX(Clasament!$BH$3:$BH$72,SMALL(IF(Clasament!H$3:H$72=\"+\",ROW(Clasament!$B$3:$B$74)-ROW(Clasament!$B$3)+1),ROWS(Clasament!$B$3:'Clasament'!$B33))),\"\")","v":""},{"$f":"IFERROR(INDEX(Clasament!$BH$3:$BH$72,SMALL(IF(Clasament!I$3:I$72=\"+\",ROW(Clasament!$B$3:$B$74)-ROW(Clasament!$B$3)+1),ROWS(Clasament!$B$3:'Clasament'!$B33))),\"\")","v":""},{"$f":"IFERROR(INDEX(Clasament!$BH$3:$BH$72,SMALL(IF(Clasament!J$3:J$72=\"+\",ROW(Clasament!$B$3:$B$74)-ROW(Clasament!$B$3)+1),ROWS(Clasament!$B$3:'Clasament'!$B33))),\"\")","v":""},{"$f":"IFERROR(INDEX(Clasament!$BH$3:$BH$72,SMALL(IF(Clasament!K$3:K$72=\"+\",ROW(Clasament!$B$3:$B$74)-ROW(Clasament!$B$3)+1),ROWS(Clasament!$B$3:'Clasament'!$B33))),\"\")","v":""},{"$f":"IFERROR(INDEX(Clasament!$BH$3:$BH$72,SMALL(IF(Clasament!L$3:L$72=\"+\",ROW(Clasament!$B$3:$B$74)-ROW(Clasament!$B$3)+1),ROWS(Clasament!$B$3:'Clasament'!$B33))),\"\")","v":""},{"$f":"IFERROR(INDEX(Clasament!$BH$3:$BH$72,SMALL(IF(Clasament!N$3:N$72=\"+\",ROW(Clasament!$B$3:$B$74)-ROW(Clasament!$B$3)+1),ROWS(Clasament!$B$3:'Clasament'!$B33))),\"\")","v":""},{"$f":"IFERROR(INDEX(Clasament!$BH$3:$BH$72,SMALL(IF(Clasament!O$3:O$72=\"+\",ROW(Clasament!$B$3:$B$74)-ROW(Clasament!$B$3)+1),ROWS(Clasament!$B$3:'Clasament'!$B33))),\"\")","v":""},{"$f":"IFERROR(INDEX(Clasament!$BH$3:$BH$72,SMALL(IF(Clasament!P$3:P$72=\"+\",ROW(Clasament!$B$3:$B$74)-ROW(Clasament!$B$3)+1),ROWS(Clasament!$B$3:'Clasament'!$B33))),\"\")","v":""},{"$f":"IFERROR(INDEX(Clasament!$BH$3:$BH$72,SMALL(IF(Clasament!Q$3:Q$72=\"+\",ROW(Clasament!$B$3:$B$74)-ROW(Clasament!$B$3)+1),ROWS(Clasament!$B$3:'Clasament'!$B33))),\"\")","v":""},{"$f":"IFERROR(INDEX(Clasament!$BH$3:$BH$72,SMALL(IF(Clasament!R$3:R$72=\"+\",ROW(Clasament!$B$3:$B$74)-ROW(Clasament!$B$3)+1),ROWS(Clasament!$B$3:'Clasament'!$B33))),\"\")","v":""},{"$f":"IFERROR(INDEX(Clasament!$BH$3:$BH$72,SMALL(IF(Clasament!S$3:S$72=\"+\",ROW(Clasament!$B$3:$B$74)-ROW(Clasament!$B$3)+1),ROWS(Clasament!$B$3:'Clasament'!$B33))),\"\")","v":""},{"$f":"IFERROR(INDEX(Clasament!$BH$3:$BH$72,SMALL(IF(Clasament!T$3:T$72=\"+\",ROW(Clasament!$B$3:$B$74)-ROW(Clasament!$B$3)+1),ROWS(Clasament!$B$3:'Clasament'!$B33))),\"\")","v":""},{"$f":"IFERROR(INDEX(Clasament!$BH$3:$BH$72,SMALL(IF(Clasament!U$3:U$72=\"+\",ROW(Clasament!$B$3:$B$74)-ROW(Clasament!$B$3)+1),ROWS(Clasament!$B$3:'Clasament'!$B33))),\"\")","v":""},{"$f":"IFERROR(INDEX(Clasament!$BH$3:$BH$72,SMALL(IF(Clasament!V$3:V$72=\"+\",ROW(Clasament!$B$3:$B$74)-ROW(Clasament!$B$3)+1),ROWS(Clasament!$B$3:'Clasament'!$B33))),\"\")","v":""},{"$f":"IFERROR(INDEX(Clasament!$BH$3:$BH$72,SMALL(IF(Clasament!W$3:W$72=\"+\",ROW(Clasament!$B$3:$B$74)-ROW(Clasament!$B$3)+1),ROWS(Clasament!$B$3:'Clasament'!$B33))),\"\")","v":""},{"$f":"IFERROR(INDEX(Clasament!$BH$3:$BH$72,SMALL(IF(Clasament!Y$3:Y$72=\"+\",ROW(Clasament!$B$3:$B$74)-ROW(Clasament!$B$3)+1),ROWS(Clasament!$B$3:'Clasament'!$B33))),\"\")","v":""},{"$f":"IFERROR(INDEX(Clasament!$BH$3:$BH$72,SMALL(IF(Clasament!Z$3:Z$72=\"+\",ROW(Clasament!$B$3:$B$74)-ROW(Clasament!$B$3)+1),ROWS(Clasament!$B$3:'Clasament'!$B33))),\"\")","v":""},{"$f":"IFERROR(INDEX(Clasament!$BH$3:$BH$72,SMALL(IF(Clasament!AA$3:AA$72=\"+\",ROW(Clasament!$B$3:$B$74)-ROW(Clasament!$B$3)+1),ROWS(Clasament!$B$3:'Clasament'!$B33))),\"\")","v":""},{"$f":"IFERROR(INDEX(Clasament!$BH$3:$BH$72,SMALL(IF(Clasament!AB$3:AB$72=\"+\",ROW(Clasament!$B$3:$B$74)-ROW(Clasament!$B$3)+1),ROWS(Clasament!$B$3:'Clasament'!$B33))),\"\")","v":""},{"$f":"IFERROR(INDEX(Clasament!$BH$3:$BH$72,SMALL(IF(Clasament!AC$3:AC$72=\"+\",ROW(Clasament!$B$3:$B$74)-ROW(Clasament!$B$3)+1),ROWS(Clasament!$B$3:'Clasament'!$B33))),\"\")","v":""},{"$f":"IFERROR(INDEX(Clasament!$BH$3:$BH$72,SMALL(IF(Clasament!AD$3:AD$72=\"+\",ROW(Clasament!$B$3:$B$74)-ROW(Clasament!$B$3)+1),ROWS(Clasament!$B$3:'Clasament'!$B33))),\"\")","v":""},{"$f":"IFERROR(INDEX(Clasament!$BH$3:$BH$72,SMALL(IF(Clasament!AE$3:AE$72=\"+\",ROW(Clasament!$B$3:$B$74)-ROW(Clasament!$B$3)+1),ROWS(Clasament!$B$3:'Clasament'!$B33))),\"\")","v":""},{"$f":"IFERROR(INDEX(Clasament!$BH$3:$BH$72,SMALL(IF(Clasament!AF$3:AF$72=\"+\",ROW(Clasament!$B$3:$B$74)-ROW(Clasament!$B$3)+1),ROWS(Clasament!$B$3:'Clasament'!$B33))),\"\")","v":""},{"$f":"IFERROR(INDEX(Clasament!$BH$3:$BH$72,SMALL(IF(Clasament!AG$3:AG$72=\"+\",ROW(Clasament!$B$3:$B$74)-ROW(Clasament!$B$3)+1),ROWS(Clasament!$B$3:'Clasament'!$B33))),\"\")","v":""},{"$f":"IFERROR(INDEX(Clasament!$BH$3:$BH$72,SMALL(IF(Clasament!AH$3:AH$72=\"+\",ROW(Clasament!$B$3:$B$74)-ROW(Clasament!$B$3)+1),ROWS(Clasament!$B$3:'Clasament'!$B33))),\"\")","v":""},{"$f":"IFERROR(INDEX(Clasament!$BH$3:$BH$72,SMALL(IF(Clasament!AJ$3:AJ$72=\"+\",ROW(Clasament!$B$3:$B$74)-ROW(Clasament!$B$3)+1),ROWS(Clasament!$B$3:'Clasament'!$B33))),\"\")","v":""},{"$f":"IFERROR(INDEX(Clasament!$BH$3:$BH$72,SMALL(IF(Clasament!AK$3:AK$72=\"+\",ROW(Clasament!$B$3:$B$74)-ROW(Clasament!$B$3)+1),ROWS(Clasament!$B$3:'Clasament'!$B33))),\"\")","v":""},{"$f":"IFERROR(INDEX(Clasament!$BH$3:$BH$72,SMALL(IF(Clasament!AL$3:AL$72=\"+\",ROW(Clasament!$B$3:$B$74)-ROW(Clasament!$B$3)+1),ROWS(Clasament!$B$3:'Clasament'!$B33))),\"\")","v":""},{"$f":"IFERROR(INDEX(Clasament!$BH$3:$BH$72,SMALL(IF(Clasament!AM$3:AM$72=\"+\",ROW(Clasament!$B$3:$B$74)-ROW(Clasament!$B$3)+1),ROWS(Clasament!$B$3:'Clasament'!$B33))),\"\")","v":""},{"$f":"IFERROR(INDEX(Clasament!$BH$3:$BH$72,SMALL(IF(Clasament!AN$3:AN$72=\"+\",ROW(Clasament!$B$3:$B$74)-ROW(Clasament!$B$3)+1),ROWS(Clasament!$B$3:'Clasament'!$B33))),\"\")","v":""},{"$f":"IFERROR(INDEX(Clasament!$BH$3:$BH$72,SMALL(IF(Clasament!AO$3:AO$72=\"+\",ROW(Clasament!$B$3:$B$74)-ROW(Clasament!$B$3)+1),ROWS(Clasament!$B$3:'Clasament'!$B33))),\"\")","v":""},{"$f":"IFERROR(INDEX(Clasament!$BH$3:$BH$72,SMALL(IF(Clasament!AP$3:AP$72=\"+\",ROW(Clasament!$B$3:$B$74)-ROW(Clasament!$B$3)+1),ROWS(Clasament!$B$3:'Clasament'!$B33))),\"\")","v":""},{"$f":"IFERROR(INDEX(Clasament!$BH$3:$BH$72,SMALL(IF(Clasament!AQ$3:AQ$72=\"+\",ROW(Clasament!$B$3:$B$74)-ROW(Clasament!$B$3)+1),ROWS(Clasament!$B$3:'Clasament'!$B33))),\"\")","v":""},{"$f":"IFERROR(INDEX(Clasament!$BH$3:$BH$72,SMALL(IF(Clasament!AR$3:AR$72=\"+\",ROW(Clasament!$B$3:$B$74)-ROW(Clasament!$B$3)+1),ROWS(Clasament!$B$3:'Clasament'!$B33))),\"\")","v":""},{"$f":"IFERROR(INDEX(Clasament!$BH$3:$BH$72,SMALL(IF(Clasament!AS$3:AS$72=\"+\",ROW(Clasament!$B$3:$B$74)-ROW(Clasament!$B$3)+1),ROWS(Clasament!$B$3:'Clasament'!$B33))),\"\")","v":""},{"$f":"IFERROR(INDEX(Clasament!$BH$3:$BH$72,SMALL(IF(Clasament!AU$3:AU$72=\"+\",ROW(Clasament!$B$3:$B$74)-ROW(Clasament!$B$3)+1),ROWS(Clasament!$B$3:'Clasament'!$B33))),\"\")","v":""},{"$f":"IFERROR(INDEX(Clasament!$BH$3:$BH$72,SMALL(IF(Clasament!AV$3:AV$72=\"+\",ROW(Clasament!$B$3:$B$74)-ROW(Clasament!$B$3)+1),ROWS(Clasament!$B$3:'Clasament'!$B33))),\"\")","v":""},{"$f":"IFERROR(INDEX(Clasament!$BH$3:$BH$72,SMALL(IF(Clasament!AW$3:AW$72=\"+\",ROW(Clasament!$B$3:$B$74)-ROW(Clasament!$B$3)+1),ROWS(Clasament!$B$3:'Clasament'!$B33))),\"\")","v":""},{"$f":"IFERROR(INDEX(Clasament!$BH$3:$BH$72,SMALL(IF(Clasament!AX$3:AX$72=\"+\",ROW(Clasament!$B$3:$B$74)-ROW(Clasament!$B$3)+1),ROWS(Clasament!$B$3:'Clasament'!$B33))),\"\")","v":""},{"$f":"IFERROR(INDEX(Clasament!$BH$3:$BH$72,SMALL(IF(Clasament!AY$3:AY$72=\"+\",ROW(Clasament!$B$3:$B$74)-ROW(Clasament!$B$3)+1),ROWS(Clasament!$B$3:'Clasament'!$B33))),\"\")","v":""},{"$f":"IFERROR(INDEX(Clasament!$BH$3:$BH$72,SMALL(IF(Clasament!AZ$3:AZ$72=\"+\",ROW(Clasament!$B$3:$B$74)-ROW(Clasament!$B$3)+1),ROWS(Clasament!$B$3:'Clasament'!$B33))),\"\")","v":""},{"$f":"IFERROR(INDEX(Clasament!$BH$3:$BH$72,SMALL(IF(Clasament!BA$3:BA$72=\"+\",ROW(Clasament!$B$3:$B$74)-ROW(Clasament!$B$3)+1),ROWS(Clasament!$B$3:'Clasament'!$B33))),\"\")","v":""},{"$f":"IFERROR(INDEX(Clasament!$BH$3:$BH$72,SMALL(IF(Clasament!BB$3:BB$72=\"+\",ROW(Clasament!$B$3:$B$74)-ROW(Clasament!$B$3)+1),ROWS(Clasament!$B$3:'Clasament'!$B33))),\"\")","v":""},{"$f":"IFERROR(INDEX(Clasament!$BH$3:$BH$72,SMALL(IF(Clasament!BC$3:BC$72=\"+\",ROW(Clasament!$B$3:$B$74)-ROW(Clasament!$B$3)+1),ROWS(Clasament!$B$3:'Clasament'!$B33))),\"\")","v":""},{"$f":"IFERROR(INDEX(Clasament!$BH$3:$BH$72,SMALL(IF(Clasament!BD$3:BD$72=\"+\",ROW(Clasament!$B$3:$B$74)-ROW(Clasament!$B$3)+1),ROWS(Clasament!$B$3:'Clasament'!$B33))),\"\")","v":""}]
[null,{"$f":"IFERROR(INDEX(Clasament!$BH$3:$BH$72,SMALL(IF(Clasament!C$3:C$72=\"+\",ROW(Clasament!$B$3:$B$74)-ROW(Clasament!$B$3)+1),ROWS(Clasament!$B$3:'Clasament'!$B34))),\"\")","v":""},{"$f":"IFERROR(INDEX(Clasament!$BH$3:$BH$72,SMALL(IF(Clasament!D$3:D$72=\"+\",ROW(Clasament!$B$3:$B$74)-ROW(Clasament!$B$3)+1),ROWS(Clasament!$B$3:'Clasament'!$B34))),\"\")","v":""},{"$f":"IFERROR(INDEX(Clasament!$BH$3:$BH$72,SMALL(IF(Clasament!E$3:E$72=\"+\",ROW(Clasament!$B$3:$B$74)-ROW(Clasament!$B$3)+1),ROWS(Clasament!$B$3:'Clasament'!$B34))),\"\")","v":""},{"$f":"IFERROR(INDEX(Clasament!$BH$3:$BH$72,SMALL(IF(Clasament!F$3:F$72=\"+\",ROW(Clasament!$B$3:$B$74)-ROW(Clasament!$B$3)+1),ROWS(Clasament!$B$3:'Clasament'!$B34))),\"\")","v":""},{"$f":"IFERROR(INDEX(Clasament!$BH$3:$BH$72,SMALL(IF(Clasament!G$3:G$72=\"+\",ROW(Clasament!$B$3:$B$74)-ROW(Clasament!$B$3)+1),ROWS(Clasament!$B$3:'Clasament'!$B34))),\"\")","v":""},{"$f":"IFERROR(INDEX(Clasament!$BH$3:$BH$72,SMALL(IF(Clasament!H$3:H$72=\"+\",ROW(Clasament!$B$3:$B$74)-ROW(Clasament!$B$3)+1),ROWS(Clasament!$B$3:'Clasament'!$B34))),\"\")","v":""},{"$f":"IFERROR(INDEX(Clasament!$BH$3:$BH$72,SMALL(IF(Clasament!I$3:I$72=\"+\",ROW(Clasament!$B$3:$B$74)-ROW(Clasament!$B$3)+1),ROWS(Clasament!$B$3:'Clasament'!$B34))),\"\")","v":""},{"$f":"IFERROR(INDEX(Clasament!$BH$3:$BH$72,SMALL(IF(Clasament!J$3:J$72=\"+\",ROW(Clasament!$B$3:$B$74)-ROW(Clasament!$B$3)+1),ROWS(Clasament!$B$3:'Clasament'!$B34))),\"\")","v":""},{"$f":"IFERROR(INDEX(Clasament!$BH$3:$BH$72,SMALL(IF(Clasament!K$3:K$72=\"+\",ROW(Clasament!$B$3:$B$74)-ROW(Clasament!$B$3)+1),ROWS(Clasament!$B$3:'Clasament'!$B34))),\"\")","v":""},{"$f":"IFERROR(INDEX(Clasament!$BH$3:$BH$72,SMALL(IF(Clasament!L$3:L$72=\"+\",ROW(Clasament!$B$3:$B$74)-ROW(Clasament!$B$3)+1),ROWS(Clasament!$B$3:'Clasament'!$B34))),\"\")","v":""},{"$f":"IFERROR(INDEX(Clasament!$BH$3:$BH$72,SMALL(IF(Clasament!N$3:N$72=\"+\",ROW(Clasament!$B$3:$B$74)-ROW(Clasament!$B$3)+1),ROWS(Clasament!$B$3:'Clasament'!$B34))),\"\")","v":""},{"$f":"IFERROR(INDEX(Clasament!$BH$3:$BH$72,SMALL(IF(Clasament!O$3:O$72=\"+\",ROW(Clasament!$B$3:$B$74)-ROW(Clasament!$B$3)+1),ROWS(Clasament!$B$3:'Clasament'!$B34))),\"\")","v":""},{"$f":"IFERROR(INDEX(Clasament!$BH$3:$BH$72,SMALL(IF(Clasament!P$3:P$72=\"+\",ROW(Clasament!$B$3:$B$74)-ROW(Clasament!$B$3)+1),ROWS(Clasament!$B$3:'Clasament'!$B34))),\"\")","v":""},{"$f":"IFERROR(INDEX(Clasament!$BH$3:$BH$72,SMALL(IF(Clasament!Q$3:Q$72=\"+\",ROW(Clasament!$B$3:$B$74)-ROW(Clasament!$B$3)+1),ROWS(Clasament!$B$3:'Clasament'!$B34))),\"\")","v":""},{"$f":"IFERROR(INDEX(Clasament!$BH$3:$BH$72,SMALL(IF(Clasament!R$3:R$72=\"+\",ROW(Clasament!$B$3:$B$74)-ROW(Clasament!$B$3)+1),ROWS(Clasament!$B$3:'Clasament'!$B34))),\"\")","v":""},{"$f":"IFERROR(INDEX(Clasament!$BH$3:$BH$72,SMALL(IF(Clasament!S$3:S$72=\"+\",ROW(Clasament!$B$3:$B$74)-ROW(Clasament!$B$3)+1),ROWS(Clasament!$B$3:'Clasament'!$B34))),\"\")","v":""},{"$f":"IFERROR(INDEX(Clasament!$BH$3:$BH$72,SMALL(IF(Clasament!T$3:T$72=\"+\",ROW(Clasament!$B$3:$B$74)-ROW(Clasament!$B$3)+1),ROWS(Clasament!$B$3:'Clasament'!$B34))),\"\")","v":""},{"$f":"IFERROR(INDEX(Clasament!$BH$3:$BH$72,SMALL(IF(Clasament!U$3:U$72=\"+\",ROW(Clasament!$B$3:$B$74)-ROW(Clasament!$B$3)+1),ROWS(Clasament!$B$3:'Clasament'!$B34))),\"\")","v":""},{"$f":"IFERROR(INDEX(Clasament!$BH$3:$BH$72,SMALL(IF(Clasament!V$3:V$72=\"+\",ROW(Clasament!$B$3:$B$74)-ROW(Clasament!$B$3)+1),ROWS(Clasament!$B$3:'Clasament'!$B34))),\"\")","v":""},{"$f":"IFERROR(INDEX(Clasament!$BH$3:$BH$72,SMALL(IF(Clasament!W$3:W$72=\"+\",ROW(Clasament!$B$3:$B$74)-ROW(Clasament!$B$3)+1),ROWS(Clasament!$B$3:'Clasament'!$B34))),\"\")","v":""},{"$f":"IFERROR(INDEX(Clasament!$BH$3:$BH$72,SMALL(IF(Clasament!Y$3:Y$72=\"+\",ROW(Clasament!$B$3:$B$74)-ROW(Clasament!$B$3)+1),ROWS(Clasament!$B$3:'Clasament'!$B34))),\"\")","v":""},{"$f":"IFERROR(INDEX(Clasament!$BH$3:$BH$72,SMALL(IF(Clasament!Z$3:Z$72=\"+\",ROW(Clasament!$B$3:$B$74)-ROW(Clasament!$B$3)+1),ROWS(Clasament!$B$3:'Clasament'!$B34))),\"\")","v":""},{"$f":"IFERROR(INDEX(Clasament!$BH$3:$BH$72,SMALL(IF(Clasament!AA$3:AA$72=\"+\",ROW(Clasament!$B$3:$B$74)-ROW(Clasament!$B$3)+1),ROWS(Clasament!$B$3:'Clasament'!$B34))),\"\")","v":""},{"$f":"IFERROR(INDEX(Clasament!$BH$3:$BH$72,SMALL(IF(Clasament!AB$3:AB$72=\"+\",ROW(Clasament!$B$3:$B$74)-ROW(Clasament!$B$3)+1),ROWS(Clasament!$B$3:'Clasament'!$B34))),\"\")","v":""},{"$f":"IFERROR(INDEX(Clasament!$BH$3:$BH$72,SMALL(IF(Clasament!AC$3:AC$72=\"+\",ROW(Clasament!$B$3:$B$74)-ROW(Clasament!$B$3)+1),ROWS(Clasament!$B$3:'Clasament'!$B34))),\"\")","v":""},{"$f":"IFERROR(INDEX(Clasament!$BH$3:$BH$72,SMALL(IF(Clasament!AD$3:AD$72=\"+\",ROW(Clasament!$B$3:$B$74)-ROW(Clasament!$B$3)+1),ROWS(Clasament!$B$3:'Clasament'!$B34))),\"\")","v":""},{"$f":"IFERROR(INDEX(Clasament!$BH$3:$BH$72,SMALL(IF(Clasament!AE$3:AE$72=\"+\",ROW(Clasament!$B$3:$B$74)-ROW(Clasament!$B$3)+1),ROWS(Clasament!$B$3:'Clasament'!$B34))),\"\")","v":""},{"$f":"IFERROR(INDEX(Clasament!$BH$3:$BH$72,SMALL(IF(Clasament!AF$3:AF$72=\"+\",ROW(Clasament!$B$3:$B$74)-ROW(Clasament!$B$3)+1),ROWS(Clasament!$B$3:'Clasament'!$B34))),\"\")","v":""},{"$f":"IFERROR(INDEX(Clasament!$BH$3:$BH$72,SMALL(IF(Clasament!AG$3:AG$72=\"+\",ROW(Clasament!$B$3:$B$74)-ROW(Clasament!$B$3)+1),ROWS(Clasament!$B$3:'Clasament'!$B34))),\"\")","v":""},{"$f":"IFERROR(INDEX(Clasament!$BH$3:$BH$72,SMALL(IF(Clasament!AH$3:AH$72=\"+\",ROW(Clasament!$B$3:$B$74)-ROW(Clasament!$B$3)+1),ROWS(Clasament!$B$3:'Clasament'!$B34))),\"\")","v":""},{"$f":"IFERROR(INDEX(Clasament!$BH$3:$BH$72,SMALL(IF(Clasament!AJ$3:AJ$72=\"+\",ROW(Clasament!$B$3:$B$74)-ROW(Clasament!$B$3)+1),ROWS(Clasament!$B$3:'Clasament'!$B34))),\"\")","v":""},{"$f":"IFERROR(INDEX(Clasament!$BH$3:$BH$72,SMALL(IF(Clasament!AK$3:AK$72=\"+\",ROW(Clasament!$B$3:$B$74)-ROW(Clasament!$B$3)+1),ROWS(Clasament!$B$3:'Clasament'!$B34))),\"\")","v":""},{"$f":"IFERROR(INDEX(Clasament!$BH$3:$BH$72,SMALL(IF(Clasament!AL$3:AL$72=\"+\",ROW(Clasament!$B$3:$B$74)-ROW(Clasament!$B$3)+1),ROWS(Clasament!$B$3:'Clasament'!$B34))),\"\")","v":""},{"$f":"IFERROR(INDEX(Clasament!$BH$3:$BH$72,SMALL(IF(Clasament!AM$3:AM$72=\"+\",ROW(Clasament!$B$3:$B$74)-ROW(Clasament!$B$3)+1),ROWS(Clasament!$B$3:'Clasament'!$B34))),\"\")","v":""},{"$f":"IFERROR(INDEX(Clasament!$BH$3:$BH$72,SMALL(IF(Clasament!AN$3:AN$72=\"+\",ROW(Clasament!$B$3:$B$74)-ROW(Clasament!$B$3)+1),ROWS(Clasament!$B$3:'Clasament'!$B34))),\"\")","v":""},{"$f":"IFERROR(INDEX(Clasament!$BH$3:$BH$72,SMALL(IF(Clasament!AO$3:AO$72=\"+\",ROW(Clasament!$B$3:$B$74)-ROW(Clasament!$B$3)+1),ROWS(Clasament!$B$3:'Clasament'!$B34))),\"\")","v":""},{"$f":"IFERROR(INDEX(Clasament!$BH$3:$BH$72,SMALL(IF(Clasament!AP$3:AP$72=\"+\",ROW(Clasament!$B$3:$B$74)-ROW(Clasament!$B$3)+1),ROWS(Clasament!$B$3:'Clasament'!$B34))),\"\")","v":""},{"$f":"IFERROR(INDEX(Clasament!$BH$3:$BH$72,SMALL(IF(Clasament!AQ$3:AQ$72=\"+\",ROW(Clasament!$B$3:$B$74)-ROW(Clasament!$B$3)+1),ROWS(Clasament!$B$3:'Clasament'!$B34))),\"\")","v":""},{"$f":"IFERROR(INDEX(Clasament!$BH$3:$BH$72,SMALL(IF(Clasament!AR$3:AR$72=\"+\",ROW(Clasament!$B$3:$B$74)-ROW(Clasament!$B$3)+1),ROWS(Clasament!$B$3:'Clasament'!$B34))),\"\")","v":""},{"$f":"IFERROR(INDEX(Clasament!$BH$3:$BH$72,SMALL(IF(Clasament!AS$3:AS$72=\"+\",ROW(Clasament!$B$3:$B$74)-ROW(Clasament!$B$3)+1),ROWS(Clasament!$B$3:'Clasament'!$B34))),\"\")","v":""},{"$f":"IFERROR(INDEX(Clasament!$BH$3:$BH$72,SMALL(IF(Clasament!AU$3:AU$72=\"+\",ROW(Clasament!$B$3:$B$74)-ROW(Clasament!$B$3)+1),ROWS(Clasament!$B$3:'Clasament'!$B34))),\"\")","v":""},{"$f":"IFERROR(INDEX(Clasament!$BH$3:$BH$72,SMALL(IF(Clasament!AV$3:AV$72=\"+\",ROW(Clasament!$B$3:$B$74)-ROW(Clasament!$B$3)+1),ROWS(Clasament!$B$3:'Clasament'!$B34))),\"\")","v":""},{"$f":"IFERROR(INDEX(Clasament!$BH$3:$BH$72,SMALL(IF(Clasament!AW$3:AW$72=\"+\",ROW(Clasament!$B$3:$B$74)-ROW(Clasament!$B$3)+1),ROWS(Clasament!$B$3:'Clasament'!$B34))),\"\")","v":""},{"$f":"IFERROR(INDEX(Clasament!$BH$3:$BH$72,SMALL(IF(Clasament!AX$3:AX$72=\"+\",ROW(Clasament!$B$3:$B$74)-ROW(Clasament!$B$3)+1),ROWS(Clasament!$B$3:'Clasament'!$B34))),\"\")","v":""},{"$f":"IFERROR(INDEX(Clasament!$BH$3:$BH$72,SMALL(IF(Clasament!AY$3:AY$72=\"+\",ROW(Clasament!$B$3:$B$74)-ROW(Clasament!$B$3)+1),ROWS(Clasament!$B$3:'Clasament'!$B34))),\"\")","v":""},{"$f":"IFERROR(INDEX(Clasament!$BH$3:$BH$72,SMALL(IF(Clasament!AZ$3:AZ$72=\"+\",ROW(Clasament!$B$3:$B$74)-ROW(Clasament!$B$3)+1),ROWS(Clasament!$B$3:'Clasament'!$B34))),\"\")","v":""},{"$f":"IFERROR(INDEX(Clasament!$BH$3:$BH$72,SMALL(IF(Clasament!BA$3:BA$72=\"+\",ROW(Clasament!$B$3:$B$74)-ROW(Clasament!$B$3)+1),ROWS(Clasament!$B$3:'Clasament'!$B34))),\"\")","v":""},{"$f":"IFERROR(INDEX(Clasament!$BH$3:$BH$72,SMALL(IF(Clasament!BB$3:BB$72=\"+\",ROW(Clasament!$B$3:$B$74)-ROW(Clasament!$B$3)+1),ROWS(Clasament!$B$3:'Clasament'!$B34))),\"\")","v":""},{"$f":"IFERROR(INDEX(Clasament!$BH$3:$BH$72,SMALL(IF(Clasament!BC$3:BC$72=\"+\",ROW(Clasament!$B$3:$B$74)-ROW(Clasament!$B$3)+1),ROWS(Clasament!$B$3:'Clasament'!$B34))),\"\")","v":""},{"$f":"IFERROR(INDEX(Clasament!$BH$3:$BH$72,SMALL(IF(Clasament!BD$3:BD$72=\"+\",ROW(Clasament!$B$3:$B$74)-ROW(Clasament!$B$3)+1),ROWS(Clasament!$B$3:'Clasament'!$B34))),\"\")","v":""}]
[null,{"$f":"IFERROR(INDEX(Clasament!$BH$3:$BH$72,SMALL(IF(Clasament!C$3:C$72=\"+\",ROW(Clasament!$B$3:$B$74)-ROW(Clasament!$B$3)+1),ROWS(Clasament!$B$3:'Clasament'!$B35))),\"\")","v":""},{"$f":"IFERROR(INDEX(Clasament!$BH$3:$BH$72,SMALL(IF(Clasament!D$3:D$72=\"+\",ROW(Clasament!$B$3:$B$74)-ROW(Clasament!$B$3)+1),ROWS(Clasament!$B$3:'Clasament'!$B35))),\"\")","v":""},{"$f":"IFERROR(INDEX(Clasament!$BH$3:$BH$72,SMALL(IF(Clasament!E$3:E$72=\"+\",ROW(Clasament!$B$3:$B$74)-ROW(Clasament!$B$3)+1),ROWS(Clasament!$B$3:'Clasament'!$B35))),\"\")","v":""},{"$f":"IFERROR(INDEX(Clasament!$BH$3:$BH$72,SMALL(IF(Clasament!F$3:F$72=\"+\",ROW(Clasament!$B$3:$B$74)-ROW(Clasament!$B$3)+1),ROWS(Clasament!$B$3:'Clasament'!$B35))),\"\")","v":""},{"$f":"IFERROR(INDEX(Clasament!$BH$3:$BH$72,SMALL(IF(Clasament!G$3:G$72=\"+\",ROW(Clasament!$B$3:$B$74)-ROW(Clasament!$B$3)+1),ROWS(Clasament!$B$3:'Clasament'!$B35))),\"\")","v":""},{"$f":"IFERROR(INDEX(Clasament!$BH$3:$BH$72,SMALL(IF(Clasament!H$3:H$72=\"+\",ROW(Clasament!$B$3:$B$74)-ROW(Clasament!$B$3)+1),ROWS(Clasament!$B$3:'Clasament'!$B35))),\"\")","v":""},{"$f":"IFERROR(INDEX(Clasament!$BH$3:$BH$72,SMALL(IF(Clasament!I$3:I$72=\"+\",ROW(Clasament!$B$3:$B$74)-ROW(Clasament!$B$3)+1),ROWS(Clasament!$B$3:'Clasament'!$B35))),\"\")","v":""},{"$f":"IFERROR(INDEX(Clasament!$BH$3:$BH$72,SMALL(IF(Clasament!J$3:J$72=\"+\",ROW(Clasament!$B$3:$B$74)-ROW(Clasament!$B$3)+1),ROWS(Clasament!$B$3:'Clasament'!$B35))),\"\")","v":""},{"$f":"IFERROR(INDEX(Clasament!$BH$3:$BH$72,SMALL(IF(Clasament!K$3:K$72=\"+\",ROW(Clasament!$B$3:$B$74)-ROW(Clasament!$B$3)+1),ROWS(Clasament!$B$3:'Clasament'!$B35))),\"\")","v":""},{"$f":"IFERROR(INDEX(Clasament!$BH$3:$BH$72,SMALL(IF(Clasament!L$3:L$72=\"+\",ROW(Clasament!$B$3:$B$74)-ROW(Clasament!$B$3)+1),ROWS(Clasament!$B$3:'Clasament'!$B35))),\"\")","v":""},{"$f":"IFERROR(INDEX(Clasament!$BH$3:$BH$72,SMALL(IF(Clasament!N$3:N$72=\"+\",ROW(Clasament!$B$3:$B$74)-ROW(Clasament!$B$3)+1),ROWS(Clasament!$B$3:'Clasament'!$B35))),\"\")","v":""},{"$f":"IFERROR(INDEX(Clasament!$BH$3:$BH$72,SMALL(IF(Clasament!O$3:O$72=\"+\",ROW(Clasament!$B$3:$B$74)-ROW(Clasament!$B$3)+1),ROWS(Clasament!$B$3:'Clasament'!$B35))),\"\")","v":""},{"$f":"IFERROR(INDEX(Clasament!$BH$3:$BH$72,SMALL(IF(Clasament!P$3:P$72=\"+\",ROW(Clasament!$B$3:$B$74)-ROW(Clasament!$B$3)+1),ROWS(Clasament!$B$3:'Clasament'!$B35))),\"\")","v":""},{"$f":"IFERROR(INDEX(Clasament!$BH$3:$BH$72,SMALL(IF(Clasament!Q$3:Q$72=\"+\",ROW(Clasament!$B$3:$B$74)-ROW(Clasament!$B$3)+1),ROWS(Clasament!$B$3:'Clasament'!$B35))),\"\")","v":""},{"$f":"IFERROR(INDEX(Clasament!$BH$3:$BH$72,SMALL(IF(Clasament!R$3:R$72=\"+\",ROW(Clasament!$B$3:$B$74)-ROW(Clasament!$B$3)+1),ROWS(Clasament!$B$3:'Clasament'!$B35))),\"\")","v":""},{"$f":"IFERROR(INDEX(Clasament!$BH$3:$BH$72,SMALL(IF(Clasament!S$3:S$72=\"+\",ROW(Clasament!$B$3:$B$74)-ROW(Clasament!$B$3)+1),ROWS(Clasament!$B$3:'Clasament'!$B35))),\"\")","v":""},{"$f":"IFERROR(INDEX(Clasament!$BH$3:$BH$72,SMALL(IF(Clasament!T$3:T$72=\"+\",ROW(Clasament!$B$3:$B$74)-ROW(Clasament!$B$3)+1),ROWS(Clasament!$B$3:'Clasament'!$B35))),\"\")","v":""},{"$f":"IFERROR(INDEX(Clasament!$BH$3:$BH$72,SMALL(IF(Clasament!U$3:U$72=\"+\",ROW(Clasament!$B$3:$B$74)-ROW(Clasament!$B$3)+1),ROWS(Clasament!$B$3:'Clasament'!$B35))),\"\")","v":""},{"$f":"IFERROR(INDEX(Clasament!$BH$3:$BH$72,SMALL(IF(Clasament!V$3:V$72=\"+\",ROW(Clasament!$B$3:$B$74)-ROW(Clasament!$B$3)+1),ROWS(Clasament!$B$3:'Clasament'!$B35))),\"\")","v":""},{"$f":"IFERROR(INDEX(Clasament!$BH$3:$BH$72,SMALL(IF(Clasament!W$3:W$72=\"+\",ROW(Clasament!$B$3:$B$74)-ROW(Clasament!$B$3)+1),ROWS(Clasament!$B$3:'Clasament'!$B35))),\"\")","v":""},{"$f":"IFERROR(INDEX(Clasament!$BH$3:$BH$72,SMALL(IF(Clasament!Y$3:Y$72=\"+\",ROW(Clasament!$B$3:$B$74)-ROW(Clasament!$B$3)+1),ROWS(Clasament!$B$3:'Clasament'!$B35))),\"\")","v":""},{"$f":"IFERROR(INDEX(Clasament!$BH$3:$BH$72,SMALL(IF(Clasament!Z$3:Z$72=\"+\",ROW(Clasament!$B$3:$B$74)-ROW(Clasament!$B$3)+1),ROWS(Clasament!$B$3:'Clasament'!$B35))),\"\")","v":""},{"$f":"IFERROR(INDEX(Clasament!$BH$3:$BH$72,SMALL(IF(Clasament!AA$3:AA$72=\"+\",ROW(Clasament!$B$3:$B$74)-ROW(Clasament!$B$3)+1),ROWS(Clasament!$B$3:'Clasament'!$B35))),\"\")","v":""},{"$f":"IFERROR(INDEX(Clasament!$BH$3:$BH$72,SMALL(IF(Clasament!AB$3:AB$72=\"+\",ROW(Clasament!$B$3:$B$74)-ROW(Clasament!$B$3)+1),ROWS(Clasament!$B$3:'Clasament'!$B35))),\"\")","v":""},{"$f":"IFERROR(INDEX(Clasament!$BH$3:$BH$72,SMALL(IF(Clasament!AC$3:AC$72=\"+\",ROW(Clasament!$B$3:$B$74)-ROW(Clasament!$B$3)+1),ROWS(Clasament!$B$3:'Clasament'!$B35))),\"\")","v":""},{"$f":"IFERROR(INDEX(Clasament!$BH$3:$BH$72,SMALL(IF(Clasament!AD$3:AD$72=\"+\",ROW(Clasament!$B$3:$B$74)-ROW(Clasament!$B$3)+1),ROWS(Clasament!$B$3:'Clasament'!$B35))),\"\")","v":""},{"$f":"IFERROR(INDEX(Clasament!$BH$3:$BH$72,SMALL(IF(Clasament!AE$3:AE$72=\"+\",ROW(Clasament!$B$3:$B$74)-ROW(Clasament!$B$3)+1),ROWS(Clasament!$B$3:'Clasament'!$B35))),\"\")","v":""},{"$f":"IFERROR(INDEX(Clasament!$BH$3:$BH$72,SMALL(IF(Clasament!AF$3:AF$72=\"+\",ROW(Clasament!$B$3:$B$74)-ROW(Clasament!$B$3)+1),ROWS(Clasament!$B$3:'Clasament'!$B35))),\"\")","v":""},{"$f":"IFERROR(INDEX(Clasament!$BH$3:$BH$72,SMALL(IF(Clasament!AG$3:AG$72=\"+\",ROW(Clasament!$B$3:$B$74)-ROW(Clasament!$B$3)+1),ROWS(Clasament!$B$3:'Clasament'!$B35))),\"\")","v":""},{"$f":"IFERROR(INDEX(Clasament!$BH$3:$BH$72,SMALL(IF(Clasament!AH$3:AH$72=\"+\",ROW(Clasament!$B$3:$B$74)-ROW(Clasament!$B$3)+1),ROWS(Clasament!$B$3:'Clasament'!$B35))),\"\")","v":""},{"$f":"IFERROR(INDEX(Clasament!$BH$3:$BH$72,SMALL(IF(Clasament!AJ$3:AJ$72=\"+\",ROW(Clasament!$B$3:$B$74)-ROW(Clasament!$B$3)+1),ROWS(Clasament!$B$3:'Clasament'!$B35))),\"\")","v":""},{"$f":"IFERROR(INDEX(Clasament!$BH$3:$BH$72,SMALL(IF(Clasament!AK$3:AK$72=\"+\",ROW(Clasament!$B$3:$B$74)-ROW(Clasament!$B$3)+1),ROWS(Clasament!$B$3:'Clasament'!$B35))),\"\")","v":""},{"$f":"IFERROR(INDEX(Clasament!$BH$3:$BH$72,SMALL(IF(Clasament!AL$3:AL$72=\"+\",ROW(Clasament!$B$3:$B$74)-ROW(Clasament!$B$3)+1),ROWS(Clasament!$B$3:'Clasament'!$B35))),\"\")","v":""},{"$f":"IFERROR(INDEX(Clasament!$BH$3:$BH$72,SMALL(IF(Clasament!AM$3:AM$72=\"+\",ROW(Clasament!$B$3:$B$74)-ROW(Clasament!$B$3)+1),ROWS(Clasament!$B$3:'Clasament'!$B35))),\"\")","v":""},{"$f":"IFERROR(INDEX(Clasament!$BH$3:$BH$72,SMALL(IF(Clasament!AN$3:AN$72=\"+\",ROW(Clasament!$B$3:$B$74)-ROW(Clasament!$B$3)+1),ROWS(Clasament!$B$3:'Clasament'!$B35))),\"\")","v":""},{"$f":"IFERROR(INDEX(Clasament!$BH$3:$BH$72,SMALL(IF(Clasament!AO$3:AO$72=\"+\",ROW(Clasament!$B$3:$B$74)-ROW(Clasament!$B$3)+1),ROWS(Clasament!$B$3:'Clasament'!$B35))),\"\")","v":""},{"$f":"IFERROR(INDEX(Clasament!$BH$3:$BH$72,SMALL(IF(Clasament!AP$3:AP$72=\"+\",ROW(Clasament!$B$3:$B$74)-ROW(Clasament!$B$3)+1),ROWS(Clasament!$B$3:'Clasament'!$B35))),\"\")","v":""},{"$f":"IFERROR(INDEX(Clasament!$BH$3:$BH$72,SMALL(IF(Clasament!AQ$3:AQ$72=\"+\",ROW(Clasament!$B$3:$B$74)-ROW(Clasament!$B$3)+1),ROWS(Clasament!$B$3:'Clasament'!$B35))),\"\")","v":""},{"$f":"IFERROR(INDEX(Clasament!$BH$3:$BH$72,SMALL(IF(Clasament!AR$3:AR$72=\"+\",ROW(Clasament!$B$3:$B$74)-ROW(Clasament!$B$3)+1),ROWS(Clasament!$B$3:'Clasament'!$B35))),\"\")","v":""},{"$f":"IFERROR(INDEX(Clasament!$BH$3:$BH$72,SMALL(IF(Clasament!AS$3:AS$72=\"+\",ROW(Clasament!$B$3:$B$74)-ROW(Clasament!$B$3)+1),ROWS(Clasament!$B$3:'Clasament'!$B35))),\"\")","v":""},{"$f":"IFERROR(INDEX(Clasament!$BH$3:$BH$72,SMALL(IF(Clasament!AU$3:AU$72=\"+\",ROW(Clasament!$B$3:$B$74)-ROW(Clasament!$B$3)+1),ROWS(Clasament!$B$3:'Clasament'!$B35))),\"\")","v":""},{"$f":"IFERROR(INDEX(Clasament!$BH$3:$BH$72,SMALL(IF(Clasament!AV$3:AV$72=\"+\",ROW(Clasament!$B$3:$B$74)-ROW(Clasament!$B$3)+1),ROWS(Clasament!$B$3:'Clasament'!$B35))),\"\")","v":""},{"$f":"IFERROR(INDEX(Clasament!$BH$3:$BH$72,SMALL(IF(Clasament!AW$3:AW$72=\"+\",ROW(Clasament!$B$3:$B$74)-ROW(Clasament!$B$3)+1),ROWS(Clasament!$B$3:'Clasament'!$B35))),\"\")","v":""},{"$f":"IFERROR(INDEX(Clasament!$BH$3:$BH$72,SMALL(IF(Clasament!AX$3:AX$72=\"+\",ROW(Clasament!$B$3:$B$74)-ROW(Clasament!$B$3)+1),ROWS(Clasament!$B$3:'Clasament'!$B35))),\"\")","v":""},{"$f":"IFERROR(INDEX(Clasament!$BH$3:$BH$72,SMALL(IF(Clasament!AY$3:AY$72=\"+\",ROW(Clasament!$B$3:$B$74)-ROW(Clasament!$B$3)+1),ROWS(Clasament!$B$3:'Clasament'!$B35))),\"\")","v":""},{"$f":"IFERROR(INDEX(Clasament!$BH$3:$BH$72,SMALL(IF(Clasament!AZ$3:AZ$72=\"+\",ROW(Clasament!$B$3:$B$74)-ROW(Clasament!$B$3)+1),ROWS(Clasament!$B$3:'Clasament'!$B35))),\"\")","v":""},{"$f":"IFERROR(INDEX(Clasament!$BH$3:$BH$72,SMALL(IF(Clasament!BA$3:BA$72=\"+\",ROW(Clasament!$B$3:$B$74)-ROW(Clasament!$B$3)+1),ROWS(Clasament!$B$3:'Clasament'!$B35))),\"\")","v":""},{"$f":"IFERROR(INDEX(Clasament!$BH$3:$BH$72,SMALL(IF(Clasament!BB$3:BB$72=\"+\",ROW(Clasament!$B$3:$B$74)-ROW(Clasament!$B$3)+1),ROWS(Clasament!$B$3:'Clasament'!$B35))),\"\")","v":""},{"$f":"IFERROR(INDEX(Clasament!$BH$3:$BH$72,SMALL(IF(Clasament!BC$3:BC$72=\"+\",ROW(Clasament!$B$3:$B$74)-ROW(Clasament!$B$3)+1),ROWS(Clasament!$B$3:'Clasament'!$B35))),\"\")","v":""},{"$f":"IFERROR(INDEX(Clasament!$BH$3:$BH$72,SMALL(IF(Clasament!BD$3:BD$72=\"+\",ROW(Clasament!$B$3:$B$74)-ROW(Clasament!$B$3)+1),ROWS(Clasament!$B$3:'Clasament'!$B35))),\"\")","v":""}]
[null,{"$f":"IFERROR(INDEX(Clasament!$BH$3:$BH$72,SMALL(IF(Clasament!C$3:C$72=\"+\",ROW(Clasament!$B$3:$B$74)-ROW(Clasament!$B$3)+1),ROWS(Clasament!$B$3:'Clasament'!$B36))),\"\")","v":""},{"$f":"IFERROR(INDEX(Clasament!$BH$3:$BH$72,SMALL(IF(Clasament!D$3:D$72=\"+\",ROW(Clasament!$B$3:$B$74)-ROW(Clasament!$B$3)+1),ROWS(Clasament!$B$3:'Clasament'!$B36))),\"\")","v":""},{"$f":"IFERROR(INDEX(Clasament!$BH$3:$BH$72,SMALL(IF(Clasament!E$3:E$72=\"+\",ROW(Clasament!$B$3:$B$74)-ROW(Clasament!$B$3)+1),ROWS(Clasament!$B$3:'Clasament'!$B36))),\"\")","v":""},{"$f":"IFERROR(INDEX(Clasament!$BH$3:$BH$72,SMALL(IF(Clasament!F$3:F$72=\"+\",ROW(Clasament!$B$3:$B$74)-ROW(Clasament!$B$3)+1),ROWS(Clasament!$B$3:'Clasament'!$B36))),\"\")","v":""},{"$f":"IFERROR(INDEX(Clasament!$BH$3:$BH$72,SMALL(IF(Clasament!G$3:G$72=\"+\",ROW(Clasament!$B$3:$B$74)-ROW(Clasament!$B$3)+1),ROWS(Clasament!$B$3:'Clasament'!$B36))),\"\")","v":""},{"$f":"IFERROR(INDEX(Clasament!$BH$3:$BH$72,SMALL(IF(Clasament!H$3:H$72=\"+\",ROW(Clasament!$B$3:$B$74)-ROW(Clasament!$B$3)+1),ROWS(Clasament!$B$3:'Clasament'!$B36))),\"\")","v":""},{"$f":"IFERROR(INDEX(Clasament!$BH$3:$BH$72,SMALL(IF(Clasament!I$3:I$72=\"+\",ROW(Clasament!$B$3:$B$74)-ROW(Clasament!$B$3)+1),ROWS(Clasament!$B$3:'Clasament'!$B36))),\"\")","v":""},{"$f":"IFERROR(INDEX(Clasament!$BH$3:$BH$72,SMALL(IF(Clasament!J$3:J$72=\"+\",ROW(Clasament!$B$3:$B$74)-ROW(Clasament!$B$3)+1),ROWS(Clasament!$B$3:'Clasament'!$B36))),\"\")","v":""},{"$f":"IFERROR(INDEX(Clasament!$BH$3:$BH$72,SMALL(IF(Clasament!K$3:K$72=\"+\",ROW(Clasament!$B$3:$B$74)-ROW(Clasament!$B$3)+1),ROWS(Clasament!$B$3:'Clasament'!$B36))),\"\")","v":""},{"$f":"IFERROR(INDEX(Clasament!$BH$3:$BH$72,SMALL(IF(Clasament!L$3:L$72=\"+\",ROW(Clasament!$B$3:$B$74)-ROW(Clasament!$B$3)+1),ROWS(Clasament!$B$3:'Clasament'!$B36))),\"\")","v":""},{"$f":"IFERROR(INDEX(Clasament!$BH$3:$BH$72,SMALL(IF(Clasament!N$3:N$72=\"+\",ROW(Clasament!$B$3:$B$74)-ROW(Clasament!$B$3)+1),ROWS(Clasament!$B$3:'Clasament'!$B36))),\"\")","v":""},{"$f":"IFERROR(INDEX(Clasament!$BH$3:$BH$72,SMALL(IF(Clasament!O$3:O$72=\"+\",ROW(Clasament!$B$3:$B$74)-ROW(Clasament!$B$3)+1),ROWS(Clasament!$B$3:'Clasament'!$B36))),\"\")","v":""},{"$f":"IFERROR(INDEX(Clasament!$BH$3:$BH$72,SMALL(IF(Clasament!P$3:P$72=\"+\",ROW(Clasament!$B$3:$B$74)-ROW(Clasament!$B$3)+1),ROWS(Clasament!$B$3:'Clasament'!$B36))),\"\")","v":""},{"$f":"IFERROR(INDEX(Clasament!$BH$3:$BH$72,SMALL(IF(Clasament!Q$3:Q$72=\"+\",ROW(Clasament!$B$3:$B$74)-ROW(Clasament!$B$3)+1),ROWS(Clasament!$B$3:'Clasament'!$B36))),\"\")","v":""},{"$f":"IFERROR(INDEX(Clasament!$BH$3:$BH$72,SMALL(IF(Clasament!R$3:R$72=\"+\",ROW(Clasament!$B$3:$B$74)-ROW(Clasament!$B$3)+1),ROWS(Clasament!$B$3:'Clasament'!$B36))),\"\")","v":""},{"$f":"IFERROR(INDEX(Clasament!$BH$3:$BH$72,SMALL(IF(Clasament!S$3:S$72=\"+\",ROW(Clasament!$B$3:$B$74)-ROW(Clasament!$B$3)+1),ROWS(Clasament!$B$3:'Clasament'!$B36))),\"\")","v":""},{"$f":"IFERROR(INDEX(Clasament!$BH$3:$BH$72,SMALL(IF(Clasament!T$3:T$72=\"+\",ROW(Clasament!$B$3:$B$74)-ROW(Clasament!$B$3)+1),ROWS(Clasament!$B$3:'Clasament'!$B36))),\"\")","v":""},{"$f":"IFERROR(INDEX(Clasament!$BH$3:$BH$72,SMALL(IF(Clasament!U$3:U$72=\"+\",ROW(Clasament!$B$3:$B$74)-ROW(Clasament!$B$3)+1),ROWS(Clasament!$B$3:'Clasament'!$B36))),\"\")","v":""},{"$f":"IFERROR(INDEX(Clasament!$BH$3:$BH$72,SMALL(IF(Clasament!V$3:V$72=\"+\",ROW(Clasament!$B$3:$B$74)-ROW(Clasament!$B$3)+1),ROWS(Clasament!$B$3:'Clasament'!$B36))),\"\")","v":""},{"$f":"IFERROR(INDEX(Clasament!$BH$3:$BH$72,SMALL(IF(Clasament!W$3:W$72=\"+\",ROW(Clasament!$B$3:$B$74)-ROW(Clasament!$B$3)+1),ROWS(Clasament!$B$3:'Clasament'!$B36))),\"\")","v":""},{"$f":"IFERROR(INDEX(Clasament!$BH$3:$BH$72,SMALL(IF(Clasament!Y$3:Y$72=\"+\",ROW(Clasament!$B$3:$B$74)-ROW(Clasament!$B$3)+1),ROWS(Clasament!$B$3:'Clasament'!$B36))),\"\")","v":""},{"$f":"IFERROR(INDEX(Clasament!$BH$3:$BH$72,SMALL(IF(Clasament!Z$3:Z$72=\"+\",ROW(Clasament!$B$3:$B$74)-ROW(Clasament!$B$3)+1),ROWS(Clasament!$B$3:'Clasament'!$B36))),\"\")","v":""},{"$f":"IFERROR(INDEX(Clasament!$BH$3:$BH$72,SMALL(IF(Clasament!AA$3:AA$72=\"+\",ROW(Clasament!$B$3:$B$74)-ROW(Clasament!$B$3)+1),ROWS(Clasament!$B$3:'Clasament'!$B36))),\"\")","v":""},{"$f":"IFERROR(INDEX(Clasament!$BH$3:$BH$72,SMALL(IF(Clasament!AB$3:AB$72=\"+\",ROW(Clasament!$B$3:$B$74)-ROW(Clasament!$B$3)+1),ROWS(Clasament!$B$3:'Clasament'!$B36))),\"\")","v":""},{"$f":"IFERROR(INDEX(Clasament!$BH$3:$BH$72,SMALL(IF(Clasament!AC$3:AC$72=\"+\",ROW(Clasament!$B$3:$B$74)-ROW(Clasament!$B$3)+1),ROWS(Clasament!$B$3:'Clasament'!$B36))),\"\")","v":""},{"$f":"IFERROR(INDEX(Clasament!$BH$3:$BH$72,SMALL(IF(Clasament!AD$3:AD$72=\"+\",ROW(Clasament!$B$3:$B$74)-ROW(Clasament!$B$3)+1),ROWS(Clasament!$B$3:'Clasament'!$B36))),\"\")","v":""},{"$f":"IFERROR(INDEX(Clasament!$BH$3:$BH$72,SMALL(IF(Clasament!AE$3:AE$72=\"+\",ROW(Clasament!$B$3:$B$74)-ROW(Clasament!$B$3)+1),ROWS(Clasament!$B$3:'Clasament'!$B36))),\"\")","v":""},{"$f":"IFERROR(INDEX(Clasament!$BH$3:$BH$72,SMALL(IF(Clasament!AF$3:AF$72=\"+\",ROW(Clasament!$B$3:$B$74)-ROW(Clasament!$B$3)+1),ROWS(Clasament!$B$3:'Clasament'!$B36))),\"\")","v":""},{"$f":"IFERROR(INDEX(Clasament!$BH$3:$BH$72,SMALL(IF(Clasament!AG$3:AG$72=\"+\",ROW(Clasament!$B$3:$B$74)-ROW(Clasament!$B$3)+1),ROWS(Clasament!$B$3:'Clasament'!$B36))),\"\")","v":""},{"$f":"IFERROR(INDEX(Clasament!$BH$3:$BH$72,SMALL(IF(Clasament!AH$3:AH$72=\"+\",ROW(Clasament!$B$3:$B$74)-ROW(Clasament!$B$3)+1),ROWS(Clasament!$B$3:'Clasament'!$B36))),\"\")","v":""},{"$f":"IFERROR(INDEX(Clasament!$BH$3:$BH$72,SMALL(IF(Clasament!AJ$3:AJ$72=\"+\",ROW(Clasament!$B$3:$B$74)-ROW(Clasament!$B$3)+1),ROWS(Clasament!$B$3:'Clasament'!$B36))),\"\")","v":""},{"$f":"IFERROR(INDEX(Clasament!$BH$3:$BH$72,SMALL(IF(Clasament!AK$3:AK$72=\"+\",ROW(Clasament!$B$3:$B$74)-ROW(Clasament!$B$3)+1),ROWS(Clasament!$B$3:'Clasament'!$B36))),\"\")","v":""},{"$f":"IFERROR(INDEX(Clasament!$BH$3:$BH$72,SMALL(IF(Clasament!AL$3:AL$72=\"+\",ROW(Clasament!$B$3:$B$74)-ROW(Clasament!$B$3)+1),ROWS(Clasament!$B$3:'Clasament'!$B36))),\"\")","v":""},{"$f":"IFERROR(INDEX(Clasament!$BH$3:$BH$72,SMALL(IF(Clasament!AM$3:AM$72=\"+\",ROW(Clasament!$B$3:$B$74)-ROW(Clasament!$B$3)+1),ROWS(Clasament!$B$3:'Clasament'!$B36))),\"\")","v":""},{"$f":"IFERROR(INDEX(Clasament!$BH$3:$BH$72,SMALL(IF(Clasament!AN$3:AN$72=\"+\",ROW(Clasament!$B$3:$B$74)-ROW(Clasament!$B$3)+1),ROWS(Clasament!$B$3:'Clasament'!$B36))),\"\")","v":""},{"$f":"IFERROR(INDEX(Clasament!$BH$3:$BH$72,SMALL(IF(Clasament!AO$3:AO$72=\"+\",ROW(Clasament!$B$3:$B$74)-ROW(Clasament!$B$3)+1),ROWS(Clasament!$B$3:'Clasament'!$B36))),\"\")","v":""},{"$f":"IFERROR(INDEX(Clasament!$BH$3:$BH$72,SMALL(IF(Clasament!AP$3:AP$72=\"+\",ROW(Clasament!$B$3:$B$74)-ROW(Clasament!$B$3)+1),ROWS(Clasament!$B$3:'Clasament'!$B36))),\"\")","v":""},{"$f":"IFERROR(INDEX(Clasament!$BH$3:$BH$72,SMALL(IF(Clasament!AQ$3:AQ$72=\"+\",ROW(Clasament!$B$3:$B$74)-ROW(Clasament!$B$3)+1),ROWS(Clasament!$B$3:'Clasament'!$B36))),\"\")","v":""},{"$f":"IFERROR(INDEX(Clasament!$BH$3:$BH$72,SMALL(IF(Clasament!AR$3:AR$72=\"+\",ROW(Clasament!$B$3:$B$74)-ROW(Clasament!$B$3)+1),ROWS(Clasament!$B$3:'Clasament'!$B36))),\"\")","v":""},{"$f":"IFERROR(INDEX(Clasament!$BH$3:$BH$72,SMALL(IF(Clasament!AS$3:AS$72=\"+\",ROW(Clasament!$B$3:$B$74)-ROW(Clasament!$B$3)+1),ROWS(Clasament!$B$3:'Clasament'!$B36))),\"\")","v":""},{"$f":"IFERROR(INDEX(Clasament!$BH$3:$BH$72,SMALL(IF(Clasament!AU$3:AU$72=\"+\",ROW(Clasament!$B$3:$B$74)-ROW(Clasament!$B$3)+1),ROWS(Clasament!$B$3:'Clasament'!$B36))),\"\")","v":""},{"$f":"IFERROR(INDEX(Clasament!$BH$3:$BH$72,SMALL(IF(Clasament!AV$3:AV$72=\"+\",ROW(Clasament!$B$3:$B$74)-ROW(Clasament!$B$3)+1),ROWS(Clasament!$B$3:'Clasament'!$B36))),\"\")","v":""},{"$f":"IFERROR(INDEX(Clasament!$BH$3:$BH$72,SMALL(IF(Clasament!AW$3:AW$72=\"+\",ROW(Clasament!$B$3:$B$74)-ROW(Clasament!$B$3)+1),ROWS(Clasament!$B$3:'Clasament'!$B36))),\"\")","v":""},{"$f":"IFERROR(INDEX(Clasament!$BH$3:$BH$72,SMALL(IF(Clasament!AX$3:AX$72=\"+\",ROW(Clasament!$B$3:$B$74)-ROW(Clasament!$B$3)+1),ROWS(Clasament!$B$3:'Clasament'!$B36))),\"\")","v":""},{"$f":"IFERROR(INDEX(Clasament!$BH$3:$BH$72,SMALL(IF(Clasament!AY$3:AY$72=\"+\",ROW(Clasament!$B$3:$B$74)-ROW(Clasament!$B$3)+1),ROWS(Clasament!$B$3:'Clasament'!$B36))),\"\")","v":""},{"$f":"IFERROR(INDEX(Clasament!$BH$3:$BH$72,SMALL(IF(Clasament!AZ$3:AZ$72=\"+\",ROW(Clasament!$B$3:$B$74)-ROW(Clasament!$B$3)+1),ROWS(Clasament!$B$3:'Clasament'!$B36))),\"\")","v":""},{"$f":"IFERROR(INDEX(Clasament!$BH$3:$BH$72,SMALL(IF(Clasament!BA$3:BA$72=\"+\",ROW(Clasament!$B$3:$B$74)-ROW(Clasament!$B$3)+1),ROWS(Clasament!$B$3:'Clasament'!$B36))),\"\")","v":""},{"$f":"IFERROR(INDEX(Clasament!$BH$3:$BH$72,SMALL(IF(Clasament!BB$3:BB$72=\"+\",ROW(Clasament!$B$3:$B$74)-ROW(Clasament!$B$3)+1),ROWS(Clasament!$B$3:'Clasament'!$B36))),\"\")","v":""},{"$f":"IFERROR(INDEX(Clasament!$BH$3:$BH$72,SMALL(IF(Clasament!BC$3:BC$72=\"+\",ROW(Clasament!$B$3:$B$74)-ROW(Clasament!$B$3)+1),ROWS(Clasament!$B$3:'Clasament'!$B36))),\"\")","v":""},{"$f":"IFERROR(INDEX(Clasament!$BH$3:$BH$72,SMALL(IF(Clasament!BD$3:BD$72=\"+\",ROW(Clasament!$B$3:$B$74)-ROW(Clasament!$B$3)+1),ROWS(Clasament!$B$3:'Clasament'!$B36))),\"\")","v":""}]
[null,{"$f":"IFERROR(INDEX(Clasament!$BH$3:$BH$72,SMALL(IF(Clasament!C$3:C$72=\"+\",ROW(Clasament!$B$3:$B$74)-ROW(Clasament!$B$3)+1),ROWS(Clasament!$B$3:'Clasament'!$B38))),\"\")","v":""},{"$f":"IFERROR(INDEX(Clasament!$BH$3:$BH$72,SMALL(IF(Clasament!D$3:D$72=\"+\",ROW(Clasament!$B$3:$B$74)-ROW(Clasament!$B$3)+1),ROWS(Clasament!$B$3:'Clasament'!$B38))),\"\")","v":""},{"$f":"IFERROR(INDEX(Clasament!$BH$3:$BH$72,SMALL(IF(Clasament!E$3:E$72=\"+\",ROW(Clasament!$B$3:$B$74)-ROW(Clasament!$B$3)+1),ROWS(Clasament!$B$3:'Clasament'!$B38))),\"\")","v":""},{"$f":"IFERROR(INDEX(Clasament!$BH$3:$BH$72,SMALL(IF(Clasament!F$3:F$72=\"+\",ROW(Clasament!$B$3:$B$74)-ROW(Clasament!$B$3)+1),ROWS(Clasament!$B$3:'Clasament'!$B38))),\"\")","v":""},{"$f":"IFERROR(INDEX(Clasament!$BH$3:$BH$72,SMALL(IF(Clasament!G$3:G$72=\"+\",ROW(Clasament!$B$3:$B$74)-ROW(Clasament!$B$3)+1),ROWS(Clasament!$B$3:'Clasament'!$B38))),\"\")","v":""},{"$f":"IFERROR(INDEX(Clasament!$BH$3:$BH$72,SMALL(IF(Clasament!H$3:H$72=\"+\",ROW(Clasament!$B$3:$B$74)-ROW(Clasament!$B$3)+1),ROWS(Clasament!$B$3:'Clasament'!$B38))),\"\")","v":""},{"$f":"IFERROR(INDEX(Clasament!$BH$3:$BH$72,SMALL(IF(Clasament!I$3:I$72=\"+\",ROW(Clasament!$B$3:$B$74)-ROW(Clasament!$B$3)+1),ROWS(Clasament!$B$3:'Clasament'!$B38))),\"\")","v":""},{"$f":"IFERROR(INDEX(Clasament!$BH$3:$BH$72,SMALL(IF(Clasament!J$3:J$72=\"+\",ROW(Clasament!$B$3:$B$74)-ROW(Clasament!$B$3)+1),ROWS(Clasament!$B$3:'Clasament'!$B38))),\"\")","v":""},{"$f":"IFERROR(INDEX(Clasament!$BH$3:$BH$72,SMALL(IF(Clasament!K$3:K$72=\"+\",ROW(Clasament!$B$3:$B$74)-ROW(Clasament!$B$3)+1),ROWS(Clasament!$B$3:'Clasament'!$B38))),\"\")","v":""},{"$f":"IFERROR(INDEX(Clasament!$BH$3:$BH$72,SMALL(IF(Clasament!L$3:L$72=\"+\",ROW(Clasament!$B$3:$B$74)-ROW(Clasament!$B$3)+1),ROWS(Clasament!$B$3:'Clasament'!$B38))),\"\")","v":""},{"$f":"IFERROR(INDEX(Clasament!$BH$3:$BH$72,SMALL(IF(Clasament!N$3:N$72=\"+\",ROW(Clasament!$B$3:$B$74)-ROW(Clasament!$B$3)+1),ROWS(Clasament!$B$3:'Clasament'!$B38))),\"\")","v":""},{"$f":"IFERROR(INDEX(Clasament!$BH$3:$BH$72,SMALL(IF(Clasament!O$3:O$72=\"+\",ROW(Clasament!$B$3:$B$74)-ROW(Clasament!$B$3)+1),ROWS(Clasament!$B$3:'Clasament'!$B38))),\"\")","v":""},{"$f":"IFERROR(INDEX(Clasament!$BH$3:$BH$72,SMALL(IF(Clasament!P$3:P$72=\"+\",ROW(Clasament!$B$3:$B$74)-ROW(Clasament!$B$3)+1),ROWS(Clasament!$B$3:'Clasament'!$B38))),\"\")","v":""},{"$f":"IFERROR(INDEX(Clasament!$BH$3:$BH$72,SMALL(IF(Clasament!Q$3:Q$72=\"+\",ROW(Clasament!$B$3:$B$74)-ROW(Clasament!$B$3)+1),ROWS(Clasament!$B$3:'Clasament'!$B38))),\"\")","v":""},{"$f":"IFERROR(INDEX(Clasament!$BH$3:$BH$72,SMALL(IF(Clasament!R$3:R$72=\"+\",ROW(Clasament!$B$3:$B$74)-ROW(Clasament!$B$3)+1),ROWS(Clasament!$B$3:'Clasament'!$B38))),\"\")","v":""},{"$f":"IFERROR(INDEX(Clasament!$BH$3:$BH$72,SMALL(IF(Clasament!S$3:S$72=\"+\",ROW(Clasament!$B$3:$B$74)-ROW(Clasament!$B$3)+1),ROWS(Clasament!$B$3:'Clasament'!$B38))),\"\")","v":""},{"$f":"IFERROR(INDEX(Clasament!$BH$3:$BH$72,SMALL(IF(Clasament!T$3:T$72=\"+\",ROW(Clasament!$B$3:$B$74)-ROW(Clasament!$B$3)+1),ROWS(Clasament!$B$3:'Clasament'!$B38))),\"\")","v":""},{"$f":"IFERROR(INDEX(Clasament!$BH$3:$BH$72,SMALL(IF(Clasament!U$3:U$72=\"+\",ROW(Clasament!$B$3:$B$74)-ROW(Clasament!$B$3)+1),ROWS(Clasament!$B$3:'Clasament'!$B38))),\"\")","v":""},{"$f":"IFERROR(INDEX(Clasament!$BH$3:$BH$72,SMALL(IF(Clasament!V$3:V$72=\"+\",ROW(Clasament!$B$3:$B$74)-ROW(Clasament!$B$3)+1),ROWS(Clasament!$B$3:'Clasament'!$B38))),\"\")","v":""},{"$f":"IFERROR(INDEX(Clasament!$BH$3:$BH$72,SMALL(IF(Clasament!W$3:W$72=\"+\",ROW(Clasament!$B$3:$B$74)-ROW(Clasament!$B$3)+1),ROWS(Clasament!$B$3:'Clasament'!$B38))),\"\")","v":""},{"$f":"IFERROR(INDEX(Clasament!$BH$3:$BH$72,SMALL(IF(Clasament!Y$3:Y$72=\"+\",ROW(Clasament!$B$3:$B$74)-ROW(Clasament!$B$3)+1),ROWS(Clasament!$B$3:'Clasament'!$B38))),\"\")","v":""},{"$f":"IFERROR(INDEX(Clasament!$BH$3:$BH$72,SMALL(IF(Clasament!Z$3:Z$72=\"+\",ROW(Clasament!$B$3:$B$74)-ROW(Clasament!$B$3)+1),ROWS(Clasament!$B$3:'Clasament'!$B38))),\"\")","v":""},{"$f":"IFERROR(INDEX(Clasament!$BH$3:$BH$72,SMALL(IF(Clasament!AA$3:AA$72=\"+\",ROW(Clasament!$B$3:$B$74)-ROW(Clasament!$B$3)+1),ROWS(Clasament!$B$3:'Clasament'!$B38))),\"\")","v":""},{"$f":"IFERROR(INDEX(Clasament!$BH$3:$BH$72,SMALL(IF(Clasament!AB$3:AB$72=\"+\",ROW(Clasament!$B$3:$B$74)-ROW(Clasament!$B$3)+1),ROWS(Clasament!$B$3:'Clasament'!$B38))),\"\")","v":""},{"$f":"IFERROR(INDEX(Clasament!$BH$3:$BH$72,SMALL(IF(Clasament!AC$3:AC$72=\"+\",ROW(Clasament!$B$3:$B$74)-ROW(Clasament!$B$3)+1),ROWS(Clasament!$B$3:'Clasament'!$B38))),\"\")","v":""},{"$f":"IFERROR(INDEX(Clasament!$BH$3:$BH$72,SMALL(IF(Clasament!AD$3:AD$72=\"+\",ROW(Clasament!$B$3:$B$74)-ROW(Clasament!$B$3)+1),ROWS(Clasament!$B$3:'Clasament'!$B38))),\"\")","v":""},{"$f":"IFERROR(INDEX(Clasament!$BH$3:$BH$72,SMALL(IF(Clasament!AE$3:AE$72=\"+\",ROW(Clasament!$B$3:$B$74)-ROW(Clasament!$B$3)+1),ROWS(Clasament!$B$3:'Clasament'!$B38))),\"\")","v":""},{"$f":"IFERROR(INDEX(Clasament!$BH$3:$BH$72,SMALL(IF(Clasament!AF$3:AF$72=\"+\",ROW(Clasament!$B$3:$B$74)-ROW(Clasament!$B$3)+1),ROWS(Clasament!$B$3:'Clasament'!$B38))),\"\")","v":""},{"$f":"IFERROR(INDEX(Clasament!$BH$3:$BH$72,SMALL(IF(Clasament!AG$3:AG$72=\"+\",ROW(Clasament!$B$3:$B$74)-ROW(Clasament!$B$3)+1),ROWS(Clasament!$B$3:'Clasament'!$B38))),\"\")","v":""},{"$f":"IFERROR(INDEX(Clasament!$BH$3:$BH$72,SMALL(IF(Clasament!AH$3:AH$72=\"+\",ROW(Clasament!$B$3:$B$74)-ROW(Clasament!$B$3)+1),ROWS(Clasament!$B$3:'Clasament'!$B38))),\"\")","v":""},{"$f":"IFERROR(INDEX(Clasament!$BH$3:$BH$72,SMALL(IF(Clasament!AJ$3:AJ$72=\"+\",ROW(Clasament!$B$3:$B$74)-ROW(Clasament!$B$3)+1),ROWS(Clasament!$B$3:'Clasament'!$B38))),\"\")","v":""},{"$f":"IFERROR(INDEX(Clasament!$BH$3:$BH$72,SMALL(IF(Clasament!AK$3:AK$72=\"+\",ROW(Clasament!$B$3:$B$74)-ROW(Clasament!$B$3)+1),ROWS(Clasament!$B$3:'Clasament'!$B38))),\"\")","v":""},{"$f":"IFERROR(INDEX(Clasament!$BH$3:$BH$72,SMALL(IF(Clasament!AL$3:AL$72=\"+\",ROW(Clasament!$B$3:$B$74)-ROW(Clasament!$B$3)+1),ROWS(Clasament!$B$3:'Clasament'!$B38))),\"\")","v":""},{"$f":"IFERROR(INDEX(Clasament!$BH$3:$BH$72,SMALL(IF(Clasament!AM$3:AM$72=\"+\",ROW(Clasament!$B$3:$B$74)-ROW(Clasament!$B$3)+1),ROWS(Clasament!$B$3:'Clasament'!$B38))),\"\")","v":""},{"$f":"IFERROR(INDEX(Clasament!$BH$3:$BH$72,SMALL(IF(Clasament!AN$3:AN$72=\"+\",ROW(Clasament!$B$3:$B$74)-ROW(Clasament!$B$3)+1),ROWS(Clasament!$B$3:'Clasament'!$B38))),\"\")","v":""},{"$f":"IFERROR(INDEX(Clasament!$BH$3:$BH$72,SMALL(IF(Clasament!AO$3:AO$72=\"+\",ROW(Clasament!$B$3:$B$74)-ROW(Clasament!$B$3)+1),ROWS(Clasament!$B$3:'Clasament'!$B38))),\"\")","v":""},{"$f":"IFERROR(INDEX(Clasament!$BH$3:$BH$72,SMALL(IF(Clasament!AP$3:AP$72=\"+\",ROW(Clasament!$B$3:$B$74)-ROW(Clasament!$B$3)+1),ROWS(Clasament!$B$3:'Clasament'!$B38))),\"\")","v":""},{"$f":"IFERROR(INDEX(Clasament!$BH$3:$BH$72,SMALL(IF(Clasament!AQ$3:AQ$72=\"+\",ROW(Clasament!$B$3:$B$74)-ROW(Clasament!$B$3)+1),ROWS(Clasament!$B$3:'Clasament'!$B38))),\"\")","v":""},{"$f":"IFERROR(INDEX(Clasament!$BH$3:$BH$72,SMALL(IF(Clasament!AR$3:AR$72=\"+\",ROW(Clasament!$B$3:$B$74)-ROW(Clasament!$B$3)+1),ROWS(Clasament!$B$3:'Clasament'!$B38))),\"\")","v":""},{"$f":"IFERROR(INDEX(Clasament!$BH$3:$BH$72,SMALL(IF(Clasament!AS$3:AS$72=\"+\",ROW(Clasament!$B$3:$B$74)-ROW(Clasament!$B$3)+1),ROWS(Clasament!$B$3:'Clasament'!$B38))),\"\")","v":""},{"$f":"IFERROR(INDEX(Clasament!$BH$3:$BH$72,SMALL(IF(Clasament!AU$3:AU$72=\"+\",ROW(Clasament!$B$3:$B$74)-ROW(Clasament!$B$3)+1),ROWS(Clasament!$B$3:'Clasament'!$B38))),\"\")","v":""},{"$f":"IFERROR(INDEX(Clasament!$BH$3:$BH$72,SMALL(IF(Clasament!AV$3:AV$72=\"+\",ROW(Clasament!$B$3:$B$74)-ROW(Clasament!$B$3)+1),ROWS(Clasament!$B$3:'Clasament'!$B38))),\"\")","v":""},{"$f":"IFERROR(INDEX(Clasament!$BH$3:$BH$72,SMALL(IF(Clasament!AW$3:AW$72=\"+\",ROW(Clasament!$B$3:$B$74)-ROW(Clasament!$B$3)+1),ROWS(Clasament!$B$3:'Clasament'!$B38))),\"\")","v":""},{"$f":"IFERROR(INDEX(Clasament!$BH$3:$BH$72,SMALL(IF(Clasament!AX$3:AX$72=\"+\",ROW(Clasament!$B$3:$B$74)-ROW(Clasament!$B$3)+1),ROWS(Clasament!$B$3:'Clasament'!$B38))),\"\")","v":""},{"$f":"IFERROR(INDEX(Clasament!$BH$3:$BH$72,SMALL(IF(Clasament!AY$3:AY$72=\"+\",ROW(Clasament!$B$3:$B$74)-ROW(Clasament!$B$3)+1),ROWS(Clasament!$B$3:'Clasament'!$B38))),\"\")","v":""},{"$f":"IFERROR(INDEX(Clasament!$BH$3:$BH$72,SMALL(IF(Clasament!AZ$3:AZ$72=\"+\",ROW(Clasament!$B$3:$B$74)-ROW(Clasament!$B$3)+1),ROWS(Clasament!$B$3:'Clasament'!$B38))),\"\")","v":""},{"$f":"IFERROR(INDEX(Clasament!$BH$3:$BH$72,SMALL(IF(Clasament!BA$3:BA$72=\"+\",ROW(Clasament!$B$3:$B$74)-ROW(Clasament!$B$3)+1),ROWS(Clasament!$B$3:'Clasament'!$B38))),\"\")","v":""},{"$f":"IFERROR(INDEX(Clasament!$BH$3:$BH$72,SMALL(IF(Clasament!BB$3:BB$72=\"+\",ROW(Clasament!$B$3:$B$74)-ROW(Clasament!$B$3)+1),ROWS(Clasament!$B$3:'Clasament'!$B38))),\"\")","v":""},{"$f":"IFERROR(INDEX(Clasament!$BH$3:$BH$72,SMALL(IF(Clasament!BC$3:BC$72=\"+\",ROW(Clasament!$B$3:$B$74)-ROW(Clasament!$B$3)+1),ROWS(Clasament!$B$3:'Clasament'!$B38))),\"\")","v":""},{"$f":"IFERROR(INDEX(Clasament!$BH$3:$BH$72,SMALL(IF(Clasament!BD$3:BD$72=\"+\",ROW(Clasament!$B$3:$B$74)-ROW(Clasament!$B$3)+1),ROWS(Clasament!$B$3:'Clasament'!$B38))),\"\")","v":""}]
[null,{"$f":"IFERROR(INDEX(Clasament!$BH$3:$BH$72,SMALL(IF(Clasament!C$3:C$72=\"+\",ROW(Clasament!$B$3:$B$74)-ROW(Clasament!$B$3)+1),ROWS(Clasament!$B$3:'Clasament'!$B39))),\"\")","v":""},{"$f":"IFERROR(INDEX(Clasament!$BH$3:$BH$72,SMALL(IF(Clasament!D$3:D$72=\"+\",ROW(Clasament!$B$3:$B$74)-ROW(Clasament!$B$3)+1),ROWS(Clasament!$B$3:'Clasament'!$B39))),\"\")","v":""},{"$f":"IFERROR(INDEX(Clasament!$BH$3:$BH$72,SMALL(IF(Clasament!E$3:E$72=\"+\",ROW(Clasament!$B$3:$B$74)-ROW(Clasament!$B$3)+1),ROWS(Clasament!$B$3:'Clasament'!$B39))),\"\")","v":""},{"$f":"IFERROR(INDEX(Clasament!$BH$3:$BH$72,SMALL(IF(Clasament!F$3:F$72=\"+\",ROW(Clasament!$B$3:$B$74)-ROW(Clasament!$B$3)+1),ROWS(Clasament!$B$3:'Clasament'!$B39))),\"\")","v":""},{"$f":"IFERROR(INDEX(Clasament!$BH$3:$BH$72,SMALL(IF(Clasament!G$3:G$72=\"+\",ROW(Clasament!$B$3:$B$74)-ROW(Clasament!$B$3)+1),ROWS(Clasament!$B$3:'Clasament'!$B39))),\"\")","v":""},{"$f":"IFERROR(INDEX(Clasament!$BH$3:$BH$72,SMALL(IF(Clasament!H$3:H$72=\"+\",ROW(Clasament!$B$3:$B$74)-ROW(Clasament!$B$3)+1),ROWS(Clasament!$B$3:'Clasament'!$B39))),\"\")","v":""},{"$f":"IFERROR(INDEX(Clasament!$BH$3:$BH$72,SMALL(IF(Clasament!I$3:I$72=\"+\",ROW(Clasament!$B$3:$B$74)-ROW(Clasament!$B$3)+1),ROWS(Clasament!$B$3:'Clasament'!$B39))),\"\")","v":""},{"$f":"IFERROR(INDEX(Clasament!$BH$3:$BH$72,SMALL(IF(Clasament!J$3:J$72=\"+\",ROW(Clasament!$B$3:$B$74)-ROW(Clasament!$B$3)+1),ROWS(Clasament!$B$3:'Clasament'!$B39))),\"\")","v":""},{"$f":"IFERROR(INDEX(Clasament!$BH$3:$BH$72,SMALL(IF(Clasament!K$3:K$72=\"+\",ROW(Clasament!$B$3:$B$74)-ROW(Clasament!$B$3)+1),ROWS(Clasament!$B$3:'Clasament'!$B39))),\"\")","v":""},{"$f":"IFERROR(INDEX(Clasament!$BH$3:$BH$72,SMALL(IF(Clasament!L$3:L$72=\"+\",ROW(Clasament!$B$3:$B$74)-ROW(Clasament!$B$3)+1),ROWS(Clasament!$B$3:'Clasament'!$B39))),\"\")","v":""},{"$f":"IFERROR(INDEX(Clasament!$BH$3:$BH$72,SMALL(IF(Clasament!N$3:N$72=\"+\",ROW(Clasament!$B$3:$B$74)-ROW(Clasament!$B$3)+1),ROWS(Clasament!$B$3:'Clasament'!$B39))),\"\")","v":""},{"$f":"IFERROR(INDEX(Clasament!$BH$3:$BH$72,SMALL(IF(Clasament!O$3:O$72=\"+\",ROW(Clasament!$B$3:$B$74)-ROW(Clasament!$B$3)+1),ROWS(Clasament!$B$3:'Clasament'!$B39))),\"\")","v":""},{"$f":"IFERROR(INDEX(Clasament!$BH$3:$BH$72,SMALL(IF(Clasament!P$3:P$72=\"+\",ROW(Clasament!$B$3:$B$74)-ROW(Clasament!$B$3)+1),ROWS(Clasament!$B$3:'Clasament'!$B39))),\"\")","v":""},{"$f":"IFERROR(INDEX(Clasament!$BH$3:$BH$72,SMALL(IF(Clasament!Q$3:Q$72=\"+\",ROW(Clasament!$B$3:$B$74)-ROW(Clasament!$B$3)+1),ROWS(Clasament!$B$3:'Clasament'!$B39))),\"\")","v":""},{"$f":"IFERROR(INDEX(Clasament!$BH$3:$BH$72,SMALL(IF(Clasament!R$3:R$72=\"+\",ROW(Clasament!$B$3:$B$74)-ROW(Clasament!$B$3)+1),ROWS(Clasament!$B$3:'Clasament'!$B39))),\"\")","v":""},{"$f":"IFERROR(INDEX(Clasament!$BH$3:$BH$72,SMALL(IF(Clasament!S$3:S$72=\"+\",ROW(Clasament!$B$3:$B$74)-ROW(Clasament!$B$3)+1),ROWS(Clasament!$B$3:'Clasament'!$B39))),\"\")","v":""},{"$f":"IFERROR(INDEX(Clasament!$BH$3:$BH$72,SMALL(IF(Clasament!T$3:T$72=\"+\",ROW(Clasament!$B$3:$B$74)-ROW(Clasament!$B$3)+1),ROWS(Clasament!$B$3:'Clasament'!$B39))),\"\")","v":""},{"$f":"IFERROR(INDEX(Clasament!$BH$3:$BH$72,SMALL(IF(Clasament!U$3:U$72=\"+\",ROW(Clasament!$B$3:$B$74)-ROW(Clasament!$B$3)+1),ROWS(Clasament!$B$3:'Clasament'!$B39))),\"\")","v":""},{"$f":"IFERROR(INDEX(Clasament!$BH$3:$BH$72,SMALL(IF(Clasament!V$3:V$72=\"+\",ROW(Clasament!$B$3:$B$74)-ROW(Clasament!$B$3)+1),ROWS(Clasament!$B$3:'Clasament'!$B39))),\"\")","v":""},{"$f":"IFERROR(INDEX(Clasament!$BH$3:$BH$72,SMALL(IF(Clasament!W$3:W$72=\"+\",ROW(Clasament!$B$3:$B$74)-ROW(Clasament!$B$3)+1),ROWS(Clasament!$B$3:'Clasament'!$B39))),\"\")","v":""},{"$f":"IFERROR(INDEX(Clasament!$BH$3:$BH$72,SMALL(IF(Clasament!Y$3:Y$72=\"+\",ROW(Clasament!$B$3:$B$74)-ROW(Clasament!$B$3)+1),ROWS(Clasament!$B$3:'Clasament'!$B39))),\"\")","v":""},{"$f":"IFERROR(INDEX(Clasament!$BH$3:$BH$72,SMALL(IF(Clasament!Z$3:Z$72=\"+\",ROW(Clasament!$B$3:$B$74)-ROW(Clasament!$B$3)+1),ROWS(Clasament!$B$3:'Clasament'!$B39))),\"\")","v":""},{"$f":"IFERROR(INDEX(Clasament!$BH$3:$BH$72,SMALL(IF(Clasament!AA$3:AA$72=\"+\",ROW(Clasament!$B$3:$B$74)-ROW(Clasament!$B$3)+1),ROWS(Clasament!$B$3:'Clasament'!$B39))),\"\")","v":""},{"$f":"IFERROR(INDEX(Clasament!$BH$3:$BH$72,SMALL(IF(Clasament!AB$3:AB$72=\"+\",ROW(Clasament!$B$3:$B$74)-ROW(Clasament!$B$3)+1),ROWS(Clasament!$B$3:'Clasament'!$B39))),\"\")","v":""},{"$f":"IFERROR(INDEX(Clasament!$BH$3:$BH$72,SMALL(IF(Clasament!AC$3:AC$72=\"+\",ROW(Clasament!$B$3:$B$74)-ROW(Clasament!$B$3)+1),ROWS(Clasament!$B$3:'Clasament'!$B39))),\"\")","v":""},{"$f":"IFERROR(INDEX(Clasament!$BH$3:$BH$72,SMALL(IF(Clasament!AD$3:AD$72=\"+\",ROW(Clasament!$B$3:$B$74)-ROW(Clasament!$B$3)+1),ROWS(Clasament!$B$3:'Clasament'!$B39))),\"\")","v":""},{"$f":"IFERROR(INDEX(Clasament!$BH$3:$BH$72,SMALL(IF(Clasament!AE$3:AE$72=\"+\",ROW(Clasament!$B$3:$B$74)-ROW(Clasament!$B$3)+1),ROWS(Clasament!$B$3:'Clasament'!$B39))),\"\")","v":""},{"$f":"IFERROR(INDEX(Clasament!$BH$3:$BH$72,SMALL(IF(Clasament!AF$3:AF$72=\"+\",ROW(Clasament!$B$3:$B$74)-ROW(Clasament!$B$3)+1),ROWS(Clasament!$B$3:'Clasament'!$B39))),\"\")","v":""},{"$f":"IFERROR(INDEX(Clasament!$BH$3:$BH$72,SMALL(IF(Clasament!AG$3:AG$72=\"+\",ROW(Clasament!$B$3:$B$74)-ROW(Clasament!$B$3)+1),ROWS(Clasament!$B$3:'Clasament'!$B39))),\"\")","v":""},{"$f":"IFERROR(INDEX(Clasament!$BH$3:$BH$72,SMALL(IF(Clasament!AH$3:AH$72=\"+\",ROW(Clasament!$B$3:$B$74)-ROW(Clasament!$B$3)+1),ROWS(Clasament!$B$3:'Clasament'!$B39))),\"\")","v":""},{"$f":"IFERROR(INDEX(Clasament!$BH$3:$BH$72,SMALL(IF(Clasament!AJ$3:AJ$72=\"+\",ROW(Clasament!$B$3:$B$74)-ROW(Clasament!$B$3)+1),ROWS(Clasament!$B$3:'Clasament'!$B39))),\"\")","v":""},{"$f":"IFERROR(INDEX(Clasament!$BH$3:$BH$72,SMALL(IF(Clasament!AK$3:AK$72=\"+\",ROW(Clasament!$B$3:$B$74)-ROW(Clasament!$B$3)+1),ROWS(Clasament!$B$3:'Clasament'!$B39))),\"\")","v":""},{"$f":"IFERROR(INDEX(Clasament!$BH$3:$BH$72,SMALL(IF(Clasament!AL$3:AL$72=\"+\",ROW(Clasament!$B$3:$B$74)-ROW(Clasament!$B$3)+1),ROWS(Clasament!$B$3:'Clasament'!$B39))),\"\")","v":""},{"$f":"IFERROR(INDEX(Clasament!$BH$3:$BH$72,SMALL(IF(Clasament!AM$3:AM$72=\"+\",ROW(Clasament!$B$3:$B$74)-ROW(Clasament!$B$3)+1),ROWS(Clasament!$B$3:'Clasament'!$B39))),\"\")","v":""},{"$f":"IFERROR(INDEX(Clasament!$BH$3:$BH$72,SMALL(IF(Clasament!AN$3:AN$72=\"+\",ROW(Clasament!$B$3:$B$74)-ROW(Clasament!$B$3)+1),ROWS(Clasament!$B$3:'Clasament'!$B39))),\"\")","v":""},{"$f":"IFERROR(INDEX(Clasament!$BH$3:$BH$72,SMALL(IF(Clasament!AO$3:AO$72=\"+\",ROW(Clasament!$B$3:$B$74)-ROW(Clasament!$B$3)+1),ROWS(Clasament!$B$3:'Clasament'!$B39))),\"\")","v":""},{"$f":"IFERROR(INDEX(Clasament!$BH$3:$BH$72,SMALL(IF(Clasament!AP$3:AP$72=\"+\",ROW(Clasament!$B$3:$B$74)-ROW(Clasament!$B$3)+1),ROWS(Clasament!$B$3:'Clasament'!$B39))),\"\")","v":""},{"$f":"IFERROR(INDEX(Clasament!$BH$3:$BH$72,SMALL(IF(Clasament!AQ$3:AQ$72=\"+\",ROW(Clasament!$B$3:$B$74)-ROW(Clasament!$B$3)+1),ROWS(Clasament!$B$3:'Clasament'!$B39))),\"\")","v":""},{"$f":"IFERROR(INDEX(Clasament!$BH$3:$BH$72,SMALL(IF(Clasament!AR$3:AR$72=\"+\",ROW(Clasament!$B$3:$B$74)-ROW(Clasament!$B$3)+1),ROWS(Clasament!$B$3:'Clasament'!$B39))),\"\")","v":""},{"$f":"IFERROR(INDEX(Clasament!$BH$3:$BH$72,SMALL(IF(Clasament!AS$3:AS$72=\"+\",ROW(Clasament!$B$3:$B$74)-ROW(Clasament!$B$3)+1),ROWS(Clasament!$B$3:'Clasament'!$B39))),\"\")","v":""},{"$f":"IFERROR(INDEX(Clasament!$BH$3:$BH$72,SMALL(IF(Clasament!AU$3:AU$72=\"+\",ROW(Clasament!$B$3:$B$74)-ROW(Clasament!$B$3)+1),ROWS(Clasament!$B$3:'Clasament'!$B39))),\"\")","v":""},{"$f":"IFERROR(INDEX(Clasament!$BH$3:$BH$72,SMALL(IF(Clasament!AV$3:AV$72=\"+\",ROW(Clasament!$B$3:$B$74)-ROW(Clasament!$B$3)+1),ROWS(Clasament!$B$3:'Clasament'!$B39))),\"\")","v":""},{"$f":"IFERROR(INDEX(Clasament!$BH$3:$BH$72,SMALL(IF(Clasament!AW$3:AW$72=\"+\",ROW(Clasament!$B$3:$B$74)-ROW(Clasament!$B$3)+1),ROWS(Clasament!$B$3:'Clasament'!$B39))),\"\")","v":""},{"$f":"IFERROR(INDEX(Clasament!$BH$3:$BH$72,SMALL(IF(Clasament!AX$3:AX$72=\"+\",ROW(Clasament!$B$3:$B$74)-ROW(Clasament!$B$3)+1),ROWS(Clasament!$B$3:'Clasament'!$B39))),\"\")","v":""},{"$f":"IFERROR(INDEX(Clasament!$BH$3:$BH$72,SMALL(IF(Clasament!AY$3:AY$72=\"+\",ROW(Clasament!$B$3:$B$74)-ROW(Clasament!$B$3)+1),ROWS(Clasament!$B$3:'Clasament'!$B39))),\"\")","v":""},{"$f":"IFERROR(INDEX(Clasament!$BH$3:$BH$72,SMALL(IF(Clasament!AZ$3:AZ$72=\"+\",ROW(Clasament!$B$3:$B$74)-ROW(Clasament!$B$3)+1),ROWS(Clasament!$B$3:'Clasament'!$B39))),\"\")","v":""},{"$f":"IFERROR(INDEX(Clasament!$BH$3:$BH$72,SMALL(IF(Clasament!BA$3:BA$72=\"+\",ROW(Clasament!$B$3:$B$74)-ROW(Clasament!$B$3)+1),ROWS(Clasament!$B$3:'Clasament'!$B39))),\"\")","v":""},{"$f":"IFERROR(INDEX(Clasament!$BH$3:$BH$72,SMALL(IF(Clasament!BB$3:BB$72=\"+\",ROW(Clasament!$B$3:$B$74)-ROW(Clasament!$B$3)+1),ROWS(Clasament!$B$3:'Clasament'!$B39))),\"\")","v":""},{"$f":"IFERROR(INDEX(Clasament!$BH$3:$BH$72,SMALL(IF(Clasament!BC$3:BC$72=\"+\",ROW(Clasament!$B$3:$B$74)-ROW(Clasament!$B$3)+1),ROWS(Clasament!$B$3:'Clasament'!$B39))),\"\")","v":""},{"$f":"IFERROR(INDEX(Clasament!$BH$3:$BH$72,SMALL(IF(Clasament!BD$3:BD$72=\"+\",ROW(Clasament!$B$3:$B$74)-ROW(Clasament!$B$3)+1),ROWS(Clasament!$B$3:'Clasament'!$B39))),\"\")","v":""}]
[null,{"$f":"IFERROR(INDEX(Clasament!$BH$3:$BH$72,SMALL(IF(Clasament!C$3:C$72=\"+\",ROW(Clasament!$B$3:$B$74)-ROW(Clasament!$B$3)+1),ROWS(Clasament!$B$3:'Clasament'!$B40))),\"\")","v":""},{"$f":"IFERROR(INDEX(Clasament!$BH$3:$BH$72,SMALL(IF(Clasament!D$3:D$72=\"+\",ROW(Clasament!$B$3:$B$74)-ROW(Clasament!$B$3)+1),ROWS(Clasament!$B$3:'Clasament'!$B40))),\"\")","v":""},{"$f":"IFERROR(INDEX(Clasament!$BH$3:$BH$72,SMALL(IF(Clasament!E$3:E$72=\"+\",ROW(Clasament!$B$3:$B$74)-ROW(Clasament!$B$3)+1),ROWS(Clasament!$B$3:'Clasament'!$B40))),\"\")","v":""},{"$f":"IFERROR(INDEX(Clasament!$BH$3:$BH$72,SMALL(IF(Clasament!F$3:F$72=\"+\",ROW(Clasament!$B$3:$B$74)-ROW(Clasament!$B$3)+1),ROWS(Clasament!$B$3:'Clasament'!$B40))),\"\")","v":""},{"$f":"IFERROR(INDEX(Clasament!$BH$3:$BH$72,SMALL(IF(Clasament!G$3:G$72=\"+\",ROW(Clasament!$B$3:$B$74)-ROW(Clasament!$B$3)+1),ROWS(Clasament!$B$3:'Clasament'!$B40))),\"\")","v":""},{"$f":"IFERROR(INDEX(Clasament!$BH$3:$BH$72,SMALL(IF(Clasament!H$3:H$72=\"+\",ROW(Clasament!$B$3:$B$74)-ROW(Clasament!$B$3)+1),ROWS(Clasament!$B$3:'Clasament'!$B40))),\"\")","v":""},{"$f":"IFERROR(INDEX(Clasament!$BH$3:$BH$72,SMALL(IF(Clasament!I$3:I$72=\"+\",ROW(Clasament!$B$3:$B$74)-ROW(Clasament!$B$3)+1),ROWS(Clasament!$B$3:'Clasament'!$B40))),\"\")","v":""},{"$f":"IFERROR(INDEX(Clasament!$BH$3:$BH$72,SMALL(IF(Clasament!J$3:J$72=\"+\",ROW(Clasament!$B$3:$B$74)-ROW(Clasament!$B$3)+1),ROWS(Clasament!$B$3:'Clasament'!$B40))),\"\")","v":""},{"$f":"IFERROR(INDEX(Clasament!$BH$3:$BH$72,SMALL(IF(Clasament!K$3:K$72=\"+\",ROW(Clasament!$B$3:$B$74)-ROW(Clasament!$B$3)+1),ROWS(Clasament!$B$3:'Clasament'!$B40))),\"\")","v":""},{"$f":"IFERROR(INDEX(Clasament!$BH$3:$BH$72,SMALL(IF(Clasament!L$3:L$72=\"+\",ROW(Clasament!$B$3:$B$74)-ROW(Clasament!$B$3)+1),ROWS(Clasament!$B$3:'Clasament'!$B40))),\"\")","v":""},{"$f":"IFERROR(INDEX(Clasament!$BH$3:$BH$72,SMALL(IF(Clasament!N$3:N$72=\"+\",ROW(Clasament!$B$3:$B$74)-ROW(Clasament!$B$3)+1),ROWS(Clasament!$B$3:'Clasament'!$B40))),\"\")","v":""},{"$f":"IFERROR(INDEX(Clasament!$BH$3:$BH$72,SMALL(IF(Clasament!O$3:O$72=\"+\",ROW(Clasament!$B$3:$B$74)-ROW(Clasament!$B$3)+1),ROWS(Clasament!$B$3:'Clasament'!$B40))),\"\")","v":""},{"$f":"IFERROR(INDEX(Clasament!$BH$3:$BH$72,SMALL(IF(Clasament!P$3:P$72=\"+\",ROW(Clasament!$B$3:$B$74)-ROW(Clasament!$B$3)+1),ROWS(Clasament!$B$3:'Clasament'!$B40))),\"\")","v":""},{"$f":"IFERROR(INDEX(Clasament!$BH$3:$BH$72,SMALL(IF(Clasament!Q$3:Q$72=\"+\",ROW(Clasament!$B$3:$B$74)-ROW(Clasament!$B$3)+1),ROWS(Clasament!$B$3:'Clasament'!$B40))),\"\")","v":""},{"$f":"IFERROR(INDEX(Clasament!$BH$3:$BH$72,SMALL(IF(Clasament!R$3:R$72=\"+\",ROW(Clasament!$B$3:$B$74)-ROW(Clasament!$B$3)+1),ROWS(Clasament!$B$3:'Clasament'!$B40))),\"\")","v":""},{"$f":"IFERROR(INDEX(Clasament!$BH$3:$BH$72,SMALL(IF(Clasament!S$3:S$72=\"+\",ROW(Clasament!$B$3:$B$74)-ROW(Clasament!$B$3)+1),ROWS(Clasament!$B$3:'Clasament'!$B40))),\"\")","v":""},{"$f":"IFERROR(INDEX(Clasament!$BH$3:$BH$72,SMALL(IF(Clasament!T$3:T$72=\"+\",ROW(Clasament!$B$3:$B$74)-ROW(Clasament!$B$3)+1),ROWS(Clasament!$B$3:'Clasament'!$B40))),\"\")","v":""},{"$f":"IFERROR(INDEX(Clasament!$BH$3:$BH$72,SMALL(IF(Clasament!U$3:U$72=\"+\",ROW(Clasament!$B$3:$B$74)-ROW(Clasament!$B$3)+1),ROWS(Clasament!$B$3:'Clasament'!$B40))),\"\")","v":""},{"$f":"IFERROR(INDEX(Clasament!$BH$3:$BH$72,SMALL(IF(Clasament!V$3:V$72=\"+\",ROW(Clasament!$B$3:$B$74)-ROW(Clasament!$B$3)+1),ROWS(Clasament!$B$3:'Clasament'!$B40))),\"\")","v":""},{"$f":"IFERROR(INDEX(Clasament!$BH$3:$BH$72,SMALL(IF(Clasament!W$3:W$72=\"+\",ROW(Clasament!$B$3:$B$74)-ROW(Clasament!$B$3)+1),ROWS(Clasament!$B$3:'Clasament'!$B40))),\"\")","v":""},{"$f":"IFERROR(INDEX(Clasament!$BH$3:$BH$72,SMALL(IF(Clasament!Y$3:Y$72=\"+\",ROW(Clasament!$B$3:$B$74)-ROW(Clasament!$B$3)+1),ROWS(Clasament!$B$3:'Clasament'!$B40))),\"\")","v":""},{"$f":"IFERROR(INDEX(Clasament!$BH$3:$BH$72,SMALL(IF(Clasament!Z$3:Z$72=\"+\",ROW(Clasament!$B$3:$B$74)-ROW(Clasament!$B$3)+1),ROWS(Clasament!$B$3:'Clasament'!$B40))),\"\")","v":""},{"$f":"IFERROR(INDEX(Clasament!$BH$3:$BH$72,SMALL(IF(Clasament!AA$3:AA$72=\"+\",ROW(Clasament!$B$3:$B$74)-ROW(Clasament!$B$3)+1),ROWS(Clasament!$B$3:'Clasament'!$B40))),\"\")","v":""},{"$f":"IFERROR(INDEX(Clasament!$BH$3:$BH$72,SMALL(IF(Clasament!AB$3:AB$72=\"+\",ROW(Clasament!$B$3:$B$74)-ROW(Clasament!$B$3)+1),ROWS(Clasament!$B$3:'Clasament'!$B40))),\"\")","v":""},{"$f":"IFERROR(INDEX(Clasament!$BH$3:$BH$72,SMALL(IF(Clasament!AC$3:AC$72=\"+\",ROW(Clasament!$B$3:$B$74)-ROW(Clasament!$B$3)+1),ROWS(Clasament!$B$3:'Clasament'!$B40))),\"\")","v":""},{"$f":"IFERROR(INDEX(Clasament!$BH$3:$BH$72,SMALL(IF(Clasament!AD$3:AD$72=\"+\",ROW(Clasament!$B$3:$B$74)-ROW(Clasament!$B$3)+1),ROWS(Clasament!$B$3:'Clasament'!$B40))),\"\")","v":""},{"$f":"IFERROR(INDEX(Clasament!$BH$3:$BH$72,SMALL(IF(Clasament!AE$3:AE$72=\"+\",ROW(Clasament!$B$3:$B$74)-ROW(Clasament!$B$3)+1),ROWS(Clasament!$B$3:'Clasament'!$B40))),\"\")","v":""},{"$f":"IFERROR(INDEX(Clasament!$BH$3:$BH$72,SMALL(IF(Clasament!AF$3:AF$72=\"+\",ROW(Clasament!$B$3:$B$74)-ROW(Clasament!$B$3)+1),ROWS(Clasament!$B$3:'Clasament'!$B40))),\"\")","v":""},{"$f":"IFERROR(INDEX(Clasament!$BH$3:$BH$72,SMALL(IF(Clasament!AG$3:AG$72=\"+\",ROW(Clasament!$B$3:$B$74)-ROW(Clasament!$B$3)+1),ROWS(Clasament!$B$3:'Clasament'!$B40))),\"\")","v":""},{"$f":"IFERROR(INDEX(Clasament!$BH$3:$BH$72,SMALL(IF(Clasament!AH$3:AH$72=\"+\",ROW(Clasament!$B$3:$B$74)-ROW(Clasament!$B$3)+1),ROWS(Clasament!$B$3:'Clasament'!$B40))),\"\")","v":""},{"$f":"IFERROR(INDEX(Clasament!$BH$3:$BH$72,SMALL(IF(Clasament!AJ$3:AJ$72=\"+\",ROW(Clasament!$B$3:$B$74)-ROW(Clasament!$B$3)+1),ROWS(Clasament!$B$3:'Clasament'!$B40))),\"\")","v":""},{"$f":"IFERROR(INDEX(Clasament!$BH$3:$BH$72,SMALL(IF(Clasament!AK$3:AK$72=\"+\",ROW(Clasament!$B$3:$B$74)-ROW(Clasament!$B$3)+1),ROWS(Clasament!$B$3:'Clasament'!$B40))),\"\")","v":""},{"$f":"IFERROR(INDEX(Clasament!$BH$3:$BH$72,SMALL(IF(Clasament!AL$3:AL$72=\"+\",ROW(Clasament!$B$3:$B$74)-ROW(Clasament!$B$3)+1),ROWS(Clasament!$B$3:'Clasament'!$B40))),\"\")","v":""},{"$f":"IFERROR(INDEX(Clasament!$BH$3:$BH$72,SMALL(IF(Clasament!AM$3:AM$72=\"+\",ROW(Clasament!$B$3:$B$74)-ROW(Clasament!$B$3)+1),ROWS(Clasament!$B$3:'Clasament'!$B40))),\"\")","v":""},{"$f":"IFERROR(INDEX(Clasament!$BH$3:$BH$72,SMALL(IF(Clasament!AN$3:AN$72=\"+\",ROW(Clasament!$B$3:$B$74)-ROW(Clasament!$B$3)+1),ROWS(Clasament!$B$3:'Clasament'!$B40))),\"\")","v":""},{"$f":"IFERROR(INDEX(Clasament!$BH$3:$BH$72,SMALL(IF(Clasament!AO$3:AO$72=\"+\",ROW(Clasament!$B$3:$B$74)-ROW(Clasament!$B$3)+1),ROWS(Clasament!$B$3:'Clasament'!$B40))),\"\")","v":""},{"$f":"IFERROR(INDEX(Clasament!$BH$3:$BH$72,SMALL(IF(Clasament!AP$3:AP$72=\"+\",ROW(Clasament!$B$3:$B$74)-ROW(Clasament!$B$3)+1),ROWS(Clasament!$B$3:'Clasament'!$B40))),\"\")","v":""},{"$f":"IFERROR(INDEX(Clasament!$BH$3:$BH$72,SMALL(IF(Clasament!AQ$3:AQ$72=\"+\",ROW(Clasament!$B$3:$B$74)-ROW(Clasament!$B$3)+1),ROWS(Clasament!$B$3:'Clasament'!$B40))),\"\")","v":""},{"$f":"IFERROR(INDEX(Clasament!$BH$3:$BH$72,SMALL(IF(Clasament!AR$3:AR$72=\"+\",ROW(Clasament!$B$3:$B$74)-ROW(Clasament!$B$3)+1),ROWS(Clasament!$B$3:'Clasament'!$B40))),\"\")","v":""},{"$f":"IFERROR(INDEX(Clasament!$BH$3:$BH$72,SMALL(IF(Clasament!AS$3:AS$72=\"+\",ROW(Clasament!$B$3:$B$74)-ROW(Clasament!$B$3)+1),ROWS(Clasament!$B$3:'Clasament'!$B40))),\"\")","v":""},{"$f":"IFERROR(INDEX(Clasament!$BH$3:$BH$72,SMALL(IF(Clasament!AU$3:AU$72=\"+\",ROW(Clasament!$B$3:$B$74)-ROW(Clasament!$B$3)+1),ROWS(Clasament!$B$3:'Clasament'!$B40))),\"\")","v":""},{"$f":"IFERROR(INDEX(Clasament!$BH$3:$BH$72,SMALL(IF(Clasament!AV$3:AV$72=\"+\",ROW(Clasament!$B$3:$B$74)-ROW(Clasament!$B$3)+1),ROWS(Clasament!$B$3:'Clasament'!$B40))),\"\")","v":""},{"$f":"IFERROR(INDEX(Clasament!$BH$3:$BH$72,SMALL(IF(Clasament!AW$3:AW$72=\"+\",ROW(Clasament!$B$3:$B$74)-ROW(Clasament!$B$3)+1),ROWS(Clasament!$B$3:'Clasament'!$B40))),\"\")","v":""},{"$f":"IFERROR(INDEX(Clasament!$BH$3:$BH$72,SMALL(IF(Clasament!AX$3:AX$72=\"+\",ROW(Clasament!$B$3:$B$74)-ROW(Clasament!$B$3)+1),ROWS(Clasament!$B$3:'Clasament'!$B40))),\"\")","v":""},{"$f":"IFERROR(INDEX(Clasament!$BH$3:$BH$72,SMALL(IF(Clasament!AY$3:AY$72=\"+\",ROW(Clasament!$B$3:$B$74)-ROW(Clasament!$B$3)+1),ROWS(Clasament!$B$3:'Clasament'!$B40))),\"\")","v":""},{"$f":"IFERROR(INDEX(Clasament!$BH$3:$BH$72,SMALL(IF(Clasament!AZ$3:AZ$72=\"+\",ROW(Clasament!$B$3:$B$74)-ROW(Clasament!$B$3)+1),ROWS(Clasament!$B$3:'Clasament'!$B40))),\"\")","v":""},{"$f":"IFERROR(INDEX(Clasament!$BH$3:$BH$72,SMALL(IF(Clasament!BA$3:BA$72=\"+\",ROW(Clasament!$B$3:$B$74)-ROW(Clasament!$B$3)+1),ROWS(Clasament!$B$3:'Clasament'!$B40))),\"\")","v":""},{"$f":"IFERROR(INDEX(Clasament!$BH$3:$BH$72,SMALL(IF(Clasament!BB$3:BB$72=\"+\",ROW(Clasament!$B$3:$B$74)-ROW(Clasament!$B$3)+1),ROWS(Clasament!$B$3:'Clasament'!$B40))),\"\")","v":""},{"$f":"IFERROR(INDEX(Clasament!$BH$3:$BH$72,SMALL(IF(Clasament!BC$3:BC$72=\"+\",ROW(Clasament!$B$3:$B$74)-ROW(Clasament!$B$3)+1),ROWS(Clasament!$B$3:'Clasament'!$B40))),\"\")","v":""},{"$f":"IFERROR(INDEX(Clasament!$BH$3:$BH$72,SMALL(IF(Clasament!BD$3:BD$72=\"+\",ROW(Clasament!$B$3:$B$74)-ROW(Clasament!$B$3)+1),ROWS(Clasament!$B$3:'Clasament'!$B40))),\"\")","v":""}]
[null,{"$f":"IFERROR(INDEX(Clasament!$BH$3:$BH$72,SMALL(IF(Clasament!C$3:C$72=\"+\",ROW(Clasament!$B$3:$B$74)-ROW(Clasament!$B$3)+1),ROWS(Clasament!$B$3:'Clasament'!$B41))),\"\")","v":""},{"$f":"IFERROR(INDEX(Clasament!$BH$3:$BH$72,SMALL(IF(Clasament!D$3:D$72=\"+\",ROW(Clasament!$B$3:$B$74)-ROW(Clasament!$B$3)+1),ROWS(Clasament!$B$3:'Clasament'!$B41))),\"\")","v":""},{"$f":"IFERROR(INDEX(Clasament!$BH$3:$BH$72,SMALL(IF(Clasament!E$3:E$72=\"+\",ROW(Clasament!$B$3:$B$74)-ROW(Clasament!$B$3)+1),ROWS(Clasament!$B$3:'Clasament'!$B41))),\"\")","v":""},{"$f":"IFERROR(INDEX(Clasament!$BH$3:$BH$72,SMALL(IF(Clasament!F$3:F$72=\"+\",ROW(Clasament!$B$3:$B$74)-ROW(Clasament!$B$3)+1),ROWS(Clasament!$B$3:'Clasament'!$B41))),\"\")","v":""},{"$f":"IFERROR(INDEX(Clasament!$BH$3:$BH$72,SMALL(IF(Clasament!G$3:G$72=\"+\",ROW(Clasament!$B$3:$B$74)-ROW(Clasament!$B$3)+1),ROWS(Clasament!$B$3:'Clasament'!$B41))),\"\")","v":""},{"$f":"IFERROR(INDEX(Clasament!$BH$3:$BH$72,SMALL(IF(Clasament!H$3:H$72=\"+\",ROW(Clasament!$B$3:$B$74)-ROW(Clasament!$B$3)+1),ROWS(Clasament!$B$3:'Clasament'!$B41))),\"\")","v":""},{"$f":"IFERROR(INDEX(Clasament!$BH$3:$BH$72,SMALL(IF(Clasament!I$3:I$72=\"+\",ROW(Clasament!$B$3:$B$74)-ROW(Clasament!$B$3)+1),ROWS(Clasament!$B$3:'Clasament'!$B41))),\"\")","v":""},{"$f":"IFERROR(INDEX(Clasament!$BH$3:$BH$72,SMALL(IF(Clasament!J$3:J$72=\"+\",ROW(Clasament!$B$3:$B$74)-ROW(Clasament!$B$3)+1),ROWS(Clasament!$B$3:'Clasament'!$B41))),\"\")","v":""},{"$f":"IFERROR(INDEX(Clasament!$BH$3:$BH$72,SMALL(IF(Clasament!K$3:K$72=\"+\",ROW(Clasament!$B$3:$B$74)-ROW(Clasament!$B$3)+1),ROWS(Clasament!$B$3:'Clasament'!$B41))),\"\")","v":""},{"$f":"IFERROR(INDEX(Clasament!$BH$3:$BH$72,SMALL(IF(Clasament!L$3:L$72=\"+\",ROW(Clasament!$B$3:$B$74)-ROW(Clasament!$B$3)+1),ROWS(Clasament!$B$3:'Clasament'!$B41))),\"\")","v":""},{"$f":"IFERROR(INDEX(Clasament!$BH$3:$BH$72,SMALL(IF(Clasament!N$3:N$72=\"+\",ROW(Clasament!$B$3:$B$74)-ROW(Clasament!$B$3)+1),ROWS(Clasament!$B$3:'Clasament'!$B41))),\"\")","v":""},{"$f":"IFERROR(INDEX(Clasament!$BH$3:$BH$72,SMALL(IF(Clasament!O$3:O$72=\"+\",ROW(Clasament!$B$3:$B$74)-ROW(Clasament!$B$3)+1),ROWS(Clasament!$B$3:'Clasament'!$B41))),\"\")","v":""},{"$f":"IFERROR(INDEX(Clasament!$BH$3:$BH$72,SMALL(IF(Clasament!P$3:P$72=\"+\",ROW(Clasament!$B$3:$B$74)-ROW(Clasament!$B$3)+1),ROWS(Clasament!$B$3:'Clasament'!$B41))),\"\")","v":""},{"$f":"IFERROR(INDEX(Clasament!$BH$3:$BH$72,SMALL(IF(Clasament!Q$3:Q$72=\"+\",ROW(Clasament!$B$3:$B$74)-ROW(Clasament!$B$3)+1),ROWS(Clasament!$B$3:'Clasament'!$B41))),\"\")","v":""},{"$f":"IFERROR(INDEX(Clasament!$BH$3:$BH$72,SMALL(IF(Clasament!R$3:R$72=\"+\",ROW(Clasament!$B$3:$B$74)-ROW(Clasament!$B$3)+1),ROWS(Clasament!$B$3:'Clasament'!$B41))),\"\")","v":""},{"$f":"IFERROR(INDEX(Clasament!$BH$3:$BH$72,SMALL(IF(Clasament!S$3:S$72=\"+\",ROW(Clasament!$B$3:$B$74)-ROW(Clasament!$B$3)+1),ROWS(Clasament!$B$3:'Clasament'!$B41))),\"\")","v":""},{"$f":"IFERROR(INDEX(Clasament!$BH$3:$BH$72,SMALL(IF(Clasament!T$3:T$72=\"+\",ROW(Clasament!$B$3:$B$74)-ROW(Clasament!$B$3)+1),ROWS(Clasament!$B$3:'Clasament'!$B41))),\"\")","v":""},{"$f":"IFERROR(INDEX(Clasament!$BH$3:$BH$72,SMALL(IF(Clasament!U$3:U$72=\"+\",ROW(Clasament!$B$3:$B$74)-ROW(Clasament!$B$3)+1),ROWS(Clasament!$B$3:'Clasament'!$B41))),\"\")","v":""},{"$f":"IFERROR(INDEX(Clasament!$BH$3:$BH$72,SMALL(IF(Clasament!V$3:V$72=\"+\",ROW(Clasament!$B$3:$B$74)-ROW(Clasament!$B$3)+1),ROWS(Clasament!$B$3:'Clasament'!$B41))),\"\")","v":""},{"$f":"IFERROR(INDEX(Clasament!$BH$3:$BH$72,SMALL(IF(Clasament!W$3:W$72=\"+\",ROW(Clasament!$B$3:$B$74)-ROW(Clasament!$B$3)+1),ROWS(Clasament!$B$3:'Clasament'!$B41))),\"\")","v":""},{"$f":"IFERROR(INDEX(Clasament!$BH$3:$BH$72,SMALL(IF(Clasament!Y$3:Y$72=\"+\",ROW(Clasament!$B$3:$B$74)-ROW(Clasament!$B$3)+1),ROWS(Clasament!$B$3:'Clasament'!$B41))),\"\")","v":""},{"$f":"IFERROR(INDEX(Clasament!$BH$3:$BH$72,SMALL(IF(Clasament!Z$3:Z$72=\"+\",ROW(Clasament!$B$3:$B$74)-ROW(Clasament!$B$3)+1),ROWS(Clasament!$B$3:'Clasament'!$B41))),\"\")","v":""},{"$f":"IFERROR(INDEX(Clasament!$BH$3:$BH$72,SMALL(IF(Clasament!AA$3:AA$72=\"+\",ROW(Clasament!$B$3:$B$74)-ROW(Clasament!$B$3)+1),ROWS(Clasament!$B$3:'Clasament'!$B41))),\"\")","v":""},{"$f":"IFERROR(INDEX(Clasament!$BH$3:$BH$72,SMALL(IF(Clasament!AB$3:AB$72=\"+\",ROW(Clasament!$B$3:$B$74)-ROW(Clasament!$B$3)+1),ROWS(Clasament!$B$3:'Clasament'!$B41))),\"\")","v":""},{"$f":"IFERROR(INDEX(Clasament!$BH$3:$BH$72,SMALL(IF(Clasament!AC$3:AC$72=\"+\",ROW(Clasament!$B$3:$B$74)-ROW(Clasament!$B$3)+1),ROWS(Clasament!$B$3:'Clasament'!$B41))),\"\")","v":""},{"$f":"IFERROR(INDEX(Clasament!$BH$3:$BH$72,SMALL(IF(Clasament!AD$3:AD$72=\"+\",ROW(Clasament!$B$3:$B$74)-ROW(Clasament!$B$3)+1),ROWS(Clasament!$B$3:'Clasament'!$B41))),\"\")","v":""},{"$f":"IFERROR(INDEX(Clasament!$BH$3:$BH$72,SMALL(IF(Clasament!AE$3:AE$72=\"+\",ROW(Clasament!$B$3:$B$74)-ROW(Clasament!$B$3)+1),ROWS(Clasament!$B$3:'Clasament'!$B41))),\"\")","v":""},{"$f":"IFERROR(INDEX(Clasament!$BH$3:$BH$72,SMALL(IF(Clasament!AF$3:AF$72=\"+\",ROW(Clasament!$B$3:$B$74)-ROW(Clasament!$B$3)+1),ROWS(Clasament!$B$3:'Clasament'!$B41))),\"\")","v":""},{"$f":"IFERROR(INDEX(Clasament!$BH$3:$BH$72,SMALL(IF(Clasament!AG$3:AG$72=\"+\",ROW(Clasament!$B$3:$B$74)-ROW(Clasament!$B$3)+1),ROWS(Clasament!$B$3:'Clasament'!$B41))),\"\")","v":""},{"$f":"IFERROR(INDEX(Clasament!$BH$3:$BH$72,SMALL(IF(Clasament!AH$3:AH$72=\"+\",ROW(Clasament!$B$3:$B$74)-ROW(Clasament!$B$3)+1),ROWS(Clasament!$B$3:'Clasament'!$B41))),\"\")","v":""},{"$f":"IFERROR(INDEX(Clasament!$BH$3:$BH$72,SMALL(IF(Clasament!AJ$3:AJ$72=\"+\",ROW(Clasament!$B$3:$B$74)-ROW(Clasament!$B$3)+1),ROWS(Clasament!$B$3:'Clasament'!$B41))),\"\")","v":""},{"$f":"IFERROR(INDEX(Clasament!$BH$3:$BH$72,SMALL(IF(Clasament!AK$3:AK$72=\"+\",ROW(Clasament!$B$3:$B$74)-ROW(Clasament!$B$3)+1),ROWS(Clasament!$B$3:'Clasament'!$B41))),\"\")","v":""},{"$f":"IFERROR(INDEX(Clasament!$BH$3:$BH$72,SMALL(IF(Clasament!AL$3:AL$72=\"+\",ROW(Clasament!$B$3:$B$74)-ROW(Clasament!$B$3)+1),ROWS(Clasament!$B$3:'Clasament'!$B41))),\"\")","v":""},{"$f":"IFERROR(INDEX(Clasament!$BH$3:$BH$72,SMALL(IF(Clasament!AM$3:AM$72=\"+\",ROW(Clasament!$B$3:$B$74)-ROW(Clasament!$B$3)+1),ROWS(Clasament!$B$3:'Clasament'!$B41))),\"\")","v":""},{"$f":"IFERROR(INDEX(Clasament!$BH$3:$BH$72,SMALL(IF(Clasament!AN$3:AN$72=\"+\",ROW(Clasament!$B$3:$B$74)-ROW(Clasament!$B$3)+1),ROWS(Clasament!$B$3:'Clasament'!$B41))),\"\")","v":""},{"$f":"IFERROR(INDEX(Clasament!$BH$3:$BH$72,SMALL(IF(Clasament!AO$3:AO$72=\"+\",ROW(Clasament!$B$3:$B$74)-ROW(Clasament!$B$3)+1),ROWS(Clasament!$B$3:'Clasament'!$B41))),\"\")","v":""},{"$f":"IFERROR(INDEX(Clasament!$BH$3:$BH$72,SMALL(IF(Clasament!AP$3:AP$72=\"+\",ROW(Clasament!$B$3:$B$74)-ROW(Clasament!$B$3)+1),ROWS(Clasament!$B$3:'Clasament'!$B41))),\"\")","v":""},{"$f":"IFERROR(INDEX(Clasament!$BH$3:$BH$72,SMALL(IF(Clasament!AQ$3:AQ$72=\"+\",ROW(Clasament!$B$3:$B$74)-ROW(Clasament!$B$3)+1),ROWS(Clasament!$B$3:'Clasament'!$B41))),\"\")","v":""},{"$f":"IFERROR(INDEX(Clasament!$BH$3:$BH$72,SMALL(IF(Clasament!AR$3:AR$72=\"+\",ROW(Clasament!$B$3:$B$74)-ROW(Clasament!$B$3)+1),ROWS(Clasament!$B$3:'Clasament'!$B41))),\"\")","v":""},{"$f":"IFERROR(INDEX(Clasament!$BH$3:$BH$72,SMALL(IF(Clasament!AS$3:AS$72=\"+\",ROW(Clasament!$B$3:$B$74)-ROW(Clasament!$B$3)+1),ROWS(Clasament!$B$3:'Clasament'!$B41))),\"\")","v":""},{"$f":"IFERROR(INDEX(Clasament!$BH$3:$BH$72,SMALL(IF(Clasament!AU$3:AU$72=\"+\",ROW(Clasament!$B$3:$B$74)-ROW(Clasament!$B$3)+1),ROWS(Clasament!$B$3:'Clasament'!$B41))),\"\")","v":""},{"$f":"IFERROR(INDEX(Clasament!$BH$3:$BH$72,SMALL(IF(Clasament!AV$3:AV$72=\"+\",ROW(Clasament!$B$3:$B$74)-ROW(Clasament!$B$3)+1),ROWS(Clasament!$B$3:'Clasament'!$B41))),\"\")","v":""},{"$f":"IFERROR(INDEX(Clasament!$BH$3:$BH$72,SMALL(IF(Clasament!AW$3:AW$72=\"+\",ROW(Clasament!$B$3:$B$74)-ROW(Clasament!$B$3)+1),ROWS(Clasament!$B$3:'Clasament'!$B41))),\"\")","v":""},{"$f":"IFERROR(INDEX(Clasament!$BH$3:$BH$72,SMALL(IF(Clasament!AX$3:AX$72=\"+\",ROW(Clasament!$B$3:$B$74)-ROW(Clasament!$B$3)+1),ROWS(Clasament!$B$3:'Clasament'!$B41))),\"\")","v":""},{"$f":"IFERROR(INDEX(Clasament!$BH$3:$BH$72,SMALL(IF(Clasament!AY$3:AY$72=\"+\",ROW(Clasament!$B$3:$B$74)-ROW(Clasament!$B$3)+1),ROWS(Clasament!$B$3:'Clasament'!$B41))),\"\")","v":""},{"$f":"IFERROR(INDEX(Clasament!$BH$3:$BH$72,SMALL(IF(Clasament!AZ$3:AZ$72=\"+\",ROW(Clasament!$B$3:$B$74)-ROW(Clasament!$B$3)+1),ROWS(Clasament!$B$3:'Clasament'!$B41))),\"\")","v":""},{"$f":"IFERROR(INDEX(Clasament!$BH$3:$BH$72,SMALL(IF(Clasament!BA$3:BA$72=\"+\",ROW(Clasament!$B$3:$B$74)-ROW(Clasament!$B$3)+1),ROWS(Clasament!$B$3:'Clasament'!$B41))),\"\")","v":""},{"$f":"IFERROR(INDEX(Clasament!$BH$3:$BH$72,SMALL(IF(Clasament!BB$3:BB$72=\"+\",ROW(Clasament!$B$3:$B$74)-ROW(Clasament!$B$3)+1),ROWS(Clasament!$B$3:'Clasament'!$B41))),\"\")","v":""},{"$f":"IFERROR(INDEX(Clasament!$BH$3:$BH$72,SMALL(IF(Clasament!BC$3:BC$72=\"+\",ROW(Clasament!$B$3:$B$74)-ROW(Clasament!$B$3)+1),ROWS(Clasament!$B$3:'Clasament'!$B41))),\"\")","v":""},{"$f":"IFERROR(INDEX(Clasament!$BH$3:$BH$72,SMALL(IF(Clasament!BD$3:BD$72=\"+\",ROW(Clasament!$B$3:$B$74)-ROW(Clasament!$B$3)+1),ROWS(Clasament!$B$3:'Clasament'!$B41))),\"\")","v":""}]
[null,{"$f":"IFERROR(INDEX(Clasament!$BH$3:$BH$72,SMALL(IF(Clasament!C$3:C$72=\"+\",ROW(Clasament!$B$3:$B$74)-ROW(Clasament!$B$3)+1),ROWS(Clasament!$B$3:'Clasament'!$B42))),\"\")","v":""},{"$f":"IFERROR(INDEX(Clasament!$BH$3:$BH$72,SMALL(IF(Clasament!D$3:D$72=\"+\",ROW(Clasament!$B$3:$B$74)-ROW(Clasament!$B$3)+1),ROWS(Clasament!$B$3:'Clasament'!$B42))),\"\")","v":""},{"$f":"IFERROR(INDEX(Clasament!$BH$3:$BH$72,SMALL(IF(Clasament!E$3:E$72=\"+\",ROW(Clasament!$B$3:$B$74)-ROW(Clasament!$B$3)+1),ROWS(Clasament!$B$3:'Clasament'!$B42))),\"\")","v":""},{"$f":"IFERROR(INDEX(Clasament!$BH$3:$BH$72,SMALL(IF(Clasament!F$3:F$72=\"+\",ROW(Clasament!$B$3:$B$74)-ROW(Clasament!$B$3)+1),ROWS(Clasament!$B$3:'Clasament'!$B42))),\"\")","v":""},{"$f":"IFERROR(INDEX(Clasament!$BH$3:$BH$72,SMALL(IF(Clasament!G$3:G$72=\"+\",ROW(Clasament!$B$3:$B$74)-ROW(Clasament!$B$3)+1),ROWS(Clasament!$B$3:'Clasament'!$B42))),\"\")","v":""},{"$f":"IFERROR(INDEX(Clasament!$BH$3:$BH$72,SMALL(IF(Clasament!H$3:H$72=\"+\",ROW(Clasament!$B$3:$B$74)-ROW(Clasament!$B$3)+1),ROWS(Clasament!$B$3:'Clasament'!$B42))),\"\")","v":""},{"$f":"IFERROR(INDEX(Clasament!$BH$3:$BH$72,SMALL(IF(Clasament!I$3:I$72=\"+\",ROW(Clasament!$B$3:$B$74)-ROW(Clasament!$B$3)+1),ROWS(Clasament!$B$3:'Clasament'!$B42))),\"\")","v":""},{"$f":"IFERROR(INDEX(Clasament!$BH$3:$BH$72,SMALL(IF(Clasament!J$3:J$72=\"+\",ROW(Clasament!$B$3:$B$74)-ROW(Clasament!$B$3)+1),ROWS(Clasament!$B$3:'Clasament'!$B42))),\"\")","v":""},{"$f":"IFERROR(INDEX(Clasament!$BH$3:$BH$72,SMALL(IF(Clasament!K$3:K$72=\"+\",ROW(Clasament!$B$3:$B$74)-ROW(Clasament!$B$3)+1),ROWS(Clasament!$B$3:'Clasament'!$B42))),\"\")","v":""},{"$f":"IFERROR(INDEX(Clasament!$BH$3:$BH$72,SMALL(IF(Clasament!L$3:L$72=\"+\",ROW(Clasament!$B$3:$B$74)-ROW(Clasament!$B$3)+1),ROWS(Clasament!$B$3:'Clasament'!$B42))),\"\")","v":""},{"$f":"IFERROR(INDEX(Clasament!$BH$3:$BH$72,SMALL(IF(Clasament!N$3:N$72=\"+\",ROW(Clasament!$B$3:$B$74)-ROW(Clasament!$B$3)+1),ROWS(Clasament!$B$3:'Clasament'!$B42))),\"\")","v":""},{"$f":"IFERROR(INDEX(Clasament!$BH$3:$BH$72,SMALL(IF(Clasament!O$3:O$72=\"+\",ROW(Clasament!$B$3:$B$74)-ROW(Clasament!$B$3)+1),ROWS(Clasament!$B$3:'Clasament'!$B42))),\"\")","v":""},{"$f":"IFERROR(INDEX(Clasament!$BH$3:$BH$72,SMALL(IF(Clasament!P$3:P$72=\"+\",ROW(Clasament!$B$3:$B$74)-ROW(Clasament!$B$3)+1),ROWS(Clasament!$B$3:'Clasament'!$B42))),\"\")","v":""},{"$f":"IFERROR(INDEX(Clasament!$BH$3:$BH$72,SMALL(IF(Clasament!Q$3:Q$72=\"+\",ROW(Clasament!$B$3:$B$74)-ROW(Clasament!$B$3)+1),ROWS(Clasament!$B$3:'Clasament'!$B42))),\"\")","v":""},{"$f":"IFERROR(INDEX(Clasament!$BH$3:$BH$72,SMALL(IF(Clasament!R$3:R$72=\"+\",ROW(Clasament!$B$3:$B$74)-ROW(Clasament!$B$3)+1),ROWS(Clasament!$B$3:'Clasament'!$B42))),\"\")","v":""},{"$f":"IFERROR(INDEX(Clasament!$BH$3:$BH$72,SMALL(IF(Clasament!S$3:S$72=\"+\",ROW(Clasament!$B$3:$B$74)-ROW(Clasament!$B$3)+1),ROWS(Clasament!$B$3:'Clasament'!$B42))),\"\")","v":""},{"$f":"IFERROR(INDEX(Clasament!$BH$3:$BH$72,SMALL(IF(Clasament!T$3:T$72=\"+\",ROW(Clasament!$B$3:$B$74)-ROW(Clasament!$B$3)+1),ROWS(Clasament!$B$3:'Clasament'!$B42))),\"\")","v":""},{"$f":"IFERROR(INDEX(Clasament!$BH$3:$BH$72,SMALL(IF(Clasament!U$3:U$72=\"+\",ROW(Clasament!$B$3:$B$74)-ROW(Clasament!$B$3)+1),ROWS(Clasament!$B$3:'Clasament'!$B42))),\"\")","v":""},{"$f":"IFERROR(INDEX(Clasament!$BH$3:$BH$72,SMALL(IF(Clasament!V$3:V$72=\"+\",ROW(Clasament!$B$3:$B$74)-ROW(Clasament!$B$3)+1),ROWS(Clasament!$B$3:'Clasament'!$B42))),\"\")","v":""},{"$f":"IFERROR(INDEX(Clasament!$BH$3:$BH$72,SMALL(IF(Clasament!W$3:W$72=\"+\",ROW(Clasament!$B$3:$B$74)-ROW(Clasament!$B$3)+1),ROWS(Clasament!$B$3:'Clasament'!$B42))),\"\")","v":""},{"$f":"IFERROR(INDEX(Clasament!$BH$3:$BH$72,SMALL(IF(Clasament!Y$3:Y$72=\"+\",ROW(Clasament!$B$3:$B$74)-ROW(Clasament!$B$3)+1),ROWS(Clasament!$B$3:'Clasament'!$B42))),\"\")","v":""},{"$f":"IFERROR(INDEX(Clasament!$BH$3:$BH$72,SMALL(IF(Clasament!Z$3:Z$72=\"+\",ROW(Clasament!$B$3:$B$74)-ROW(Clasament!$B$3)+1),ROWS(Clasament!$B$3:'Clasament'!$B42))),\"\")","v":""},{"$f":"IFERROR(INDEX(Clasament!$BH$3:$BH$72,SMALL(IF(Clasament!AA$3:AA$72=\"+\",ROW(Clasament!$B$3:$B$74)-ROW(Clasament!$B$3)+1),ROWS(Clasament!$B$3:'Clasament'!$B42))),\"\")","v":""},{"$f":"IFERROR(INDEX(Clasament!$BH$3:$BH$72,SMALL(IF(Clasament!AB$3:AB$72=\"+\",ROW(Clasament!$B$3:$B$74)-ROW(Clasament!$B$3)+1),ROWS(Clasament!$B$3:'Clasament'!$B42))),\"\")","v":""},{"$f":"IFERROR(INDEX(Clasament!$BH$3:$BH$72,SMALL(IF(Clasament!AC$3:AC$72=\"+\",ROW(Clasament!$B$3:$B$74)-ROW(Clasament!$B$3)+1),ROWS(Clasament!$B$3:'Clasament'!$B42))),\"\")","v":""},{"$f":"IFERROR(INDEX(Clasament!$BH$3:$BH$72,SMALL(IF(Clasament!AD$3:AD$72=\"+\",ROW(Clasament!$B$3:$B$74)-ROW(Clasament!$B$3)+1),ROWS(Clasament!$B$3:'Clasament'!$B42))),\"\")","v":""},{"$f":"IFERROR(INDEX(Clasament!$BH$3:$BH$72,SMALL(IF(Clasament!AE$3:AE$72=\"+\",ROW(Clasament!$B$3:$B$74)-ROW(Clasament!$B$3)+1),ROWS(Clasament!$B$3:'Clasament'!$B42))),\"\")","v":""},{"$f":"IFERROR(INDEX(Clasament!$BH$3:$BH$72,SMALL(IF(Clasament!AF$3:AF$72=\"+\",ROW(Clasament!$B$3:$B$74)-ROW(Clasament!$B$3)+1),ROWS(Clasament!$B$3:'Clasament'!$B42))),\"\")","v":""},{"$f":"IFERROR(INDEX(Clasament!$BH$3:$BH$72,SMALL(IF(Clasament!AG$3:AG$72=\"+\",ROW(Clasament!$B$3:$B$74)-ROW(Clasament!$B$3)+1),ROWS(Clasament!$B$3:'Clasament'!$B42))),\"\")","v":""},{"$f":"IFERROR(INDEX(Clasament!$BH$3:$BH$72,SMALL(IF(Clasament!AH$3:AH$72=\"+\",ROW(Clasament!$B$3:$B$74)-ROW(Clasament!$B$3)+1),ROWS(Clasament!$B$3:'Clasament'!$B42))),\"\")","v":""},{"$f":"IFERROR(INDEX(Clasament!$BH$3:$BH$72,SMALL(IF(Clasament!AJ$3:AJ$72=\"+\",ROW(Clasament!$B$3:$B$74)-ROW(Clasament!$B$3)+1),ROWS(Clasament!$B$3:'Clasament'!$B42))),\"\")","v":""},{"$f":"IFERROR(INDEX(Clasament!$BH$3:$BH$72,SMALL(IF(Clasament!AK$3:AK$72=\"+\",ROW(Clasament!$B$3:$B$74)-ROW(Clasament!$B$3)+1),ROWS(Clasament!$B$3:'Clasament'!$B42))),\"\")","v":""},{"$f":"IFERROR(INDEX(Clasament!$BH$3:$BH$72,SMALL(IF(Clasament!AL$3:AL$72=\"+\",ROW(Clasament!$B$3:$B$74)-ROW(Clasament!$B$3)+1),ROWS(Clasament!$B$3:'Clasament'!$B42))),\"\")","v":""},{"$f":"IFERROR(INDEX(Clasament!$BH$3:$BH$72,SMALL(IF(Clasament!AM$3:AM$72=\"+\",ROW(Clasament!$B$3:$B$74)-ROW(Clasament!$B$3)+1),ROWS(Clasament!$B$3:'Clasament'!$B42))),\"\")","v":""},{"$f":"IFERROR(INDEX(Clasament!$BH$3:$BH$72,SMALL(IF(Clasament!AN$3:AN$72=\"+\",ROW(Clasament!$B$3:$B$74)-ROW(Clasament!$B$3)+1),ROWS(Clasament!$B$3:'Clasament'!$B42))),\"\")","v":""},{"$f":"IFERROR(INDEX(Clasament!$BH$3:$BH$72,SMALL(IF(Clasament!AO$3:AO$72=\"+\",ROW(Clasament!$B$3:$B$74)-ROW(Clasament!$B$3)+1),ROWS(Clasament!$B$3:'Clasament'!$B42))),\"\")","v":""},{"$f":"IFERROR(INDEX(Clasament!$BH$3:$BH$72,SMALL(IF(Clasament!AP$3:AP$72=\"+\",ROW(Clasament!$B$3:$B$74)-ROW(Clasament!$B$3)+1),ROWS(Clasament!$B$3:'Clasament'!$B42))),\"\")","v":""},{"$f":"IFERROR(INDEX(Clasament!$BH$3:$BH$72,SMALL(IF(Clasament!AQ$3:AQ$72=\"+\",ROW(Clasament!$B$3:$B$74)-ROW(Clasament!$B$3)+1),ROWS(Clasament!$B$3:'Clasament'!$B42))),\"\")","v":""},{"$f":"IFERROR(INDEX(Clasament!$BH$3:$BH$72,SMALL(IF(Clasament!AR$3:AR$72=\"+\",ROW(Clasament!$B$3:$B$74)-ROW(Clasament!$B$3)+1),ROWS(Clasament!$B$3:'Clasament'!$B42))),\"\")","v":""},{"$f":"IFERROR(INDEX(Clasament!$BH$3:$BH$72,SMALL(IF(Clasament!AS$3:AS$72=\"+\",ROW(Clasament!$B$3:$B$74)-ROW(Clasament!$B$3)+1),ROWS(Clasament!$B$3:'Clasament'!$B42))),\"\")","v":""},{"$f":"IFERROR(INDEX(Clasament!$BH$3:$BH$72,SMALL(IF(Clasament!AU$3:AU$72=\"+\",ROW(Clasament!$B$3:$B$74)-ROW(Clasament!$B$3)+1),ROWS(Clasament!$B$3:'Clasament'!$B42))),\"\")","v":""},{"$f":"IFERROR(INDEX(Clasament!$BH$3:$BH$72,SMALL(IF(Clasament!AV$3:AV$72=\"+\",ROW(Clasament!$B$3:$B$74)-ROW(Clasament!$B$3)+1),ROWS(Clasament!$B$3:'Clasament'!$B42))),\"\")","v":""},{"$f":"IFERROR(INDEX(Clasament!$BH$3:$BH$72,SMALL(IF(Clasament!AW$3:AW$72=\"+\",ROW(Clasament!$B$3:$B$74)-ROW(Clasament!$B$3)+1),ROWS(Clasament!$B$3:'Clasament'!$B42))),\"\")","v":""},{"$f":"IFERROR(INDEX(Clasament!$BH$3:$BH$72,SMALL(IF(Clasament!AX$3:AX$72=\"+\",ROW(Clasament!$B$3:$B$74)-ROW(Clasament!$B$3)+1),ROWS(Clasament!$B$3:'Clasament'!$B42))),\"\")","v":""},{"$f":"IFERROR(INDEX(Clasament!$BH$3:$BH$72,SMALL(IF(Clasament!AY$3:AY$72=\"+\",ROW(Clasament!$B$3:$B$74)-ROW(Clasament!$B$3)+1),ROWS(Clasament!$B$3:'Clasament'!$B42))),\"\")","v":""},{"$f":"IFERROR(INDEX(Clasament!$BH$3:$BH$72,SMALL(IF(Clasament!AZ$3:AZ$72=\"+\",ROW(Clasament!$B$3:$B$74)-ROW(Clasament!$B$3)+1),ROWS(Clasament!$B$3:'Clasament'!$B42))),\"\")","v":""},{"$f":"IFERROR(INDEX(Clasament!$BH$3:$BH$72,SMALL(IF(Clasament!BA$3:BA$72=\"+\",ROW(Clasament!$B$3:$B$74)-ROW(Clasament!$B$3)+1),ROWS(Clasament!$B$3:'Clasament'!$B42))),\"\")","v":""},{"$f":"IFERROR(INDEX(Clasament!$BH$3:$BH$72,SMALL(IF(Clasament!BB$3:BB$72=\"+\",ROW(Clasament!$B$3:$B$74)-ROW(Clasament!$B$3)+1),ROWS(Clasament!$B$3:'Clasament'!$B42))),\"\")","v":""},{"$f":"IFERROR(INDEX(Clasament!$BH$3:$BH$72,SMALL(IF(Clasament!BC$3:BC$72=\"+\",ROW(Clasament!$B$3:$B$74)-ROW(Clasament!$B$3)+1),ROWS(Clasament!$B$3:'Clasament'!$B42))),\"\")","v":""},{"$f":"IFERROR(INDEX(Clasament!$BH$3:$BH$72,SMALL(IF(Clasament!BD$3:BD$72=\"+\",ROW(Clasament!$B$3:$B$74)-ROW(Clasament!$B$3)+1),ROWS(Clasament!$B$3:'Clasament'!$B42))),\"\")","v":""}]
[null,{"$f":"IFERROR(INDEX(Clasament!$BH$3:$BH$72,SMALL(IF(Clasament!C$3:C$72=\"+\",ROW(Clasament!$B$3:$B$74)-ROW(Clasament!$B$3)+1),ROWS(Clasament!$B$3:'Clasament'!$B43))),\"\")","v":""},{"$f":"IFERROR(INDEX(Clasament!$BH$3:$BH$72,SMALL(IF(Clasament!D$3:D$72=\"+\",ROW(Clasament!$B$3:$B$74)-ROW(Clasament!$B$3)+1),ROWS(Clasament!$B$3:'Clasament'!$B43))),\"\")","v":""},{"$f":"IFERROR(INDEX(Clasament!$BH$3:$BH$72,SMALL(IF(Clasament!E$3:E$72=\"+\",ROW(Clasament!$B$3:$B$74)-ROW(Clasament!$B$3)+1),ROWS(Clasament!$B$3:'Clasament'!$B43))),\"\")","v":""},{"$f":"IFERROR(INDEX(Clasament!$BH$3:$BH$72,SMALL(IF(Clasament!F$3:F$72=\"+\",ROW(Clasament!$B$3:$B$74)-ROW(Clasament!$B$3)+1),ROWS(Clasament!$B$3:'Clasament'!$B43))),\"\")","v":""},{"$f":"IFERROR(INDEX(Clasament!$BH$3:$BH$72,SMALL(IF(Clasament!G$3:G$72=\"+\",ROW(Clasament!$B$3:$B$74)-ROW(Clasament!$B$3)+1),ROWS(Clasament!$B$3:'Clasament'!$B43))),\"\")","v":""},{"$f":"IFERROR(INDEX(Clasament!$BH$3:$BH$72,SMALL(IF(Clasament!H$3:H$72=\"+\",ROW(Clasament!$B$3:$B$74)-ROW(Clasament!$B$3)+1),ROWS(Clasament!$B$3:'Clasament'!$B43))),\"\")","v":""},{"$f":"IFERROR(INDEX(Clasament!$BH$3:$BH$72,SMALL(IF(Clasament!I$3:I$72=\"+\",ROW(Clasament!$B$3:$B$74)-ROW(Clasament!$B$3)+1),ROWS(Clasament!$B$3:'Clasament'!$B43))),\"\")","v":""},{"$f":"IFERROR(INDEX(Clasament!$BH$3:$BH$72,SMALL(IF(Clasament!J$3:J$72=\"+\",ROW(Clasament!$B$3:$B$74)-ROW(Clasament!$B$3)+1),ROWS(Clasament!$B$3:'Clasament'!$B43))),\"\")","v":""},{"$f":"IFERROR(INDEX(Clasament!$BH$3:$BH$72,SMALL(IF(Clasament!K$3:K$72=\"+\",ROW(Clasament!$B$3:$B$74)-ROW(Clasament!$B$3)+1),ROWS(Clasament!$B$3:'Clasament'!$B43))),\"\")","v":""},{"$f":"IFERROR(INDEX(Clasament!$BH$3:$BH$72,SMALL(IF(Clasament!L$3:L$72=\"+\",ROW(Clasament!$B$3:$B$74)-ROW(Clasament!$B$3)+1),ROWS(Clasament!$B$3:'Clasament'!$B43))),\"\")","v":""},{"$f":"IFERROR(INDEX(Clasament!$BH$3:$BH$72,SMALL(IF(Clasament!N$3:N$72=\"+\",ROW(Clasament!$B$3:$B$74)-ROW(Clasament!$B$3)+1),ROWS(Clasament!$B$3:'Clasament'!$B43))),\"\")","v":""},{"$f":"IFERROR(INDEX(Clasament!$BH$3:$BH$72,SMALL(IF(Clasament!O$3:O$72=\"+\",ROW(Clasament!$B$3:$B$74)-ROW(Clasament!$B$3)+1),ROWS(Clasament!$B$3:'Clasament'!$B43))),\"\")","v":""},{"$f":"IFERROR(INDEX(Clasament!$BH$3:$BH$72,SMALL(IF(Clasament!P$3:P$72=\"+\",ROW(Clasament!$B$3:$B$74)-ROW(Clasament!$B$3)+1),ROWS(Clasament!$B$3:'Clasament'!$B43))),\"\")","v":""},{"$f":"IFERROR(INDEX(Clasament!$BH$3:$BH$72,SMALL(IF(Clasament!Q$3:Q$72=\"+\",ROW(Clasament!$B$3:$B$74)-ROW(Clasament!$B$3)+1),ROWS(Clasament!$B$3:'Clasament'!$B43))),\"\")","v":""},{"$f":"IFERROR(INDEX(Clasament!$BH$3:$BH$72,SMALL(IF(Clasament!R$3:R$72=\"+\",ROW(Clasament!$B$3:$B$74)-ROW(Clasament!$B$3)+1),ROWS(Clasament!$B$3:'Clasament'!$B43))),\"\")","v":""},{"$f":"IFERROR(INDEX(Clasament!$BH$3:$BH$72,SMALL(IF(Clasament!S$3:S$72=\"+\",ROW(Clasament!$B$3:$B$74)-ROW(Clasament!$B$3)+1),ROWS(Clasament!$B$3:'Clasament'!$B43))),\"\")","v":""},{"$f":"IFERROR(INDEX(Clasament!$BH$3:$BH$72,SMALL(IF(Clasament!T$3:T$72=\"+\",ROW(Clasament!$B$3:$B$74)-ROW(Clasament!$B$3)+1),ROWS(Clasament!$B$3:'Clasament'!$B43))),\"\")","v":""},{"$f":"IFERROR(INDEX(Clasament!$BH$3:$BH$72,SMALL(IF(Clasament!U$3:U$72=\"+\",ROW(Clasament!$B$3:$B$74)-ROW(Clasament!$B$3)+1),ROWS(Clasament!$B$3:'Clasament'!$B43))),\"\")","v":""},{"$f":"IFERROR(INDEX(Clasament!$BH$3:$BH$72,SMALL(IF(Clasament!V$3:V$72=\"+\",ROW(Clasament!$B$3:$B$74)-ROW(Clasament!$B$3)+1),ROWS(Clasament!$B$3:'Clasament'!$B43))),\"\")","v":""},{"$f":"IFERROR(INDEX(Clasament!$BH$3:$BH$72,SMALL(IF(Clasament!W$3:W$72=\"+\",ROW(Clasament!$B$3:$B$74)-ROW(Clasament!$B$3)+1),ROWS(Clasament!$B$3:'Clasament'!$B43))),\"\")","v":""},{"$f":"IFERROR(INDEX(Clasament!$BH$3:$BH$72,SMALL(IF(Clasament!Y$3:Y$72=\"+\",ROW(Clasament!$B$3:$B$74)-ROW(Clasament!$B$3)+1),ROWS(Clasament!$B$3:'Clasament'!$B43))),\"\")","v":""},{"$f":"IFERROR(INDEX(Clasament!$BH$3:$BH$72,SMALL(IF(Clasament!Z$3:Z$72=\"+\",ROW(Clasament!$B$3:$B$74)-ROW(Clasament!$B$3)+1),ROWS(Clasament!$B$3:'Clasament'!$B43))),\"\")","v":""},{"$f":"IFERROR(INDEX(Clasament!$BH$3:$BH$72,SMALL(IF(Clasament!AA$3:AA$72=\"+\",ROW(Clasament!$B$3:$B$74)-ROW(Clasament!$B$3)+1),ROWS(Clasament!$B$3:'Clasament'!$B43))),\"\")","v":""},{"$f":"IFERROR(INDEX(Clasament!$BH$3:$BH$72,SMALL(IF(Clasament!AB$3:AB$72=\"+\",ROW(Clasament!$B$3:$B$74)-ROW(Clasament!$B$3)+1),ROWS(Clasament!$B$3:'Clasament'!$B43))),\"\")","v":""},{"$f":"IFERROR(INDEX(Clasament!$BH$3:$BH$72,SMALL(IF(Clasament!AC$3:AC$72=\"+\",ROW(Clasament!$B$3:$B$74)-ROW(Clasament!$B$3)+1),ROWS(Clasament!$B$3:'Clasament'!$B43))),\"\")","v":""},{"$f":"IFERROR(INDEX(Clasament!$BH$3:$BH$72,SMALL(IF(Clasament!AD$3:AD$72=\"+\",ROW(Clasament!$B$3:$B$74)-ROW(Clasament!$B$3)+1),ROWS(Clasament!$B$3:'Clasament'!$B43))),\"\")","v":""},{"$f":"IFERROR(INDEX(Clasament!$BH$3:$BH$72,SMALL(IF(Clasament!AE$3:AE$72=\"+\",ROW(Clasament!$B$3:$B$74)-ROW(Clasament!$B$3)+1),ROWS(Clasament!$B$3:'Clasament'!$B43))),\"\")","v":""},{"$f":"IFERROR(INDEX(Clasament!$BH$3:$BH$72,SMALL(IF(Clasament!AF$3:AF$72=\"+\",ROW(Clasament!$B$3:$B$74)-ROW(Clasament!$B$3)+1),ROWS(Clasament!$B$3:'Clasament'!$B43))),\"\")","v":""},{"$f":"IFERROR(INDEX(Clasament!$BH$3:$BH$72,SMALL(IF(Clasament!AG$3:AG$72=\"+\",ROW(Clasament!$B$3:$B$74)-ROW(Clasament!$B$3)+1),ROWS(Clasament!$B$3:'Clasament'!$B43))),\"\")","v":""},{"$f":"IFERROR(INDEX(Clasament!$BH$3:$BH$72,SMALL(IF(Clasament!AH$3:AH$72=\"+\",ROW(Clasament!$B$3:$B$74)-ROW(Clasament!$B$3)+1),ROWS(Clasament!$B$3:'Clasament'!$B43))),\"\")","v":""},{"$f":"IFERROR(INDEX(Clasament!$BH$3:$BH$72,SMALL(IF(Clasament!AJ$3:AJ$72=\"+\",ROW(Clasament!$B$3:$B$74)-ROW(Clasament!$B$3)+1),ROWS(Clasament!$B$3:'Clasament'!$B43))),\"\")","v":""},{"$f":"IFERROR(INDEX(Clasament!$BH$3:$BH$72,SMALL(IF(Clasament!AK$3:AK$72=\"+\",ROW(Clasament!$B$3:$B$74)-ROW(Clasament!$B$3)+1),ROWS(Clasament!$B$3:'Clasament'!$B43))),\"\")","v":""},{"$f":"IFERROR(INDEX(Clasament!$BH$3:$BH$72,SMALL(IF(Clasament!AL$3:AL$72=\"+\",ROW(Clasament!$B$3:$B$74)-ROW(Clasament!$B$3)+1),ROWS(Clasament!$B$3:'Clasament'!$B43))),\"\")","v":""},{"$f":"IFERROR(INDEX(Clasament!$BH$3:$BH$72,SMALL(IF(Clasament!AM$3:AM$72=\"+\",ROW(Clasament!$B$3:$B$74)-ROW(Clasament!$B$3)+1),ROWS(Clasament!$B$3:'Clasament'!$B43))),\"\")","v":""},{"$f":"IFERROR(INDEX(Clasament!$BH$3:$BH$72,SMALL(IF(Clasament!AN$3:AN$72=\"+\",ROW(Clasament!$B$3:$B$74)-ROW(Clasament!$B$3)+1),ROWS(Clasament!$B$3:'Clasament'!$B43))),\"\")","v":""},{"$f":"IFERROR(INDEX(Clasament!$BH$3:$BH$72,SMALL(IF(Clasament!AO$3:AO$72=\"+\",ROW(Clasament!$B$3:$B$74)-ROW(Clasament!$B$3)+1),ROWS(Clasament!$B$3:'Clasament'!$B43))),\"\")","v":""},{"$f":"IFERROR(INDEX(Clasament!$BH$3:$BH$72,SMALL(IF(Clasament!AP$3:AP$72=\"+\",ROW(Clasament!$B$3:$B$74)-ROW(Clasament!$B$3)+1),ROWS(Clasament!$B$3:'Clasament'!$B43))),\"\")","v":""},{"$f":"IFERROR(INDEX(Clasament!$BH$3:$BH$72,SMALL(IF(Clasament!AQ$3:AQ$72=\"+\",ROW(Clasament!$B$3:$B$74)-ROW(Clasament!$B$3)+1),ROWS(Clasament!$B$3:'Clasament'!$B43))),\"\")","v":""},{"$f":"IFERROR(INDEX(Clasament!$BH$3:$BH$72,SMALL(IF(Clasament!AR$3:AR$72=\"+\",ROW(Clasament!$B$3:$B$74)-ROW(Clasament!$B$3)+1),ROWS(Clasament!$B$3:'Clasament'!$B43))),\"\")","v":""},{"$f":"IFERROR(INDEX(Clasament!$BH$3:$BH$72,SMALL(IF(Clasament!AS$3:AS$72=\"+\",ROW(Clasament!$B$3:$B$74)-ROW(Clasament!$B$3)+1),ROWS(Clasament!$B$3:'Clasament'!$B43))),\"\")","v":""},{"$f":"IFERROR(INDEX(Clasament!$BH$3:$BH$72,SMALL(IF(Clasament!AU$3:AU$72=\"+\",ROW(Clasament!$B$3:$B$74)-ROW(Clasament!$B$3)+1),ROWS(Clasament!$B$3:'Clasament'!$B43))),\"\")","v":""},{"$f":"IFERROR(INDEX(Clasament!$BH$3:$BH$72,SMALL(IF(Clasament!AV$3:AV$72=\"+\",ROW(Clasament!$B$3:$B$74)-ROW(Clasament!$B$3)+1),ROWS(Clasament!$B$3:'Clasament'!$B43))),\"\")","v":""},{"$f":"IFERROR(INDEX(Clasament!$BH$3:$BH$72,SMALL(IF(Clasament!AW$3:AW$72=\"+\",ROW(Clasament!$B$3:$B$74)-ROW(Clasament!$B$3)+1),ROWS(Clasament!$B$3:'Clasament'!$B43))),\"\")","v":""},{"$f":"IFERROR(INDEX(Clasament!$BH$3:$BH$72,SMALL(IF(Clasament!AX$3:AX$72=\"+\",ROW(Clasament!$B$3:$B$74)-ROW(Clasament!$B$3)+1),ROWS(Clasament!$B$3:'Clasament'!$B43))),\"\")","v":""},{"$f":"IFERROR(INDEX(Clasament!$BH$3:$BH$72,SMALL(IF(Clasament!AY$3:AY$72=\"+\",ROW(Clasament!$B$3:$B$74)-ROW(Clasament!$B$3)+1),ROWS(Clasament!$B$3:'Clasament'!$B43))),\"\")","v":""},{"$f":"IFERROR(INDEX(Clasament!$BH$3:$BH$72,SMALL(IF(Clasament!AZ$3:AZ$72=\"+\",ROW(Clasament!$B$3:$B$74)-ROW(Clasament!$B$3)+1),ROWS(Clasament!$B$3:'Clasament'!$B43))),\"\")","v":""},{"$f":"IFERROR(INDEX(Clasament!$BH$3:$BH$72,SMALL(IF(Clasament!BA$3:BA$72=\"+\",ROW(Clasament!$B$3:$B$74)-ROW(Clasament!$B$3)+1),ROWS(Clasament!$B$3:'Clasament'!$B43))),\"\")","v":""},{"$f":"IFERROR(INDEX(Clasament!$BH$3:$BH$72,SMALL(IF(Clasament!BB$3:BB$72=\"+\",ROW(Clasament!$B$3:$B$74)-ROW(Clasament!$B$3)+1),ROWS(Clasament!$B$3:'Clasament'!$B43))),\"\")","v":""},{"$f":"IFERROR(INDEX(Clasament!$BH$3:$BH$72,SMALL(IF(Clasament!BC$3:BC$72=\"+\",ROW(Clasament!$B$3:$B$74)-ROW(Clasament!$B$3)+1),ROWS(Clasament!$B$3:'Clasament'!$B43))),\"\")","v":""},{"$f":"IFERROR(INDEX(Clasament!$BH$3:$BH$72,SMALL(IF(Clasament!BD$3:BD$72=\"+\",ROW(Clasament!$B$3:$B$74)-ROW(Clasament!$B$3)+1),ROWS(Clasament!$B$3:'Clasament'!$B43))),\"\")","v":""}]
[null,{"$f":"IFERROR(INDEX(Clasament!$BH$3:$BH$72,SMALL(IF(Clasament!C$3:C$72=\"+\",ROW(Clasament!$B$3:$B$74)-ROW(Clasament!$B$3)+1),ROWS(Clasament!$B$3:'Clasament'!$B44))),\"\")","v":""},{"$f":"IFERROR(INDEX(Clasament!$BH$3:$BH$72,SMALL(IF(Clasament!D$3:D$72=\"+\",ROW(Clasament!$B$3:$B$74)-ROW(Clasament!$B$3)+1),ROWS(Clasament!$B$3:'Clasament'!$B44))),\"\")","v":""},{"$f":"IFERROR(INDEX(Clasament!$BH$3:$BH$72,SMALL(IF(Clasament!E$3:E$72=\"+\",ROW(Clasament!$B$3:$B$74)-ROW(Clasament!$B$3)+1),ROWS(Clasament!$B$3:'Clasament'!$B44))),\"\")","v":""},{"$f":"IFERROR(INDEX(Clasament!$BH$3:$BH$72,SMALL(IF(Clasament!F$3:F$72=\"+\",ROW(Clasament!$B$3:$B$74)-ROW(Clasament!$B$3)+1),ROWS(Clasament!$B$3:'Clasament'!$B44))),\"\")","v":""},{"$f":"IFERROR(INDEX(Clasament!$BH$3:$BH$72,SMALL(IF(Clasament!G$3:G$72=\"+\",ROW(Clasament!$B$3:$B$74)-ROW(Clasament!$B$3)+1),ROWS(Clasament!$B$3:'Clasament'!$B44))),\"\")","v":""},{"$f":"IFERROR(INDEX(Clasament!$BH$3:$BH$72,SMALL(IF(Clasament!H$3:H$72=\"+\",ROW(Clasament!$B$3:$B$74)-ROW(Clasament!$B$3)+1),ROWS(Clasament!$B$3:'Clasament'!$B44))),\"\")","v":""},{"$f":"IFERROR(INDEX(Clasament!$BH$3:$BH$72,SMALL(IF(Clasament!I$3:I$72=\"+\",ROW(Clasament!$B$3:$B$74)-ROW(Clasament!$B$3)+1),ROWS(Clasament!$B$3:'Clasament'!$B44))),\"\")","v":""},{"$f":"IFERROR(INDEX(Clasament!$BH$3:$BH$72,SMALL(IF(Clasament!J$3:J$72=\"+\",ROW(Clasament!$B$3:$B$74)-ROW(Clasament!$B$3)+1),ROWS(Clasament!$B$3:'Clasament'!$B44))),\"\")","v":""},{"$f":"IFERROR(INDEX(Clasament!$BH$3:$BH$72,SMALL(IF(Clasament!K$3:K$72=\"+\",ROW(Clasament!$B$3:$B$74)-ROW(Clasament!$B$3)+1),ROWS(Clasament!$B$3:'Clasament'!$B44))),\"\")","v":""},{"$f":"IFERROR(INDEX(Clasament!$BH$3:$BH$72,SMALL(IF(Clasament!L$3:L$72=\"+\",ROW(Clasament!$B$3:$B$74)-ROW(Clasament!$B$3)+1),ROWS(Clasament!$B$3:'Clasament'!$B44))),\"\")","v":""},{"$f":"IFERROR(INDEX(Clasament!$BH$3:$BH$72,SMALL(IF(Clasament!N$3:N$72=\"+\",ROW(Clasament!$B$3:$B$74)-ROW(Clasament!$B$3)+1),ROWS(Clasament!$B$3:'Clasament'!$B44))),\"\")","v":""},{"$f":"IFERROR(INDEX(Clasament!$BH$3:$BH$72,SMALL(IF(Clasament!O$3:O$72=\"+\",ROW(Clasament!$B$3:$B$74)-ROW(Clasament!$B$3)+1),ROWS(Clasament!$B$3:'Clasament'!$B44))),\"\")","v":""},{"$f":"IFERROR(INDEX(Clasament!$BH$3:$BH$72,SMALL(IF(Clasament!P$3:P$72=\"+\",ROW(Clasament!$B$3:$B$74)-ROW(Clasament!$B$3)+1),ROWS(Clasament!$B$3:'Clasament'!$B44))),\"\")","v":""},{"$f":"IFERROR(INDEX(Clasament!$BH$3:$BH$72,SMALL(IF(Clasament!Q$3:Q$72=\"+\",ROW(Clasament!$B$3:$B$74)-ROW(Clasament!$B$3)+1),ROWS(Clasament!$B$3:'Clasament'!$B44))),\"\")","v":""},{"$f":"IFERROR(INDEX(Clasament!$BH$3:$BH$72,SMALL(IF(Clasament!R$3:R$72=\"+\",ROW(Clasament!$B$3:$B$74)-ROW(Clasament!$B$3)+1),ROWS(Clasament!$B$3:'Clasament'!$B44))),\"\")","v":""},{"$f":"IFERROR(INDEX(Clasament!$BH$3:$BH$72,SMALL(IF(Clasament!S$3:S$72=\"+\",ROW(Clasament!$B$3:$B$74)-ROW(Clasament!$B$3)+1),ROWS(Clasament!$B$3:'Clasament'!$B44))),\"\")","v":""},{"$f":"IFERROR(INDEX(Clasament!$BH$3:$BH$72,SMALL(IF(Clasament!T$3:T$72=\"+\",ROW(Clasament!$B$3:$B$74)-ROW(Clasament!$B$3)+1),ROWS(Clasament!$B$3:'Clasament'!$B44))),\"\")","v":""},{"$f":"IFERROR(INDEX(Clasament!$BH$3:$BH$72,SMALL(IF(Clasament!U$3:U$72=\"+\",ROW(Clasament!$B$3:$B$74)-ROW(Clasament!$B$3)+1),ROWS(Clasament!$B$3:'Clasament'!$B44))),\"\")","v":""},{"$f":"IFERROR(INDEX(Clasament!$BH$3:$BH$72,SMALL(IF(Clasament!V$3:V$72=\"+\",ROW(Clasament!$B$3:$B$74)-ROW(Clasament!$B$3)+1),ROWS(Clasament!$B$3:'Clasament'!$B44))),\"\")","v":""},{"$f":"IFERROR(INDEX(Clasament!$BH$3:$BH$72,SMALL(IF(Clasament!W$3:W$72=\"+\",ROW(Clasament!$B$3:$B$74)-ROW(Clasament!$B$3)+1),ROWS(Clasament!$B$3:'Clasament'!$B44))),\"\")","v":""},{"$f":"IFERROR(INDEX(Clasament!$BH$3:$BH$72,SMALL(IF(Clasament!Y$3:Y$72=\"+\",ROW(Clasament!$B$3:$B$74)-ROW(Clasament!$B$3)+1),ROWS(Clasament!$B$3:'Clasament'!$B44))),\"\")","v":""},{"$f":"IFERROR(INDEX(Clasament!$BH$3:$BH$72,SMALL(IF(Clasament!Z$3:Z$72=\"+\",ROW(Clasament!$B$3:$B$74)-ROW(Clasament!$B$3)+1),ROWS(Clasament!$B$3:'Clasament'!$B44))),\"\")","v":""},{"$f":"IFERROR(INDEX(Clasament!$BH$3:$BH$72,SMALL(IF(Clasament!AA$3:AA$72=\"+\",ROW(Clasament!$B$3:$B$74)-ROW(Clasament!$B$3)+1),ROWS(Clasament!$B$3:'Clasament'!$B44))),\"\")","v":""},{"$f":"IFERROR(INDEX(Clasament!$BH$3:$BH$72,SMALL(IF(Clasament!AB$3:AB$72=\"+\",ROW(Clasament!$B$3:$B$74)-ROW(Clasament!$B$3)+1),ROWS(Clasament!$B$3:'Clasament'!$B44))),\"\")","v":""},{"$f":"IFERROR(INDEX(Clasament!$BH$3:$BH$72,SMALL(IF(Clasament!AC$3:AC$72=\"+\",ROW(Clasament!$B$3:$B$74)-ROW(Clasament!$B$3)+1),ROWS(Clasament!$B$3:'Clasament'!$B44))),\"\")","v":""},{"$f":"IFERROR(INDEX(Clasament!$BH$3:$BH$72,SMALL(IF(Clasament!AD$3:AD$72=\"+\",ROW(Clasament!$B$3:$B$74)-ROW(Clasament!$B$3)+1),ROWS(Clasament!$B$3:'Clasament'!$B44))),\"\")","v":""},{"$f":"IFERROR(INDEX(Clasament!$BH$3:$BH$72,SMALL(IF(Clasament!AE$3:AE$72=\"+\",ROW(Clasament!$B$3:$B$74)-ROW(Clasament!$B$3)+1),ROWS(Clasament!$B$3:'Clasament'!$B44))),\"\")","v":""},{"$f":"IFERROR(INDEX(Clasament!$BH$3:$BH$72,SMALL(IF(Clasament!AF$3:AF$72=\"+\",ROW(Clasament!$B$3:$B$74)-ROW(Clasament!$B$3)+1),ROWS(Clasament!$B$3:'Clasament'!$B44))),\"\")","v":""},{"$f":"IFERROR(INDEX(Clasament!$BH$3:$BH$72,SMALL(IF(Clasament!AG$3:AG$72=\"+\",ROW(Clasament!$B$3:$B$74)-ROW(Clasament!$B$3)+1),ROWS(Clasament!$B$3:'Clasament'!$B44))),\"\")","v":""},{"$f":"IFERROR(INDEX(Clasament!$BH$3:$BH$72,SMALL(IF(Clasament!AH$3:AH$72=\"+\",ROW(Clasament!$B$3:$B$74)-ROW(Clasament!$B$3)+1),ROWS(Clasament!$B$3:'Clasament'!$B44))),\"\")","v":""},{"$f":"IFERROR(INDEX(Clasament!$BH$3:$BH$72,SMALL(IF(Clasament!AJ$3:AJ$72=\"+\",ROW(Clasament!$B$3:$B$74)-ROW(Clasament!$B$3)+1),ROWS(Clasament!$B$3:'Clasament'!$B44))),\"\")","v":""},{"$f":"IFERROR(INDEX(Clasament!$BH$3:$BH$72,SMALL(IF(Clasament!AK$3:AK$72=\"+\",ROW(Clasament!$B$3:$B$74)-ROW(Clasament!$B$3)+1),ROWS(Clasament!$B$3:'Clasament'!$B44))),\"\")","v":""},{"$f":"IFERROR(INDEX(Clasament!$BH$3:$BH$72,SMALL(IF(Clasament!AL$3:AL$72=\"+\",ROW(Clasament!$B$3:$B$74)-ROW(Clasament!$B$3)+1),ROWS(Clasament!$B$3:'Clasament'!$B44))),\"\")","v":""},{"$f":"IFERROR(INDEX(Clasament!$BH$3:$BH$72,SMALL(IF(Clasament!AM$3:AM$72=\"+\",ROW(Clasament!$B$3:$B$74)-ROW(Clasament!$B$3)+1),ROWS(Clasament!$B$3:'Clasament'!$B44))),\"\")","v":""},{"$f":"IFERROR(INDEX(Clasament!$BH$3:$BH$72,SMALL(IF(Clasament!AN$3:AN$72=\"+\",ROW(Clasament!$B$3:$B$74)-ROW(Clasament!$B$3)+1),ROWS(Clasament!$B$3:'Clasament'!$B44))),\"\")","v":""},{"$f":"IFERROR(INDEX(Clasament!$BH$3:$BH$72,SMALL(IF(Clasament!AO$3:AO$72=\"+\",ROW(Clasament!$B$3:$B$74)-ROW(Clasament!$B$3)+1),ROWS(Clasament!$B$3:'Clasament'!$B44))),\"\")","v":""},{"$f":"IFERROR(INDEX(Clasament!$BH$3:$BH$72,SMALL(IF(Clasament!AP$3:AP$72=\"+\",ROW(Clasament!$B$3:$B$74)-ROW(Clasament!$B$3)+1),ROWS(Clasament!$B$3:'Clasament'!$B44))),\"\")","v":""},{"$f":"IFERROR(INDEX(Clasament!$BH$3:$BH$72,SMALL(IF(Clasament!AQ$3:AQ$72=\"+\",ROW(Clasament!$B$3:$B$74)-ROW(Clasament!$B$3)+1),ROWS(Clasament!$B$3:'Clasament'!$B44))),\"\")","v":""},{"$f":"IFERROR(INDEX(Clasament!$BH$3:$BH$72,SMALL(IF(Clasament!AR$3:AR$72=\"+\",ROW(Clasament!$B$3:$B$74)-ROW(Clasament!$B$3)+1),ROWS(Clasament!$B$3:'Clasament'!$B44))),\"\")","v":""},{"$f":"IFERROR(INDEX(Clasament!$BH$3:$BH$72,SMALL(IF(Clasament!AS$3:AS$72=\"+\",ROW(Clasament!$B$3:$B$74)-ROW(Clasament!$B$3)+1),ROWS(Clasament!$B$3:'Clasament'!$B44))),\"\")","v":""},{"$f":"IFERROR(INDEX(Clasament!$BH$3:$BH$72,SMALL(IF(Clasament!AU$3:AU$72=\"+\",ROW(Clasament!$B$3:$B$74)-ROW(Clasament!$B$3)+1),ROWS(Clasament!$B$3:'Clasament'!$B44))),\"\")","v":""},{"$f":"IFERROR(INDEX(Clasament!$BH$3:$BH$72,SMALL(IF(Clasament!AV$3:AV$72=\"+\",ROW(Clasament!$B$3:$B$74)-ROW(Clasament!$B$3)+1),ROWS(Clasament!$B$3:'Clasament'!$B44))),\"\")","v":""},{"$f":"IFERROR(INDEX(Clasament!$BH$3:$BH$72,SMALL(IF(Clasament!AW$3:AW$72=\"+\",ROW(Clasament!$B$3:$B$74)-ROW(Clasament!$B$3)+1),ROWS(Clasament!$B$3:'Clasament'!$B44))),\"\")","v":""},{"$f":"IFERROR(INDEX(Clasament!$BH$3:$BH$72,SMALL(IF(Clasament!AX$3:AX$72=\"+\",ROW(Clasament!$B$3:$B$74)-ROW(Clasament!$B$3)+1),ROWS(Clasament!$B$3:'Clasament'!$B44))),\"\")","v":""},{"$f":"IFERROR(INDEX(Clasament!$BH$3:$BH$72,SMALL(IF(Clasament!AY$3:AY$72=\"+\",ROW(Clasament!$B$3:$B$74)-ROW(Clasament!$B$3)+1),ROWS(Clasament!$B$3:'Clasament'!$B44))),\"\")","v":""},{"$f":"IFERROR(INDEX(Clasament!$BH$3:$BH$72,SMALL(IF(Clasament!AZ$3:AZ$72=\"+\",ROW(Clasament!$B$3:$B$74)-ROW(Clasament!$B$3)+1),ROWS(Clasament!$B$3:'Clasament'!$B44))),\"\")","v":""},{"$f":"IFERROR(INDEX(Clasament!$BH$3:$BH$72,SMALL(IF(Clasament!BA$3:BA$72=\"+\",ROW(Clasament!$B$3:$B$74)-ROW(Clasament!$B$3)+1),ROWS(Clasament!$B$3:'Clasament'!$B44))),\"\")","v":""},{"$f":"IFERROR(INDEX(Clasament!$BH$3:$BH$72,SMALL(IF(Clasament!BB$3:BB$72=\"+\",ROW(Clasament!$B$3:$B$74)-ROW(Clasament!$B$3)+1),ROWS(Clasament!$B$3:'Clasament'!$B44))),\"\")","v":""},{"$f":"IFERROR(INDEX(Clasament!$BH$3:$BH$72,SMALL(IF(Clasament!BC$3:BC$72=\"+\",ROW(Clasament!$B$3:$B$74)-ROW(Clasament!$B$3)+1),ROWS(Clasament!$B$3:'Clasament'!$B44))),\"\")","v":""},{"$f":"IFERROR(INDEX(Clasament!$BH$3:$BH$72,SMALL(IF(Clasament!BD$3:BD$72=\"+\",ROW(Clasament!$B$3:$B$74)-ROW(Clasament!$B$3)+1),ROWS(Clasament!$B$3:'Clasament'!$B44))),\"\")","v":""}]
[null,{"$f":"IFERROR(INDEX(Clasament!$BH$3:$BH$72,SMALL(IF(Clasament!C$3:C$72=\"+\",ROW(Clasament!$B$3:$B$74)-ROW(Clasament!$B$3)+1),ROWS(Clasament!$B$3:'Clasament'!$B45))),\"\")","v":""},{"$f":"IFERROR(INDEX(Clasament!$BH$3:$BH$72,SMALL(IF(Clasament!D$3:D$72=\"+\",ROW(Clasament!$B$3:$B$74)-ROW(Clasament!$B$3)+1),ROWS(Clasament!$B$3:'Clasament'!$B45))),\"\")","v":""},{"$f":"IFERROR(INDEX(Clasament!$BH$3:$BH$72,SMALL(IF(Clasament!E$3:E$72=\"+\",ROW(Clasament!$B$3:$B$74)-ROW(Clasament!$B$3)+1),ROWS(Clasament!$B$3:'Clasament'!$B45))),\"\")","v":""},{"$f":"IFERROR(INDEX(Clasament!$BH$3:$BH$72,SMALL(IF(Clasament!F$3:F$72=\"+\",ROW(Clasament!$B$3:$B$74)-ROW(Clasament!$B$3)+1),ROWS(Clasament!$B$3:'Clasament'!$B45))),\"\")","v":""},{"$f":"IFERROR(INDEX(Clasament!$BH$3:$BH$72,SMALL(IF(Clasament!G$3:G$72=\"+\",ROW(Clasament!$B$3:$B$74)-ROW(Clasament!$B$3)+1),ROWS(Clasament!$B$3:'Clasament'!$B45))),\"\")","v":""},{"$f":"IFERROR(INDEX(Clasament!$BH$3:$BH$72,SMALL(IF(Clasament!H$3:H$72=\"+\",ROW(Clasament!$B$3:$B$74)-ROW(Clasament!$B$3)+1),ROWS(Clasament!$B$3:'Clasament'!$B45))),\"\")","v":""},{"$f":"IFERROR(INDEX(Clasament!$BH$3:$BH$72,SMALL(IF(Clasament!I$3:I$72=\"+\",ROW(Clasament!$B$3:$B$74)-ROW(Clasament!$B$3)+1),ROWS(Clasament!$B$3:'Clasament'!$B45))),\"\")","v":""},{"$f":"IFERROR(INDEX(Clasament!$BH$3:$BH$72,SMALL(IF(Clasament!J$3:J$72=\"+\",ROW(Clasament!$B$3:$B$74)-ROW(Clasament!$B$3)+1),ROWS(Clasament!$B$3:'Clasament'!$B45))),\"\")","v":""},{"$f":"IFERROR(INDEX(Clasament!$BH$3:$BH$72,SMALL(IF(Clasament!K$3:K$72=\"+\",ROW(Clasament!$B$3:$B$74)-ROW(Clasament!$B$3)+1),ROWS(Clasament!$B$3:'Clasament'!$B45))),\"\")","v":""},{"$f":"IFERROR(INDEX(Clasament!$BH$3:$BH$72,SMALL(IF(Clasament!L$3:L$72=\"+\",ROW(Clasament!$B$3:$B$74)-ROW(Clasament!$B$3)+1),ROWS(Clasament!$B$3:'Clasament'!$B45))),\"\")","v":""},{"$f":"IFERROR(INDEX(Clasament!$BH$3:$BH$72,SMALL(IF(Clasament!N$3:N$72=\"+\",ROW(Clasament!$B$3:$B$74)-ROW(Clasament!$B$3)+1),ROWS(Clasament!$B$3:'Clasament'!$B45))),\"\")","v":""},{"$f":"IFERROR(INDEX(Clasament!$BH$3:$BH$72,SMALL(IF(Clasament!O$3:O$72=\"+\",ROW(Clasament!$B$3:$B$74)-ROW(Clasament!$B$3)+1),ROWS(Clasament!$B$3:'Clasament'!$B45))),\"\")","v":""},{"$f":"IFERROR(INDEX(Clasament!$BH$3:$BH$72,SMALL(IF(Clasament!P$3:P$72=\"+\",ROW(Clasament!$B$3:$B$74)-ROW(Clasament!$B$3)+1),ROWS(Clasament!$B$3:'Clasament'!$B45))),\"\")","v":""},{"$f":"IFERROR(INDEX(Clasament!$BH$3:$BH$72,SMALL(IF(Clasament!Q$3:Q$72=\"+\",ROW(Clasament!$B$3:$B$74)-ROW(Clasament!$B$3)+1),ROWS(Clasament!$B$3:'Clasament'!$B45))),\"\")","v":""},{"$f":"IFERROR(INDEX(Clasament!$BH$3:$BH$72,SMALL(IF(Clasament!R$3:R$72=\"+\",ROW(Clasament!$B$3:$B$74)-ROW(Clasament!$B$3)+1),ROWS(Clasament!$B$3:'Clasament'!$B45))),\"\")","v":""},{"$f":"IFERROR(INDEX(Clasament!$BH$3:$BH$72,SMALL(IF(Clasament!S$3:S$72=\"+\",ROW(Clasament!$B$3:$B$74)-ROW(Clasament!$B$3)+1),ROWS(Clasament!$B$3:'Clasament'!$B45))),\"\")","v":""},{"$f":"IFERROR(INDEX(Clasament!$BH$3:$BH$72,SMALL(IF(Clasament!T$3:T$72=\"+\",ROW(Clasament!$B$3:$B$74)-ROW(Clasament!$B$3)+1),ROWS(Clasament!$B$3:'Clasament'!$B45))),\"\")","v":""},{"$f":"IFERROR(INDEX(Clasament!$BH$3:$BH$72,SMALL(IF(Clasament!U$3:U$72=\"+\",ROW(Clasament!$B$3:$B$74)-ROW(Clasament!$B$3)+1),ROWS(Clasament!$B$3:'Clasament'!$B45))),\"\")","v":""},{"$f":"IFERROR(INDEX(Clasament!$BH$3:$BH$72,SMALL(IF(Clasament!V$3:V$72=\"+\",ROW(Clasament!$B$3:$B$74)-ROW(Clasament!$B$3)+1),ROWS(Clasament!$B$3:'Clasament'!$B45))),\"\")","v":""},{"$f":"IFERROR(INDEX(Clasament!$BH$3:$BH$72,SMALL(IF(Clasament!W$3:W$72=\"+\",ROW(Clasament!$B$3:$B$74)-ROW(Clasament!$B$3)+1),ROWS(Clasament!$B$3:'Clasament'!$B45))),\"\")","v":""},{"$f":"IFERROR(INDEX(Clasament!$BH$3:$BH$72,SMALL(IF(Clasament!Y$3:Y$72=\"+\",ROW(Clasament!$B$3:$B$74)-ROW(Clasament!$B$3)+1),ROWS(Clasament!$B$3:'Clasament'!$B45))),\"\")","v":""},{"$f":"IFERROR(INDEX(Clasament!$BH$3:$BH$72,SMALL(IF(Clasament!Z$3:Z$72=\"+\",ROW(Clasament!$B$3:$B$74)-ROW(Clasament!$B$3)+1),ROWS(Clasament!$B$3:'Clasament'!$B45))),\"\")","v":""},{"$f":"IFERROR(INDEX(Clasament!$BH$3:$BH$72,SMALL(IF(Clasament!AA$3:AA$72=\"+\",ROW(Clasament!$B$3:$B$74)-ROW(Clasament!$B$3)+1),ROWS(Clasament!$B$3:'Clasament'!$B45))),\"\")","v":""},{"$f":"IFERROR(INDEX(Clasament!$BH$3:$BH$72,SMALL(IF(Clasament!AB$3:AB$72=\"+\",ROW(Clasament!$B$3:$B$74)-ROW(Clasament!$B$3)+1),ROWS(Clasament!$B$3:'Clasament'!$B45))),\"\")","v":""},{"$f":"IFERROR(INDEX(Clasament!$BH$3:$BH$72,SMALL(IF(Clasament!AC$3:AC$72=\"+\",ROW(Clasament!$B$3:$B$74)-ROW(Clasament!$B$3)+1),ROWS(Clasament!$B$3:'Clasament'!$B45))),\"\")","v":""},{"$f":"IFERROR(INDEX(Clasament!$BH$3:$BH$72,SMALL(IF(Clasament!AD$3:AD$72=\"+\",ROW(Clasament!$B$3:$B$74)-ROW(Clasament!$B$3)+1),ROWS(Clasament!$B$3:'Clasament'!$B45))),\"\")","v":""},{"$f":"IFERROR(INDEX(Clasament!$BH$3:$BH$72,SMALL(IF(Clasament!AE$3:AE$72=\"+\",ROW(Clasament!$B$3:$B$74)-ROW(Clasament!$B$3)+1),ROWS(Clasament!$B$3:'Clasament'!$B45))),\"\")","v":""},{"$f":"IFERROR(INDEX(Clasament!$BH$3:$BH$72,SMALL(IF(Clasament!AF$3:AF$72=\"+\",ROW(Clasament!$B$3:$B$74)-ROW(Clasament!$B$3)+1),ROWS(Clasament!$B$3:'Clasament'!$B45))),\"\")","v":""},{"$f":"IFERROR(INDEX(Clasament!$BH$3:$BH$72,SMALL(IF(Clasament!AG$3:AG$72=\"+\",ROW(Clasament!$B$3:$B$74)-ROW(Clasament!$B$3)+1),ROWS(Clasament!$B$3:'Clasament'!$B45))),\"\")","v":""},{"$f":"IFERROR(INDEX(Clasament!$BH$3:$BH$72,SMALL(IF(Clasament!AH$3:AH$72=\"+\",ROW(Clasament!$B$3:$B$74)-ROW(Clasament!$B$3)+1),ROWS(Clasament!$B$3:'Clasament'!$B45))),\"\")","v":""},{"$f":"IFERROR(INDEX(Clasament!$BH$3:$BH$72,SMALL(IF(Clasament!AJ$3:AJ$72=\"+\",ROW(Clasament!$B$3:$B$74)-ROW(Clasament!$B$3)+1),ROWS(Clasament!$B$3:'Clasament'!$B45))),\"\")","v":""},{"$f":"IFERROR(INDEX(Clasament!$BH$3:$BH$72,SMALL(IF(Clasament!AK$3:AK$72=\"+\",ROW(Clasament!$B$3:$B$74)-ROW(Clasament!$B$3)+1),ROWS(Clasament!$B$3:'Clasament'!$B45))),\"\")","v":""},{"$f":"IFERROR(INDEX(Clasament!$BH$3:$BH$72,SMALL(IF(Clasament!AL$3:AL$72=\"+\",ROW(Clasament!$B$3:$B$74)-ROW(Clasament!$B$3)+1),ROWS(Clasament!$B$3:'Clasament'!$B45))),\"\")","v":""},{"$f":"IFERROR(INDEX(Clasament!$BH$3:$BH$72,SMALL(IF(Clasament!AM$3:AM$72=\"+\",ROW(Clasament!$B$3:$B$74)-ROW(Clasament!$B$3)+1),ROWS(Clasament!$B$3:'Clasament'!$B45))),\"\")","v":""},{"$f":"IFERROR(INDEX(Clasament!$BH$3:$BH$72,SMALL(IF(Clasament!AN$3:AN$72=\"+\",ROW(Clasament!$B$3:$B$74)-ROW(Clasament!$B$3)+1),ROWS(Clasament!$B$3:'Clasament'!$B45))),\"\")","v":""},{"$f":"IFERROR(INDEX(Clasament!$BH$3:$BH$72,SMALL(IF(Clasament!AO$3:AO$72=\"+\",ROW(Clasament!$B$3:$B$74)-ROW(Clasament!$B$3)+1),ROWS(Clasament!$B$3:'Clasament'!$B45))),\"\")","v":""},{"$f":"IFERROR(INDEX(Clasament!$BH$3:$BH$72,SMALL(IF(Clasament!AP$3:AP$72=\"+\",ROW(Clasament!$B$3:$B$74)-ROW(Clasament!$B$3)+1),ROWS(Clasament!$B$3:'Clasament'!$B45))),\"\")","v":""},{"$f":"IFERROR(INDEX(Clasament!$BH$3:$BH$72,SMALL(IF(Clasament!AQ$3:AQ$72=\"+\",ROW(Clasament!$B$3:$B$74)-ROW(Clasament!$B$3)+1),ROWS(Clasament!$B$3:'Clasament'!$B45))),\"\")","v":""},{"$f":"IFERROR(INDEX(Clasament!$BH$3:$BH$72,SMALL(IF(Clasament!AR$3:AR$72=\"+\",ROW(Clasament!$B$3:$B$74)-ROW(Clasament!$B$3)+1),ROWS(Clasament!$B$3:'Clasament'!$B45))),\"\")","v":""},{"$f":"IFERROR(INDEX(Clasament!$BH$3:$BH$72,SMALL(IF(Clasament!AS$3:AS$72=\"+\",ROW(Clasament!$B$3:$B$74)-ROW(Clasament!$B$3)+1),ROWS(Clasament!$B$3:'Clasament'!$B45))),\"\")","v":""},{"$f":"IFERROR(INDEX(Clasament!$BH$3:$BH$72,SMALL(IF(Clasament!AU$3:AU$72=\"+\",ROW(Clasament!$B$3:$B$74)-ROW(Clasament!$B$3)+1),ROWS(Clasament!$B$3:'Clasament'!$B45))),\"\")","v":""},{"$f":"IFERROR(INDEX(Clasament!$BH$3:$BH$72,SMALL(IF(Clasament!AV$3:AV$72=\"+\",ROW(Clasament!$B$3:$B$74)-ROW(Clasament!$B$3)+1),ROWS(Clasament!$B$3:'Clasament'!$B45))),\"\")","v":""},{"$f":"IFERROR(INDEX(Clasament!$BH$3:$BH$72,SMALL(IF(Clasament!AW$3:AW$72=\"+\",ROW(Clasament!$B$3:$B$74)-ROW(Clasament!$B$3)+1),ROWS(Clasament!$B$3:'Clasament'!$B45))),\"\")","v":""},{"$f":"IFERROR(INDEX(Clasament!$BH$3:$BH$72,SMALL(IF(Clasament!AX$3:AX$72=\"+\",ROW(Clasament!$B$3:$B$74)-ROW(Clasament!$B$3)+1),ROWS(Clasament!$B$3:'Clasament'!$B45))),\"\")","v":""},{"$f":"IFERROR(INDEX(Clasament!$BH$3:$BH$72,SMALL(IF(Clasament!AY$3:AY$72=\"+\",ROW(Clasament!$B$3:$B$74)-ROW(Clasament!$B$3)+1),ROWS(Clasament!$B$3:'Clasament'!$B45))),\"\")","v":""},{"$f":"IFERROR(INDEX(Clasament!$BH$3:$BH$72,SMALL(IF(Clasament!AZ$3:AZ$72=\"+\",ROW(Clasament!$B$3:$B$74)-ROW(Clasament!$B$3)+1),ROWS(Clasament!$B$3:'Clasament'!$B45))),\"\")","v":""},{"$f":"IFERROR(INDEX(Clasament!$BH$3:$BH$72,SMALL(IF(Clasament!BA$3:BA$72=\"+\",ROW(Clasament!$B$3:$B$74)-ROW(Clasament!$B$3)+1),ROWS(Clasament!$B$3:'Clasament'!$B45))),\"\")","v":""},{"$f":"IFERROR(INDEX(Clasament!$BH$3:$BH$72,SMALL(IF(Clasament!BB$3:BB$72=\"+\",ROW(Clasament!$B$3:$B$74)-ROW(Clasament!$B$3)+1),ROWS(Clasament!$B$3:'Clasament'!$B45))),\"\")","v":""},{"$f":"IFERROR(INDEX(Clasament!$BH$3:$BH$72,SMALL(IF(Clasament!BC$3:BC$72=\"+\",ROW(Clasament!$B$3:$B$74)-ROW(Clasament!$B$3)+1),ROWS(Clasament!$B$3:'Clasament'!$B45))),\"\")","v":""},{"$f":"IFERROR(INDEX(Clasament!$BH$3:$BH$72,SMALL(IF(Clasament!BD$3:BD$72=\"+\",ROW(Clasament!$B$3:$B$74)-ROW(Clasament!$B$3)+1),ROWS(Clasament!$B$3:'Clasament'!$B45))),\"\")","v":""}]
[null,{"$f":"IFERROR(INDEX(Clasament!$BH$3:$BH$72,SMALL(IF(Clasament!C$3:C$72=\"+\",ROW(Clasament!$B$3:$B$74)-ROW(Clasament!$B$3)+1),ROWS(Clasament!$B$3:'Clasament'!$B46))),\"\")","v":""},{"$f":"IFERROR(INDEX(Clasament!$BH$3:$BH$72,SMALL(IF(Clasament!D$3:D$72=\"+\",ROW(Clasament!$B$3:$B$74)-ROW(Clasament!$B$3)+1),ROWS(Clasament!$B$3:'Clasament'!$B46))),\"\")","v":""},{"$f":"IFERROR(INDEX(Clasament!$BH$3:$BH$72,SMALL(IF(Clasament!E$3:E$72=\"+\",ROW(Clasament!$B$3:$B$74)-ROW(Clasament!$B$3)+1),ROWS(Clasament!$B$3:'Clasament'!$B46))),\"\")","v":""},{"$f":"IFERROR(INDEX(Clasament!$BH$3:$BH$72,SMALL(IF(Clasament!F$3:F$72=\"+\",ROW(Clasament!$B$3:$B$74)-ROW(Clasament!$B$3)+1),ROWS(Clasament!$B$3:'Clasament'!$B46))),\"\")","v":""},{"$f":"IFERROR(INDEX(Clasament!$BH$3:$BH$72,SMALL(IF(Clasament!G$3:G$72=\"+\",ROW(Clasament!$B$3:$B$74)-ROW(Clasament!$B$3)+1),ROWS(Clasament!$B$3:'Clasament'!$B46))),\"\")","v":""},{"$f":"IFERROR(INDEX(Clasament!$BH$3:$BH$72,SMALL(IF(Clasament!H$3:H$72=\"+\",ROW(Clasament!$B$3:$B$74)-ROW(Clasament!$B$3)+1),ROWS(Clasament!$B$3:'Clasament'!$B46))),\"\")","v":""},{"$f":"IFERROR(INDEX(Clasament!$BH$3:$BH$72,SMALL(IF(Clasament!I$3:I$72=\"+\",ROW(Clasament!$B$3:$B$74)-ROW(Clasament!$B$3)+1),ROWS(Clasament!$B$3:'Clasament'!$B46))),\"\")","v":""},{"$f":"IFERROR(INDEX(Clasament!$BH$3:$BH$72,SMALL(IF(Clasament!J$3:J$72=\"+\",ROW(Clasament!$B$3:$B$74)-ROW(Clasament!$B$3)+1),ROWS(Clasament!$B$3:'Clasament'!$B46))),\"\")","v":""},{"$f":"IFERROR(INDEX(Clasament!$BH$3:$BH$72,SMALL(IF(Clasament!K$3:K$72=\"+\",ROW(Clasament!$B$3:$B$74)-ROW(Clasament!$B$3)+1),ROWS(Clasament!$B$3:'Clasament'!$B46))),\"\")","v":""},{"$f":"IFERROR(INDEX(Clasament!$BH$3:$BH$72,SMALL(IF(Clasament!L$3:L$72=\"+\",ROW(Clasament!$B$3:$B$74)-ROW(Clasament!$B$3)+1),ROWS(Clasament!$B$3:'Clasament'!$B46))),\"\")","v":""},{"$f":"IFERROR(INDEX(Clasament!$BH$3:$BH$72,SMALL(IF(Clasament!N$3:N$72=\"+\",ROW(Clasament!$B$3:$B$74)-ROW(Clasament!$B$3)+1),ROWS(Clasament!$B$3:'Clasament'!$B46))),\"\")","v":""},{"$f":"IFERROR(INDEX(Clasament!$BH$3:$BH$72,SMALL(IF(Clasament!O$3:O$72=\"+\",ROW(Clasament!$B$3:$B$74)-ROW(Clasament!$B$3)+1),ROWS(Clasament!$B$3:'Clasament'!$B46))),\"\")","v":""},{"$f":"IFERROR(INDEX(Clasament!$BH$3:$BH$72,SMALL(IF(Clasament!P$3:P$72=\"+\",ROW(Clasament!$B$3:$B$74)-ROW(Clasament!$B$3)+1),ROWS(Clasament!$B$3:'Clasament'!$B46))),\"\")","v":""},{"$f":"IFERROR(INDEX(Clasament!$BH$3:$BH$72,SMALL(IF(Clasament!Q$3:Q$72=\"+\",ROW(Clasament!$B$3:$B$74)-ROW(Clasament!$B$3)+1),ROWS(Clasament!$B$3:'Clasament'!$B46))),\"\")","v":""},{"$f":"IFERROR(INDEX(Clasament!$BH$3:$BH$72,SMALL(IF(Clasament!R$3:R$72=\"+\",ROW(Clasament!$B$3:$B$74)-ROW(Clasament!$B$3)+1),ROWS(Clasament!$B$3:'Clasament'!$B46))),\"\")","v":""},{"$f":"IFERROR(INDEX(Clasament!$BH$3:$BH$72,SMALL(IF(Clasament!S$3:S$72=\"+\",ROW(Clasament!$B$3:$B$74)-ROW(Clasament!$B$3)+1),ROWS(Clasament!$B$3:'Clasament'!$B46))),\"\")","v":""},{"$f":"IFERROR(INDEX(Clasament!$BH$3:$BH$72,SMALL(IF(Clasament!T$3:T$72=\"+\",ROW(Clasament!$B$3:$B$74)-ROW(Clasament!$B$3)+1),ROWS(Clasament!$B$3:'Clasament'!$B46))),\"\")","v":""},{"$f":"IFERROR(INDEX(Clasament!$BH$3:$BH$72,SMALL(IF(Clasament!U$3:U$72=\"+\",ROW(Clasament!$B$3:$B$74)-ROW(Clasament!$B$3)+1),ROWS(Clasament!$B$3:'Clasament'!$B46))),\"\")","v":""},{"$f":"IFERROR(INDEX(Clasament!$BH$3:$BH$72,SMALL(IF(Clasament!V$3:V$72=\"+\",ROW(Clasament!$B$3:$B$74)-ROW(Clasament!$B$3)+1),ROWS(Clasament!$B$3:'Clasament'!$B46))),\"\")","v":""},{"$f":"IFERROR(INDEX(Clasament!$BH$3:$BH$72,SMALL(IF(Clasament!W$3:W$72=\"+\",ROW(Clasament!$B$3:$B$74)-ROW(Clasament!$B$3)+1),ROWS(Clasament!$B$3:'Clasament'!$B46))),\"\")","v":""},{"$f":"IFERROR(INDEX(Clasament!$BH$3:$BH$72,SMALL(IF(Clasament!Y$3:Y$72=\"+\",ROW(Clasament!$B$3:$B$74)-ROW(Clasament!$B$3)+1),ROWS(Clasament!$B$3:'Clasament'!$B46))),\"\")","v":""},{"$f":"IFERROR(INDEX(Clasament!$BH$3:$BH$72,SMALL(IF(Clasament!Z$3:Z$72=\"+\",ROW(Clasament!$B$3:$B$74)-ROW(Clasament!$B$3)+1),ROWS(Clasament!$B$3:'Clasament'!$B46))),\"\")","v":""},{"$f":"IFERROR(INDEX(Clasament!$BH$3:$BH$72,SMALL(IF(Clasament!AA$3:AA$72=\"+\",ROW(Clasament!$B$3:$B$74)-ROW(Clasament!$B$3)+1),ROWS(Clasament!$B$3:'Clasament'!$B46))),\"\")","v":""},{"$f":"IFERROR(INDEX(Clasament!$BH$3:$BH$72,SMALL(IF(Clasament!AB$3:AB$72=\"+\",ROW(Clasament!$B$3:$B$74)-ROW(Clasament!$B$3)+1),ROWS(Clasament!$B$3:'Clasament'!$B46))),\"\")","v":""},{"$f":"IFERROR(INDEX(Clasament!$BH$3:$BH$72,SMALL(IF(Clasament!AC$3:AC$72=\"+\",ROW(Clasament!$B$3:$B$74)-ROW(Clasament!$B$3)+1),ROWS(Clasament!$B$3:'Clasament'!$B46))),\"\")","v":""},{"$f":"IFERROR(INDEX(Clasament!$BH$3:$BH$72,SMALL(IF(Clasament!AD$3:AD$72=\"+\",ROW(Clasament!$B$3:$B$74)-ROW(Clasament!$B$3)+1),ROWS(Clasament!$B$3:'Clasament'!$B46))),\"\")","v":""},{"$f":"IFERROR(INDEX(Clasament!$BH$3:$BH$72,SMALL(IF(Clasament!AE$3:AE$72=\"+\",ROW(Clasament!$B$3:$B$74)-ROW(Clasament!$B$3)+1),ROWS(Clasament!$B$3:'Clasament'!$B46))),\"\")","v":""},{"$f":"IFERROR(INDEX(Clasament!$BH$3:$BH$72,SMALL(IF(Clasament!AF$3:AF$72=\"+\",ROW(Clasament!$B$3:$B$74)-ROW(Clasament!$B$3)+1),ROWS(Clasament!$B$3:'Clasament'!$B46))),\"\")","v":""},{"$f":"IFERROR(INDEX(Clasament!$BH$3:$BH$72,SMALL(IF(Clasament!AG$3:AG$72=\"+\",ROW(Clasament!$B$3:$B$74)-ROW(Clasament!$B$3)+1),ROWS(Clasament!$B$3:'Clasament'!$B46))),\"\")","v":""},{"$f":"IFERROR(INDEX(Clasament!$BH$3:$BH$72,SMALL(IF(Clasament!AH$3:AH$72=\"+\",ROW(Clasament!$B$3:$B$74)-ROW(Clasament!$B$3)+1),ROWS(Clasament!$B$3:'Clasament'!$B46))),\"\")","v":""},{"$f":"IFERROR(INDEX(Clasament!$BH$3:$BH$72,SMALL(IF(Clasament!AJ$3:AJ$72=\"+\",ROW(Clasament!$B$3:$B$74)-ROW(Clasament!$B$3)+1),ROWS(Clasament!$B$3:'Clasament'!$B46))),\"\")","v":""},{"$f":"IFERROR(INDEX(Clasament!$BH$3:$BH$72,SMALL(IF(Clasament!AK$3:AK$72=\"+\",ROW(Clasament!$B$3:$B$74)-ROW(Clasament!$B$3)+1),ROWS(Clasament!$B$3:'Clasament'!$B46))),\"\")","v":""},{"$f":"IFERROR(INDEX(Clasament!$BH$3:$BH$72,SMALL(IF(Clasament!AL$3:AL$72=\"+\",ROW(Clasament!$B$3:$B$74)-ROW(Clasament!$B$3)+1),ROWS(Clasament!$B$3:'Clasament'!$B46))),\"\")","v":""},{"$f":"IFERROR(INDEX(Clasament!$BH$3:$BH$72,SMALL(IF(Clasament!AM$3:AM$72=\"+\",ROW(Clasament!$B$3:$B$74)-ROW(Clasament!$B$3)+1),ROWS(Clasament!$B$3:'Clasament'!$B46))),\"\")","v":""},{"$f":"IFERROR(INDEX(Clasament!$BH$3:$BH$72,SMALL(IF(Clasament!AN$3:AN$72=\"+\",ROW(Clasament!$B$3:$B$74)-ROW(Clasament!$B$3)+1),ROWS(Clasament!$B$3:'Clasament'!$B46))),\"\")","v":""},{"$f":"IFERROR(INDEX(Clasament!$BH$3:$BH$72,SMALL(IF(Clasament!AO$3:AO$72=\"+\",ROW(Clasament!$B$3:$B$74)-ROW(Clasament!$B$3)+1),ROWS(Clasament!$B$3:'Clasament'!$B46))),\"\")","v":""},{"$f":"IFERROR(INDEX(Clasament!$BH$3:$BH$72,SMALL(IF(Clasament!AP$3:AP$72=\"+\",ROW(Clasament!$B$3:$B$74)-ROW(Clasament!$B$3)+1),ROWS(Clasament!$B$3:'Clasament'!$B46))),\"\")","v":""},{"$f":"IFERROR(INDEX(Clasament!$BH$3:$BH$72,SMALL(IF(Clasament!AQ$3:AQ$72=\"+\",ROW(Clasament!$B$3:$B$74)-ROW(Clasament!$B$3)+1),ROWS(Clasament!$B$3:'Clasament'!$B46))),\"\")","v":""},{"$f":"IFERROR(INDEX(Clasament!$BH$3:$BH$72,SMALL(IF(Clasament!AR$3:AR$72=\"+\",ROW(Clasament!$B$3:$B$74)-ROW(Clasament!$B$3)+1),ROWS(Clasament!$B$3:'Clasament'!$B46))),\"\")","v":""},{"$f":"IFERROR(INDEX(Clasament!$BH$3:$BH$72,SMALL(IF(Clasament!AS$3:AS$72=\"+\",ROW(Clasament!$B$3:$B$74)-ROW(Clasament!$B$3)+1),ROWS(Clasament!$B$3:'Clasament'!$B46))),\"\")","v":""},{"$f":"IFERROR(INDEX(Clasament!$BH$3:$BH$72,SMALL(IF(Clasament!AU$3:AU$72=\"+\",ROW(Clasament!$B$3:$B$74)-ROW(Clasament!$B$3)+1),ROWS(Clasament!$B$3:'Clasament'!$B46))),\"\")","v":""},{"$f":"IFERROR(INDEX(Clasament!$BH$3:$BH$72,SMALL(IF(Clasament!AV$3:AV$72=\"+\",ROW(Clasament!$B$3:$B$74)-ROW(Clasament!$B$3)+1),ROWS(Clasament!$B$3:'Clasament'!$B46))),\"\")","v":""},{"$f":"IFERROR(INDEX(Clasament!$BH$3:$BH$72,SMALL(IF(Clasament!AW$3:AW$72=\"+\",ROW(Clasament!$B$3:$B$74)-ROW(Clasament!$B$3)+1),ROWS(Clasament!$B$3:'Clasament'!$B46))),\"\")","v":""},{"$f":"IFERROR(INDEX(Clasament!$BH$3:$BH$72,SMALL(IF(Clasament!AX$3:AX$72=\"+\",ROW(Clasament!$B$3:$B$74)-ROW(Clasament!$B$3)+1),ROWS(Clasament!$B$3:'Clasament'!$B46))),\"\")","v":""},{"$f":"IFERROR(INDEX(Clasament!$BH$3:$BH$72,SMALL(IF(Clasament!AY$3:AY$72=\"+\",ROW(Clasament!$B$3:$B$74)-ROW(Clasament!$B$3)+1),ROWS(Clasament!$B$3:'Clasament'!$B46))),\"\")","v":""},{"$f":"IFERROR(INDEX(Clasament!$BH$3:$BH$72,SMALL(IF(Clasament!AZ$3:AZ$72=\"+\",ROW(Clasament!$B$3:$B$74)-ROW(Clasament!$B$3)+1),ROWS(Clasament!$B$3:'Clasament'!$B46))),\"\")","v":""},{"$f":"IFERROR(INDEX(Clasament!$BH$3:$BH$72,SMALL(IF(Clasament!BA$3:BA$72=\"+\",ROW(Clasament!$B$3:$B$74)-ROW(Clasament!$B$3)+1),ROWS(Clasament!$B$3:'Clasament'!$B46))),\"\")","v":""},{"$f":"IFERROR(INDEX(Clasament!$BH$3:$BH$72,SMALL(IF(Clasament!BB$3:BB$72=\"+\",ROW(Clasament!$B$3:$B$74)-ROW(Clasament!$B$3)+1),ROWS(Clasament!$B$3:'Clasament'!$B46))),\"\")","v":""},{"$f":"IFERROR(INDEX(Clasament!$BH$3:$BH$72,SMALL(IF(Clasament!BC$3:BC$72=\"+\",ROW(Clasament!$B$3:$B$74)-ROW(Clasament!$B$3)+1),ROWS(Clasament!$B$3:'Clasament'!$B46))),\"\")","v":""},{"$f":"IFERROR(INDEX(Clasament!$BH$3:$BH$72,SMALL(IF(Clasament!BD$3:BD$72=\"+\",ROW(Clasament!$B$3:$B$74)-ROW(Clasament!$B$3)+1),ROWS(Clasament!$B$3:'Clasament'!$B46))),\"\")","v":""}]
[null,{"$f":"IFERROR(INDEX(Clasament!$BH$3:$BH$72,SMALL(IF(Clasament!C$3:C$72=\"+\",ROW(Clasament!$B$3:$B$74)-ROW(Clasament!$B$3)+1),ROWS(Clasament!$B$3:'Clasament'!$B47))),\"\")","v":""},{"$f":"IFERROR(INDEX(Clasament!$BH$3:$BH$72,SMALL(IF(Clasament!D$3:D$72=\"+\",ROW(Clasament!$B$3:$B$74)-ROW(Clasament!$B$3)+1),ROWS(Clasament!$B$3:'Clasament'!$B47))),\"\")","v":""},{"$f":"IFERROR(INDEX(Clasament!$BH$3:$BH$72,SMALL(IF(Clasament!E$3:E$72=\"+\",ROW(Clasament!$B$3:$B$74)-ROW(Clasament!$B$3)+1),ROWS(Clasament!$B$3:'Clasament'!$B47))),\"\")","v":""},{"$f":"IFERROR(INDEX(Clasament!$BH$3:$BH$72,SMALL(IF(Clasament!F$3:F$72=\"+\",ROW(Clasament!$B$3:$B$74)-ROW(Clasament!$B$3)+1),ROWS(Clasament!$B$3:'Clasament'!$B47))),\"\")","v":""},{"$f":"IFERROR(INDEX(Clasament!$BH$3:$BH$72,SMALL(IF(Clasament!G$3:G$72=\"+\",ROW(Clasament!$B$3:$B$74)-ROW(Clasament!$B$3)+1),ROWS(Clasament!$B$3:'Clasament'!$B47))),\"\")","v":""},{"$f":"IFERROR(INDEX(Clasament!$BH$3:$BH$72,SMALL(IF(Clasament!H$3:H$72=\"+\",ROW(Clasament!$B$3:$B$74)-ROW(Clasament!$B$3)+1),ROWS(Clasament!$B$3:'Clasament'!$B47))),\"\")","v":""},{"$f":"IFERROR(INDEX(Clasament!$BH$3:$BH$72,SMALL(IF(Clasament!I$3:I$72=\"+\",ROW(Clasament!$B$3:$B$74)-ROW(Clasament!$B$3)+1),ROWS(Clasament!$B$3:'Clasament'!$B47))),\"\")","v":""},{"$f":"IFERROR(INDEX(Clasament!$BH$3:$BH$72,SMALL(IF(Clasament!J$3:J$72=\"+\",ROW(Clasament!$B$3:$B$74)-ROW(Clasament!$B$3)+1),ROWS(Clasament!$B$3:'Clasament'!$B47))),\"\")","v":""},{"$f":"IFERROR(INDEX(Clasament!$BH$3:$BH$72,SMALL(IF(Clasament!K$3:K$72=\"+\",ROW(Clasament!$B$3:$B$74)-ROW(Clasament!$B$3)+1),ROWS(Clasament!$B$3:'Clasament'!$B47))),\"\")","v":""},{"$f":"IFERROR(INDEX(Clasament!$BH$3:$BH$72,SMALL(IF(Clasament!L$3:L$72=\"+\",ROW(Clasament!$B$3:$B$74)-ROW(Clasament!$B$3)+1),ROWS(Clasament!$B$3:'Clasament'!$B47))),\"\")","v":""},{"$f":"IFERROR(INDEX(Clasament!$BH$3:$BH$72,SMALL(IF(Clasament!N$3:N$72=\"+\",ROW(Clasament!$B$3:$B$74)-ROW(Clasament!$B$3)+1),ROWS(Clasament!$B$3:'Clasament'!$B47))),\"\")","v":""},{"$f":"IFERROR(INDEX(Clasament!$BH$3:$BH$72,SMALL(IF(Clasament!O$3:O$72=\"+\",ROW(Clasament!$B$3:$B$74)-ROW(Clasament!$B$3)+1),ROWS(Clasament!$B$3:'Clasament'!$B47))),\"\")","v":""},{"$f":"IFERROR(INDEX(Clasament!$BH$3:$BH$72,SMALL(IF(Clasament!P$3:P$72=\"+\",ROW(Clasament!$B$3:$B$74)-ROW(Clasament!$B$3)+1),ROWS(Clasament!$B$3:'Clasament'!$B47))),\"\")","v":""},{"$f":"IFERROR(INDEX(Clasament!$BH$3:$BH$72,SMALL(IF(Clasament!Q$3:Q$72=\"+\",ROW(Clasament!$B$3:$B$74)-ROW(Clasament!$B$3)+1),ROWS(Clasament!$B$3:'Clasament'!$B47))),\"\")","v":""},{"$f":"IFERROR(INDEX(Clasament!$BH$3:$BH$72,SMALL(IF(Clasament!R$3:R$72=\"+\",ROW(Clasament!$B$3:$B$74)-ROW(Clasament!$B$3)+1),ROWS(Clasament!$B$3:'Clasament'!$B47))),\"\")","v":""},{"$f":"IFERROR(INDEX(Clasament!$BH$3:$BH$72,SMALL(IF(Clasament!S$3:S$72=\"+\",ROW(Clasament!$B$3:$B$74)-ROW(Clasament!$B$3)+1),ROWS(Clasament!$B$3:'Clasament'!$B47))),\"\")","v":""},{"$f":"IFERROR(INDEX(Clasament!$BH$3:$BH$72,SMALL(IF(Clasament!T$3:T$72=\"+\",ROW(Clasament!$B$3:$B$74)-ROW(Clasament!$B$3)+1),ROWS(Clasament!$B$3:'Clasament'!$B47))),\"\")","v":""},{"$f":"IFERROR(INDEX(Clasament!$BH$3:$BH$72,SMALL(IF(Clasament!U$3:U$72=\"+\",ROW(Clasament!$B$3:$B$74)-ROW(Clasament!$B$3)+1),ROWS(Clasament!$B$3:'Clasament'!$B47))),\"\")","v":""},{"$f":"IFERROR(INDEX(Clasament!$BH$3:$BH$72,SMALL(IF(Clasament!V$3:V$72=\"+\",ROW(Clasament!$B$3:$B$74)-ROW(Clasament!$B$3)+1),ROWS(Clasament!$B$3:'Clasament'!$B47))),\"\")","v":""},{"$f":"IFERROR(INDEX(Clasament!$BH$3:$BH$72,SMALL(IF(Clasament!W$3:W$72=\"+\",ROW(Clasament!$B$3:$B$74)-ROW(Clasament!$B$3)+1),ROWS(Clasament!$B$3:'Clasament'!$B47))),\"\")","v":""},{"$f":"IFERROR(INDEX(Clasament!$BH$3:$BH$72,SMALL(IF(Clasament!Y$3:Y$72=\"+\",ROW(Clasament!$B$3:$B$74)-ROW(Clasament!$B$3)+1),ROWS(Clasament!$B$3:'Clasament'!$B47))),\"\")","v":""},{"$f":"IFERROR(INDEX(Clasament!$BH$3:$BH$72,SMALL(IF(Clasament!Z$3:Z$72=\"+\",ROW(Clasament!$B$3:$B$74)-ROW(Clasament!$B$3)+1),ROWS(Clasament!$B$3:'Clasament'!$B47))),\"\")","v":""},{"$f":"IFERROR(INDEX(Clasament!$BH$3:$BH$72,SMALL(IF(Clasament!AA$3:AA$72=\"+\",ROW(Clasament!$B$3:$B$74)-ROW(Clasament!$B$3)+1),ROWS(Clasament!$B$3:'Clasament'!$B47))),\"\")","v":""},{"$f":"IFERROR(INDEX(Clasament!$BH$3:$BH$72,SMALL(IF(Clasament!AB$3:AB$72=\"+\",ROW(Clasament!$B$3:$B$74)-ROW(Clasament!$B$3)+1),ROWS(Clasament!$B$3:'Clasament'!$B47))),\"\")","v":""},{"$f":"IFERROR(INDEX(Clasament!$BH$3:$BH$72,SMALL(IF(Clasament!AC$3:AC$72=\"+\",ROW(Clasament!$B$3:$B$74)-ROW(Clasament!$B$3)+1),ROWS(Clasament!$B$3:'Clasament'!$B47))),\"\")","v":""},{"$f":"IFERROR(INDEX(Clasament!$BH$3:$BH$72,SMALL(IF(Clasament!AD$3:AD$72=\"+\",ROW(Clasament!$B$3:$B$74)-ROW(Clasament!$B$3)+1),ROWS(Clasament!$B$3:'Clasament'!$B47))),\"\")","v":""},{"$f":"IFERROR(INDEX(Clasament!$BH$3:$BH$72,SMALL(IF(Clasament!AE$3:AE$72=\"+\",ROW(Clasament!$B$3:$B$74)-ROW(Clasament!$B$3)+1),ROWS(Clasament!$B$3:'Clasament'!$B47))),\"\")","v":""},{"$f":"IFERROR(INDEX(Clasament!$BH$3:$BH$72,SMALL(IF(Clasament!AF$3:AF$72=\"+\",ROW(Clasament!$B$3:$B$74)-ROW(Clasament!$B$3)+1),ROWS(Clasament!$B$3:'Clasament'!$B47))),\"\")","v":""},{"$f":"IFERROR(INDEX(Clasament!$BH$3:$BH$72,SMALL(IF(Clasament!AG$3:AG$72=\"+\",ROW(Clasament!$B$3:$B$74)-ROW(Clasament!$B$3)+1),ROWS(Clasament!$B$3:'Clasament'!$B47))),\"\")","v":""},{"$f":"IFERROR(INDEX(Clasament!$BH$3:$BH$72,SMALL(IF(Clasament!AH$3:AH$72=\"+\",ROW(Clasament!$B$3:$B$74)-ROW(Clasament!$B$3)+1),ROWS(Clasament!$B$3:'Clasament'!$B47))),\"\")","v":""},{"$f":"IFERROR(INDEX(Clasament!$BH$3:$BH$72,SMALL(IF(Clasament!AJ$3:AJ$72=\"+\",ROW(Clasament!$B$3:$B$74)-ROW(Clasament!$B$3)+1),ROWS(Clasament!$B$3:'Clasament'!$B47))),\"\")","v":""},{"$f":"IFERROR(INDEX(Clasament!$BH$3:$BH$72,SMALL(IF(Clasament!AK$3:AK$72=\"+\",ROW(Clasament!$B$3:$B$74)-ROW(Clasament!$B$3)+1),ROWS(Clasament!$B$3:'Clasament'!$B47))),\"\")","v":""},{"$f":"IFERROR(INDEX(Clasament!$BH$3:$BH$72,SMALL(IF(Clasament!AL$3:AL$72=\"+\",ROW(Clasament!$B$3:$B$74)-ROW(Clasament!$B$3)+1),ROWS(Clasament!$B$3:'Clasament'!$B47))),\"\")","v":""},{"$f":"IFERROR(INDEX(Clasament!$BH$3:$BH$72,SMALL(IF(Clasament!AM$3:AM$72=\"+\",ROW(Clasament!$B$3:$B$74)-ROW(Clasament!$B$3)+1),ROWS(Clasament!$B$3:'Clasament'!$B47))),\"\")","v":""},{"$f":"IFERROR(INDEX(Clasament!$BH$3:$BH$72,SMALL(IF(Clasament!AN$3:AN$72=\"+\",ROW(Clasament!$B$3:$B$74)-ROW(Clasament!$B$3)+1),ROWS(Clasament!$B$3:'Clasament'!$B47))),\"\")","v":""},{"$f":"IFERROR(INDEX(Clasament!$BH$3:$BH$72,SMALL(IF(Clasament!AO$3:AO$72=\"+\",ROW(Clasament!$B$3:$B$74)-ROW(Clasament!$B$3)+1),ROWS(Clasament!$B$3:'Clasament'!$B47))),\"\")","v":""},{"$f":"IFERROR(INDEX(Clasament!$BH$3:$BH$72,SMALL(IF(Clasament!AP$3:AP$72=\"+\",ROW(Clasament!$B$3:$B$74)-ROW(Clasament!$B$3)+1),ROWS(Clasament!$B$3:'Clasament'!$B47))),\"\")","v":""},{"$f":"IFERROR(INDEX(Clasament!$BH$3:$BH$72,SMALL(IF(Clasament!AQ$3:AQ$72=\"+\",ROW(Clasament!$B$3:$B$74)-ROW(Clasament!$B$3)+1),ROWS(Clasament!$B$3:'Clasament'!$B47))),\"\")","v":""},{"$f":"IFERROR(INDEX(Clasament!$BH$3:$BH$72,SMALL(IF(Clasament!AR$3:AR$72=\"+\",ROW(Clasament!$B$3:$B$74)-ROW(Clasament!$B$3)+1),ROWS(Clasament!$B$3:'Clasament'!$B47))),\"\")","v":""},{"$f":"IFERROR(INDEX(Clasament!$BH$3:$BH$72,SMALL(IF(Clasament!AS$3:AS$72=\"+\",ROW(Clasament!$B$3:$B$74)-ROW(Clasament!$B$3)+1),ROWS(Clasament!$B$3:'Clasament'!$B47))),\"\")","v":""},{"$f":"IFERROR(INDEX(Clasament!$BH$3:$BH$72,SMALL(IF(Clasament!AU$3:AU$72=\"+\",ROW(Clasament!$B$3:$B$74)-ROW(Clasament!$B$3)+1),ROWS(Clasament!$B$3:'Clasament'!$B47))),\"\")","v":""},{"$f":"IFERROR(INDEX(Clasament!$BH$3:$BH$72,SMALL(IF(Clasament!AV$3:AV$72=\"+\",ROW(Clasament!$B$3:$B$74)-ROW(Clasament!$B$3)+1),ROWS(Clasament!$B$3:'Clasament'!$B47))),\"\")","v":""},{"$f":"IFERROR(INDEX(Clasament!$BH$3:$BH$72,SMALL(IF(Clasament!AW$3:AW$72=\"+\",ROW(Clasament!$B$3:$B$74)-ROW(Clasament!$B$3)+1),ROWS(Clasament!$B$3:'Clasament'!$B47))),\"\")","v":""},{"$f":"IFERROR(INDEX(Clasament!$BH$3:$BH$72,SMALL(IF(Clasament!AX$3:AX$72=\"+\",ROW(Clasament!$B$3:$B$74)-ROW(Clasament!$B$3)+1),ROWS(Clasament!$B$3:'Clasament'!$B47))),\"\")","v":""},{"$f":"IFERROR(INDEX(Clasament!$BH$3:$BH$72,SMALL(IF(Clasament!AY$3:AY$72=\"+\",ROW(Clasament!$B$3:$B$74)-ROW(Clasament!$B$3)+1),ROWS(Clasament!$B$3:'Clasament'!$B47))),\"\")","v":""},{"$f":"IFERROR(INDEX(Clasament!$BH$3:$BH$72,SMALL(IF(Clasament!AZ$3:AZ$72=\"+\",ROW(Clasament!$B$3:$B$74)-ROW(Clasament!$B$3)+1),ROWS(Clasament!$B$3:'Clasament'!$B47))),\"\")","v":""},{"$f":"IFERROR(INDEX(Clasament!$BH$3:$BH$72,SMALL(IF(Clasament!BA$3:BA$72=\"+\",ROW(Clasament!$B$3:$B$74)-ROW(Clasament!$B$3)+1),ROWS(Clasament!$B$3:'Clasament'!$B47))),\"\")","v":""},{"$f":"IFERROR(INDEX(Clasament!$BH$3:$BH$72,SMALL(IF(Clasament!BB$3:BB$72=\"+\",ROW(Clasament!$B$3:$B$74)-ROW(Clasament!$B$3)+1),ROWS(Clasament!$B$3:'Clasament'!$B47))),\"\")","v":""},{"$f":"IFERROR(INDEX(Clasament!$BH$3:$BH$72,SMALL(IF(Clasament!BC$3:BC$72=\"+\",ROW(Clasament!$B$3:$B$74)-ROW(Clasament!$B$3)+1),ROWS(Clasament!$B$3:'Clasament'!$B47))),\"\")","v":""},{"$f":"IFERROR(INDEX(Clasament!$BH$3:$BH$72,SMALL(IF(Clasament!BD$3:BD$72=\"+\",ROW(Clasament!$B$3:$B$74)-ROW(Clasament!$B$3)+1),ROWS(Clasament!$B$3:'Clasament'!$B47))),\"\")","v":""}]
[null,{"$f":"IFERROR(INDEX(Clasament!$BH$3:$BH$72,SMALL(IF(Clasament!C$3:C$72=\"+\",ROW(Clasament!$B$3:$B$74)-ROW(Clasament!$B$3)+1),ROWS(Clasament!$B$3:'Clasament'!$B48))),\"\")","v":""},{"$f":"IFERROR(INDEX(Clasament!$BH$3:$BH$72,SMALL(IF(Clasament!D$3:D$72=\"+\",ROW(Clasament!$B$3:$B$74)-ROW(Clasament!$B$3)+1),ROWS(Clasament!$B$3:'Clasament'!$B48))),\"\")","v":""},{"$f":"IFERROR(INDEX(Clasament!$BH$3:$BH$72,SMALL(IF(Clasament!E$3:E$72=\"+\",ROW(Clasament!$B$3:$B$74)-ROW(Clasament!$B$3)+1),ROWS(Clasament!$B$3:'Clasament'!$B48))),\"\")","v":""},{"$f":"IFERROR(INDEX(Clasament!$BH$3:$BH$72,SMALL(IF(Clasament!F$3:F$72=\"+\",ROW(Clasament!$B$3:$B$74)-ROW(Clasament!$B$3)+1),ROWS(Clasament!$B$3:'Clasament'!$B48))),\"\")","v":""},{"$f":"IFERROR(INDEX(Clasament!$BH$3:$BH$72,SMALL(IF(Clasament!G$3:G$72=\"+\",ROW(Clasament!$B$3:$B$74)-ROW(Clasament!$B$3)+1),ROWS(Clasament!$B$3:'Clasament'!$B48))),\"\")","v":""},{"$f":"IFERROR(INDEX(Clasament!$BH$3:$BH$72,SMALL(IF(Clasament!H$3:H$72=\"+\",ROW(Clasament!$B$3:$B$74)-ROW(Clasament!$B$3)+1),ROWS(Clasament!$B$3:'Clasament'!$B48))),\"\")","v":""},{"$f":"IFERROR(INDEX(Clasament!$BH$3:$BH$72,SMALL(IF(Clasament!I$3:I$72=\"+\",ROW(Clasament!$B$3:$B$74)-ROW(Clasament!$B$3)+1),ROWS(Clasament!$B$3:'Clasament'!$B48))),\"\")","v":""},{"$f":"IFERROR(INDEX(Clasament!$BH$3:$BH$72,SMALL(IF(Clasament!J$3:J$72=\"+\",ROW(Clasament!$B$3:$B$74)-ROW(Clasament!$B$3)+1),ROWS(Clasament!$B$3:'Clasament'!$B48))),\"\")","v":""},{"$f":"IFERROR(INDEX(Clasament!$BH$3:$BH$72,SMALL(IF(Clasament!K$3:K$72=\"+\",ROW(Clasament!$B$3:$B$74)-ROW(Clasament!$B$3)+1),ROWS(Clasament!$B$3:'Clasament'!$B48))),\"\")","v":""},{"$f":"IFERROR(INDEX(Clasament!$BH$3:$BH$72,SMALL(IF(Clasament!L$3:L$72=\"+\",ROW(Clasament!$B$3:$B$74)-ROW(Clasament!$B$3)+1),ROWS(Clasament!$B$3:'Clasament'!$B48))),\"\")","v":""},{"$f":"IFERROR(INDEX(Clasament!$BH$3:$BH$72,SMALL(IF(Clasament!N$3:N$72=\"+\",ROW(Clasament!$B$3:$B$74)-ROW(Clasament!$B$3)+1),ROWS(Clasament!$B$3:'Clasament'!$B48))),\"\")","v":""},{"$f":"IFERROR(INDEX(Clasament!$BH$3:$BH$72,SMALL(IF(Clasament!O$3:O$72=\"+\",ROW(Clasament!$B$3:$B$74)-ROW(Clasament!$B$3)+1),ROWS(Clasament!$B$3:'Clasament'!$B48))),\"\")","v":""},{"$f":"IFERROR(INDEX(Clasament!$BH$3:$BH$72,SMALL(IF(Clasament!P$3:P$72=\"+\",ROW(Clasament!$B$3:$B$74)-ROW(Clasament!$B$3)+1),ROWS(Clasament!$B$3:'Clasament'!$B48))),\"\")","v":""},{"$f":"IFERROR(INDEX(Clasament!$BH$3:$BH$72,SMALL(IF(Clasament!Q$3:Q$72=\"+\",ROW(Clasament!$B$3:$B$74)-ROW(Clasament!$B$3)+1),ROWS(Clasament!$B$3:'Clasament'!$B48))),\"\")","v":""},{"$f":"IFERROR(INDEX(Clasament!$BH$3:$BH$72,SMALL(IF(Clasament!R$3:R$72=\"+\",ROW(Clasament!$B$3:$B$74)-ROW(Clasament!$B$3)+1),ROWS(Clasament!$B$3:'Clasament'!$B48))),\"\")","v":""},{"$f":"IFERROR(INDEX(Clasament!$BH$3:$BH$72,SMALL(IF(Clasament!S$3:S$72=\"+\",ROW(Clasament!$B$3:$B$74)-ROW(Clasament!$B$3)+1),ROWS(Clasament!$B$3:'Clasament'!$B48))),\"\")","v":""},{"$f":"IFERROR(INDEX(Clasament!$BH$3:$BH$72,SMALL(IF(Clasament!T$3:T$72=\"+\",ROW(Clasament!$B$3:$B$74)-ROW(Clasament!$B$3)+1),ROWS(Clasament!$B$3:'Clasament'!$B48))),\"\")","v":""},{"$f":"IFERROR(INDEX(Clasament!$BH$3:$BH$72,SMALL(IF(Clasament!U$3:U$72=\"+\",ROW(Clasament!$B$3:$B$74)-ROW(Clasament!$B$3)+1),ROWS(Clasament!$B$3:'Clasament'!$B48))),\"\")","v":""},{"$f":"IFERROR(INDEX(Clasament!$BH$3:$BH$72,SMALL(IF(Clasament!V$3:V$72=\"+\",ROW(Clasament!$B$3:$B$74)-ROW(Clasament!$B$3)+1),ROWS(Clasament!$B$3:'Clasament'!$B48))),\"\")","v":""},{"$f":"IFERROR(INDEX(Clasament!$BH$3:$BH$72,SMALL(IF(Clasament!W$3:W$72=\"+\",ROW(Clasament!$B$3:$B$74)-ROW(Clasament!$B$3)+1),ROWS(Clasament!$B$3:'Clasament'!$B48))),\"\")","v":""},{"$f":"IFERROR(INDEX(Clasament!$BH$3:$BH$72,SMALL(IF(Clasament!Y$3:Y$72=\"+\",ROW(Clasament!$B$3:$B$74)-ROW(Clasament!$B$3)+1),ROWS(Clasament!$B$3:'Clasament'!$B48))),\"\")","v":""},{"$f":"IFERROR(INDEX(Clasament!$BH$3:$BH$72,SMALL(IF(Clasament!Z$3:Z$72=\"+\",ROW(Clasament!$B$3:$B$74)-ROW(Clasament!$B$3)+1),ROWS(Clasament!$B$3:'Clasament'!$B48))),\"\")","v":""},{"$f":"IFERROR(INDEX(Clasament!$BH$3:$BH$72,SMALL(IF(Clasament!AA$3:AA$72=\"+\",ROW(Clasament!$B$3:$B$74)-ROW(Clasament!$B$3)+1),ROWS(Clasament!$B$3:'Clasament'!$B48))),\"\")","v":""},{"$f":"IFERROR(INDEX(Clasament!$BH$3:$BH$72,SMALL(IF(Clasament!AB$3:AB$72=\"+\",ROW(Clasament!$B$3:$B$74)-ROW(Clasament!$B$3)+1),ROWS(Clasament!$B$3:'Clasament'!$B48))),\"\")","v":""},{"$f":"IFERROR(INDEX(Clasament!$BH$3:$BH$72,SMALL(IF(Clasament!AC$3:AC$72=\"+\",ROW(Clasament!$B$3:$B$74)-ROW(Clasament!$B$3)+1),ROWS(Clasament!$B$3:'Clasament'!$B48))),\"\")","v":""},{"$f":"IFERROR(INDEX(Clasament!$BH$3:$BH$72,SMALL(IF(Clasament!AD$3:AD$72=\"+\",ROW(Clasament!$B$3:$B$74)-ROW(Clasament!$B$3)+1),ROWS(Clasament!$B$3:'Clasament'!$B48))),\"\")","v":""},{"$f":"IFERROR(INDEX(Clasament!$BH$3:$BH$72,SMALL(IF(Clasament!AE$3:AE$72=\"+\",ROW(Clasament!$B$3:$B$74)-ROW(Clasament!$B$3)+1),ROWS(Clasament!$B$3:'Clasament'!$B48))),\"\")","v":""},{"$f":"IFERROR(INDEX(Clasament!$BH$3:$BH$72,SMALL(IF(Clasament!AF$3:AF$72=\"+\",ROW(Clasament!$B$3:$B$74)-ROW(Clasament!$B$3)+1),ROWS(Clasament!$B$3:'Clasament'!$B48))),\"\")","v":""},{"$f":"IFERROR(INDEX(Clasament!$BH$3:$BH$72,SMALL(IF(Clasament!AG$3:AG$72=\"+\",ROW(Clasament!$B$3:$B$74)-ROW(Clasament!$B$3)+1),ROWS(Clasament!$B$3:'Clasament'!$B48))),\"\")","v":""},{"$f":"IFERROR(INDEX(Clasament!$BH$3:$BH$72,SMALL(IF(Clasament!AH$3:AH$72=\"+\",ROW(Clasament!$B$3:$B$74)-ROW(Clasament!$B$3)+1),ROWS(Clasament!$B$3:'Clasament'!$B48))),\"\")","v":""},{"$f":"IFERROR(INDEX(Clasament!$BH$3:$BH$72,SMALL(IF(Clasament!AJ$3:AJ$72=\"+\",ROW(Clasament!$B$3:$B$74)-ROW(Clasament!$B$3)+1),ROWS(Clasament!$B$3:'Clasament'!$B48))),\"\")","v":""},{"$f":"IFERROR(INDEX(Clasament!$BH$3:$BH$72,SMALL(IF(Clasament!AK$3:AK$72=\"+\",ROW(Clasament!$B$3:$B$74)-ROW(Clasament!$B$3)+1),ROWS(Clasament!$B$3:'Clasament'!$B48))),\"\")","v":""},{"$f":"IFERROR(INDEX(Clasament!$BH$3:$BH$72,SMALL(IF(Clasament!AL$3:AL$72=\"+\",ROW(Clasament!$B$3:$B$74)-ROW(Clasament!$B$3)+1),ROWS(Clasament!$B$3:'Clasament'!$B48))),\"\")","v":""},{"$f":"IFERROR(INDEX(Clasament!$BH$3:$BH$72,SMALL(IF(Clasament!AM$3:AM$72=\"+\",ROW(Clasament!$B$3:$B$74)-ROW(Clasament!$B$3)+1),ROWS(Clasament!$B$3:'Clasament'!$B48))),\"\")","v":""},{"$f":"IFERROR(INDEX(Clasament!$BH$3:$BH$72,SMALL(IF(Clasament!AN$3:AN$72=\"+\",ROW(Clasament!$B$3:$B$74)-ROW(Clasament!$B$3)+1),ROWS(Clasament!$B$3:'Clasament'!$B48))),\"\")","v":""},{"$f":"IFERROR(INDEX(Clasament!$BH$3:$BH$72,SMALL(IF(Clasament!AO$3:AO$72=\"+\",ROW(Clasament!$B$3:$B$74)-ROW(Clasament!$B$3)+1),ROWS(Clasament!$B$3:'Clasament'!$B48))),\"\")","v":""},{"$f":"IFERROR(INDEX(Clasament!$BH$3:$BH$72,SMALL(IF(Clasament!AP$3:AP$72=\"+\",ROW(Clasament!$B$3:$B$74)-ROW(Clasament!$B$3)+1),ROWS(Clasament!$B$3:'Clasament'!$B48))),\"\")","v":""},{"$f":"IFERROR(INDEX(Clasament!$BH$3:$BH$72,SMALL(IF(Clasament!AQ$3:AQ$72=\"+\",ROW(Clasament!$B$3:$B$74)-ROW(Clasament!$B$3)+1),ROWS(Clasament!$B$3:'Clasament'!$B48))),\"\")","v":""},{"$f":"IFERROR(INDEX(Clasament!$BH$3:$BH$72,SMALL(IF(Clasament!AR$3:AR$72=\"+\",ROW(Clasament!$B$3:$B$74)-ROW(Clasament!$B$3)+1),ROWS(Clasament!$B$3:'Clasament'!$B48))),\"\")","v":""},{"$f":"IFERROR(INDEX(Clasament!$BH$3:$BH$72,SMALL(IF(Clasament!AS$3:AS$72=\"+\",ROW(Clasament!$B$3:$B$74)-ROW(Clasament!$B$3)+1),ROWS(Clasament!$B$3:'Clasament'!$B48))),\"\")","v":""},{"$f":"IFERROR(INDEX(Clasament!$BH$3:$BH$72,SMALL(IF(Clasament!AU$3:AU$72=\"+\",ROW(Clasament!$B$3:$B$74)-ROW(Clasament!$B$3)+1),ROWS(Clasament!$B$3:'Clasament'!$B48))),\"\")","v":""},{"$f":"IFERROR(INDEX(Clasament!$BH$3:$BH$72,SMALL(IF(Clasament!AV$3:AV$72=\"+\",ROW(Clasament!$B$3:$B$74)-ROW(Clasament!$B$3)+1),ROWS(Clasament!$B$3:'Clasament'!$B48))),\"\")","v":""},{"$f":"IFERROR(INDEX(Clasament!$BH$3:$BH$72,SMALL(IF(Clasament!AW$3:AW$72=\"+\",ROW(Clasament!$B$3:$B$74)-ROW(Clasament!$B$3)+1),ROWS(Clasament!$B$3:'Clasament'!$B48))),\"\")","v":""},{"$f":"IFERROR(INDEX(Clasament!$BH$3:$BH$72,SMALL(IF(Clasament!AX$3:AX$72=\"+\",ROW(Clasament!$B$3:$B$74)-ROW(Clasament!$B$3)+1),ROWS(Clasament!$B$3:'Clasament'!$B48))),\"\")","v":""},{"$f":"IFERROR(INDEX(Clasament!$BH$3:$BH$72,SMALL(IF(Clasament!AY$3:AY$72=\"+\",ROW(Clasament!$B$3:$B$74)-ROW(Clasament!$B$3)+1),ROWS(Clasament!$B$3:'Clasament'!$B48))),\"\")","v":""},{"$f":"IFERROR(INDEX(Clasament!$BH$3:$BH$72,SMALL(IF(Clasament!AZ$3:AZ$72=\"+\",ROW(Clasament!$B$3:$B$74)-ROW(Clasament!$B$3)+1),ROWS(Clasament!$B$3:'Clasament'!$B48))),\"\")","v":""},{"$f":"IFERROR(INDEX(Clasament!$BH$3:$BH$72,SMALL(IF(Clasament!BA$3:BA$72=\"+\",ROW(Clasament!$B$3:$B$74)-ROW(Clasament!$B$3)+1),ROWS(Clasament!$B$3:'Clasament'!$B48))),\"\")","v":""},{"$f":"IFERROR(INDEX(Clasament!$BH$3:$BH$72,SMALL(IF(Clasament!BB$3:BB$72=\"+\",ROW(Clasament!$B$3:$B$74)-ROW(Clasament!$B$3)+1),ROWS(Clasament!$B$3:'Clasament'!$B48))),\"\")","v":""},{"$f":"IFERROR(INDEX(Clasament!$BH$3:$BH$72,SMALL(IF(Clasament!BC$3:BC$72=\"+\",ROW(Clasament!$B$3:$B$74)-ROW(Clasament!$B$3)+1),ROWS(Clasament!$B$3:'Clasament'!$B48))),\"\")","v":""},{"$f":"IFERROR(INDEX(Clasament!$BH$3:$BH$72,SMALL(IF(Clasament!BD$3:BD$72=\"+\",ROW(Clasament!$B$3:$B$74)-ROW(Clasament!$B$3)+1),ROWS(Clasament!$B$3:'Clasament'!$B48))),\"\")","v":""}]
[null,{"$f":"IFERROR(INDEX(Clasament!$BH$3:$BH$72,SMALL(IF(Clasament!C$3:C$72=\"+\",ROW(Clasament!$B$3:$B$74)-ROW(Clasament!$B$3)+1),ROWS(Clasament!$B$3:'Clasament'!$B49))),\"\")","v":""},{"$f":"IFERROR(INDEX(Clasament!$BH$3:$BH$72,SMALL(IF(Clasament!D$3:D$72=\"+\",ROW(Clasament!$B$3:$B$74)-ROW(Clasament!$B$3)+1),ROWS(Clasament!$B$3:'Clasament'!$B49))),\"\")","v":""},{"$f":"IFERROR(INDEX(Clasament!$BH$3:$BH$72,SMALL(IF(Clasament!E$3:E$72=\"+\",ROW(Clasament!$B$3:$B$74)-ROW(Clasament!$B$3)+1),ROWS(Clasament!$B$3:'Clasament'!$B49))),\"\")","v":""},{"$f":"IFERROR(INDEX(Clasament!$BH$3:$BH$72,SMALL(IF(Clasament!F$3:F$72=\"+\",ROW(Clasament!$B$3:$B$74)-ROW(Clasament!$B$3)+1),ROWS(Clasament!$B$3:'Clasament'!$B49))),\"\")","v":""},{"$f":"IFERROR(INDEX(Clasament!$BH$3:$BH$72,SMALL(IF(Clasament!G$3:G$72=\"+\",ROW(Clasament!$B$3:$B$74)-ROW(Clasament!$B$3)+1),ROWS(Clasament!$B$3:'Clasament'!$B49))),\"\")","v":""},{"$f":"IFERROR(INDEX(Clasament!$BH$3:$BH$72,SMALL(IF(Clasament!H$3:H$72=\"+\",ROW(Clasament!$B$3:$B$74)-ROW(Clasament!$B$3)+1),ROWS(Clasament!$B$3:'Clasament'!$B49))),\"\")","v":""},{"$f":"IFERROR(INDEX(Clasament!$BH$3:$BH$72,SMALL(IF(Clasament!I$3:I$72=\"+\",ROW(Clasament!$B$3:$B$74)-ROW(Clasament!$B$3)+1),ROWS(Clasament!$B$3:'Clasament'!$B49))),\"\")","v":""},{"$f":"IFERROR(INDEX(Clasament!$BH$3:$BH$72,SMALL(IF(Clasament!J$3:J$72=\"+\",ROW(Clasament!$B$3:$B$74)-ROW(Clasament!$B$3)+1),ROWS(Clasament!$B$3:'Clasament'!$B49))),\"\")","v":""},{"$f":"IFERROR(INDEX(Clasament!$BH$3:$BH$72,SMALL(IF(Clasament!K$3:K$72=\"+\",ROW(Clasament!$B$3:$B$74)-ROW(Clasament!$B$3)+1),ROWS(Clasament!$B$3:'Clasament'!$B49))),\"\")","v":""},{"$f":"IFERROR(INDEX(Clasament!$BH$3:$BH$72,SMALL(IF(Clasament!L$3:L$72=\"+\",ROW(Clasament!$B$3:$B$74)-ROW(Clasament!$B$3)+1),ROWS(Clasament!$B$3:'Clasament'!$B49))),\"\")","v":""},{"$f":"IFERROR(INDEX(Clasament!$BH$3:$BH$72,SMALL(IF(Clasament!N$3:N$72=\"+\",ROW(Clasament!$B$3:$B$74)-ROW(Clasament!$B$3)+1),ROWS(Clasament!$B$3:'Clasament'!$B49))),\"\")","v":""},{"$f":"IFERROR(INDEX(Clasament!$BH$3:$BH$72,SMALL(IF(Clasament!O$3:O$72=\"+\",ROW(Clasament!$B$3:$B$74)-ROW(Clasament!$B$3)+1),ROWS(Clasament!$B$3:'Clasament'!$B49))),\"\")","v":""},{"$f":"IFERROR(INDEX(Clasament!$BH$3:$BH$72,SMALL(IF(Clasament!P$3:P$72=\"+\",ROW(Clasament!$B$3:$B$74)-ROW(Clasament!$B$3)+1),ROWS(Clasament!$B$3:'Clasament'!$B49))),\"\")","v":""},{"$f":"IFERROR(INDEX(Clasament!$BH$3:$BH$72,SMALL(IF(Clasament!Q$3:Q$72=\"+\",ROW(Clasament!$B$3:$B$74)-ROW(Clasament!$B$3)+1),ROWS(Clasament!$B$3:'Clasament'!$B49))),\"\")","v":""},{"$f":"IFERROR(INDEX(Clasament!$BH$3:$BH$72,SMALL(IF(Clasament!R$3:R$72=\"+\",ROW(Clasament!$B$3:$B$74)-ROW(Clasament!$B$3)+1),ROWS(Clasament!$B$3:'Clasament'!$B49))),\"\")","v":""},{"$f":"IFERROR(INDEX(Clasament!$BH$3:$BH$72,SMALL(IF(Clasament!S$3:S$72=\"+\",ROW(Clasament!$B$3:$B$74)-ROW(Clasament!$B$3)+1),ROWS(Clasament!$B$3:'Clasament'!$B49))),\"\")","v":""},{"$f":"IFERROR(INDEX(Clasament!$BH$3:$BH$72,SMALL(IF(Clasament!T$3:T$72=\"+\",ROW(Clasament!$B$3:$B$74)-ROW(Clasament!$B$3)+1),ROWS(Clasament!$B$3:'Clasament'!$B49))),\"\")","v":""},{"$f":"IFERROR(INDEX(Clasament!$BH$3:$BH$72,SMALL(IF(Clasament!U$3:U$72=\"+\",ROW(Clasament!$B$3:$B$74)-ROW(Clasament!$B$3)+1),ROWS(Clasament!$B$3:'Clasament'!$B49))),\"\")","v":""},{"$f":"IFERROR(INDEX(Clasament!$BH$3:$BH$72,SMALL(IF(Clasament!V$3:V$72=\"+\",ROW(Clasament!$B$3:$B$74)-ROW(Clasament!$B$3)+1),ROWS(Clasament!$B$3:'Clasament'!$B49))),\"\")","v":""},{"$f":"IFERROR(INDEX(Clasament!$BH$3:$BH$72,SMALL(IF(Clasament!W$3:W$72=\"+\",ROW(Clasament!$B$3:$B$74)-ROW(Clasament!$B$3)+1),ROWS(Clasament!$B$3:'Clasament'!$B49))),\"\")","v":""},{"$f":"IFERROR(INDEX(Clasament!$BH$3:$BH$72,SMALL(IF(Clasament!Y$3:Y$72=\"+\",ROW(Clasament!$B$3:$B$74)-ROW(Clasament!$B$3)+1),ROWS(Clasament!$B$3:'Clasament'!$B49))),\"\")","v":""},{"$f":"IFERROR(INDEX(Clasament!$BH$3:$BH$72,SMALL(IF(Clasament!Z$3:Z$72=\"+\",ROW(Clasament!$B$3:$B$74)-ROW(Clasament!$B$3)+1),ROWS(Clasament!$B$3:'Clasament'!$B49))),\"\")","v":""},{"$f":"IFERROR(INDEX(Clasament!$BH$3:$BH$72,SMALL(IF(Clasament!AA$3:AA$72=\"+\",ROW(Clasament!$B$3:$B$74)-ROW(Clasament!$B$3)+1),ROWS(Clasament!$B$3:'Clasament'!$B49))),\"\")","v":""},{"$f":"IFERROR(INDEX(Clasament!$BH$3:$BH$72,SMALL(IF(Clasament!AB$3:AB$72=\"+\",ROW(Clasament!$B$3:$B$74)-ROW(Clasament!$B$3)+1),ROWS(Clasament!$B$3:'Clasament'!$B49))),\"\")","v":""},{"$f":"IFERROR(INDEX(Clasament!$BH$3:$BH$72,SMALL(IF(Clasament!AC$3:AC$72=\"+\",ROW(Clasament!$B$3:$B$74)-ROW(Clasament!$B$3)+1),ROWS(Clasament!$B$3:'Clasament'!$B49))),\"\")","v":""},{"$f":"IFERROR(INDEX(Clasament!$BH$3:$BH$72,SMALL(IF(Clasament!AD$3:AD$72=\"+\",ROW(Clasament!$B$3:$B$74)-ROW(Clasament!$B$3)+1),ROWS(Clasament!$B$3:'Clasament'!$B49))),\"\")","v":""},{"$f":"IFERROR(INDEX(Clasament!$BH$3:$BH$72,SMALL(IF(Clasament!AE$3:AE$72=\"+\",ROW(Clasament!$B$3:$B$74)-ROW(Clasament!$B$3)+1),ROWS(Clasament!$B$3:'Clasament'!$B49))),\"\")","v":""},{"$f":"IFERROR(INDEX(Clasament!$BH$3:$BH$72,SMALL(IF(Clasament!AF$3:AF$72=\"+\",ROW(Clasament!$B$3:$B$74)-ROW(Clasament!$B$3)+1),ROWS(Clasament!$B$3:'Clasament'!$B49))),\"\")","v":""},{"$f":"IFERROR(INDEX(Clasament!$BH$3:$BH$72,SMALL(IF(Clasament!AG$3:AG$72=\"+\",ROW(Clasament!$B$3:$B$74)-ROW(Clasament!$B$3)+1),ROWS(Clasament!$B$3:'Clasament'!$B49))),\"\")","v":""},{"$f":"IFERROR(INDEX(Clasament!$BH$3:$BH$72,SMALL(IF(Clasament!AH$3:AH$72=\"+\",ROW(Clasament!$B$3:$B$74)-ROW(Clasament!$B$3)+1),ROWS(Clasament!$B$3:'Clasament'!$B49))),\"\")","v":""},{"$f":"IFERROR(INDEX(Clasament!$BH$3:$BH$72,SMALL(IF(Clasament!AJ$3:AJ$72=\"+\",ROW(Clasament!$B$3:$B$74)-ROW(Clasament!$B$3)+1),ROWS(Clasament!$B$3:'Clasament'!$B49))),\"\")","v":""},{"$f":"IFERROR(INDEX(Clasament!$BH$3:$BH$72,SMALL(IF(Clasament!AK$3:AK$72=\"+\",ROW(Clasament!$B$3:$B$74)-ROW(Clasament!$B$3)+1),ROWS(Clasament!$B$3:'Clasament'!$B49))),\"\")","v":""},{"$f":"IFERROR(INDEX(Clasament!$BH$3:$BH$72,SMALL(IF(Clasament!AL$3:AL$72=\"+\",ROW(Clasament!$B$3:$B$74)-ROW(Clasament!$B$3)+1),ROWS(Clasament!$B$3:'Clasament'!$B49))),\"\")","v":""},{"$f":"IFERROR(INDEX(Clasament!$BH$3:$BH$72,SMALL(IF(Clasament!AM$3:AM$72=\"+\",ROW(Clasament!$B$3:$B$74)-ROW(Clasament!$B$3)+1),ROWS(Clasament!$B$3:'Clasament'!$B49))),\"\")","v":""},{"$f":"IFERROR(INDEX(Clasament!$BH$3:$BH$72,SMALL(IF(Clasament!AN$3:AN$72=\"+\",ROW(Clasament!$B$3:$B$74)-ROW(Clasament!$B$3)+1),ROWS(Clasament!$B$3:'Clasament'!$B49))),\"\")","v":""},{"$f":"IFERROR(INDEX(Clasament!$BH$3:$BH$72,SMALL(IF(Clasament!AO$3:AO$72=\"+\",ROW(Clasament!$B$3:$B$74)-ROW(Clasament!$B$3)+1),ROWS(Clasament!$B$3:'Clasament'!$B49))),\"\")","v":""},{"$f":"IFERROR(INDEX(Clasament!$BH$3:$BH$72,SMALL(IF(Clasament!AP$3:AP$72=\"+\",ROW(Clasament!$B$3:$B$74)-ROW(Clasament!$B$3)+1),ROWS(Clasament!$B$3:'Clasament'!$B49))),\"\")","v":""},{"$f":"IFERROR(INDEX(Clasament!$BH$3:$BH$72,SMALL(IF(Clasament!AQ$3:AQ$72=\"+\",ROW(Clasament!$B$3:$B$74)-ROW(Clasament!$B$3)+1),ROWS(Clasament!$B$3:'Clasament'!$B49))),\"\")","v":""},{"$f":"IFERROR(INDEX(Clasament!$BH$3:$BH$72,SMALL(IF(Clasament!AR$3:AR$72=\"+\",ROW(Clasament!$B$3:$B$74)-ROW(Clasament!$B$3)+1),ROWS(Clasament!$B$3:'Clasament'!$B49))),\"\")","v":""},{"$f":"IFERROR(INDEX(Clasament!$BH$3:$BH$72,SMALL(IF(Clasament!AS$3:AS$72=\"+\",ROW(Clasament!$B$3:$B$74)-ROW(Clasament!$B$3)+1),ROWS(Clasament!$B$3:'Clasament'!$B49))),\"\")","v":""},{"$f":"IFERROR(INDEX(Clasament!$BH$3:$BH$72,SMALL(IF(Clasament!AU$3:AU$72=\"+\",ROW(Clasament!$B$3:$B$74)-ROW(Clasament!$B$3)+1),ROWS(Clasament!$B$3:'Clasament'!$B49))),\"\")","v":""},{"$f":"IFERROR(INDEX(Clasament!$BH$3:$BH$72,SMALL(IF(Clasament!AV$3:AV$72=\"+\",ROW(Clasament!$B$3:$B$74)-ROW(Clasament!$B$3)+1),ROWS(Clasament!$B$3:'Clasament'!$B49))),\"\")","v":""},{"$f":"IFERROR(INDEX(Clasament!$BH$3:$BH$72,SMALL(IF(Clasament!AW$3:AW$72=\"+\",ROW(Clasament!$B$3:$B$74)-ROW(Clasament!$B$3)+1),ROWS(Clasament!$B$3:'Clasament'!$B49))),\"\")","v":""},{"$f":"IFERROR(INDEX(Clasament!$BH$3:$BH$72,SMALL(IF(Clasament!AX$3:AX$72=\"+\",ROW(Clasament!$B$3:$B$74)-ROW(Clasament!$B$3)+1),ROWS(Clasament!$B$3:'Clasament'!$B49))),\"\")","v":""},{"$f":"IFERROR(INDEX(Clasament!$BH$3:$BH$72,SMALL(IF(Clasament!AY$3:AY$72=\"+\",ROW(Clasament!$B$3:$B$74)-ROW(Clasament!$B$3)+1),ROWS(Clasament!$B$3:'Clasament'!$B49))),\"\")","v":""},{"$f":"IFERROR(INDEX(Clasament!$BH$3:$BH$72,SMALL(IF(Clasament!AZ$3:AZ$72=\"+\",ROW(Clasament!$B$3:$B$74)-ROW(Clasament!$B$3)+1),ROWS(Clasament!$B$3:'Clasament'!$B49))),\"\")","v":""},{"$f":"IFERROR(INDEX(Clasament!$BH$3:$BH$72,SMALL(IF(Clasament!BA$3:BA$72=\"+\",ROW(Clasament!$B$3:$B$74)-ROW(Clasament!$B$3)+1),ROWS(Clasament!$B$3:'Clasament'!$B49))),\"\")","v":""},{"$f":"IFERROR(INDEX(Clasament!$BH$3:$BH$72,SMALL(IF(Clasament!BB$3:BB$72=\"+\",ROW(Clasament!$B$3:$B$74)-ROW(Clasament!$B$3)+1),ROWS(Clasament!$B$3:'Clasament'!$B49))),\"\")","v":""},{"$f":"IFERROR(INDEX(Clasament!$BH$3:$BH$72,SMALL(IF(Clasament!BC$3:BC$72=\"+\",ROW(Clasament!$B$3:$B$74)-ROW(Clasament!$B$3)+1),ROWS(Clasament!$B$3:'Clasament'!$B49))),\"\")","v":""},{"$f":"IFERROR(INDEX(Clasament!$BH$3:$BH$72,SMALL(IF(Clasament!BD$3:BD$72=\"+\",ROW(Clasament!$B$3:$B$74)-ROW(Clasament!$B$3)+1),ROWS(Clasament!$B$3:'Clasament'!$B49))),\"\")","v":""}]
[null,{"$f":"IFERROR(INDEX(Clasament!$BH$3:$BH$72,SMALL(IF(Clasament!C$3:C$72=\"+\",ROW(Clasament!$B$3:$B$74)-ROW(Clasament!$B$3)+1),ROWS(Clasament!$B$3:'Clasament'!$B50))),\"\")","v":""},{"$f":"IFERROR(INDEX(Clasament!$BH$3:$BH$72,SMALL(IF(Clasament!D$3:D$72=\"+\",ROW(Clasament!$B$3:$B$74)-ROW(Clasament!$B$3)+1),ROWS(Clasament!$B$3:'Clasament'!$B50))),\"\")","v":""},{"$f":"IFERROR(INDEX(Clasament!$BH$3:$BH$72,SMALL(IF(Clasament!E$3:E$72=\"+\",ROW(Clasament!$B$3:$B$74)-ROW(Clasament!$B$3)+1),ROWS(Clasament!$B$3:'Clasament'!$B50))),\"\")","v":""},{"$f":"IFERROR(INDEX(Clasament!$BH$3:$BH$72,SMALL(IF(Clasament!F$3:F$72=\"+\",ROW(Clasament!$B$3:$B$74)-ROW(Clasament!$B$3)+1),ROWS(Clasament!$B$3:'Clasament'!$B50))),\"\")","v":""},{"$f":"IFERROR(INDEX(Clasament!$BH$3:$BH$72,SMALL(IF(Clasament!G$3:G$72=\"+\",ROW(Clasament!$B$3:$B$74)-ROW(Clasament!$B$3)+1),ROWS(Clasament!$B$3:'Clasament'!$B50))),\"\")","v":""},{"$f":"IFERROR(INDEX(Clasament!$BH$3:$BH$72,SMALL(IF(Clasament!H$3:H$72=\"+\",ROW(Clasament!$B$3:$B$74)-ROW(Clasament!$B$3)+1),ROWS(Clasament!$B$3:'Clasament'!$B50))),\"\")","v":""},{"$f":"IFERROR(INDEX(Clasament!$BH$3:$BH$72,SMALL(IF(Clasament!I$3:I$72=\"+\",ROW(Clasament!$B$3:$B$74)-ROW(Clasament!$B$3)+1),ROWS(Clasament!$B$3:'Clasament'!$B50))),\"\")","v":""},{"$f":"IFERROR(INDEX(Clasament!$BH$3:$BH$72,SMALL(IF(Clasament!J$3:J$72=\"+\",ROW(Clasament!$B$3:$B$74)-ROW(Clasament!$B$3)+1),ROWS(Clasament!$B$3:'Clasament'!$B50))),\"\")","v":""},{"$f":"IFERROR(INDEX(Clasament!$BH$3:$BH$72,SMALL(IF(Clasament!K$3:K$72=\"+\",ROW(Clasament!$B$3:$B$74)-ROW(Clasament!$B$3)+1),ROWS(Clasament!$B$3:'Clasament'!$B50))),\"\")","v":""},{"$f":"IFERROR(INDEX(Clasament!$BH$3:$BH$72,SMALL(IF(Clasament!L$3:L$72=\"+\",ROW(Clasament!$B$3:$B$74)-ROW(Clasament!$B$3)+1),ROWS(Clasament!$B$3:'Clasament'!$B50))),\"\")","v":""},{"$f":"IFERROR(INDEX(Clasament!$BH$3:$BH$72,SMALL(IF(Clasament!N$3:N$72=\"+\",ROW(Clasament!$B$3:$B$74)-ROW(Clasament!$B$3)+1),ROWS(Clasament!$B$3:'Clasament'!$B50))),\"\")","v":""},{"$f":"IFERROR(INDEX(Clasament!$BH$3:$BH$72,SMALL(IF(Clasament!O$3:O$72=\"+\",ROW(Clasament!$B$3:$B$74)-ROW(Clasament!$B$3)+1),ROWS(Clasament!$B$3:'Clasament'!$B50))),\"\")","v":""},{"$f":"IFERROR(INDEX(Clasament!$BH$3:$BH$72,SMALL(IF(Clasament!P$3:P$72=\"+\",ROW(Clasament!$B$3:$B$74)-ROW(Clasament!$B$3)+1),ROWS(Clasament!$B$3:'Clasament'!$B50))),\"\")","v":""},{"$f":"IFERROR(INDEX(Clasament!$BH$3:$BH$72,SMALL(IF(Clasament!Q$3:Q$72=\"+\",ROW(Clasament!$B$3:$B$74)-ROW(Clasament!$B$3)+1),ROWS(Clasament!$B$3:'Clasament'!$B50))),\"\")","v":""},{"$f":"IFERROR(INDEX(Clasament!$BH$3:$BH$72,SMALL(IF(Clasament!R$3:R$72=\"+\",ROW(Clasament!$B$3:$B$74)-ROW(Clasament!$B$3)+1),ROWS(Clasament!$B$3:'Clasament'!$B50))),\"\")","v":""},{"$f":"IFERROR(INDEX(Clasament!$BH$3:$BH$72,SMALL(IF(Clasament!S$3:S$72=\"+\",ROW(Clasament!$B$3:$B$74)-ROW(Clasament!$B$3)+1),ROWS(Clasament!$B$3:'Clasament'!$B50))),\"\")","v":""},{"$f":"IFERROR(INDEX(Clasament!$BH$3:$BH$72,SMALL(IF(Clasament!T$3:T$72=\"+\",ROW(Clasament!$B$3:$B$74)-ROW(Clasament!$B$3)+1),ROWS(Clasament!$B$3:'Clasament'!$B50))),\"\")","v":""},{"$f":"IFERROR(INDEX(Clasament!$BH$3:$BH$72,SMALL(IF(Clasament!U$3:U$72=\"+\",ROW(Clasament!$B$3:$B$74)-ROW(Clasament!$B$3)+1),ROWS(Clasament!$B$3:'Clasament'!$B50))),\"\")","v":""},{"$f":"IFERROR(INDEX(Clasament!$BH$3:$BH$72,SMALL(IF(Clasament!V$3:V$72=\"+\",ROW(Clasament!$B$3:$B$74)-ROW(Clasament!$B$3)+1),ROWS(Clasament!$B$3:'Clasament'!$B50))),\"\")","v":""},{"$f":"IFERROR(INDEX(Clasament!$BH$3:$BH$72,SMALL(IF(Clasament!W$3:W$72=\"+\",ROW(Clasament!$B$3:$B$74)-ROW(Clasament!$B$3)+1),ROWS(Clasament!$B$3:'Clasament'!$B50))),\"\")","v":""},{"$f":"IFERROR(INDEX(Clasament!$BH$3:$BH$72,SMALL(IF(Clasament!Y$3:Y$72=\"+\",ROW(Clasament!$B$3:$B$74)-ROW(Clasament!$B$3)+1),ROWS(Clasament!$B$3:'Clasament'!$B50))),\"\")","v":""},{"$f":"IFERROR(INDEX(Clasament!$BH$3:$BH$72,SMALL(IF(Clasament!Z$3:Z$72=\"+\",ROW(Clasament!$B$3:$B$74)-ROW(Clasament!$B$3)+1),ROWS(Clasament!$B$3:'Clasament'!$B50))),\"\")","v":""},{"$f":"IFERROR(INDEX(Clasament!$BH$3:$BH$72,SMALL(IF(Clasament!AA$3:AA$72=\"+\",ROW(Clasament!$B$3:$B$74)-ROW(Clasament!$B$3)+1),ROWS(Clasament!$B$3:'Clasament'!$B50))),\"\")","v":""},{"$f":"IFERROR(INDEX(Clasament!$BH$3:$BH$72,SMALL(IF(Clasament!AB$3:AB$72=\"+\",ROW(Clasament!$B$3:$B$74)-ROW(Clasament!$B$3)+1),ROWS(Clasament!$B$3:'Clasament'!$B50))),\"\")","v":""},{"$f":"IFERROR(INDEX(Clasament!$BH$3:$BH$72,SMALL(IF(Clasament!AC$3:AC$72=\"+\",ROW(Clasament!$B$3:$B$74)-ROW(Clasament!$B$3)+1),ROWS(Clasament!$B$3:'Clasament'!$B50))),\"\")","v":""},{"$f":"IFERROR(INDEX(Clasament!$BH$3:$BH$72,SMALL(IF(Clasament!AD$3:AD$72=\"+\",ROW(Clasament!$B$3:$B$74)-ROW(Clasament!$B$3)+1),ROWS(Clasament!$B$3:'Clasament'!$B50))),\"\")","v":""},{"$f":"IFERROR(INDEX(Clasament!$BH$3:$BH$72,SMALL(IF(Clasament!AE$3:AE$72=\"+\",ROW(Clasament!$B$3:$B$74)-ROW(Clasament!$B$3)+1),ROWS(Clasament!$B$3:'Clasament'!$B50))),\"\")","v":""},{"$f":"IFERROR(INDEX(Clasament!$BH$3:$BH$72,SMALL(IF(Clasament!AF$3:AF$72=\"+\",ROW(Clasament!$B$3:$B$74)-ROW(Clasament!$B$3)+1),ROWS(Clasament!$B$3:'Clasament'!$B50))),\"\")","v":""},{"$f":"IFERROR(INDEX(Clasament!$BH$3:$BH$72,SMALL(IF(Clasament!AG$3:AG$72=\"+\",ROW(Clasament!$B$3:$B$74)-ROW(Clasament!$B$3)+1),ROWS(Clasament!$B$3:'Clasament'!$B50))),\"\")","v":""},{"$f":"IFERROR(INDEX(Clasament!$BH$3:$BH$72,SMALL(IF(Clasament!AH$3:AH$72=\"+\",ROW(Clasament!$B$3:$B$74)-ROW(Clasament!$B$3)+1),ROWS(Clasament!$B$3:'Clasament'!$B50))),\"\")","v":""},{"$f":"IFERROR(INDEX(Clasament!$BH$3:$BH$72,SMALL(IF(Clasament!AJ$3:AJ$72=\"+\",ROW(Clasament!$B$3:$B$74)-ROW(Clasament!$B$3)+1),ROWS(Clasament!$B$3:'Clasament'!$B50))),\"\")","v":""},{"$f":"IFERROR(INDEX(Clasament!$BH$3:$BH$72,SMALL(IF(Clasament!AK$3:AK$72=\"+\",ROW(Clasament!$B$3:$B$74)-ROW(Clasament!$B$3)+1),ROWS(Clasament!$B$3:'Clasament'!$B50))),\"\")","v":""},{"$f":"IFERROR(INDEX(Clasament!$BH$3:$BH$72,SMALL(IF(Clasament!AL$3:AL$72=\"+\",ROW(Clasament!$B$3:$B$74)-ROW(Clasament!$B$3)+1),ROWS(Clasament!$B$3:'Clasament'!$B50))),\"\")","v":""},{"$f":"IFERROR(INDEX(Clasament!$BH$3:$BH$72,SMALL(IF(Clasament!AM$3:AM$72=\"+\",ROW(Clasament!$B$3:$B$74)-ROW(Clasament!$B$3)+1),ROWS(Clasament!$B$3:'Clasament'!$B50))),\"\")","v":""},{"$f":"IFERROR(INDEX(Clasament!$BH$3:$BH$72,SMALL(IF(Clasament!AN$3:AN$72=\"+\",ROW(Clasament!$B$3:$B$74)-ROW(Clasament!$B$3)+1),ROWS(Clasament!$B$3:'Clasament'!$B50))),\"\")","v":""},{"$f":"IFERROR(INDEX(Clasament!$BH$3:$BH$72,SMALL(IF(Clasament!AO$3:AO$72=\"+\",ROW(Clasament!$B$3:$B$74)-ROW(Clasament!$B$3)+1),ROWS(Clasament!$B$3:'Clasament'!$B50))),\"\")","v":""},{"$f":"IFERROR(INDEX(Clasament!$BH$3:$BH$72,SMALL(IF(Clasament!AP$3:AP$72=\"+\",ROW(Clasament!$B$3:$B$74)-ROW(Clasament!$B$3)+1),ROWS(Clasament!$B$3:'Clasament'!$B50))),\"\")","v":""},{"$f":"IFERROR(INDEX(Clasament!$BH$3:$BH$72,SMALL(IF(Clasament!AQ$3:AQ$72=\"+\",ROW(Clasament!$B$3:$B$74)-ROW(Clasament!$B$3)+1),ROWS(Clasament!$B$3:'Clasament'!$B50))),\"\")","v":""},{"$f":"IFERROR(INDEX(Clasament!$BH$3:$BH$72,SMALL(IF(Clasament!AR$3:AR$72=\"+\",ROW(Clasament!$B$3:$B$74)-ROW(Clasament!$B$3)+1),ROWS(Clasament!$B$3:'Clasament'!$B50))),\"\")","v":""},{"$f":"IFERROR(INDEX(Clasament!$BH$3:$BH$72,SMALL(IF(Clasament!AS$3:AS$72=\"+\",ROW(Clasament!$B$3:$B$74)-ROW(Clasament!$B$3)+1),ROWS(Clasament!$B$3:'Clasament'!$B50))),\"\")","v":""},{"$f":"IFERROR(INDEX(Clasament!$BH$3:$BH$72,SMALL(IF(Clasament!AU$3:AU$72=\"+\",ROW(Clasament!$B$3:$B$74)-ROW(Clasament!$B$3)+1),ROWS(Clasament!$B$3:'Clasament'!$B50))),\"\")","v":""},{"$f":"IFERROR(INDEX(Clasament!$BH$3:$BH$72,SMALL(IF(Clasament!AV$3:AV$72=\"+\",ROW(Clasament!$B$3:$B$74)-ROW(Clasament!$B$3)+1),ROWS(Clasament!$B$3:'Clasament'!$B50))),\"\")","v":""},{"$f":"IFERROR(INDEX(Clasament!$BH$3:$BH$72,SMALL(IF(Clasament!AW$3:AW$72=\"+\",ROW(Clasament!$B$3:$B$74)-ROW(Clasament!$B$3)+1),ROWS(Clasament!$B$3:'Clasament'!$B50))),\"\")","v":""},{"$f":"IFERROR(INDEX(Clasament!$BH$3:$BH$72,SMALL(IF(Clasament!AX$3:AX$72=\"+\",ROW(Clasament!$B$3:$B$74)-ROW(Clasament!$B$3)+1),ROWS(Clasament!$B$3:'Clasament'!$B50))),\"\")","v":""},{"$f":"IFERROR(INDEX(Clasament!$BH$3:$BH$72,SMALL(IF(Clasament!AY$3:AY$72=\"+\",ROW(Clasament!$B$3:$B$74)-ROW(Clasament!$B$3)+1),ROWS(Clasament!$B$3:'Clasament'!$B50))),\"\")","v":""},{"$f":"IFERROR(INDEX(Clasament!$BH$3:$BH$72,SMALL(IF(Clasament!AZ$3:AZ$72=\"+\",ROW(Clasament!$B$3:$B$74)-ROW(Clasament!$B$3)+1),ROWS(Clasament!$B$3:'Clasament'!$B50))),\"\")","v":""},{"$f":"IFERROR(INDEX(Clasament!$BH$3:$BH$72,SMALL(IF(Clasament!BA$3:BA$72=\"+\",ROW(Clasament!$B$3:$B$74)-ROW(Clasament!$B$3)+1),ROWS(Clasament!$B$3:'Clasament'!$B50))),\"\")","v":""},{"$f":"IFERROR(INDEX(Clasament!$BH$3:$BH$72,SMALL(IF(Clasament!BB$3:BB$72=\"+\",ROW(Clasament!$B$3:$B$74)-ROW(Clasament!$B$3)+1),ROWS(Clasament!$B$3:'Clasament'!$B50))),\"\")","v":""},{"$f":"IFERROR(INDEX(Clasament!$BH$3:$BH$72,SMALL(IF(Clasament!BC$3:BC$72=\"+\",ROW(Clasament!$B$3:$B$74)-ROW(Clasament!$B$3)+1),ROWS(Clasament!$B$3:'Clasament'!$B50))),\"\")","v":""},{"$f":"IFERROR(INDEX(Clasament!$BH$3:$BH$72,SMALL(IF(Clasament!BD$3:BD$72=\"+\",ROW(Clasament!$B$3:$B$74)-ROW(Clasament!$B$3)+1),ROWS(Clasament!$B$3:'Clasament'!$B50))),\"\")","v":""}]
[null,{"$f":"IFERROR(INDEX(Clasament!$BH$3:$BH$72,SMALL(IF(Clasament!C$3:C$72=\"+\",ROW(Clasament!$B$3:$B$74)-ROW(Clasament!$B$3)+1),ROWS(Clasament!$B$3:'Clasament'!$B51))),\"\")","v":""},{"$f":"IFERROR(INDEX(Clasament!$BH$3:$BH$72,SMALL(IF(Clasament!D$3:D$72=\"+\",ROW(Clasament!$B$3:$B$74)-ROW(Clasament!$B$3)+1),ROWS(Clasament!$B$3:'Clasament'!$B51))),\"\")","v":""},{"$f":"IFERROR(INDEX(Clasament!$BH$3:$BH$72,SMALL(IF(Clasament!E$3:E$72=\"+\",ROW(Clasament!$B$3:$B$74)-ROW(Clasament!$B$3)+1),ROWS(Clasament!$B$3:'Clasament'!$B51))),\"\")","v":""},{"$f":"IFERROR(INDEX(Clasament!$BH$3:$BH$72,SMALL(IF(Clasament!F$3:F$72=\"+\",ROW(Clasament!$B$3:$B$74)-ROW(Clasament!$B$3)+1),ROWS(Clasament!$B$3:'Clasament'!$B51))),\"\")","v":""},{"$f":"IFERROR(INDEX(Clasament!$BH$3:$BH$72,SMALL(IF(Clasament!G$3:G$72=\"+\",ROW(Clasament!$B$3:$B$74)-ROW(Clasament!$B$3)+1),ROWS(Clasament!$B$3:'Clasament'!$B51))),\"\")","v":""},{"$f":"IFERROR(INDEX(Clasament!$BH$3:$BH$72,SMALL(IF(Clasament!H$3:H$72=\"+\",ROW(Clasament!$B$3:$B$74)-ROW(Clasament!$B$3)+1),ROWS(Clasament!$B$3:'Clasament'!$B51))),\"\")","v":""},{"$f":"IFERROR(INDEX(Clasament!$BH$3:$BH$72,SMALL(IF(Clasament!I$3:I$72=\"+\",ROW(Clasament!$B$3:$B$74)-ROW(Clasament!$B$3)+1),ROWS(Clasament!$B$3:'Clasament'!$B51))),\"\")","v":""},{"$f":"IFERROR(INDEX(Clasament!$BH$3:$BH$72,SMALL(IF(Clasament!J$3:J$72=\"+\",ROW(Clasament!$B$3:$B$74)-ROW(Clasament!$B$3)+1),ROWS(Clasament!$B$3:'Clasament'!$B51))),\"\")","v":""},{"$f":"IFERROR(INDEX(Clasament!$BH$3:$BH$72,SMALL(IF(Clasament!K$3:K$72=\"+\",ROW(Clasament!$B$3:$B$74)-ROW(Clasament!$B$3)+1),ROWS(Clasament!$B$3:'Clasament'!$B51))),\"\")","v":""},{"$f":"IFERROR(INDEX(Clasament!$BH$3:$BH$72,SMALL(IF(Clasament!L$3:L$72=\"+\",ROW(Clasament!$B$3:$B$74)-ROW(Clasament!$B$3)+1),ROWS(Clasament!$B$3:'Clasament'!$B51))),\"\")","v":""},{"$f":"IFERROR(INDEX(Clasament!$BH$3:$BH$72,SMALL(IF(Clasament!N$3:N$72=\"+\",ROW(Clasament!$B$3:$B$74)-ROW(Clasament!$B$3)+1),ROWS(Clasament!$B$3:'Clasament'!$B51))),\"\")","v":""},{"$f":"IFERROR(INDEX(Clasament!$BH$3:$BH$72,SMALL(IF(Clasament!O$3:O$72=\"+\",ROW(Clasament!$B$3:$B$74)-ROW(Clasament!$B$3)+1),ROWS(Clasament!$B$3:'Clasament'!$B51))),\"\")","v":""},{"$f":"IFERROR(INDEX(Clasament!$BH$3:$BH$72,SMALL(IF(Clasament!P$3:P$72=\"+\",ROW(Clasament!$B$3:$B$74)-ROW(Clasament!$B$3)+1),ROWS(Clasament!$B$3:'Clasament'!$B51))),\"\")","v":""},{"$f":"IFERROR(INDEX(Clasament!$BH$3:$BH$72,SMALL(IF(Clasament!Q$3:Q$72=\"+\",ROW(Clasament!$B$3:$B$74)-ROW(Clasament!$B$3)+1),ROWS(Clasament!$B$3:'Clasament'!$B51))),\"\")","v":""},{"$f":"IFERROR(INDEX(Clasament!$BH$3:$BH$72,SMALL(IF(Clasament!R$3:R$72=\"+\",ROW(Clasament!$B$3:$B$74)-ROW(Clasament!$B$3)+1),ROWS(Clasament!$B$3:'Clasament'!$B51))),\"\")","v":""},{"$f":"IFERROR(INDEX(Clasament!$BH$3:$BH$72,SMALL(IF(Clasament!S$3:S$72=\"+\",ROW(Clasament!$B$3:$B$74)-ROW(Clasament!$B$3)+1),ROWS(Clasament!$B$3:'Clasament'!$B51))),\"\")","v":""},{"$f":"IFERROR(INDEX(Clasament!$BH$3:$BH$72,SMALL(IF(Clasament!T$3:T$72=\"+\",ROW(Clasament!$B$3:$B$74)-ROW(Clasament!$B$3)+1),ROWS(Clasament!$B$3:'Clasament'!$B51))),\"\")","v":""},{"$f":"IFERROR(INDEX(Clasament!$BH$3:$BH$72,SMALL(IF(Clasament!U$3:U$72=\"+\",ROW(Clasament!$B$3:$B$74)-ROW(Clasament!$B$3)+1),ROWS(Clasament!$B$3:'Clasament'!$B51))),\"\")","v":""},{"$f":"IFERROR(INDEX(Clasament!$BH$3:$BH$72,SMALL(IF(Clasament!V$3:V$72=\"+\",ROW(Clasament!$B$3:$B$74)-ROW(Clasament!$B$3)+1),ROWS(Clasament!$B$3:'Clasament'!$B51))),\"\")","v":""},{"$f":"IFERROR(INDEX(Clasament!$BH$3:$BH$72,SMALL(IF(Clasament!W$3:W$72=\"+\",ROW(Clasament!$B$3:$B$74)-ROW(Clasament!$B$3)+1),ROWS(Clasament!$B$3:'Clasament'!$B51))),\"\")","v":""},{"$f":"IFERROR(INDEX(Clasament!$BH$3:$BH$72,SMALL(IF(Clasament!Y$3:Y$72=\"+\",ROW(Clasament!$B$3:$B$74)-ROW(Clasament!$B$3)+1),ROWS(Clasament!$B$3:'Clasament'!$B51))),\"\")","v":""},{"$f":"IFERROR(INDEX(Clasament!$BH$3:$BH$72,SMALL(IF(Clasament!Z$3:Z$72=\"+\",ROW(Clasament!$B$3:$B$74)-ROW(Clasament!$B$3)+1),ROWS(Clasament!$B$3:'Clasament'!$B51))),\"\")","v":""},{"$f":"IFERROR(INDEX(Clasament!$BH$3:$BH$72,SMALL(IF(Clasament!AA$3:AA$72=\"+\",ROW(Clasament!$B$3:$B$74)-ROW(Clasament!$B$3)+1),ROWS(Clasament!$B$3:'Clasament'!$B51))),\"\")","v":""},{"$f":"IFERROR(INDEX(Clasament!$BH$3:$BH$72,SMALL(IF(Clasament!AB$3:AB$72=\"+\",ROW(Clasament!$B$3:$B$74)-ROW(Clasament!$B$3)+1),ROWS(Clasament!$B$3:'Clasament'!$B51))),\"\")","v":""},{"$f":"IFERROR(INDEX(Clasament!$BH$3:$BH$72,SMALL(IF(Clasament!AC$3:AC$72=\"+\",ROW(Clasament!$B$3:$B$74)-ROW(Clasament!$B$3)+1),ROWS(Clasament!$B$3:'Clasament'!$B51))),\"\")","v":""},{"$f":"IFERROR(INDEX(Clasament!$BH$3:$BH$72,SMALL(IF(Clasament!AD$3:AD$72=\"+\",ROW(Clasament!$B$3:$B$74)-ROW(Clasament!$B$3)+1),ROWS(Clasament!$B$3:'Clasament'!$B51))),\"\")","v":""},{"$f":"IFERROR(INDEX(Clasament!$BH$3:$BH$72,SMALL(IF(Clasament!AE$3:AE$72=\"+\",ROW(Clasament!$B$3:$B$74)-ROW(Clasament!$B$3)+1),ROWS(Clasament!$B$3:'Clasament'!$B51))),\"\")","v":""},{"$f":"IFERROR(INDEX(Clasament!$BH$3:$BH$72,SMALL(IF(Clasament!AF$3:AF$72=\"+\",ROW(Clasament!$B$3:$B$74)-ROW(Clasament!$B$3)+1),ROWS(Clasament!$B$3:'Clasament'!$B51))),\"\")","v":""},{"$f":"IFERROR(INDEX(Clasament!$BH$3:$BH$72,SMALL(IF(Clasament!AG$3:AG$72=\"+\",ROW(Clasament!$B$3:$B$74)-ROW(Clasament!$B$3)+1),ROWS(Clasament!$B$3:'Clasament'!$B51))),\"\")","v":""},{"$f":"IFERROR(INDEX(Clasament!$BH$3:$BH$72,SMALL(IF(Clasament!AH$3:AH$72=\"+\",ROW(Clasament!$B$3:$B$74)-ROW(Clasament!$B$3)+1),ROWS(Clasament!$B$3:'Clasament'!$B51))),\"\")","v":""},{"$f":"IFERROR(INDEX(Clasament!$BH$3:$BH$72,SMALL(IF(Clasament!AJ$3:AJ$72=\"+\",ROW(Clasament!$B$3:$B$74)-ROW(Clasament!$B$3)+1),ROWS(Clasament!$B$3:'Clasament'!$B51))),\"\")","v":""},{"$f":"IFERROR(INDEX(Clasament!$BH$3:$BH$72,SMALL(IF(Clasament!AK$3:AK$72=\"+\",ROW(Clasament!$B$3:$B$74)-ROW(Clasament!$B$3)+1),ROWS(Clasament!$B$3:'Clasament'!$B51))),\"\")","v":""},{"$f":"IFERROR(INDEX(Clasament!$BH$3:$BH$72,SMALL(IF(Clasament!AL$3:AL$72=\"+\",ROW(Clasament!$B$3:$B$74)-ROW(Clasament!$B$3)+1),ROWS(Clasament!$B$3:'Clasament'!$B51))),\"\")","v":""},{"$f":"IFERROR(INDEX(Clasament!$BH$3:$BH$72,SMALL(IF(Clasament!AM$3:AM$72=\"+\",ROW(Clasament!$B$3:$B$74)-ROW(Clasament!$B$3)+1),ROWS(Clasament!$B$3:'Clasament'!$B51))),\"\")","v":""},{"$f":"IFERROR(INDEX(Clasament!$BH$3:$BH$72,SMALL(IF(Clasament!AN$3:AN$72=\"+\",ROW(Clasament!$B$3:$B$74)-ROW(Clasament!$B$3)+1),ROWS(Clasament!$B$3:'Clasament'!$B51))),\"\")","v":""},{"$f":"IFERROR(INDEX(Clasament!$BH$3:$BH$72,SMALL(IF(Clasament!AO$3:AO$72=\"+\",ROW(Clasament!$B$3:$B$74)-ROW(Clasament!$B$3)+1),ROWS(Clasament!$B$3:'Clasament'!$B51))),\"\")","v":""},{"$f":"IFERROR(INDEX(Clasament!$BH$3:$BH$72,SMALL(IF(Clasament!AP$3:AP$72=\"+\",ROW(Clasament!$B$3:$B$74)-ROW(Clasament!$B$3)+1),ROWS(Clasament!$B$3:'Clasament'!$B51))),\"\")","v":""},{"$f":"IFERROR(INDEX(Clasament!$BH$3:$BH$72,SMALL(IF(Clasament!AQ$3:AQ$72=\"+\",ROW(Clasament!$B$3:$B$74)-ROW(Clasament!$B$3)+1),ROWS(Clasament!$B$3:'Clasament'!$B51))),\"\")","v":""},{"$f":"IFERROR(INDEX(Clasament!$BH$3:$BH$72,SMALL(IF(Clasament!AR$3:AR$72=\"+\",ROW(Clasament!$B$3:$B$74)-ROW(Clasament!$B$3)+1),ROWS(Clasament!$B$3:'Clasament'!$B51))),\"\")","v":""},{"$f":"IFERROR(INDEX(Clasament!$BH$3:$BH$72,SMALL(IF(Clasament!AS$3:AS$72=\"+\",ROW(Clasament!$B$3:$B$74)-ROW(Clasament!$B$3)+1),ROWS(Clasament!$B$3:'Clasament'!$B51))),\"\")","v":""},{"$f":"IFERROR(INDEX(Clasament!$BH$3:$BH$72,SMALL(IF(Clasament!AU$3:AU$72=\"+\",ROW(Clasament!$B$3:$B$74)-ROW(Clasament!$B$3)+1),ROWS(Clasament!$B$3:'Clasament'!$B51))),\"\")","v":""},{"$f":"IFERROR(INDEX(Clasament!$BH$3:$BH$72,SMALL(IF(Clasament!AV$3:AV$72=\"+\",ROW(Clasament!$B$3:$B$74)-ROW(Clasament!$B$3)+1),ROWS(Clasament!$B$3:'Clasament'!$B51))),\"\")","v":""},{"$f":"IFERROR(INDEX(Clasament!$BH$3:$BH$72,SMALL(IF(Clasament!AW$3:AW$72=\"+\",ROW(Clasament!$B$3:$B$74)-ROW(Clasament!$B$3)+1),ROWS(Clasament!$B$3:'Clasament'!$B51))),\"\")","v":""},{"$f":"IFERROR(INDEX(Clasament!$BH$3:$BH$72,SMALL(IF(Clasament!AX$3:AX$72=\"+\",ROW(Clasament!$B$3:$B$74)-ROW(Clasament!$B$3)+1),ROWS(Clasament!$B$3:'Clasament'!$B51))),\"\")","v":""},{"$f":"IFERROR(INDEX(Clasament!$BH$3:$BH$72,SMALL(IF(Clasament!AY$3:AY$72=\"+\",ROW(Clasament!$B$3:$B$74)-ROW(Clasament!$B$3)+1),ROWS(Clasament!$B$3:'Clasament'!$B51))),\"\")","v":""},{"$f":"IFERROR(INDEX(Clasament!$BH$3:$BH$72,SMALL(IF(Clasament!AZ$3:AZ$72=\"+\",ROW(Clasament!$B$3:$B$74)-ROW(Clasament!$B$3)+1),ROWS(Clasament!$B$3:'Clasament'!$B51))),\"\")","v":""},{"$f":"IFERROR(INDEX(Clasament!$BH$3:$BH$72,SMALL(IF(Clasament!BA$3:BA$72=\"+\",ROW(Clasament!$B$3:$B$74)-ROW(Clasament!$B$3)+1),ROWS(Clasament!$B$3:'Clasament'!$B51))),\"\")","v":""},{"$f":"IFERROR(INDEX(Clasament!$BH$3:$BH$72,SMALL(IF(Clasament!BB$3:BB$72=\"+\",ROW(Clasament!$B$3:$B$74)-ROW(Clasament!$B$3)+1),ROWS(Clasament!$B$3:'Clasament'!$B51))),\"\")","v":""},{"$f":"IFERROR(INDEX(Clasament!$BH$3:$BH$72,SMALL(IF(Clasament!BC$3:BC$72=\"+\",ROW(Clasament!$B$3:$B$74)-ROW(Clasament!$B$3)+1),ROWS(Clasament!$B$3:'Clasament'!$B51))),\"\")","v":""},{"$f":"IFERROR(INDEX(Clasament!$BH$3:$BH$72,SMALL(IF(Clasament!BD$3:BD$72=\"+\",ROW(Clasament!$B$3:$B$74)-ROW(Clasament!$B$3)+1),ROWS(Clasament!$B$3:'Clasament'!$B51))),\"\")","v":""}]
[null,{"$f":"IFERROR(INDEX(Clasament!$BH$3:$BH$72,SMALL(IF(Clasament!C$3:C$72=\"+\",ROW(Clasament!$B$3:$B$74)-ROW(Clasament!$B$3)+1),ROWS(Clasament!$B$3:'Clasament'!$B52))),\"\")","v":""},{"$f":"IFERROR(INDEX(Clasament!$BH$3:$BH$72,SMALL(IF(Clasament!D$3:D$72=\"+\",ROW(Clasament!$B$3:$B$74)-ROW(Clasament!$B$3)+1),ROWS(Clasament!$B$3:'Clasament'!$B52))),\"\")","v":""},{"$f":"IFERROR(INDEX(Clasament!$BH$3:$BH$72,SMALL(IF(Clasament!E$3:E$72=\"+\",ROW(Clasament!$B$3:$B$74)-ROW(Clasament!$B$3)+1),ROWS(Clasament!$B$3:'Clasament'!$B52))),\"\")","v":""},{"$f":"IFERROR(INDEX(Clasament!$BH$3:$BH$72,SMALL(IF(Clasament!F$3:F$72=\"+\",ROW(Clasament!$B$3:$B$74)-ROW(Clasament!$B$3)+1),ROWS(Clasament!$B$3:'Clasament'!$B52))),\"\")","v":""},{"$f":"IFERROR(INDEX(Clasament!$BH$3:$BH$72,SMALL(IF(Clasament!G$3:G$72=\"+\",ROW(Clasament!$B$3:$B$74)-ROW(Clasament!$B$3)+1),ROWS(Clasament!$B$3:'Clasament'!$B52))),\"\")","v":""},{"$f":"IFERROR(INDEX(Clasament!$BH$3:$BH$72,SMALL(IF(Clasament!H$3:H$72=\"+\",ROW(Clasament!$B$3:$B$74)-ROW(Clasament!$B$3)+1),ROWS(Clasament!$B$3:'Clasament'!$B52))),\"\")","v":""},{"$f":"IFERROR(INDEX(Clasament!$BH$3:$BH$72,SMALL(IF(Clasament!I$3:I$72=\"+\",ROW(Clasament!$B$3:$B$74)-ROW(Clasament!$B$3)+1),ROWS(Clasament!$B$3:'Clasament'!$B52))),\"\")","v":""},{"$f":"IFERROR(INDEX(Clasament!$BH$3:$BH$72,SMALL(IF(Clasament!J$3:J$72=\"+\",ROW(Clasament!$B$3:$B$74)-ROW(Clasament!$B$3)+1),ROWS(Clasament!$B$3:'Clasament'!$B52))),\"\")","v":""},{"$f":"IFERROR(INDEX(Clasament!$BH$3:$BH$72,SMALL(IF(Clasament!K$3:K$72=\"+\",ROW(Clasament!$B$3:$B$74)-ROW(Clasament!$B$3)+1),ROWS(Clasament!$B$3:'Clasament'!$B52))),\"\")","v":""},{"$f":"IFERROR(INDEX(Clasament!$BH$3:$BH$72,SMALL(IF(Clasament!L$3:L$72=\"+\",ROW(Clasament!$B$3:$B$74)-ROW(Clasament!$B$3)+1),ROWS(Clasament!$B$3:'Clasament'!$B52))),\"\")","v":""},{"$f":"IFERROR(INDEX(Clasament!$BH$3:$BH$72,SMALL(IF(Clasament!N$3:N$72=\"+\",ROW(Clasament!$B$3:$B$74)-ROW(Clasament!$B$3)+1),ROWS(Clasament!$B$3:'Clasament'!$B52))),\"\")","v":""},{"$f":"IFERROR(INDEX(Clasament!$BH$3:$BH$72,SMALL(IF(Clasament!O$3:O$72=\"+\",ROW(Clasament!$B$3:$B$74)-ROW(Clasament!$B$3)+1),ROWS(Clasament!$B$3:'Clasament'!$B52))),\"\")","v":""},{"$f":"IFERROR(INDEX(Clasament!$BH$3:$BH$72,SMALL(IF(Clasament!P$3:P$72=\"+\",ROW(Clasament!$B$3:$B$74)-ROW(Clasament!$B$3)+1),ROWS(Clasament!$B$3:'Clasament'!$B52))),\"\")","v":""},{"$f":"IFERROR(INDEX(Clasament!$BH$3:$BH$72,SMALL(IF(Clasament!Q$3:Q$72=\"+\",ROW(Clasament!$B$3:$B$74)-ROW(Clasament!$B$3)+1),ROWS(Clasament!$B$3:'Clasament'!$B52))),\"\")","v":""},{"$f":"IFERROR(INDEX(Clasament!$BH$3:$BH$72,SMALL(IF(Clasament!R$3:R$72=\"+\",ROW(Clasament!$B$3:$B$74)-ROW(Clasament!$B$3)+1),ROWS(Clasament!$B$3:'Clasament'!$B52))),\"\")","v":""},{"$f":"IFERROR(INDEX(Clasament!$BH$3:$BH$72,SMALL(IF(Clasament!S$3:S$72=\"+\",ROW(Clasament!$B$3:$B$74)-ROW(Clasament!$B$3)+1),ROWS(Clasament!$B$3:'Clasament'!$B52))),\"\")","v":""},{"$f":"IFERROR(INDEX(Clasament!$BH$3:$BH$72,SMALL(IF(Clasament!T$3:T$72=\"+\",ROW(Clasament!$B$3:$B$74)-ROW(Clasament!$B$3)+1),ROWS(Clasament!$B$3:'Clasament'!$B52))),\"\")","v":""},{"$f":"IFERROR(INDEX(Clasament!$BH$3:$BH$72,SMALL(IF(Clasament!U$3:U$72=\"+\",ROW(Clasament!$B$3:$B$74)-ROW(Clasament!$B$3)+1),ROWS(Clasament!$B$3:'Clasament'!$B52))),\"\")","v":""},{"$f":"IFERROR(INDEX(Clasament!$BH$3:$BH$72,SMALL(IF(Clasament!V$3:V$72=\"+\",ROW(Clasament!$B$3:$B$74)-ROW(Clasament!$B$3)+1),ROWS(Clasament!$B$3:'Clasament'!$B52))),\"\")","v":""},{"$f":"IFERROR(INDEX(Clasament!$BH$3:$BH$72,SMALL(IF(Clasament!W$3:W$72=\"+\",ROW(Clasament!$B$3:$B$74)-ROW(Clasament!$B$3)+1),ROWS(Clasament!$B$3:'Clasament'!$B52))),\"\")","v":""},{"$f":"IFERROR(INDEX(Clasament!$BH$3:$BH$72,SMALL(IF(Clasament!Y$3:Y$72=\"+\",ROW(Clasament!$B$3:$B$74)-ROW(Clasament!$B$3)+1),ROWS(Clasament!$B$3:'Clasament'!$B52))),\"\")","v":""},{"$f":"IFERROR(INDEX(Clasament!$BH$3:$BH$72,SMALL(IF(Clasament!Z$3:Z$72=\"+\",ROW(Clasament!$B$3:$B$74)-ROW(Clasament!$B$3)+1),ROWS(Clasament!$B$3:'Clasament'!$B52))),\"\")","v":""},{"$f":"IFERROR(INDEX(Clasament!$BH$3:$BH$72,SMALL(IF(Clasament!AA$3:AA$72=\"+\",ROW(Clasament!$B$3:$B$74)-ROW(Clasament!$B$3)+1),ROWS(Clasament!$B$3:'Clasament'!$B52))),\"\")","v":""},{"$f":"IFERROR(INDEX(Clasament!$BH$3:$BH$72,SMALL(IF(Clasament!AB$3:AB$72=\"+\",ROW(Clasament!$B$3:$B$74)-ROW(Clasament!$B$3)+1),ROWS(Clasament!$B$3:'Clasament'!$B52))),\"\")","v":""},{"$f":"IFERROR(INDEX(Clasament!$BH$3:$BH$72,SMALL(IF(Clasament!AC$3:AC$72=\"+\",ROW(Clasament!$B$3:$B$74)-ROW(Clasament!$B$3)+1),ROWS(Clasament!$B$3:'Clasament'!$B52))),\"\")","v":""},{"$f":"IFERROR(INDEX(Clasament!$BH$3:$BH$72,SMALL(IF(Clasament!AD$3:AD$72=\"+\",ROW(Clasament!$B$3:$B$74)-ROW(Clasament!$B$3)+1),ROWS(Clasament!$B$3:'Clasament'!$B52))),\"\")","v":""},{"$f":"IFERROR(INDEX(Clasament!$BH$3:$BH$72,SMALL(IF(Clasament!AE$3:AE$72=\"+\",ROW(Clasament!$B$3:$B$74)-ROW(Clasament!$B$3)+1),ROWS(Clasament!$B$3:'Clasament'!$B52))),\"\")","v":""},{"$f":"IFERROR(INDEX(Clasament!$BH$3:$BH$72,SMALL(IF(Clasament!AF$3:AF$72=\"+\",ROW(Clasament!$B$3:$B$74)-ROW(Clasament!$B$3)+1),ROWS(Clasament!$B$3:'Clasament'!$B52))),\"\")","v":""},{"$f":"IFERROR(INDEX(Clasament!$BH$3:$BH$72,SMALL(IF(Clasament!AG$3:AG$72=\"+\",ROW(Clasament!$B$3:$B$74)-ROW(Clasament!$B$3)+1),ROWS(Clasament!$B$3:'Clasament'!$B52))),\"\")","v":""},{"$f":"IFERROR(INDEX(Clasament!$BH$3:$BH$72,SMALL(IF(Clasament!AH$3:AH$72=\"+\",ROW(Clasament!$B$3:$B$74)-ROW(Clasament!$B$3)+1),ROWS(Clasament!$B$3:'Clasament'!$B52))),\"\")","v":""},{"$f":"IFERROR(INDEX(Clasament!$BH$3:$BH$72,SMALL(IF(Clasament!AJ$3:AJ$72=\"+\",ROW(Clasament!$B$3:$B$74)-ROW(Clasament!$B$3)+1),ROWS(Clasament!$B$3:'Clasament'!$B52))),\"\")","v":""},{"$f":"IFERROR(INDEX(Clasament!$BH$3:$BH$72,SMALL(IF(Clasament!AK$3:AK$72=\"+\",ROW(Clasament!$B$3:$B$74)-ROW(Clasament!$B$3)+1),ROWS(Clasament!$B$3:'Clasament'!$B52))),\"\")","v":""},{"$f":"IFERROR(INDEX(Clasament!$BH$3:$BH$72,SMALL(IF(Clasament!AL$3:AL$72=\"+\",ROW(Clasament!$B$3:$B$74)-ROW(Clasament!$B$3)+1),ROWS(Clasament!$B$3:'Clasament'!$B52))),\"\")","v":""},{"$f":"IFERROR(INDEX(Clasament!$BH$3:$BH$72,SMALL(IF(Clasament!AM$3:AM$72=\"+\",ROW(Clasament!$B$3:$B$74)-ROW(Clasament!$B$3)+1),ROWS(Clasament!$B$3:'Clasament'!$B52))),\"\")","v":""},{"$f":"IFERROR(INDEX(Clasament!$BH$3:$BH$72,SMALL(IF(Clasament!AN$3:AN$72=\"+\",ROW(Clasament!$B$3:$B$74)-ROW(Clasament!$B$3)+1),ROWS(Clasament!$B$3:'Clasament'!$B52))),\"\")","v":""},{"$f":"IFERROR(INDEX(Clasament!$BH$3:$BH$72,SMALL(IF(Clasament!AO$3:AO$72=\"+\",ROW(Clasament!$B$3:$B$74)-ROW(Clasament!$B$3)+1),ROWS(Clasament!$B$3:'Clasament'!$B52))),\"\")","v":""},{"$f":"IFERROR(INDEX(Clasament!$BH$3:$BH$72,SMALL(IF(Clasament!AP$3:AP$72=\"+\",ROW(Clasament!$B$3:$B$74)-ROW(Clasament!$B$3)+1),ROWS(Clasament!$B$3:'Clasament'!$B52))),\"\")","v":""},{"$f":"IFERROR(INDEX(Clasament!$BH$3:$BH$72,SMALL(IF(Clasament!AQ$3:AQ$72=\"+\",ROW(Clasament!$B$3:$B$74)-ROW(Clasament!$B$3)+1),ROWS(Clasament!$B$3:'Clasament'!$B52))),\"\")","v":""},{"$f":"IFERROR(INDEX(Clasament!$BH$3:$BH$72,SMALL(IF(Clasament!AR$3:AR$72=\"+\",ROW(Clasament!$B$3:$B$74)-ROW(Clasament!$B$3)+1),ROWS(Clasament!$B$3:'Clasament'!$B52))),\"\")","v":""},{"$f":"IFERROR(INDEX(Clasament!$BH$3:$BH$72,SMALL(IF(Clasament!AS$3:AS$72=\"+\",ROW(Clasament!$B$3:$B$74)-ROW(Clasament!$B$3)+1),ROWS(Clasament!$B$3:'Clasament'!$B52))),\"\")","v":""},{"$f":"IFERROR(INDEX(Clasament!$BH$3:$BH$72,SMALL(IF(Clasament!AU$3:AU$72=\"+\",ROW(Clasament!$B$3:$B$74)-ROW(Clasament!$B$3)+1),ROWS(Clasament!$B$3:'Clasament'!$B52))),\"\")","v":""},{"$f":"IFERROR(INDEX(Clasament!$BH$3:$BH$72,SMALL(IF(Clasament!AV$3:AV$72=\"+\",ROW(Clasament!$B$3:$B$74)-ROW(Clasament!$B$3)+1),ROWS(Clasament!$B$3:'Clasament'!$B52))),\"\")","v":""},{"$f":"IFERROR(INDEX(Clasament!$BH$3:$BH$72,SMALL(IF(Clasament!AW$3:AW$72=\"+\",ROW(Clasament!$B$3:$B$74)-ROW(Clasament!$B$3)+1),ROWS(Clasament!$B$3:'Clasament'!$B52))),\"\")","v":""},{"$f":"IFERROR(INDEX(Clasament!$BH$3:$BH$72,SMALL(IF(Clasament!AX$3:AX$72=\"+\",ROW(Clasament!$B$3:$B$74)-ROW(Clasament!$B$3)+1),ROWS(Clasament!$B$3:'Clasament'!$B52))),\"\")","v":""},{"$f":"IFERROR(INDEX(Clasament!$BH$3:$BH$72,SMALL(IF(Clasament!AY$3:AY$72=\"+\",ROW(Clasament!$B$3:$B$74)-ROW(Clasament!$B$3)+1),ROWS(Clasament!$B$3:'Clasament'!$B52))),\"\")","v":""},{"$f":"IFERROR(INDEX(Clasament!$BH$3:$BH$72,SMALL(IF(Clasament!AZ$3:AZ$72=\"+\",ROW(Clasament!$B$3:$B$74)-ROW(Clasament!$B$3)+1),ROWS(Clasament!$B$3:'Clasament'!$B52))),\"\")","v":""},{"$f":"IFERROR(INDEX(Clasament!$BH$3:$BH$72,SMALL(IF(Clasament!BA$3:BA$72=\"+\",ROW(Clasament!$B$3:$B$74)-ROW(Clasament!$B$3)+1),ROWS(Clasament!$B$3:'Clasament'!$B52))),\"\")","v":""},{"$f":"IFERROR(INDEX(Clasament!$BH$3:$BH$72,SMALL(IF(Clasament!BB$3:BB$72=\"+\",ROW(Clasament!$B$3:$B$74)-ROW(Clasament!$B$3)+1),ROWS(Clasament!$B$3:'Clasament'!$B52))),\"\")","v":""},{"$f":"IFERROR(INDEX(Clasament!$BH$3:$BH$72,SMALL(IF(Clasament!BC$3:BC$72=\"+\",ROW(Clasament!$B$3:$B$74)-ROW(Clasament!$B$3)+1),ROWS(Clasament!$B$3:'Clasament'!$B52))),\"\")","v":""},{"$f":"IFERROR(INDEX(Clasament!$BH$3:$BH$72,SMALL(IF(Clasament!BD$3:BD$72=\"+\",ROW(Clasament!$B$3:$B$74)-ROW(Clasament!$B$3)+1),ROWS(Clasament!$B$3:'Clasament'!$B52))),\"\")","v":""}]
[null,{"$f":"IFERROR(INDEX(Clasament!$BH$3:$BH$72,SMALL(IF(Clasament!C$3:C$72=\"+\",ROW(Clasament!$B$3:$B$74)-ROW(Clasament!$B$3)+1),ROWS(Clasament!$B$3:'Clasament'!$B53))),\"\")","v":""},{"$f":"IFERROR(INDEX(Clasament!$BH$3:$BH$72,SMALL(IF(Clasament!D$3:D$72=\"+\",ROW(Clasament!$B$3:$B$74)-ROW(Clasament!$B$3)+1),ROWS(Clasament!$B$3:'Clasament'!$B53))),\"\")","v":""},{"$f":"IFERROR(INDEX(Clasament!$BH$3:$BH$72,SMALL(IF(Clasament!E$3:E$72=\"+\",ROW(Clasament!$B$3:$B$74)-ROW(Clasament!$B$3)+1),ROWS(Clasament!$B$3:'Clasament'!$B53))),\"\")","v":""},{"$f":"IFERROR(INDEX(Clasament!$BH$3:$BH$72,SMALL(IF(Clasament!F$3:F$72=\"+\",ROW(Clasament!$B$3:$B$74)-ROW(Clasament!$B$3)+1),ROWS(Clasament!$B$3:'Clasament'!$B53))),\"\")","v":""},{"$f":"IFERROR(INDEX(Clasament!$BH$3:$BH$72,SMALL(IF(Clasament!G$3:G$72=\"+\",ROW(Clasament!$B$3:$B$74)-ROW(Clasament!$B$3)+1),ROWS(Clasament!$B$3:'Clasament'!$B53))),\"\")","v":""},{"$f":"IFERROR(INDEX(Clasament!$BH$3:$BH$72,SMALL(IF(Clasament!H$3:H$72=\"+\",ROW(Clasament!$B$3:$B$74)-ROW(Clasament!$B$3)+1),ROWS(Clasament!$B$3:'Clasament'!$B53))),\"\")","v":""},{"$f":"IFERROR(INDEX(Clasament!$BH$3:$BH$72,SMALL(IF(Clasament!I$3:I$72=\"+\",ROW(Clasament!$B$3:$B$74)-ROW(Clasament!$B$3)+1),ROWS(Clasament!$B$3:'Clasament'!$B53))),\"\")","v":""},{"$f":"IFERROR(INDEX(Clasament!$BH$3:$BH$72,SMALL(IF(Clasament!J$3:J$72=\"+\",ROW(Clasament!$B$3:$B$74)-ROW(Clasament!$B$3)+1),ROWS(Clasament!$B$3:'Clasament'!$B53))),\"\")","v":""},{"$f":"IFERROR(INDEX(Clasament!$BH$3:$BH$72,SMALL(IF(Clasament!K$3:K$72=\"+\",ROW(Clasament!$B$3:$B$74)-ROW(Clasament!$B$3)+1),ROWS(Clasament!$B$3:'Clasament'!$B53))),\"\")","v":""},{"$f":"IFERROR(INDEX(Clasament!$BH$3:$BH$72,SMALL(IF(Clasament!L$3:L$72=\"+\",ROW(Clasament!$B$3:$B$74)-ROW(Clasament!$B$3)+1),ROWS(Clasament!$B$3:'Clasament'!$B53))),\"\")","v":""},{"$f":"IFERROR(INDEX(Clasament!$BH$3:$BH$72,SMALL(IF(Clasament!N$3:N$72=\"+\",ROW(Clasament!$B$3:$B$74)-ROW(Clasament!$B$3)+1),ROWS(Clasament!$B$3:'Clasament'!$B53))),\"\")","v":""},{"$f":"IFERROR(INDEX(Clasament!$BH$3:$BH$72,SMALL(IF(Clasament!O$3:O$72=\"+\",ROW(Clasament!$B$3:$B$74)-ROW(Clasament!$B$3)+1),ROWS(Clasament!$B$3:'Clasament'!$B53))),\"\")","v":""},{"$f":"IFERROR(INDEX(Clasament!$BH$3:$BH$72,SMALL(IF(Clasament!P$3:P$72=\"+\",ROW(Clasament!$B$3:$B$74)-ROW(Clasament!$B$3)+1),ROWS(Clasament!$B$3:'Clasament'!$B53))),\"\")","v":""},{"$f":"IFERROR(INDEX(Clasament!$BH$3:$BH$72,SMALL(IF(Clasament!Q$3:Q$72=\"+\",ROW(Clasament!$B$3:$B$74)-ROW(Clasament!$B$3)+1),ROWS(Clasament!$B$3:'Clasament'!$B53))),\"\")","v":""},{"$f":"IFERROR(INDEX(Clasament!$BH$3:$BH$72,SMALL(IF(Clasament!R$3:R$72=\"+\",ROW(Clasament!$B$3:$B$74)-ROW(Clasament!$B$3)+1),ROWS(Clasament!$B$3:'Clasament'!$B53))),\"\")","v":""},{"$f":"IFERROR(INDEX(Clasament!$BH$3:$BH$72,SMALL(IF(Clasament!S$3:S$72=\"+\",ROW(Clasament!$B$3:$B$74)-ROW(Clasament!$B$3)+1),ROWS(Clasament!$B$3:'Clasament'!$B53))),\"\")","v":""},{"$f":"IFERROR(INDEX(Clasament!$BH$3:$BH$72,SMALL(IF(Clasament!T$3:T$72=\"+\",ROW(Clasament!$B$3:$B$74)-ROW(Clasament!$B$3)+1),ROWS(Clasament!$B$3:'Clasament'!$B53))),\"\")","v":""},{"$f":"IFERROR(INDEX(Clasament!$BH$3:$BH$72,SMALL(IF(Clasament!U$3:U$72=\"+\",ROW(Clasament!$B$3:$B$74)-ROW(Clasament!$B$3)+1),ROWS(Clasament!$B$3:'Clasament'!$B53))),\"\")","v":""},{"$f":"IFERROR(INDEX(Clasament!$BH$3:$BH$72,SMALL(IF(Clasament!V$3:V$72=\"+\",ROW(Clasament!$B$3:$B$74)-ROW(Clasament!$B$3)+1),ROWS(Clasament!$B$3:'Clasament'!$B53))),\"\")","v":""},{"$f":"IFERROR(INDEX(Clasament!$BH$3:$BH$72,SMALL(IF(Clasament!W$3:W$72=\"+\",ROW(Clasament!$B$3:$B$74)-ROW(Clasament!$B$3)+1),ROWS(Clasament!$B$3:'Clasament'!$B53))),\"\")","v":""},{"$f":"IFERROR(INDEX(Clasament!$BH$3:$BH$72,SMALL(IF(Clasament!Y$3:Y$72=\"+\",ROW(Clasament!$B$3:$B$74)-ROW(Clasament!$B$3)+1),ROWS(Clasament!$B$3:'Clasament'!$B53))),\"\")","v":""},{"$f":"IFERROR(INDEX(Clasament!$BH$3:$BH$72,SMALL(IF(Clasament!Z$3:Z$72=\"+\",ROW(Clasament!$B$3:$B$74)-ROW(Clasament!$B$3)+1),ROWS(Clasament!$B$3:'Clasament'!$B53))),\"\")","v":""},{"$f":"IFERROR(INDEX(Clasament!$BH$3:$BH$72,SMALL(IF(Clasament!AA$3:AA$72=\"+\",ROW(Clasament!$B$3:$B$74)-ROW(Clasament!$B$3)+1),ROWS(Clasament!$B$3:'Clasament'!$B53))),\"\")","v":""},{"$f":"IFERROR(INDEX(Clasament!$BH$3:$BH$72,SMALL(IF(Clasament!AB$3:AB$72=\"+\",ROW(Clasament!$B$3:$B$74)-ROW(Clasament!$B$3)+1),ROWS(Clasament!$B$3:'Clasament'!$B53))),\"\")","v":""},{"$f":"IFERROR(INDEX(Clasament!$BH$3:$BH$72,SMALL(IF(Clasament!AC$3:AC$72=\"+\",ROW(Clasament!$B$3:$B$74)-ROW(Clasament!$B$3)+1),ROWS(Clasament!$B$3:'Clasament'!$B53))),\"\")","v":""},{"$f":"IFERROR(INDEX(Clasament!$BH$3:$BH$72,SMALL(IF(Clasament!AD$3:AD$72=\"+\",ROW(Clasament!$B$3:$B$74)-ROW(Clasament!$B$3)+1),ROWS(Clasament!$B$3:'Clasament'!$B53))),\"\")","v":""},{"$f":"IFERROR(INDEX(Clasament!$BH$3:$BH$72,SMALL(IF(Clasament!AE$3:AE$72=\"+\",ROW(Clasament!$B$3:$B$74)-ROW(Clasament!$B$3)+1),ROWS(Clasament!$B$3:'Clasament'!$B53))),\"\")","v":""},{"$f":"IFERROR(INDEX(Clasament!$BH$3:$BH$72,SMALL(IF(Clasament!AF$3:AF$72=\"+\",ROW(Clasament!$B$3:$B$74)-ROW(Clasament!$B$3)+1),ROWS(Clasament!$B$3:'Clasament'!$B53))),\"\")","v":""},{"$f":"IFERROR(INDEX(Clasament!$BH$3:$BH$72,SMALL(IF(Clasament!AG$3:AG$72=\"+\",ROW(Clasament!$B$3:$B$74)-ROW(Clasament!$B$3)+1),ROWS(Clasament!$B$3:'Clasament'!$B53))),\"\")","v":""},{"$f":"IFERROR(INDEX(Clasament!$BH$3:$BH$72,SMALL(IF(Clasament!AH$3:AH$72=\"+\",ROW(Clasament!$B$3:$B$74)-ROW(Clasament!$B$3)+1),ROWS(Clasament!$B$3:'Clasament'!$B53))),\"\")","v":""},{"$f":"IFERROR(INDEX(Clasament!$BH$3:$BH$72,SMALL(IF(Clasament!AJ$3:AJ$72=\"+\",ROW(Clasament!$B$3:$B$74)-ROW(Clasament!$B$3)+1),ROWS(Clasament!$B$3:'Clasament'!$B53))),\"\")","v":""},{"$f":"IFERROR(INDEX(Clasament!$BH$3:$BH$72,SMALL(IF(Clasament!AK$3:AK$72=\"+\",ROW(Clasament!$B$3:$B$74)-ROW(Clasament!$B$3)+1),ROWS(Clasament!$B$3:'Clasament'!$B53))),\"\")","v":""},{"$f":"IFERROR(INDEX(Clasament!$BH$3:$BH$72,SMALL(IF(Clasament!AL$3:AL$72=\"+\",ROW(Clasament!$B$3:$B$74)-ROW(Clasament!$B$3)+1),ROWS(Clasament!$B$3:'Clasament'!$B53))),\"\")","v":""},{"$f":"IFERROR(INDEX(Clasament!$BH$3:$BH$72,SMALL(IF(Clasament!AM$3:AM$72=\"+\",ROW(Clasament!$B$3:$B$74)-ROW(Clasament!$B$3)+1),ROWS(Clasament!$B$3:'Clasament'!$B53))),\"\")","v":""},{"$f":"IFERROR(INDEX(Clasament!$BH$3:$BH$72,SMALL(IF(Clasament!AN$3:AN$72=\"+\",ROW(Clasament!$B$3:$B$74)-ROW(Clasament!$B$3)+1),ROWS(Clasament!$B$3:'Clasament'!$B53))),\"\")","v":""},{"$f":"IFERROR(INDEX(Clasament!$BH$3:$BH$72,SMALL(IF(Clasament!AO$3:AO$72=\"+\",ROW(Clasament!$B$3:$B$74)-ROW(Clasament!$B$3)+1),ROWS(Clasament!$B$3:'Clasament'!$B53))),\"\")","v":""},{"$f":"IFERROR(INDEX(Clasament!$BH$3:$BH$72,SMALL(IF(Clasament!AP$3:AP$72=\"+\",ROW(Clasament!$B$3:$B$74)-ROW(Clasament!$B$3)+1),ROWS(Clasament!$B$3:'Clasament'!$B53))),\"\")","v":""},{"$f":"IFERROR(INDEX(Clasament!$BH$3:$BH$72,SMALL(IF(Clasament!AQ$3:AQ$72=\"+\",ROW(Clasament!$B$3:$B$74)-ROW(Clasament!$B$3)+1),ROWS(Clasament!$B$3:'Clasament'!$B53))),\"\")","v":""},{"$f":"IFERROR(INDEX(Clasament!$BH$3:$BH$72,SMALL(IF(Clasament!AR$3:AR$72=\"+\",ROW(Clasament!$B$3:$B$74)-ROW(Clasament!$B$3)+1),ROWS(Clasament!$B$3:'Clasament'!$B53))),\"\")","v":""},{"$f":"IFERROR(INDEX(Clasament!$BH$3:$BH$72,SMALL(IF(Clasament!AS$3:AS$72=\"+\",ROW(Clasament!$B$3:$B$74)-ROW(Clasament!$B$3)+1),ROWS(Clasament!$B$3:'Clasament'!$B53))),\"\")","v":""},{"$f":"IFERROR(INDEX(Clasament!$BH$3:$BH$72,SMALL(IF(Clasament!AU$3:AU$72=\"+\",ROW(Clasament!$B$3:$B$74)-ROW(Clasament!$B$3)+1),ROWS(Clasament!$B$3:'Clasament'!$B53))),\"\")","v":""},{"$f":"IFERROR(INDEX(Clasament!$BH$3:$BH$72,SMALL(IF(Clasament!AV$3:AV$72=\"+\",ROW(Clasament!$B$3:$B$74)-ROW(Clasament!$B$3)+1),ROWS(Clasament!$B$3:'Clasament'!$B53))),\"\")","v":""},{"$f":"IFERROR(INDEX(Clasament!$BH$3:$BH$72,SMALL(IF(Clasament!AW$3:AW$72=\"+\",ROW(Clasament!$B$3:$B$74)-ROW(Clasament!$B$3)+1),ROWS(Clasament!$B$3:'Clasament'!$B53))),\"\")","v":""},{"$f":"IFERROR(INDEX(Clasament!$BH$3:$BH$72,SMALL(IF(Clasament!AX$3:AX$72=\"+\",ROW(Clasament!$B$3:$B$74)-ROW(Clasament!$B$3)+1),ROWS(Clasament!$B$3:'Clasament'!$B53))),\"\")","v":""},{"$f":"IFERROR(INDEX(Clasament!$BH$3:$BH$72,SMALL(IF(Clasament!AY$3:AY$72=\"+\",ROW(Clasament!$B$3:$B$74)-ROW(Clasament!$B$3)+1),ROWS(Clasament!$B$3:'Clasament'!$B53))),\"\")","v":""},{"$f":"IFERROR(INDEX(Clasament!$BH$3:$BH$72,SMALL(IF(Clasament!AZ$3:AZ$72=\"+\",ROW(Clasament!$B$3:$B$74)-ROW(Clasament!$B$3)+1),ROWS(Clasament!$B$3:'Clasament'!$B53))),\"\")","v":""},{"$f":"IFERROR(INDEX(Clasament!$BH$3:$BH$72,SMALL(IF(Clasament!BA$3:BA$72=\"+\",ROW(Clasament!$B$3:$B$74)-ROW(Clasament!$B$3)+1),ROWS(Clasament!$B$3:'Clasament'!$B53))),\"\")","v":""},{"$f":"IFERROR(INDEX(Clasament!$BH$3:$BH$72,SMALL(IF(Clasament!BB$3:BB$72=\"+\",ROW(Clasament!$B$3:$B$74)-ROW(Clasament!$B$3)+1),ROWS(Clasament!$B$3:'Clasament'!$B53))),\"\")","v":""},{"$f":"IFERROR(INDEX(Clasament!$BH$3:$BH$72,SMALL(IF(Clasament!BC$3:BC$72=\"+\",ROW(Clasament!$B$3:$B$74)-ROW(Clasament!$B$3)+1),ROWS(Clasament!$B$3:'Clasament'!$B53))),\"\")","v":""},{"$f":"IFERROR(INDEX(Clasament!$BH$3:$BH$72,SMALL(IF(Clasament!BD$3:BD$72=\"+\",ROW(Clasament!$B$3:$B$74)-ROW(Clasament!$B$3)+1),ROWS(Clasament!$B$3:'Clasament'!$B53))),\"\")","v":""}]
[null,{"$f":"IFERROR(INDEX(Clasament!$BH$3:$BH$72,SMALL(IF(Clasament!C$3:C$72=\"+\",ROW(Clasament!$B$3:$B$74)-ROW(Clasament!$B$3)+1),ROWS(Clasament!$B$3:'Clasament'!$B54))),\"\")","v":""},{"$f":"IFERROR(INDEX(Clasament!$BH$3:$BH$72,SMALL(IF(Clasament!D$3:D$72=\"+\",ROW(Clasament!$B$3:$B$74)-ROW(Clasament!$B$3)+1),ROWS(Clasament!$B$3:'Clasament'!$B54))),\"\")","v":""},{"$f":"IFERROR(INDEX(Clasament!$BH$3:$BH$72,SMALL(IF(Clasament!E$3:E$72=\"+\",ROW(Clasament!$B$3:$B$74)-ROW(Clasament!$B$3)+1),ROWS(Clasament!$B$3:'Clasament'!$B54))),\"\")","v":""},{"$f":"IFERROR(INDEX(Clasament!$BH$3:$BH$72,SMALL(IF(Clasament!F$3:F$72=\"+\",ROW(Clasament!$B$3:$B$74)-ROW(Clasament!$B$3)+1),ROWS(Clasament!$B$3:'Clasament'!$B54))),\"\")","v":""},{"$f":"IFERROR(INDEX(Clasament!$BH$3:$BH$72,SMALL(IF(Clasament!G$3:G$72=\"+\",ROW(Clasament!$B$3:$B$74)-ROW(Clasament!$B$3)+1),ROWS(Clasament!$B$3:'Clasament'!$B54))),\"\")","v":""},{"$f":"IFERROR(INDEX(Clasament!$BH$3:$BH$72,SMALL(IF(Clasament!H$3:H$72=\"+\",ROW(Clasament!$B$3:$B$74)-ROW(Clasament!$B$3)+1),ROWS(Clasament!$B$3:'Clasament'!$B54))),\"\")","v":""},{"$f":"IFERROR(INDEX(Clasament!$BH$3:$BH$72,SMALL(IF(Clasament!I$3:I$72=\"+\",ROW(Clasament!$B$3:$B$74)-ROW(Clasament!$B$3)+1),ROWS(Clasament!$B$3:'Clasament'!$B54))),\"\")","v":""},{"$f":"IFERROR(INDEX(Clasament!$BH$3:$BH$72,SMALL(IF(Clasament!J$3:J$72=\"+\",ROW(Clasament!$B$3:$B$74)-ROW(Clasament!$B$3)+1),ROWS(Clasament!$B$3:'Clasament'!$B54))),\"\")","v":""},{"$f":"IFERROR(INDEX(Clasament!$BH$3:$BH$72,SMALL(IF(Clasament!K$3:K$72=\"+\",ROW(Clasament!$B$3:$B$74)-ROW(Clasament!$B$3)+1),ROWS(Clasament!$B$3:'Clasament'!$B54))),\"\")","v":""},{"$f":"IFERROR(INDEX(Clasament!$BH$3:$BH$72,SMALL(IF(Clasament!L$3:L$72=\"+\",ROW(Clasament!$B$3:$B$74)-ROW(Clasament!$B$3)+1),ROWS(Clasament!$B$3:'Clasament'!$B54))),\"\")","v":""},{"$f":"IFERROR(INDEX(Clasament!$BH$3:$BH$72,SMALL(IF(Clasament!N$3:N$72=\"+\",ROW(Clasament!$B$3:$B$74)-ROW(Clasament!$B$3)+1),ROWS(Clasament!$B$3:'Clasament'!$B54))),\"\")","v":""},{"$f":"IFERROR(INDEX(Clasament!$BH$3:$BH$72,SMALL(IF(Clasament!O$3:O$72=\"+\",ROW(Clasament!$B$3:$B$74)-ROW(Clasament!$B$3)+1),ROWS(Clasament!$B$3:'Clasament'!$B54))),\"\")","v":""},{"$f":"IFERROR(INDEX(Clasament!$BH$3:$BH$72,SMALL(IF(Clasament!P$3:P$72=\"+\",ROW(Clasament!$B$3:$B$74)-ROW(Clasament!$B$3)+1),ROWS(Clasament!$B$3:'Clasament'!$B54))),\"\")","v":""},{"$f":"IFERROR(INDEX(Clasament!$BH$3:$BH$72,SMALL(IF(Clasament!Q$3:Q$72=\"+\",ROW(Clasament!$B$3:$B$74)-ROW(Clasament!$B$3)+1),ROWS(Clasament!$B$3:'Clasament'!$B54))),\"\")","v":""},{"$f":"IFERROR(INDEX(Clasament!$BH$3:$BH$72,SMALL(IF(Clasament!R$3:R$72=\"+\",ROW(Clasament!$B$3:$B$74)-ROW(Clasament!$B$3)+1),ROWS(Clasament!$B$3:'Clasament'!$B54))),\"\")","v":""},{"$f":"IFERROR(INDEX(Clasament!$BH$3:$BH$72,SMALL(IF(Clasament!S$3:S$72=\"+\",ROW(Clasament!$B$3:$B$74)-ROW(Clasament!$B$3)+1),ROWS(Clasament!$B$3:'Clasament'!$B54))),\"\")","v":""},{"$f":"IFERROR(INDEX(Clasament!$BH$3:$BH$72,SMALL(IF(Clasament!T$3:T$72=\"+\",ROW(Clasament!$B$3:$B$74)-ROW(Clasament!$B$3)+1),ROWS(Clasament!$B$3:'Clasament'!$B54))),\"\")","v":""},{"$f":"IFERROR(INDEX(Clasament!$BH$3:$BH$72,SMALL(IF(Clasament!U$3:U$72=\"+\",ROW(Clasament!$B$3:$B$74)-ROW(Clasament!$B$3)+1),ROWS(Clasament!$B$3:'Clasament'!$B54))),\"\")","v":""},{"$f":"IFERROR(INDEX(Clasament!$BH$3:$BH$72,SMALL(IF(Clasament!V$3:V$72=\"+\",ROW(Clasament!$B$3:$B$74)-ROW(Clasament!$B$3)+1),ROWS(Clasament!$B$3:'Clasament'!$B54))),\"\")","v":""},{"$f":"IFERROR(INDEX(Clasament!$BH$3:$BH$72,SMALL(IF(Clasament!W$3:W$72=\"+\",ROW(Clasament!$B$3:$B$74)-ROW(Clasament!$B$3)+1),ROWS(Clasament!$B$3:'Clasament'!$B54))),\"\")","v":""},{"$f":"IFERROR(INDEX(Clasament!$BH$3:$BH$72,SMALL(IF(Clasament!Y$3:Y$72=\"+\",ROW(Clasament!$B$3:$B$74)-ROW(Clasament!$B$3)+1),ROWS(Clasament!$B$3:'Clasament'!$B54))),\"\")","v":""},{"$f":"IFERROR(INDEX(Clasament!$BH$3:$BH$72,SMALL(IF(Clasament!Z$3:Z$72=\"+\",ROW(Clasament!$B$3:$B$74)-ROW(Clasament!$B$3)+1),ROWS(Clasament!$B$3:'Clasament'!$B54))),\"\")","v":""},{"$f":"IFERROR(INDEX(Clasament!$BH$3:$BH$72,SMALL(IF(Clasament!AA$3:AA$72=\"+\",ROW(Clasament!$B$3:$B$74)-ROW(Clasament!$B$3)+1),ROWS(Clasament!$B$3:'Clasament'!$B54))),\"\")","v":""},{"$f":"IFERROR(INDEX(Clasament!$BH$3:$BH$72,SMALL(IF(Clasament!AB$3:AB$72=\"+\",ROW(Clasament!$B$3:$B$74)-ROW(Clasament!$B$3)+1),ROWS(Clasament!$B$3:'Clasament'!$B54))),\"\")","v":""},{"$f":"IFERROR(INDEX(Clasament!$BH$3:$BH$72,SMALL(IF(Clasament!AC$3:AC$72=\"+\",ROW(Clasament!$B$3:$B$74)-ROW(Clasament!$B$3)+1),ROWS(Clasament!$B$3:'Clasament'!$B54))),\"\")","v":""},{"$f":"IFERROR(INDEX(Clasament!$BH$3:$BH$72,SMALL(IF(Clasament!AD$3:AD$72=\"+\",ROW(Clasament!$B$3:$B$74)-ROW(Clasament!$B$3)+1),ROWS(Clasament!$B$3:'Clasament'!$B54))),\"\")","v":""},{"$f":"IFERROR(INDEX(Clasament!$BH$3:$BH$72,SMALL(IF(Clasament!AE$3:AE$72=\"+\",ROW(Clasament!$B$3:$B$74)-ROW(Clasament!$B$3)+1),ROWS(Clasament!$B$3:'Clasament'!$B54))),\"\")","v":""},{"$f":"IFERROR(INDEX(Clasament!$BH$3:$BH$72,SMALL(IF(Clasament!AF$3:AF$72=\"+\",ROW(Clasament!$B$3:$B$74)-ROW(Clasament!$B$3)+1),ROWS(Clasament!$B$3:'Clasament'!$B54))),\"\")","v":""},{"$f":"IFERROR(INDEX(Clasament!$BH$3:$BH$72,SMALL(IF(Clasament!AG$3:AG$72=\"+\",ROW(Clasament!$B$3:$B$74)-ROW(Clasament!$B$3)+1),ROWS(Clasament!$B$3:'Clasament'!$B54))),\"\")","v":""},{"$f":"IFERROR(INDEX(Clasament!$BH$3:$BH$72,SMALL(IF(Clasament!AH$3:AH$72=\"+\",ROW(Clasament!$B$3:$B$74)-ROW(Clasament!$B$3)+1),ROWS(Clasament!$B$3:'Clasament'!$B54))),\"\")","v":""},{"$f":"IFERROR(INDEX(Clasament!$BH$3:$BH$72,SMALL(IF(Clasament!AJ$3:AJ$72=\"+\",ROW(Clasament!$B$3:$B$74)-ROW(Clasament!$B$3)+1),ROWS(Clasament!$B$3:'Clasament'!$B54))),\"\")","v":""},{"$f":"IFERROR(INDEX(Clasament!$BH$3:$BH$72,SMALL(IF(Clasament!AK$3:AK$72=\"+\",ROW(Clasament!$B$3:$B$74)-ROW(Clasament!$B$3)+1),ROWS(Clasament!$B$3:'Clasament'!$B54))),\"\")","v":""},{"$f":"IFERROR(INDEX(Clasament!$BH$3:$BH$72,SMALL(IF(Clasament!AL$3:AL$72=\"+\",ROW(Clasament!$B$3:$B$74)-ROW(Clasament!$B$3)+1),ROWS(Clasament!$B$3:'Clasament'!$B54))),\"\")","v":""},{"$f":"IFERROR(INDEX(Clasament!$BH$3:$BH$72,SMALL(IF(Clasament!AM$3:AM$72=\"+\",ROW(Clasament!$B$3:$B$74)-ROW(Clasament!$B$3)+1),ROWS(Clasament!$B$3:'Clasament'!$B54))),\"\")","v":""},{"$f":"IFERROR(INDEX(Clasament!$BH$3:$BH$72,SMALL(IF(Clasament!AN$3:AN$72=\"+\",ROW(Clasament!$B$3:$B$74)-ROW(Clasament!$B$3)+1),ROWS(Clasament!$B$3:'Clasament'!$B54))),\"\")","v":""},{"$f":"IFERROR(INDEX(Clasament!$BH$3:$BH$72,SMALL(IF(Clasament!AO$3:AO$72=\"+\",ROW(Clasament!$B$3:$B$74)-ROW(Clasament!$B$3)+1),ROWS(Clasament!$B$3:'Clasament'!$B54))),\"\")","v":""},{"$f":"IFERROR(INDEX(Clasament!$BH$3:$BH$72,SMALL(IF(Clasament!AP$3:AP$72=\"+\",ROW(Clasament!$B$3:$B$74)-ROW(Clasament!$B$3)+1),ROWS(Clasament!$B$3:'Clasament'!$B54))),\"\")","v":""},{"$f":"IFERROR(INDEX(Clasament!$BH$3:$BH$72,SMALL(IF(Clasament!AQ$3:AQ$72=\"+\",ROW(Clasament!$B$3:$B$74)-ROW(Clasament!$B$3)+1),ROWS(Clasament!$B$3:'Clasament'!$B54))),\"\")","v":""},{"$f":"IFERROR(INDEX(Clasament!$BH$3:$BH$72,SMALL(IF(Clasament!AR$3:AR$72=\"+\",ROW(Clasament!$B$3:$B$74)-ROW(Clasament!$B$3)+1),ROWS(Clasament!$B$3:'Clasament'!$B54))),\"\")","v":""},{"$f":"IFERROR(INDEX(Clasament!$BH$3:$BH$72,SMALL(IF(Clasament!AS$3:AS$72=\"+\",ROW(Clasament!$B$3:$B$74)-ROW(Clasament!$B$3)+1),ROWS(Clasament!$B$3:'Clasament'!$B54))),\"\")","v":""},{"$f":"IFERROR(INDEX(Clasament!$BH$3:$BH$72,SMALL(IF(Clasament!AU$3:AU$72=\"+\",ROW(Clasament!$B$3:$B$74)-ROW(Clasament!$B$3)+1),ROWS(Clasament!$B$3:'Clasament'!$B54))),\"\")","v":""},{"$f":"IFERROR(INDEX(Clasament!$BH$3:$BH$72,SMALL(IF(Clasament!AV$3:AV$72=\"+\",ROW(Clasament!$B$3:$B$74)-ROW(Clasament!$B$3)+1),ROWS(Clasament!$B$3:'Clasament'!$B54))),\"\")","v":""},{"$f":"IFERROR(INDEX(Clasament!$BH$3:$BH$72,SMALL(IF(Clasament!AW$3:AW$72=\"+\",ROW(Clasament!$B$3:$B$74)-ROW(Clasament!$B$3)+1),ROWS(Clasament!$B$3:'Clasament'!$B54))),\"\")","v":""},{"$f":"IFERROR(INDEX(Clasament!$BH$3:$BH$72,SMALL(IF(Clasament!AX$3:AX$72=\"+\",ROW(Clasament!$B$3:$B$74)-ROW(Clasament!$B$3)+1),ROWS(Clasament!$B$3:'Clasament'!$B54))),\"\")","v":""},{"$f":"IFERROR(INDEX(Clasament!$BH$3:$BH$72,SMALL(IF(Clasament!AY$3:AY$72=\"+\",ROW(Clasament!$B$3:$B$74)-ROW(Clasament!$B$3)+1),ROWS(Clasament!$B$3:'Clasament'!$B54))),\"\")","v":""},{"$f":"IFERROR(INDEX(Clasament!$BH$3:$BH$72,SMALL(IF(Clasament!AZ$3:AZ$72=\"+\",ROW(Clasament!$B$3:$B$74)-ROW(Clasament!$B$3)+1),ROWS(Clasament!$B$3:'Clasament'!$B54))),\"\")","v":""},{"$f":"IFERROR(INDEX(Clasament!$BH$3:$BH$72,SMALL(IF(Clasament!BA$3:BA$72=\"+\",ROW(Clasament!$B$3:$B$74)-ROW(Clasament!$B$3)+1),ROWS(Clasament!$B$3:'Clasament'!$B54))),\"\")","v":""},{"$f":"IFERROR(INDEX(Clasament!$BH$3:$BH$72,SMALL(IF(Clasament!BB$3:BB$72=\"+\",ROW(Clasament!$B$3:$B$74)-ROW(Clasament!$B$3)+1),ROWS(Clasament!$B$3:'Clasament'!$B54))),\"\")","v":""},{"$f":"IFERROR(INDEX(Clasament!$BH$3:$BH$72,SMALL(IF(Clasament!BC$3:BC$72=\"+\",ROW(Clasament!$B$3:$B$74)-ROW(Clasament!$B$3)+1),ROWS(Clasament!$B$3:'Clasament'!$B54))),\"\")","v":""},{"$f":"IFERROR(INDEX(Clasament!$BH$3:$BH$72,SMALL(IF(Clasament!BD$3:BD$72=\"+\",ROW(Clasament!$B$3:$B$74)-ROW(Clasament!$B$3)+1),ROWS(Clasament!$B$3:'Clasament'!$B54))),\"\")","v":""}]
[null,{"$f":"IFERROR(INDEX(Clasament!$BH$3:$BH$72,SMALL(IF(Clasament!C$3:C$72=\"+\",ROW(Clasament!$B$3:$B$74)-ROW(Clasament!$B$3)+1),ROWS(Clasament!$B$3:'Clasament'!$B55))),\"\")","v":""},{"$f":"IFERROR(INDEX(Clasament!$BH$3:$BH$72,SMALL(IF(Clasament!D$3:D$72=\"+\",ROW(Clasament!$B$3:$B$74)-ROW(Clasament!$B$3)+1),ROWS(Clasament!$B$3:'Clasament'!$B55))),\"\")","v":""},{"$f":"IFERROR(INDEX(Clasament!$BH$3:$BH$72,SMALL(IF(Clasament!E$3:E$72=\"+\",ROW(Clasament!$B$3:$B$74)-ROW(Clasament!$B$3)+1),ROWS(Clasament!$B$3:'Clasament'!$B55))),\"\")","v":""},{"$f":"IFERROR(INDEX(Clasament!$BH$3:$BH$72,SMALL(IF(Clasament!F$3:F$72=\"+\",ROW(Clasament!$B$3:$B$74)-ROW(Clasament!$B$3)+1),ROWS(Clasament!$B$3:'Clasament'!$B55))),\"\")","v":""},{"$f":"IFERROR(INDEX(Clasament!$BH$3:$BH$72,SMALL(IF(Clasament!G$3:G$72=\"+\",ROW(Clasament!$B$3:$B$74)-ROW(Clasament!$B$3)+1),ROWS(Clasament!$B$3:'Clasament'!$B55))),\"\")","v":""},{"$f":"IFERROR(INDEX(Clasament!$BH$3:$BH$72,SMALL(IF(Clasament!H$3:H$72=\"+\",ROW(Clasament!$B$3:$B$74)-ROW(Clasament!$B$3)+1),ROWS(Clasament!$B$3:'Clasament'!$B55))),\"\")","v":""},{"$f":"IFERROR(INDEX(Clasament!$BH$3:$BH$72,SMALL(IF(Clasament!I$3:I$72=\"+\",ROW(Clasament!$B$3:$B$74)-ROW(Clasament!$B$3)+1),ROWS(Clasament!$B$3:'Clasament'!$B55))),\"\")","v":""},{"$f":"IFERROR(INDEX(Clasament!$BH$3:$BH$72,SMALL(IF(Clasament!J$3:J$72=\"+\",ROW(Clasament!$B$3:$B$74)-ROW(Clasament!$B$3)+1),ROWS(Clasament!$B$3:'Clasament'!$B55))),\"\")","v":""},{"$f":"IFERROR(INDEX(Clasament!$BH$3:$BH$72,SMALL(IF(Clasament!K$3:K$72=\"+\",ROW(Clasament!$B$3:$B$74)-ROW(Clasament!$B$3)+1),ROWS(Clasament!$B$3:'Clasament'!$B55))),\"\")","v":""},{"$f":"IFERROR(INDEX(Clasament!$BH$3:$BH$72,SMALL(IF(Clasament!L$3:L$72=\"+\",ROW(Clasament!$B$3:$B$74)-ROW(Clasament!$B$3)+1),ROWS(Clasament!$B$3:'Clasament'!$B55))),\"\")","v":""},{"$f":"IFERROR(INDEX(Clasament!$BH$3:$BH$72,SMALL(IF(Clasament!N$3:N$72=\"+\",ROW(Clasament!$B$3:$B$74)-ROW(Clasament!$B$3)+1),ROWS(Clasament!$B$3:'Clasament'!$B55))),\"\")","v":""},{"$f":"IFERROR(INDEX(Clasament!$BH$3:$BH$72,SMALL(IF(Clasament!O$3:O$72=\"+\",ROW(Clasament!$B$3:$B$74)-ROW(Clasament!$B$3)+1),ROWS(Clasament!$B$3:'Clasament'!$B55))),\"\")","v":""},{"$f":"IFERROR(INDEX(Clasament!$BH$3:$BH$72,SMALL(IF(Clasament!P$3:P$72=\"+\",ROW(Clasament!$B$3:$B$74)-ROW(Clasament!$B$3)+1),ROWS(Clasament!$B$3:'Clasament'!$B55))),\"\")","v":""},{"$f":"IFERROR(INDEX(Clasament!$BH$3:$BH$72,SMALL(IF(Clasament!Q$3:Q$72=\"+\",ROW(Clasament!$B$3:$B$74)-ROW(Clasament!$B$3)+1),ROWS(Clasament!$B$3:'Clasament'!$B55))),\"\")","v":""},{"$f":"IFERROR(INDEX(Clasament!$BH$3:$BH$72,SMALL(IF(Clasament!R$3:R$72=\"+\",ROW(Clasament!$B$3:$B$74)-ROW(Clasament!$B$3)+1),ROWS(Clasament!$B$3:'Clasament'!$B55))),\"\")","v":""},{"$f":"IFERROR(INDEX(Clasament!$BH$3:$BH$72,SMALL(IF(Clasament!S$3:S$72=\"+\",ROW(Clasament!$B$3:$B$74)-ROW(Clasament!$B$3)+1),ROWS(Clasament!$B$3:'Clasament'!$B55))),\"\")","v":""},{"$f":"IFERROR(INDEX(Clasament!$BH$3:$BH$72,SMALL(IF(Clasament!T$3:T$72=\"+\",ROW(Clasament!$B$3:$B$74)-ROW(Clasament!$B$3)+1),ROWS(Clasament!$B$3:'Clasament'!$B55))),\"\")","v":""},{"$f":"IFERROR(INDEX(Clasament!$BH$3:$BH$72,SMALL(IF(Clasament!U$3:U$72=\"+\",ROW(Clasament!$B$3:$B$74)-ROW(Clasament!$B$3)+1),ROWS(Clasament!$B$3:'Clasament'!$B55))),\"\")","v":""},{"$f":"IFERROR(INDEX(Clasament!$BH$3:$BH$72,SMALL(IF(Clasament!V$3:V$72=\"+\",ROW(Clasament!$B$3:$B$74)-ROW(Clasament!$B$3)+1),ROWS(Clasament!$B$3:'Clasament'!$B55))),\"\")","v":""},{"$f":"IFERROR(INDEX(Clasament!$BH$3:$BH$72,SMALL(IF(Clasament!W$3:W$72=\"+\",ROW(Clasament!$B$3:$B$74)-ROW(Clasament!$B$3)+1),ROWS(Clasament!$B$3:'Clasament'!$B55))),\"\")","v":""},{"$f":"IFERROR(INDEX(Clasament!$BH$3:$BH$72,SMALL(IF(Clasament!Y$3:Y$72=\"+\",ROW(Clasament!$B$3:$B$74)-ROW(Clasament!$B$3)+1),ROWS(Clasament!$B$3:'Clasament'!$B55))),\"\")","v":""},{"$f":"IFERROR(INDEX(Clasament!$BH$3:$BH$72,SMALL(IF(Clasament!Z$3:Z$72=\"+\",ROW(Clasament!$B$3:$B$74)-ROW(Clasament!$B$3)+1),ROWS(Clasament!$B$3:'Clasament'!$B55))),\"\")","v":""},{"$f":"IFERROR(INDEX(Clasament!$BH$3:$BH$72,SMALL(IF(Clasament!AA$3:AA$72=\"+\",ROW(Clasament!$B$3:$B$74)-ROW(Clasament!$B$3)+1),ROWS(Clasament!$B$3:'Clasament'!$B55))),\"\")","v":""},{"$f":"IFERROR(INDEX(Clasament!$BH$3:$BH$72,SMALL(IF(Clasament!AB$3:AB$72=\"+\",ROW(Clasament!$B$3:$B$74)-ROW(Clasament!$B$3)+1),ROWS(Clasament!$B$3:'Clasament'!$B55))),\"\")","v":""},{"$f":"IFERROR(INDEX(Clasament!$BH$3:$BH$72,SMALL(IF(Clasament!AC$3:AC$72=\"+\",ROW(Clasament!$B$3:$B$74)-ROW(Clasament!$B$3)+1),ROWS(Clasament!$B$3:'Clasament'!$B55))),\"\")","v":""},{"$f":"IFERROR(INDEX(Clasament!$BH$3:$BH$72,SMALL(IF(Clasament!AD$3:AD$72=\"+\",ROW(Clasament!$B$3:$B$74)-ROW(Clasament!$B$3)+1),ROWS(Clasament!$B$3:'Clasament'!$B55))),\"\")","v":""},{"$f":"IFERROR(INDEX(Clasament!$BH$3:$BH$72,SMALL(IF(Clasament!AE$3:AE$72=\"+\",ROW(Clasament!$B$3:$B$74)-ROW(Clasament!$B$3)+1),ROWS(Clasament!$B$3:'Clasament'!$B55))),\"\")","v":""},{"$f":"IFERROR(INDEX(Clasament!$BH$3:$BH$72,SMALL(IF(Clasament!AF$3:AF$72=\"+\",ROW(Clasament!$B$3:$B$74)-ROW(Clasament!$B$3)+1),ROWS(Clasament!$B$3:'Clasament'!$B55))),\"\")","v":""},{"$f":"IFERROR(INDEX(Clasament!$BH$3:$BH$72,SMALL(IF(Clasament!AG$3:AG$72=\"+\",ROW(Clasament!$B$3:$B$74)-ROW(Clasament!$B$3)+1),ROWS(Clasament!$B$3:'Clasament'!$B55))),\"\")","v":""},{"$f":"IFERROR(INDEX(Clasament!$BH$3:$BH$72,SMALL(IF(Clasament!AH$3:AH$72=\"+\",ROW(Clasament!$B$3:$B$74)-ROW(Clasament!$B$3)+1),ROWS(Clasament!$B$3:'Clasament'!$B55))),\"\")","v":""},{"$f":"IFERROR(INDEX(Clasament!$BH$3:$BH$72,SMALL(IF(Clasament!AJ$3:AJ$72=\"+\",ROW(Clasament!$B$3:$B$74)-ROW(Clasament!$B$3)+1),ROWS(Clasament!$B$3:'Clasament'!$B55))),\"\")","v":""},{"$f":"IFERROR(INDEX(Clasament!$BH$3:$BH$72,SMALL(IF(Clasament!AK$3:AK$72=\"+\",ROW(Clasament!$B$3:$B$74)-ROW(Clasament!$B$3)+1),ROWS(Clasament!$B$3:'Clasament'!$B55))),\"\")","v":""},{"$f":"IFERROR(INDEX(Clasament!$BH$3:$BH$72,SMALL(IF(Clasament!AL$3:AL$72=\"+\",ROW(Clasament!$B$3:$B$74)-ROW(Clasament!$B$3)+1),ROWS(Clasament!$B$3:'Clasament'!$B55))),\"\")","v":""},{"$f":"IFERROR(INDEX(Clasament!$BH$3:$BH$72,SMALL(IF(Clasament!AM$3:AM$72=\"+\",ROW(Clasament!$B$3:$B$74)-ROW(Clasament!$B$3)+1),ROWS(Clasament!$B$3:'Clasament'!$B55))),\"\")","v":""},{"$f":"IFERROR(INDEX(Clasament!$BH$3:$BH$72,SMALL(IF(Clasament!AN$3:AN$72=\"+\",ROW(Clasament!$B$3:$B$74)-ROW(Clasament!$B$3)+1),ROWS(Clasament!$B$3:'Clasament'!$B55))),\"\")","v":""},{"$f":"IFERROR(INDEX(Clasament!$BH$3:$BH$72,SMALL(IF(Clasament!AO$3:AO$72=\"+\",ROW(Clasament!$B$3:$B$74)-ROW(Clasament!$B$3)+1),ROWS(Clasament!$B$3:'Clasament'!$B55))),\"\")","v":""},{"$f":"IFERROR(INDEX(Clasament!$BH$3:$BH$72,SMALL(IF(Clasament!AP$3:AP$72=\"+\",ROW(Clasament!$B$3:$B$74)-ROW(Clasament!$B$3)+1),ROWS(Clasament!$B$3:'Clasament'!$B55))),\"\")","v":""},{"$f":"IFERROR(INDEX(Clasament!$BH$3:$BH$72,SMALL(IF(Clasament!AQ$3:AQ$72=\"+\",ROW(Clasament!$B$3:$B$74)-ROW(Clasament!$B$3)+1),ROWS(Clasament!$B$3:'Clasament'!$B55))),\"\")","v":""},{"$f":"IFERROR(INDEX(Clasament!$BH$3:$BH$72,SMALL(IF(Clasament!AR$3:AR$72=\"+\",ROW(Clasament!$B$3:$B$74)-ROW(Clasament!$B$3)+1),ROWS(Clasament!$B$3:'Clasament'!$B55))),\"\")","v":""},{"$f":"IFERROR(INDEX(Clasament!$BH$3:$BH$72,SMALL(IF(Clasament!AS$3:AS$72=\"+\",ROW(Clasament!$B$3:$B$74)-ROW(Clasament!$B$3)+1),ROWS(Clasament!$B$3:'Clasament'!$B55))),\"\")","v":""},{"$f":"IFERROR(INDEX(Clasament!$BH$3:$BH$72,SMALL(IF(Clasament!AU$3:AU$72=\"+\",ROW(Clasament!$B$3:$B$74)-ROW(Clasament!$B$3)+1),ROWS(Clasament!$B$3:'Clasament'!$B55))),\"\")","v":""},{"$f":"IFERROR(INDEX(Clasament!$BH$3:$BH$72,SMALL(IF(Clasament!AV$3:AV$72=\"+\",ROW(Clasament!$B$3:$B$74)-ROW(Clasament!$B$3)+1),ROWS(Clasament!$B$3:'Clasament'!$B55))),\"\")","v":""},{"$f":"IFERROR(INDEX(Clasament!$BH$3:$BH$72,SMALL(IF(Clasament!AW$3:AW$72=\"+\",ROW(Clasament!$B$3:$B$74)-ROW(Clasament!$B$3)+1),ROWS(Clasament!$B$3:'Clasament'!$B55))),\"\")","v":""},{"$f":"IFERROR(INDEX(Clasament!$BH$3:$BH$72,SMALL(IF(Clasament!AX$3:AX$72=\"+\",ROW(Clasament!$B$3:$B$74)-ROW(Clasament!$B$3)+1),ROWS(Clasament!$B$3:'Clasament'!$B55))),\"\")","v":""},{"$f":"IFERROR(INDEX(Clasament!$BH$3:$BH$72,SMALL(IF(Clasament!AY$3:AY$72=\"+\",ROW(Clasament!$B$3:$B$74)-ROW(Clasament!$B$3)+1),ROWS(Clasament!$B$3:'Clasament'!$B55))),\"\")","v":""},{"$f":"IFERROR(INDEX(Clasament!$BH$3:$BH$72,SMALL(IF(Clasament!AZ$3:AZ$72=\"+\",ROW(Clasament!$B$3:$B$74)-ROW(Clasament!$B$3)+1),ROWS(Clasament!$B$3:'Clasament'!$B55))),\"\")","v":""},{"$f":"IFERROR(INDEX(Clasament!$BH$3:$BH$72,SMALL(IF(Clasament!BA$3:BA$72=\"+\",ROW(Clasament!$B$3:$B$74)-ROW(Clasament!$B$3)+1),ROWS(Clasament!$B$3:'Clasament'!$B55))),\"\")","v":""},{"$f":"IFERROR(INDEX(Clasament!$BH$3:$BH$72,SMALL(IF(Clasament!BB$3:BB$72=\"+\",ROW(Clasament!$B$3:$B$74)-ROW(Clasament!$B$3)+1),ROWS(Clasament!$B$3:'Clasament'!$B55))),\"\")","v":""},{"$f":"IFERROR(INDEX(Clasament!$BH$3:$BH$72,SMALL(IF(Clasament!BC$3:BC$72=\"+\",ROW(Clasament!$B$3:$B$74)-ROW(Clasament!$B$3)+1),ROWS(Clasament!$B$3:'Clasament'!$B55))),\"\")","v":""},{"$f":"IFERROR(INDEX(Clasament!$BH$3:$BH$72,SMALL(IF(Clasament!BD$3:BD$72=\"+\",ROW(Clasament!$B$3:$B$74)-ROW(Clasament!$B$3)+1),ROWS(Clasament!$B$3:'Clasament'!$B55))),\"\")","v":""}]
[null,{"$f":"IFERROR(INDEX(Clasament!$BH$3:$BH$72,SMALL(IF(Clasament!C$3:C$72=\"+\",ROW(Clasament!$B$3:$B$74)-ROW(Clasament!$B$3)+1),ROWS(Clasament!$B$3:'Clasament'!$B56))),\"\")","v":""},{"$f":"IFERROR(INDEX(Clasament!$BH$3:$BH$72,SMALL(IF(Clasament!D$3:D$72=\"+\",ROW(Clasament!$B$3:$B$74)-ROW(Clasament!$B$3)+1),ROWS(Clasament!$B$3:'Clasament'!$B56))),\"\")","v":""},{"$f":"IFERROR(INDEX(Clasament!$BH$3:$BH$72,SMALL(IF(Clasament!E$3:E$72=\"+\",ROW(Clasament!$B$3:$B$74)-ROW(Clasament!$B$3)+1),ROWS(Clasament!$B$3:'Clasament'!$B56))),\"\")","v":""},{"$f":"IFERROR(INDEX(Clasament!$BH$3:$BH$72,SMALL(IF(Clasament!F$3:F$72=\"+\",ROW(Clasament!$B$3:$B$74)-ROW(Clasament!$B$3)+1),ROWS(Clasament!$B$3:'Clasament'!$B56))),\"\")","v":""},{"$f":"IFERROR(INDEX(Clasament!$BH$3:$BH$72,SMALL(IF(Clasament!G$3:G$72=\"+\",ROW(Clasament!$B$3:$B$74)-ROW(Clasament!$B$3)+1),ROWS(Clasament!$B$3:'Clasament'!$B56))),\"\")","v":""},{"$f":"IFERROR(INDEX(Clasament!$BH$3:$BH$72,SMALL(IF(Clasament!H$3:H$72=\"+\",ROW(Clasament!$B$3:$B$74)-ROW(Clasament!$B$3)+1),ROWS(Clasament!$B$3:'Clasament'!$B56))),\"\")","v":""},{"$f":"IFERROR(INDEX(Clasament!$BH$3:$BH$72,SMALL(IF(Clasament!I$3:I$72=\"+\",ROW(Clasament!$B$3:$B$74)-ROW(Clasament!$B$3)+1),ROWS(Clasament!$B$3:'Clasament'!$B56))),\"\")","v":""},{"$f":"IFERROR(INDEX(Clasament!$BH$3:$BH$72,SMALL(IF(Clasament!J$3:J$72=\"+\",ROW(Clasament!$B$3:$B$74)-ROW(Clasament!$B$3)+1),ROWS(Clasament!$B$3:'Clasament'!$B56))),\"\")","v":""},{"$f":"IFERROR(INDEX(Clasament!$BH$3:$BH$72,SMALL(IF(Clasament!K$3:K$72=\"+\",ROW(Clasament!$B$3:$B$74)-ROW(Clasament!$B$3)+1),ROWS(Clasament!$B$3:'Clasament'!$B56))),\"\")","v":""},{"$f":"IFERROR(INDEX(Clasament!$BH$3:$BH$72,SMALL(IF(Clasament!L$3:L$72=\"+\",ROW(Clasament!$B$3:$B$74)-ROW(Clasament!$B$3)+1),ROWS(Clasament!$B$3:'Clasament'!$B56))),\"\")","v":""},{"$f":"IFERROR(INDEX(Clasament!$BH$3:$BH$72,SMALL(IF(Clasament!N$3:N$72=\"+\",ROW(Clasament!$B$3:$B$74)-ROW(Clasament!$B$3)+1),ROWS(Clasament!$B$3:'Clasament'!$B56))),\"\")","v":""},{"$f":"IFERROR(INDEX(Clasament!$BH$3:$BH$72,SMALL(IF(Clasament!O$3:O$72=\"+\",ROW(Clasament!$B$3:$B$74)-ROW(Clasament!$B$3)+1),ROWS(Clasament!$B$3:'Clasament'!$B56))),\"\")","v":""},{"$f":"IFERROR(INDEX(Clasament!$BH$3:$BH$72,SMALL(IF(Clasament!P$3:P$72=\"+\",ROW(Clasament!$B$3:$B$74)-ROW(Clasament!$B$3)+1),ROWS(Clasament!$B$3:'Clasament'!$B56))),\"\")","v":""},{"$f":"IFERROR(INDEX(Clasament!$BH$3:$BH$72,SMALL(IF(Clasament!Q$3:Q$72=\"+\",ROW(Clasament!$B$3:$B$74)-ROW(Clasament!$B$3)+1),ROWS(Clasament!$B$3:'Clasament'!$B56))),\"\")","v":""},{"$f":"IFERROR(INDEX(Clasament!$BH$3:$BH$72,SMALL(IF(Clasament!R$3:R$72=\"+\",ROW(Clasament!$B$3:$B$74)-ROW(Clasament!$B$3)+1),ROWS(Clasament!$B$3:'Clasament'!$B56))),\"\")","v":""},{"$f":"IFERROR(INDEX(Clasament!$BH$3:$BH$72,SMALL(IF(Clasament!S$3:S$72=\"+\",ROW(Clasament!$B$3:$B$74)-ROW(Clasament!$B$3)+1),ROWS(Clasament!$B$3:'Clasament'!$B56))),\"\")","v":""},{"$f":"IFERROR(INDEX(Clasament!$BH$3:$BH$72,SMALL(IF(Clasament!T$3:T$72=\"+\",ROW(Clasament!$B$3:$B$74)-ROW(Clasament!$B$3)+1),ROWS(Clasament!$B$3:'Clasament'!$B56))),\"\")","v":""},{"$f":"IFERROR(INDEX(Clasament!$BH$3:$BH$72,SMALL(IF(Clasament!U$3:U$72=\"+\",ROW(Clasament!$B$3:$B$74)-ROW(Clasament!$B$3)+1),ROWS(Clasament!$B$3:'Clasament'!$B56))),\"\")","v":""},{"$f":"IFERROR(INDEX(Clasament!$BH$3:$BH$72,SMALL(IF(Clasament!V$3:V$72=\"+\",ROW(Clasament!$B$3:$B$74)-ROW(Clasament!$B$3)+1),ROWS(Clasament!$B$3:'Clasament'!$B56))),\"\")","v":""},{"$f":"IFERROR(INDEX(Clasament!$BH$3:$BH$72,SMALL(IF(Clasament!W$3:W$72=\"+\",ROW(Clasament!$B$3:$B$74)-ROW(Clasament!$B$3)+1),ROWS(Clasament!$B$3:'Clasament'!$B56))),\"\")","v":""},{"$f":"IFERROR(INDEX(Clasament!$BH$3:$BH$72,SMALL(IF(Clasament!Y$3:Y$72=\"+\",ROW(Clasament!$B$3:$B$74)-ROW(Clasament!$B$3)+1),ROWS(Clasament!$B$3:'Clasament'!$B56))),\"\")","v":""},{"$f":"IFERROR(INDEX(Clasament!$BH$3:$BH$72,SMALL(IF(Clasament!Z$3:Z$72=\"+\",ROW(Clasament!$B$3:$B$74)-ROW(Clasament!$B$3)+1),ROWS(Clasament!$B$3:'Clasament'!$B56))),\"\")","v":""},{"$f":"IFERROR(INDEX(Clasament!$BH$3:$BH$72,SMALL(IF(Clasament!AA$3:AA$72=\"+\",ROW(Clasament!$B$3:$B$74)-ROW(Clasament!$B$3)+1),ROWS(Clasament!$B$3:'Clasament'!$B56))),\"\")","v":""},{"$f":"IFERROR(INDEX(Clasament!$BH$3:$BH$72,SMALL(IF(Clasament!AB$3:AB$72=\"+\",ROW(Clasament!$B$3:$B$74)-ROW(Clasament!$B$3)+1),ROWS(Clasament!$B$3:'Clasament'!$B56))),\"\")","v":""},{"$f":"IFERROR(INDEX(Clasament!$BH$3:$BH$72,SMALL(IF(Clasament!AC$3:AC$72=\"+\",ROW(Clasament!$B$3:$B$74)-ROW(Clasament!$B$3)+1),ROWS(Clasament!$B$3:'Clasament'!$B56))),\"\")","v":""},{"$f":"IFERROR(INDEX(Clasament!$BH$3:$BH$72,SMALL(IF(Clasament!AD$3:AD$72=\"+\",ROW(Clasament!$B$3:$B$74)-ROW(Clasament!$B$3)+1),ROWS(Clasament!$B$3:'Clasament'!$B56))),\"\")","v":""},{"$f":"IFERROR(INDEX(Clasament!$BH$3:$BH$72,SMALL(IF(Clasament!AE$3:AE$72=\"+\",ROW(Clasament!$B$3:$B$74)-ROW(Clasament!$B$3)+1),ROWS(Clasament!$B$3:'Clasament'!$B56))),\"\")","v":""},{"$f":"IFERROR(INDEX(Clasament!$BH$3:$BH$72,SMALL(IF(Clasament!AF$3:AF$72=\"+\",ROW(Clasament!$B$3:$B$74)-ROW(Clasament!$B$3)+1),ROWS(Clasament!$B$3:'Clasament'!$B56))),\"\")","v":""},{"$f":"IFERROR(INDEX(Clasament!$BH$3:$BH$72,SMALL(IF(Clasament!AG$3:AG$72=\"+\",ROW(Clasament!$B$3:$B$74)-ROW(Clasament!$B$3)+1),ROWS(Clasament!$B$3:'Clasament'!$B56))),\"\")","v":""},{"$f":"IFERROR(INDEX(Clasament!$BH$3:$BH$72,SMALL(IF(Clasament!AH$3:AH$72=\"+\",ROW(Clasament!$B$3:$B$74)-ROW(Clasament!$B$3)+1),ROWS(Clasament!$B$3:'Clasament'!$B56))),\"\")","v":""},{"$f":"IFERROR(INDEX(Clasament!$BH$3:$BH$72,SMALL(IF(Clasament!AJ$3:AJ$72=\"+\",ROW(Clasament!$B$3:$B$74)-ROW(Clasament!$B$3)+1),ROWS(Clasament!$B$3:'Clasament'!$B56))),\"\")","v":""},{"$f":"IFERROR(INDEX(Clasament!$BH$3:$BH$72,SMALL(IF(Clasament!AK$3:AK$72=\"+\",ROW(Clasament!$B$3:$B$74)-ROW(Clasament!$B$3)+1),ROWS(Clasament!$B$3:'Clasament'!$B56))),\"\")","v":""},{"$f":"IFERROR(INDEX(Clasament!$BH$3:$BH$72,SMALL(IF(Clasament!AL$3:AL$72=\"+\",ROW(Clasament!$B$3:$B$74)-ROW(Clasament!$B$3)+1),ROWS(Clasament!$B$3:'Clasament'!$B56))),\"\")","v":""},{"$f":"IFERROR(INDEX(Clasament!$BH$3:$BH$72,SMALL(IF(Clasament!AM$3:AM$72=\"+\",ROW(Clasament!$B$3:$B$74)-ROW(Clasament!$B$3)+1),ROWS(Clasament!$B$3:'Clasament'!$B56))),\"\")","v":""},{"$f":"IFERROR(INDEX(Clasament!$BH$3:$BH$72,SMALL(IF(Clasament!AN$3:AN$72=\"+\",ROW(Clasament!$B$3:$B$74)-ROW(Clasament!$B$3)+1),ROWS(Clasament!$B$3:'Clasament'!$B56))),\"\")","v":""},{"$f":"IFERROR(INDEX(Clasament!$BH$3:$BH$72,SMALL(IF(Clasament!AO$3:AO$72=\"+\",ROW(Clasament!$B$3:$B$74)-ROW(Clasament!$B$3)+1),ROWS(Clasament!$B$3:'Clasament'!$B56))),\"\")","v":""},{"$f":"IFERROR(INDEX(Clasament!$BH$3:$BH$72,SMALL(IF(Clasament!AP$3:AP$72=\"+\",ROW(Clasament!$B$3:$B$74)-ROW(Clasament!$B$3)+1),ROWS(Clasament!$B$3:'Clasament'!$B56))),\"\")","v":""},{"$f":"IFERROR(INDEX(Clasament!$BH$3:$BH$72,SMALL(IF(Clasament!AQ$3:AQ$72=\"+\",ROW(Clasament!$B$3:$B$74)-ROW(Clasament!$B$3)+1),ROWS(Clasament!$B$3:'Clasament'!$B56))),\"\")","v":""},{"$f":"IFERROR(INDEX(Clasament!$BH$3:$BH$72,SMALL(IF(Clasament!AR$3:AR$72=\"+\",ROW(Clasament!$B$3:$B$74)-ROW(Clasament!$B$3)+1),ROWS(Clasament!$B$3:'Clasament'!$B56))),\"\")","v":""},{"$f":"IFERROR(INDEX(Clasament!$BH$3:$BH$72,SMALL(IF(Clasament!AS$3:AS$72=\"+\",ROW(Clasament!$B$3:$B$74)-ROW(Clasament!$B$3)+1),ROWS(Clasament!$B$3:'Clasament'!$B56))),\"\")","v":""},{"$f":"IFERROR(INDEX(Clasament!$BH$3:$BH$72,SMALL(IF(Clasament!AU$3:AU$72=\"+\",ROW(Clasament!$B$3:$B$74)-ROW(Clasament!$B$3)+1),ROWS(Clasament!$B$3:'Clasament'!$B56))),\"\")","v":""},{"$f":"IFERROR(INDEX(Clasament!$BH$3:$BH$72,SMALL(IF(Clasament!AV$3:AV$72=\"+\",ROW(Clasament!$B$3:$B$74)-ROW(Clasament!$B$3)+1),ROWS(Clasament!$B$3:'Clasament'!$B56))),\"\")","v":""},{"$f":"IFERROR(INDEX(Clasament!$BH$3:$BH$72,SMALL(IF(Clasament!AW$3:AW$72=\"+\",ROW(Clasament!$B$3:$B$74)-ROW(Clasament!$B$3)+1),ROWS(Clasament!$B$3:'Clasament'!$B56))),\"\")","v":""},{"$f":"IFERROR(INDEX(Clasament!$BH$3:$BH$72,SMALL(IF(Clasament!AX$3:AX$72=\"+\",ROW(Clasament!$B$3:$B$74)-ROW(Clasament!$B$3)+1),ROWS(Clasament!$B$3:'Clasament'!$B56))),\"\")","v":""},{"$f":"IFERROR(INDEX(Clasament!$BH$3:$BH$72,SMALL(IF(Clasament!AY$3:AY$72=\"+\",ROW(Clasament!$B$3:$B$74)-ROW(Clasament!$B$3)+1),ROWS(Clasament!$B$3:'Clasament'!$B56))),\"\")","v":""},{"$f":"IFERROR(INDEX(Clasament!$BH$3:$BH$72,SMALL(IF(Clasament!AZ$3:AZ$72=\"+\",ROW(Clasament!$B$3:$B$74)-ROW(Clasament!$B$3)+1),ROWS(Clasament!$B$3:'Clasament'!$B56))),\"\")","v":""},{"$f":"IFERROR(INDEX(Clasament!$BH$3:$BH$72,SMALL(IF(Clasament!BA$3:BA$72=\"+\",ROW(Clasament!$B$3:$B$74)-ROW(Clasament!$B$3)+1),ROWS(Clasament!$B$3:'Clasament'!$B56))),\"\")","v":""},{"$f":"IFERROR(INDEX(Clasament!$BH$3:$BH$72,SMALL(IF(Clasament!BB$3:BB$72=\"+\",ROW(Clasament!$B$3:$B$74)-ROW(Clasament!$B$3)+1),ROWS(Clasament!$B$3:'Clasament'!$B56))),\"\")","v":""},{"$f":"IFERROR(INDEX(Clasament!$BH$3:$BH$72,SMALL(IF(Clasament!BC$3:BC$72=\"+\",ROW(Clasament!$B$3:$B$74)-ROW(Clasament!$B$3)+1),ROWS(Clasament!$B$3:'Clasament'!$B56))),\"\")","v":""},{"$f":"IFERROR(INDEX(Clasament!$BH$3:$BH$72,SMALL(IF(Clasament!BD$3:BD$72=\"+\",ROW(Clasament!$B$3:$B$74)-ROW(Clasament!$B$3)+1),ROWS(Clasament!$B$3:'Clasament'!$B56))),\"\")","v":""}]
[null,{"$f":"IFERROR(INDEX(Clasament!$BH$3:$BH$72,SMALL(IF(Clasament!C$3:C$72=\"+\",ROW(Clasament!$B$3:$B$74)-ROW(Clasament!$B$3)+1),ROWS(Clasament!$B$3:'Clasament'!$B57))),\"\")","v":""},{"$f":"IFERROR(INDEX(Clasament!$BH$3:$BH$72,SMALL(IF(Clasament!D$3:D$72=\"+\",ROW(Clasament!$B$3:$B$74)-ROW(Clasament!$B$3)+1),ROWS(Clasament!$B$3:'Clasament'!$B57))),\"\")","v":""},{"$f":"IFERROR(INDEX(Clasament!$BH$3:$BH$72,SMALL(IF(Clasament!E$3:E$72=\"+\",ROW(Clasament!$B$3:$B$74)-ROW(Clasament!$B$3)+1),ROWS(Clasament!$B$3:'Clasament'!$B57))),\"\")","v":""},{"$f":"IFERROR(INDEX(Clasament!$BH$3:$BH$72,SMALL(IF(Clasament!F$3:F$72=\"+\",ROW(Clasament!$B$3:$B$74)-ROW(Clasament!$B$3)+1),ROWS(Clasament!$B$3:'Clasament'!$B57))),\"\")","v":""},{"$f":"IFERROR(INDEX(Clasament!$BH$3:$BH$72,SMALL(IF(Clasament!G$3:G$72=\"+\",ROW(Clasament!$B$3:$B$74)-ROW(Clasament!$B$3)+1),ROWS(Clasament!$B$3:'Clasament'!$B57))),\"\")","v":""},{"$f":"IFERROR(INDEX(Clasament!$BH$3:$BH$72,SMALL(IF(Clasament!H$3:H$72=\"+\",ROW(Clasament!$B$3:$B$74)-ROW(Clasament!$B$3)+1),ROWS(Clasament!$B$3:'Clasament'!$B57))),\"\")","v":""},{"$f":"IFERROR(INDEX(Clasament!$BH$3:$BH$72,SMALL(IF(Clasament!I$3:I$72=\"+\",ROW(Clasament!$B$3:$B$74)-ROW(Clasament!$B$3)+1),ROWS(Clasament!$B$3:'Clasament'!$B57))),\"\")","v":""},{"$f":"IFERROR(INDEX(Clasament!$BH$3:$BH$72,SMALL(IF(Clasament!J$3:J$72=\"+\",ROW(Clasament!$B$3:$B$74)-ROW(Clasament!$B$3)+1),ROWS(Clasament!$B$3:'Clasament'!$B57))),\"\")","v":""},{"$f":"IFERROR(INDEX(Clasament!$BH$3:$BH$72,SMALL(IF(Clasament!K$3:K$72=\"+\",ROW(Clasament!$B$3:$B$74)-ROW(Clasament!$B$3)+1),ROWS(Clasament!$B$3:'Clasament'!$B57))),\"\")","v":""},{"$f":"IFERROR(INDEX(Clasament!$BH$3:$BH$72,SMALL(IF(Clasament!L$3:L$72=\"+\",ROW(Clasament!$B$3:$B$74)-ROW(Clasament!$B$3)+1),ROWS(Clasament!$B$3:'Clasament'!$B57))),\"\")","v":""},{"$f":"IFERROR(INDEX(Clasament!$BH$3:$BH$72,SMALL(IF(Clasament!N$3:N$72=\"+\",ROW(Clasament!$B$3:$B$74)-ROW(Clasament!$B$3)+1),ROWS(Clasament!$B$3:'Clasament'!$B57))),\"\")","v":""},{"$f":"IFERROR(INDEX(Clasament!$BH$3:$BH$72,SMALL(IF(Clasament!O$3:O$72=\"+\",ROW(Clasament!$B$3:$B$74)-ROW(Clasament!$B$3)+1),ROWS(Clasament!$B$3:'Clasament'!$B57))),\"\")","v":""},{"$f":"IFERROR(INDEX(Clasament!$BH$3:$BH$72,SMALL(IF(Clasament!P$3:P$72=\"+\",ROW(Clasament!$B$3:$B$74)-ROW(Clasament!$B$3)+1),ROWS(Clasament!$B$3:'Clasament'!$B57))),\"\")","v":""},{"$f":"IFERROR(INDEX(Clasament!$BH$3:$BH$72,SMALL(IF(Clasament!Q$3:Q$72=\"+\",ROW(Clasament!$B$3:$B$74)-ROW(Clasament!$B$3)+1),ROWS(Clasament!$B$3:'Clasament'!$B57))),\"\")","v":""},{"$f":"IFERROR(INDEX(Clasament!$BH$3:$BH$72,SMALL(IF(Clasament!R$3:R$72=\"+\",ROW(Clasament!$B$3:$B$74)-ROW(Clasament!$B$3)+1),ROWS(Clasament!$B$3:'Clasament'!$B57))),\"\")","v":""},{"$f":"IFERROR(INDEX(Clasament!$BH$3:$BH$72,SMALL(IF(Clasament!S$3:S$72=\"+\",ROW(Clasament!$B$3:$B$74)-ROW(Clasament!$B$3)+1),ROWS(Clasament!$B$3:'Clasament'!$B57))),\"\")","v":""},{"$f":"IFERROR(INDEX(Clasament!$BH$3:$BH$72,SMALL(IF(Clasament!T$3:T$72=\"+\",ROW(Clasament!$B$3:$B$74)-ROW(Clasament!$B$3)+1),ROWS(Clasament!$B$3:'Clasament'!$B57))),\"\")","v":""},{"$f":"IFERROR(INDEX(Clasament!$BH$3:$BH$72,SMALL(IF(Clasament!U$3:U$72=\"+\",ROW(Clasament!$B$3:$B$74)-ROW(Clasament!$B$3)+1),ROWS(Clasament!$B$3:'Clasament'!$B57))),\"\")","v":""},{"$f":"IFERROR(INDEX(Clasament!$BH$3:$BH$72,SMALL(IF(Clasament!V$3:V$72=\"+\",ROW(Clasament!$B$3:$B$74)-ROW(Clasament!$B$3)+1),ROWS(Clasament!$B$3:'Clasament'!$B57))),\"\")","v":""},{"$f":"IFERROR(INDEX(Clasament!$BH$3:$BH$72,SMALL(IF(Clasament!W$3:W$72=\"+\",ROW(Clasament!$B$3:$B$74)-ROW(Clasament!$B$3)+1),ROWS(Clasament!$B$3:'Clasament'!$B57))),\"\")","v":""},{"$f":"IFERROR(INDEX(Clasament!$BH$3:$BH$72,SMALL(IF(Clasament!Y$3:Y$72=\"+\",ROW(Clasament!$B$3:$B$74)-ROW(Clasament!$B$3)+1),ROWS(Clasament!$B$3:'Clasament'!$B57))),\"\")","v":""},{"$f":"IFERROR(INDEX(Clasament!$BH$3:$BH$72,SMALL(IF(Clasament!Z$3:Z$72=\"+\",ROW(Clasament!$B$3:$B$74)-ROW(Clasament!$B$3)+1),ROWS(Clasament!$B$3:'Clasament'!$B57))),\"\")","v":""},{"$f":"IFERROR(INDEX(Clasament!$BH$3:$BH$72,SMALL(IF(Clasament!AA$3:AA$72=\"+\",ROW(Clasament!$B$3:$B$74)-ROW(Clasament!$B$3)+1),ROWS(Clasament!$B$3:'Clasament'!$B57))),\"\")","v":""},{"$f":"IFERROR(INDEX(Clasament!$BH$3:$BH$72,SMALL(IF(Clasament!AB$3:AB$72=\"+\",ROW(Clasament!$B$3:$B$74)-ROW(Clasament!$B$3)+1),ROWS(Clasament!$B$3:'Clasament'!$B57))),\"\")","v":""},{"$f":"IFERROR(INDEX(Clasament!$BH$3:$BH$72,SMALL(IF(Clasament!AC$3:AC$72=\"+\",ROW(Clasament!$B$3:$B$74)-ROW(Clasament!$B$3)+1),ROWS(Clasament!$B$3:'Clasament'!$B57))),\"\")","v":""},{"$f":"IFERROR(INDEX(Clasament!$BH$3:$BH$72,SMALL(IF(Clasament!AD$3:AD$72=\"+\",ROW(Clasament!$B$3:$B$74)-ROW(Clasament!$B$3)+1),ROWS(Clasament!$B$3:'Clasament'!$B57))),\"\")","v":""},{"$f":"IFERROR(INDEX(Clasament!$BH$3:$BH$72,SMALL(IF(Clasament!AE$3:AE$72=\"+\",ROW(Clasament!$B$3:$B$74)-ROW(Clasament!$B$3)+1),ROWS(Clasament!$B$3:'Clasament'!$B57))),\"\")","v":""},{"$f":"IFERROR(INDEX(Clasament!$BH$3:$BH$72,SMALL(IF(Clasament!AF$3:AF$72=\"+\",ROW(Clasament!$B$3:$B$74)-ROW(Clasament!$B$3)+1),ROWS(Clasament!$B$3:'Clasament'!$B57))),\"\")","v":""},{"$f":"IFERROR(INDEX(Clasament!$BH$3:$BH$72,SMALL(IF(Clasament!AG$3:AG$72=\"+\",ROW(Clasament!$B$3:$B$74)-ROW(Clasament!$B$3)+1),ROWS(Clasament!$B$3:'Clasament'!$B57))),\"\")","v":""},{"$f":"IFERROR(INDEX(Clasament!$BH$3:$BH$72,SMALL(IF(Clasament!AH$3:AH$72=\"+\",ROW(Clasament!$B$3:$B$74)-ROW(Clasament!$B$3)+1),ROWS(Clasament!$B$3:'Clasament'!$B57))),\"\")","v":""},{"$f":"IFERROR(INDEX(Clasament!$BH$3:$BH$72,SMALL(IF(Clasament!AJ$3:AJ$72=\"+\",ROW(Clasament!$B$3:$B$74)-ROW(Clasament!$B$3)+1),ROWS(Clasament!$B$3:'Clasament'!$B57))),\"\")","v":""},{"$f":"IFERROR(INDEX(Clasament!$BH$3:$BH$72,SMALL(IF(Clasament!AK$3:AK$72=\"+\",ROW(Clasament!$B$3:$B$74)-ROW(Clasament!$B$3)+1),ROWS(Clasament!$B$3:'Clasament'!$B57))),\"\")","v":""},{"$f":"IFERROR(INDEX(Clasament!$BH$3:$BH$72,SMALL(IF(Clasament!AL$3:AL$72=\"+\",ROW(Clasament!$B$3:$B$74)-ROW(Clasament!$B$3)+1),ROWS(Clasament!$B$3:'Clasament'!$B57))),\"\")","v":""},{"$f":"IFERROR(INDEX(Clasament!$BH$3:$BH$72,SMALL(IF(Clasament!AM$3:AM$72=\"+\",ROW(Clasament!$B$3:$B$74)-ROW(Clasament!$B$3)+1),ROWS(Clasament!$B$3:'Clasament'!$B57))),\"\")","v":""},{"$f":"IFERROR(INDEX(Clasament!$BH$3:$BH$72,SMALL(IF(Clasament!AN$3:AN$72=\"+\",ROW(Clasament!$B$3:$B$74)-ROW(Clasament!$B$3)+1),ROWS(Clasament!$B$3:'Clasament'!$B57))),\"\")","v":""},{"$f":"IFERROR(INDEX(Clasament!$BH$3:$BH$72,SMALL(IF(Clasament!AO$3:AO$72=\"+\",ROW(Clasament!$B$3:$B$74)-ROW(Clasament!$B$3)+1),ROWS(Clasament!$B$3:'Clasament'!$B57))),\"\")","v":""},{"$f":"IFERROR(INDEX(Clasament!$BH$3:$BH$72,SMALL(IF(Clasament!AP$3:AP$72=\"+\",ROW(Clasament!$B$3:$B$74)-ROW(Clasament!$B$3)+1),ROWS(Clasament!$B$3:'Clasament'!$B57))),\"\")","v":""},{"$f":"IFERROR(INDEX(Clasament!$BH$3:$BH$72,SMALL(IF(Clasament!AQ$3:AQ$72=\"+\",ROW(Clasament!$B$3:$B$74)-ROW(Clasament!$B$3)+1),ROWS(Clasament!$B$3:'Clasament'!$B57))),\"\")","v":""},{"$f":"IFERROR(INDEX(Clasament!$BH$3:$BH$72,SMALL(IF(Clasament!AR$3:AR$72=\"+\",ROW(Clasament!$B$3:$B$74)-ROW(Clasament!$B$3)+1),ROWS(Clasament!$B$3:'Clasament'!$B57))),\"\")","v":""},{"$f":"IFERROR(INDEX(Clasament!$BH$3:$BH$72,SMALL(IF(Clasament!AS$3:AS$72=\"+\",ROW(Clasament!$B$3:$B$74)-ROW(Clasament!$B$3)+1),ROWS(Clasament!$B$3:'Clasament'!$B57))),\"\")","v":""},{"$f":"IFERROR(INDEX(Clasament!$BH$3:$BH$72,SMALL(IF(Clasament!AU$3:AU$72=\"+\",ROW(Clasament!$B$3:$B$74)-ROW(Clasament!$B$3)+1),ROWS(Clasament!$B$3:'Clasament'!$B57))),\"\")","v":""},{"$f":"IFERROR(INDEX(Clasament!$BH$3:$BH$72,SMALL(IF(Clasament!AV$3:AV$72=\"+\",ROW(Clasament!$B$3:$B$74)-ROW(Clasament!$B$3)+1),ROWS(Clasament!$B$3:'Clasament'!$B57))),\"\")","v":""},{"$f":"IFERROR(INDEX(Clasament!$BH$3:$BH$72,SMALL(IF(Clasament!AW$3:AW$72=\"+\",ROW(Clasament!$B$3:$B$74)-ROW(Clasament!$B$3)+1),ROWS(Clasament!$B$3:'Clasament'!$B57))),\"\")","v":""},{"$f":"IFERROR(INDEX(Clasament!$BH$3:$BH$72,SMALL(IF(Clasament!AX$3:AX$72=\"+\",ROW(Clasament!$B$3:$B$74)-ROW(Clasament!$B$3)+1),ROWS(Clasament!$B$3:'Clasament'!$B57))),\"\")","v":""},{"$f":"IFERROR(INDEX(Clasament!$BH$3:$BH$72,SMALL(IF(Clasament!AY$3:AY$72=\"+\",ROW(Clasament!$B$3:$B$74)-ROW(Clasament!$B$3)+1),ROWS(Clasament!$B$3:'Clasament'!$B57))),\"\")","v":""},{"$f":"IFERROR(INDEX(Clasament!$BH$3:$BH$72,SMALL(IF(Clasament!AZ$3:AZ$72=\"+\",ROW(Clasament!$B$3:$B$74)-ROW(Clasament!$B$3)+1),ROWS(Clasament!$B$3:'Clasament'!$B57))),\"\")","v":""},{"$f":"IFERROR(INDEX(Clasament!$BH$3:$BH$72,SMALL(IF(Clasament!BA$3:BA$72=\"+\",ROW(Clasament!$B$3:$B$74)-ROW(Clasament!$B$3)+1),ROWS(Clasament!$B$3:'Clasament'!$B57))),\"\")","v":""},{"$f":"IFERROR(INDEX(Clasament!$BH$3:$BH$72,SMALL(IF(Clasament!BB$3:BB$72=\"+\",ROW(Clasament!$B$3:$B$74)-ROW(Clasament!$B$3)+1),ROWS(Clasament!$B$3:'Clasament'!$B57))),\"\")","v":""},{"$f":"IFERROR(INDEX(Clasament!$BH$3:$BH$72,SMALL(IF(Clasament!BC$3:BC$72=\"+\",ROW(Clasament!$B$3:$B$74)-ROW(Clasament!$B$3)+1),ROWS(Clasament!$B$3:'Clasament'!$B57))),\"\")","v":""},{"$f":"IFERROR(INDEX(Clasament!$BH$3:$BH$72,SMALL(IF(Clasament!BD$3:BD$72=\"+\",ROW(Clasament!$B$3:$B$74)-ROW(Clasament!$B$3)+1),ROWS(Clasament!$B$3:'Clasament'!$B57))),\"\")","v":""}]
[null,{"$f":"IFERROR(INDEX(Clasament!$BH$3:$BH$72,SMALL(IF(Clasament!C$3:C$72=\"+\",ROW(Clasament!$B$3:$B$74)-ROW(Clasament!$B$3)+1),ROWS(Clasament!$B$3:'Clasament'!$B58))),\"\")","v":""},{"$f":"IFERROR(INDEX(Clasament!$BH$3:$BH$72,SMALL(IF(Clasament!D$3:D$72=\"+\",ROW(Clasament!$B$3:$B$74)-ROW(Clasament!$B$3)+1),ROWS(Clasament!$B$3:'Clasament'!$B58))),\"\")","v":""},{"$f":"IFERROR(INDEX(Clasament!$BH$3:$BH$72,SMALL(IF(Clasament!E$3:E$72=\"+\",ROW(Clasament!$B$3:$B$74)-ROW(Clasament!$B$3)+1),ROWS(Clasament!$B$3:'Clasament'!$B58))),\"\")","v":""},{"$f":"IFERROR(INDEX(Clasament!$BH$3:$BH$72,SMALL(IF(Clasament!F$3:F$72=\"+\",ROW(Clasament!$B$3:$B$74)-ROW(Clasament!$B$3)+1),ROWS(Clasament!$B$3:'Clasament'!$B58))),\"\")","v":""},{"$f":"IFERROR(INDEX(Clasament!$BH$3:$BH$72,SMALL(IF(Clasament!G$3:G$72=\"+\",ROW(Clasament!$B$3:$B$74)-ROW(Clasament!$B$3)+1),ROWS(Clasament!$B$3:'Clasament'!$B58))),\"\")","v":""},{"$f":"IFERROR(INDEX(Clasament!$BH$3:$BH$72,SMALL(IF(Clasament!H$3:H$72=\"+\",ROW(Clasament!$B$3:$B$74)-ROW(Clasament!$B$3)+1),ROWS(Clasament!$B$3:'Clasament'!$B58))),\"\")","v":""},{"$f":"IFERROR(INDEX(Clasament!$BH$3:$BH$72,SMALL(IF(Clasament!I$3:I$72=\"+\",ROW(Clasament!$B$3:$B$74)-ROW(Clasament!$B$3)+1),ROWS(Clasament!$B$3:'Clasament'!$B58))),\"\")","v":""},{"$f":"IFERROR(INDEX(Clasament!$BH$3:$BH$72,SMALL(IF(Clasament!J$3:J$72=\"+\",ROW(Clasament!$B$3:$B$74)-ROW(Clasament!$B$3)+1),ROWS(Clasament!$B$3:'Clasament'!$B58))),\"\")","v":""},{"$f":"IFERROR(INDEX(Clasament!$BH$3:$BH$72,SMALL(IF(Clasament!K$3:K$72=\"+\",ROW(Clasament!$B$3:$B$74)-ROW(Clasament!$B$3)+1),ROWS(Clasament!$B$3:'Clasament'!$B58))),\"\")","v":""},{"$f":"IFERROR(INDEX(Clasament!$BH$3:$BH$72,SMALL(IF(Clasament!L$3:L$72=\"+\",ROW(Clasament!$B$3:$B$74)-ROW(Clasament!$B$3)+1),ROWS(Clasament!$B$3:'Clasament'!$B58))),\"\")","v":""},{"$f":"IFERROR(INDEX(Clasament!$BH$3:$BH$72,SMALL(IF(Clasament!N$3:N$72=\"+\",ROW(Clasament!$B$3:$B$74)-ROW(Clasament!$B$3)+1),ROWS(Clasament!$B$3:'Clasament'!$B58))),\"\")","v":""},{"$f":"IFERROR(INDEX(Clasament!$BH$3:$BH$72,SMALL(IF(Clasament!O$3:O$72=\"+\",ROW(Clasament!$B$3:$B$74)-ROW(Clasament!$B$3)+1),ROWS(Clasament!$B$3:'Clasament'!$B58))),\"\")","v":""},{"$f":"IFERROR(INDEX(Clasament!$BH$3:$BH$72,SMALL(IF(Clasament!P$3:P$72=\"+\",ROW(Clasament!$B$3:$B$74)-ROW(Clasament!$B$3)+1),ROWS(Clasament!$B$3:'Clasament'!$B58))),\"\")","v":""},{"$f":"IFERROR(INDEX(Clasament!$BH$3:$BH$72,SMALL(IF(Clasament!Q$3:Q$72=\"+\",ROW(Clasament!$B$3:$B$74)-ROW(Clasament!$B$3)+1),ROWS(Clasament!$B$3:'Clasament'!$B58))),\"\")","v":""},{"$f":"IFERROR(INDEX(Clasament!$BH$3:$BH$72,SMALL(IF(Clasament!R$3:R$72=\"+\",ROW(Clasament!$B$3:$B$74)-ROW(Clasament!$B$3)+1),ROWS(Clasament!$B$3:'Clasament'!$B58))),\"\")","v":""},{"$f":"IFERROR(INDEX(Clasament!$BH$3:$BH$72,SMALL(IF(Clasament!S$3:S$72=\"+\",ROW(Clasament!$B$3:$B$74)-ROW(Clasament!$B$3)+1),ROWS(Clasament!$B$3:'Clasament'!$B58))),\"\")","v":""},{"$f":"IFERROR(INDEX(Clasament!$BH$3:$BH$72,SMALL(IF(Clasament!T$3:T$72=\"+\",ROW(Clasament!$B$3:$B$74)-ROW(Clasament!$B$3)+1),ROWS(Clasament!$B$3:'Clasament'!$B58))),\"\")","v":""},{"$f":"IFERROR(INDEX(Clasament!$BH$3:$BH$72,SMALL(IF(Clasament!U$3:U$72=\"+\",ROW(Clasament!$B$3:$B$74)-ROW(Clasament!$B$3)+1),ROWS(Clasament!$B$3:'Clasament'!$B58))),\"\")","v":""},{"$f":"IFERROR(INDEX(Clasament!$BH$3:$BH$72,SMALL(IF(Clasament!V$3:V$72=\"+\",ROW(Clasament!$B$3:$B$74)-ROW(Clasament!$B$3)+1),ROWS(Clasament!$B$3:'Clasament'!$B58))),\"\")","v":""},{"$f":"IFERROR(INDEX(Clasament!$BH$3:$BH$72,SMALL(IF(Clasament!W$3:W$72=\"+\",ROW(Clasament!$B$3:$B$74)-ROW(Clasament!$B$3)+1),ROWS(Clasament!$B$3:'Clasament'!$B58))),\"\")","v":""},{"$f":"IFERROR(INDEX(Clasament!$BH$3:$BH$72,SMALL(IF(Clasament!Y$3:Y$72=\"+\",ROW(Clasament!$B$3:$B$74)-ROW(Clasament!$B$3)+1),ROWS(Clasament!$B$3:'Clasament'!$B58))),\"\")","v":""},{"$f":"IFERROR(INDEX(Clasament!$BH$3:$BH$72,SMALL(IF(Clasament!Z$3:Z$72=\"+\",ROW(Clasament!$B$3:$B$74)-ROW(Clasament!$B$3)+1),ROWS(Clasament!$B$3:'Clasament'!$B58))),\"\")","v":""},{"$f":"IFERROR(INDEX(Clasament!$BH$3:$BH$72,SMALL(IF(Clasament!AA$3:AA$72=\"+\",ROW(Clasament!$B$3:$B$74)-ROW(Clasament!$B$3)+1),ROWS(Clasament!$B$3:'Clasament'!$B58))),\"\")","v":""},{"$f":"IFERROR(INDEX(Clasament!$BH$3:$BH$72,SMALL(IF(Clasament!AB$3:AB$72=\"+\",ROW(Clasament!$B$3:$B$74)-ROW(Clasament!$B$3)+1),ROWS(Clasament!$B$3:'Clasament'!$B58))),\"\")","v":""},{"$f":"IFERROR(INDEX(Clasament!$BH$3:$BH$72,SMALL(IF(Clasament!AC$3:AC$72=\"+\",ROW(Clasament!$B$3:$B$74)-ROW(Clasament!$B$3)+1),ROWS(Clasament!$B$3:'Clasament'!$B58))),\"\")","v":""},{"$f":"IFERROR(INDEX(Clasament!$BH$3:$BH$72,SMALL(IF(Clasament!AD$3:AD$72=\"+\",ROW(Clasament!$B$3:$B$74)-ROW(Clasament!$B$3)+1),ROWS(Clasament!$B$3:'Clasament'!$B58))),\"\")","v":""},{"$f":"IFERROR(INDEX(Clasament!$BH$3:$BH$72,SMALL(IF(Clasament!AE$3:AE$72=\"+\",ROW(Clasament!$B$3:$B$74)-ROW(Clasament!$B$3)+1),ROWS(Clasament!$B$3:'Clasament'!$B58))),\"\")","v":""},{"$f":"IFERROR(INDEX(Clasament!$BH$3:$BH$72,SMALL(IF(Clasament!AF$3:AF$72=\"+\",ROW(Clasament!$B$3:$B$74)-ROW(Clasament!$B$3)+1),ROWS(Clasament!$B$3:'Clasament'!$B58))),\"\")","v":""},{"$f":"IFERROR(INDEX(Clasament!$BH$3:$BH$72,SMALL(IF(Clasament!AG$3:AG$72=\"+\",ROW(Clasament!$B$3:$B$74)-ROW(Clasament!$B$3)+1),ROWS(Clasament!$B$3:'Clasament'!$B58))),\"\")","v":""},{"$f":"IFERROR(INDEX(Clasament!$BH$3:$BH$72,SMALL(IF(Clasament!AH$3:AH$72=\"+\",ROW(Clasament!$B$3:$B$74)-ROW(Clasament!$B$3)+1),ROWS(Clasament!$B$3:'Clasament'!$B58))),\"\")","v":""},{"$f":"IFERROR(INDEX(Clasament!$BH$3:$BH$72,SMALL(IF(Clasament!AJ$3:AJ$72=\"+\",ROW(Clasament!$B$3:$B$74)-ROW(Clasament!$B$3)+1),ROWS(Clasament!$B$3:'Clasament'!$B58))),\"\")","v":""},{"$f":"IFERROR(INDEX(Clasament!$BH$3:$BH$72,SMALL(IF(Clasament!AK$3:AK$72=\"+\",ROW(Clasament!$B$3:$B$74)-ROW(Clasament!$B$3)+1),ROWS(Clasament!$B$3:'Clasament'!$B58))),\"\")","v":""},{"$f":"IFERROR(INDEX(Clasament!$BH$3:$BH$72,SMALL(IF(Clasament!AL$3:AL$72=\"+\",ROW(Clasament!$B$3:$B$74)-ROW(Clasament!$B$3)+1),ROWS(Clasament!$B$3:'Clasament'!$B58))),\"\")","v":""},{"$f":"IFERROR(INDEX(Clasament!$BH$3:$BH$72,SMALL(IF(Clasament!AM$3:AM$72=\"+\",ROW(Clasament!$B$3:$B$74)-ROW(Clasament!$B$3)+1),ROWS(Clasament!$B$3:'Clasament'!$B58))),\"\")","v":""},{"$f":"IFERROR(INDEX(Clasament!$BH$3:$BH$72,SMALL(IF(Clasament!AN$3:AN$72=\"+\",ROW(Clasament!$B$3:$B$74)-ROW(Clasament!$B$3)+1),ROWS(Clasament!$B$3:'Clasament'!$B58))),\"\")","v":""},{"$f":"IFERROR(INDEX(Clasament!$BH$3:$BH$72,SMALL(IF(Clasament!AO$3:AO$72=\"+\",ROW(Clasament!$B$3:$B$74)-ROW(Clasament!$B$3)+1),ROWS(Clasament!$B$3:'Clasament'!$B58))),\"\")","v":""},{"$f":"IFERROR(INDEX(Clasament!$BH$3:$BH$72,SMALL(IF(Clasament!AP$3:AP$72=\"+\",ROW(Clasament!$B$3:$B$74)-ROW(Clasament!$B$3)+1),ROWS(Clasament!$B$3:'Clasament'!$B58))),\"\")","v":""},{"$f":"IFERROR(INDEX(Clasament!$BH$3:$BH$72,SMALL(IF(Clasament!AQ$3:AQ$72=\"+\",ROW(Clasament!$B$3:$B$74)-ROW(Clasament!$B$3)+1),ROWS(Clasament!$B$3:'Clasament'!$B58))),\"\")","v":""},{"$f":"IFERROR(INDEX(Clasament!$BH$3:$BH$72,SMALL(IF(Clasament!AR$3:AR$72=\"+\",ROW(Clasament!$B$3:$B$74)-ROW(Clasament!$B$3)+1),ROWS(Clasament!$B$3:'Clasament'!$B58))),\"\")","v":""},{"$f":"IFERROR(INDEX(Clasament!$BH$3:$BH$72,SMALL(IF(Clasament!AS$3:AS$72=\"+\",ROW(Clasament!$B$3:$B$74)-ROW(Clasament!$B$3)+1),ROWS(Clasament!$B$3:'Clasament'!$B58))),\"\")","v":""},{"$f":"IFERROR(INDEX(Clasament!$BH$3:$BH$72,SMALL(IF(Clasament!AU$3:AU$72=\"+\",ROW(Clasament!$B$3:$B$74)-ROW(Clasament!$B$3)+1),ROWS(Clasament!$B$3:'Clasament'!$B58))),\"\")","v":""},{"$f":"IFERROR(INDEX(Clasament!$BH$3:$BH$72,SMALL(IF(Clasament!AV$3:AV$72=\"+\",ROW(Clasament!$B$3:$B$74)-ROW(Clasament!$B$3)+1),ROWS(Clasament!$B$3:'Clasament'!$B58))),\"\")","v":""},{"$f":"IFERROR(INDEX(Clasament!$BH$3:$BH$72,SMALL(IF(Clasament!AW$3:AW$72=\"+\",ROW(Clasament!$B$3:$B$74)-ROW(Clasament!$B$3)+1),ROWS(Clasament!$B$3:'Clasament'!$B58))),\"\")","v":""},{"$f":"IFERROR(INDEX(Clasament!$BH$3:$BH$72,SMALL(IF(Clasament!AX$3:AX$72=\"+\",ROW(Clasament!$B$3:$B$74)-ROW(Clasament!$B$3)+1),ROWS(Clasament!$B$3:'Clasament'!$B58))),\"\")","v":""},{"$f":"IFERROR(INDEX(Clasament!$BH$3:$BH$72,SMALL(IF(Clasament!AY$3:AY$72=\"+\",ROW(Clasament!$B$3:$B$74)-ROW(Clasament!$B$3)+1),ROWS(Clasament!$B$3:'Clasament'!$B58))),\"\")","v":""},{"$f":"IFERROR(INDEX(Clasament!$BH$3:$BH$72,SMALL(IF(Clasament!AZ$3:AZ$72=\"+\",ROW(Clasament!$B$3:$B$74)-ROW(Clasament!$B$3)+1),ROWS(Clasament!$B$3:'Clasament'!$B58))),\"\")","v":""},{"$f":"IFERROR(INDEX(Clasament!$BH$3:$BH$72,SMALL(IF(Clasament!BA$3:BA$72=\"+\",ROW(Clasament!$B$3:$B$74)-ROW(Clasament!$B$3)+1),ROWS(Clasament!$B$3:'Clasament'!$B58))),\"\")","v":""},{"$f":"IFERROR(INDEX(Clasament!$BH$3:$BH$72,SMALL(IF(Clasament!BB$3:BB$72=\"+\",ROW(Clasament!$B$3:$B$74)-ROW(Clasament!$B$3)+1),ROWS(Clasament!$B$3:'Clasament'!$B58))),\"\")","v":""},{"$f":"IFERROR(INDEX(Clasament!$BH$3:$BH$72,SMALL(IF(Clasament!BC$3:BC$72=\"+\",ROW(Clasament!$B$3:$B$74)-ROW(Clasament!$B$3)+1),ROWS(Clasament!$B$3:'Clasament'!$B58))),\"\")","v":""},{"$f":"IFERROR(INDEX(Clasament!$BH$3:$BH$72,SMALL(IF(Clasament!BD$3:BD$72=\"+\",ROW(Clasament!$B$3:$B$74)-ROW(Clasament!$B$3)+1),ROWS(Clasament!$B$3:'Clasament'!$B58))),\"\")","v":""}]
[null,{"$f":"IFERROR(INDEX(Clasament!$BH$3:$BH$72,SMALL(IF(Clasament!C$3:C$72=\"+\",ROW(Clasament!$B$3:$B$74)-ROW(Clasament!$B$3)+1),ROWS(Clasament!$B$3:'Clasament'!$B59))),\"\")","v":""},{"$f":"IFERROR(INDEX(Clasament!$BH$3:$BH$72,SMALL(IF(Clasament!D$3:D$72=\"+\",ROW(Clasament!$B$3:$B$74)-ROW(Clasament!$B$3)+1),ROWS(Clasament!$B$3:'Clasament'!$B59))),\"\")","v":""},{"$f":"IFERROR(INDEX(Clasament!$BH$3:$BH$72,SMALL(IF(Clasament!E$3:E$72=\"+\",ROW(Clasament!$B$3:$B$74)-ROW(Clasament!$B$3)+1),ROWS(Clasament!$B$3:'Clasament'!$B59))),\"\")","v":""},{"$f":"IFERROR(INDEX(Clasament!$BH$3:$BH$72,SMALL(IF(Clasament!F$3:F$72=\"+\",ROW(Clasament!$B$3:$B$74)-ROW(Clasament!$B$3)+1),ROWS(Clasament!$B$3:'Clasament'!$B59))),\"\")","v":""},{"$f":"IFERROR(INDEX(Clasament!$BH$3:$BH$72,SMALL(IF(Clasament!G$3:G$72=\"+\",ROW(Clasament!$B$3:$B$74)-ROW(Clasament!$B$3)+1),ROWS(Clasament!$B$3:'Clasament'!$B59))),\"\")","v":""},{"$f":"IFERROR(INDEX(Clasament!$BH$3:$BH$72,SMALL(IF(Clasament!H$3:H$72=\"+\",ROW(Clasament!$B$3:$B$74)-ROW(Clasament!$B$3)+1),ROWS(Clasament!$B$3:'Clasament'!$B59))),\"\")","v":""},{"$f":"IFERROR(INDEX(Clasament!$BH$3:$BH$72,SMALL(IF(Clasament!I$3:I$72=\"+\",ROW(Clasament!$B$3:$B$74)-ROW(Clasament!$B$3)+1),ROWS(Clasament!$B$3:'Clasament'!$B59))),\"\")","v":""},{"$f":"IFERROR(INDEX(Clasament!$BH$3:$BH$72,SMALL(IF(Clasament!J$3:J$72=\"+\",ROW(Clasament!$B$3:$B$74)-ROW(Clasament!$B$3)+1),ROWS(Clasament!$B$3:'Clasament'!$B59))),\"\")","v":""},{"$f":"IFERROR(INDEX(Clasament!$BH$3:$BH$72,SMALL(IF(Clasament!K$3:K$72=\"+\",ROW(Clasament!$B$3:$B$74)-ROW(Clasament!$B$3)+1),ROWS(Clasament!$B$3:'Clasament'!$B59))),\"\")","v":""},{"$f":"IFERROR(INDEX(Clasament!$BH$3:$BH$72,SMALL(IF(Clasament!L$3:L$72=\"+\",ROW(Clasament!$B$3:$B$74)-ROW(Clasament!$B$3)+1),ROWS(Clasament!$B$3:'Clasament'!$B59))),\"\")","v":""},{"$f":"IFERROR(INDEX(Clasament!$BH$3:$BH$72,SMALL(IF(Clasament!N$3:N$72=\"+\",ROW(Clasament!$B$3:$B$74)-ROW(Clasament!$B$3)+1),ROWS(Clasament!$B$3:'Clasament'!$B59))),\"\")","v":""},{"$f":"IFERROR(INDEX(Clasament!$BH$3:$BH$72,SMALL(IF(Clasament!O$3:O$72=\"+\",ROW(Clasament!$B$3:$B$74)-ROW(Clasament!$B$3)+1),ROWS(Clasament!$B$3:'Clasament'!$B59))),\"\")","v":""},{"$f":"IFERROR(INDEX(Clasament!$BH$3:$BH$72,SMALL(IF(Clasament!P$3:P$72=\"+\",ROW(Clasament!$B$3:$B$74)-ROW(Clasament!$B$3)+1),ROWS(Clasament!$B$3:'Clasament'!$B59))),\"\")","v":""},{"$f":"IFERROR(INDEX(Clasament!$BH$3:$BH$72,SMALL(IF(Clasament!Q$3:Q$72=\"+\",ROW(Clasament!$B$3:$B$74)-ROW(Clasament!$B$3)+1),ROWS(Clasament!$B$3:'Clasament'!$B59))),\"\")","v":""},{"$f":"IFERROR(INDEX(Clasament!$BH$3:$BH$72,SMALL(IF(Clasament!R$3:R$72=\"+\",ROW(Clasament!$B$3:$B$74)-ROW(Clasament!$B$3)+1),ROWS(Clasament!$B$3:'Clasament'!$B59))),\"\")","v":""},{"$f":"IFERROR(INDEX(Clasament!$BH$3:$BH$72,SMALL(IF(Clasament!S$3:S$72=\"+\",ROW(Clasament!$B$3:$B$74)-ROW(Clasament!$B$3)+1),ROWS(Clasament!$B$3:'Clasament'!$B59))),\"\")","v":""},{"$f":"IFERROR(INDEX(Clasament!$BH$3:$BH$72,SMALL(IF(Clasament!T$3:T$72=\"+\",ROW(Clasament!$B$3:$B$74)-ROW(Clasament!$B$3)+1),ROWS(Clasament!$B$3:'Clasament'!$B59))),\"\")","v":""},{"$f":"IFERROR(INDEX(Clasament!$BH$3:$BH$72,SMALL(IF(Clasament!U$3:U$72=\"+\",ROW(Clasament!$B$3:$B$74)-ROW(Clasament!$B$3)+1),ROWS(Clasament!$B$3:'Clasament'!$B59))),\"\")","v":""},{"$f":"IFERROR(INDEX(Clasament!$BH$3:$BH$72,SMALL(IF(Clasament!V$3:V$72=\"+\",ROW(Clasament!$B$3:$B$74)-ROW(Clasament!$B$3)+1),ROWS(Clasament!$B$3:'Clasament'!$B59))),\"\")","v":""},{"$f":"IFERROR(INDEX(Clasament!$BH$3:$BH$72,SMALL(IF(Clasament!W$3:W$72=\"+\",ROW(Clasament!$B$3:$B$74)-ROW(Clasament!$B$3)+1),ROWS(Clasament!$B$3:'Clasament'!$B59))),\"\")","v":""},{"$f":"IFERROR(INDEX(Clasament!$BH$3:$BH$72,SMALL(IF(Clasament!Y$3:Y$72=\"+\",ROW(Clasament!$B$3:$B$74)-ROW(Clasament!$B$3)+1),ROWS(Clasament!$B$3:'Clasament'!$B59))),\"\")","v":""},{"$f":"IFERROR(INDEX(Clasament!$BH$3:$BH$72,SMALL(IF(Clasament!Z$3:Z$72=\"+\",ROW(Clasament!$B$3:$B$74)-ROW(Clasament!$B$3)+1),ROWS(Clasament!$B$3:'Clasament'!$B59))),\"\")","v":""},{"$f":"IFERROR(INDEX(Clasament!$BH$3:$BH$72,SMALL(IF(Clasament!AA$3:AA$72=\"+\",ROW(Clasament!$B$3:$B$74)-ROW(Clasament!$B$3)+1),ROWS(Clasament!$B$3:'Clasament'!$B59))),\"\")","v":""},{"$f":"IFERROR(INDEX(Clasament!$BH$3:$BH$72,SMALL(IF(Clasament!AB$3:AB$72=\"+\",ROW(Clasament!$B$3:$B$74)-ROW(Clasament!$B$3)+1),ROWS(Clasament!$B$3:'Clasament'!$B59))),\"\")","v":""},{"$f":"IFERROR(INDEX(Clasament!$BH$3:$BH$72,SMALL(IF(Clasament!AC$3:AC$72=\"+\",ROW(Clasament!$B$3:$B$74)-ROW(Clasament!$B$3)+1),ROWS(Clasament!$B$3:'Clasament'!$B59))),\"\")","v":""},{"$f":"IFERROR(INDEX(Clasament!$BH$3:$BH$72,SMALL(IF(Clasament!AD$3:AD$72=\"+\",ROW(Clasament!$B$3:$B$74)-ROW(Clasament!$B$3)+1),ROWS(Clasament!$B$3:'Clasament'!$B59))),\"\")","v":""},{"$f":"IFERROR(INDEX(Clasament!$BH$3:$BH$72,SMALL(IF(Clasament!AE$3:AE$72=\"+\",ROW(Clasament!$B$3:$B$74)-ROW(Clasament!$B$3)+1),ROWS(Clasament!$B$3:'Clasament'!$B59))),\"\")","v":""},{"$f":"IFERROR(INDEX(Clasament!$BH$3:$BH$72,SMALL(IF(Clasament!AF$3:AF$72=\"+\",ROW(Clasament!$B$3:$B$74)-ROW(Clasament!$B$3)+1),ROWS(Clasament!$B$3:'Clasament'!$B59))),\"\")","v":""},{"$f":"IFERROR(INDEX(Clasament!$BH$3:$BH$72,SMALL(IF(Clasament!AG$3:AG$72=\"+\",ROW(Clasament!$B$3:$B$74)-ROW(Clasament!$B$3)+1),ROWS(Clasament!$B$3:'Clasament'!$B59))),\"\")","v":""},{"$f":"IFERROR(INDEX(Clasament!$BH$3:$BH$72,SMALL(IF(Clasament!AH$3:AH$72=\"+\",ROW(Clasament!$B$3:$B$74)-ROW(Clasament!$B$3)+1),ROWS(Clasament!$B$3:'Clasament'!$B59))),\"\")","v":""},{"$f":"IFERROR(INDEX(Clasament!$BH$3:$BH$72,SMALL(IF(Clasament!AJ$3:AJ$72=\"+\",ROW(Clasament!$B$3:$B$74)-ROW(Clasament!$B$3)+1),ROWS(Clasament!$B$3:'Clasament'!$B59))),\"\")","v":""},{"$f":"IFERROR(INDEX(Clasament!$BH$3:$BH$72,SMALL(IF(Clasament!AK$3:AK$72=\"+\",ROW(Clasament!$B$3:$B$74)-ROW(Clasament!$B$3)+1),ROWS(Clasament!$B$3:'Clasament'!$B59))),\"\")","v":""},{"$f":"IFERROR(INDEX(Clasament!$BH$3:$BH$72,SMALL(IF(Clasament!AL$3:AL$72=\"+\",ROW(Clasament!$B$3:$B$74)-ROW(Clasament!$B$3)+1),ROWS(Clasament!$B$3:'Clasament'!$B59))),\"\")","v":""},{"$f":"IFERROR(INDEX(Clasament!$BH$3:$BH$72,SMALL(IF(Clasament!AM$3:AM$72=\"+\",ROW(Clasament!$B$3:$B$74)-ROW(Clasament!$B$3)+1),ROWS(Clasament!$B$3:'Clasament'!$B59))),\"\")","v":""},{"$f":"IFERROR(INDEX(Clasament!$BH$3:$BH$72,SMALL(IF(Clasament!AN$3:AN$72=\"+\",ROW(Clasament!$B$3:$B$74)-ROW(Clasament!$B$3)+1),ROWS(Clasament!$B$3:'Clasament'!$B59))),\"\")","v":""},{"$f":"IFERROR(INDEX(Clasament!$BH$3:$BH$72,SMALL(IF(Clasament!AO$3:AO$72=\"+\",ROW(Clasament!$B$3:$B$74)-ROW(Clasament!$B$3)+1),ROWS(Clasament!$B$3:'Clasament'!$B59))),\"\")","v":""},{"$f":"IFERROR(INDEX(Clasament!$BH$3:$BH$72,SMALL(IF(Clasament!AP$3:AP$72=\"+\",ROW(Clasament!$B$3:$B$74)-ROW(Clasament!$B$3)+1),ROWS(Clasament!$B$3:'Clasament'!$B59))),\"\")","v":""},{"$f":"IFERROR(INDEX(Clasament!$BH$3:$BH$72,SMALL(IF(Clasament!AQ$3:AQ$72=\"+\",ROW(Clasament!$B$3:$B$74)-ROW(Clasament!$B$3)+1),ROWS(Clasament!$B$3:'Clasament'!$B59))),\"\")","v":""},{"$f":"IFERROR(INDEX(Clasament!$BH$3:$BH$72,SMALL(IF(Clasament!AR$3:AR$72=\"+\",ROW(Clasament!$B$3:$B$74)-ROW(Clasament!$B$3)+1),ROWS(Clasament!$B$3:'Clasament'!$B59))),\"\")","v":""},{"$f":"IFERROR(INDEX(Clasament!$BH$3:$BH$72,SMALL(IF(Clasament!AS$3:AS$72=\"+\",ROW(Clasament!$B$3:$B$74)-ROW(Clasament!$B$3)+1),ROWS(Clasament!$B$3:'Clasament'!$B59))),\"\")","v":""},{"$f":"IFERROR(INDEX(Clasament!$BH$3:$BH$72,SMALL(IF(Clasament!AU$3:AU$72=\"+\",ROW(Clasament!$B$3:$B$74)-ROW(Clasament!$B$3)+1),ROWS(Clasament!$B$3:'Clasament'!$B59))),\"\")","v":""},{"$f":"IFERROR(INDEX(Clasament!$BH$3:$BH$72,SMALL(IF(Clasament!AV$3:AV$72=\"+\",ROW(Clasament!$B$3:$B$74)-ROW(Clasament!$B$3)+1),ROWS(Clasament!$B$3:'Clasament'!$B59))),\"\")","v":""},{"$f":"IFERROR(INDEX(Clasament!$BH$3:$BH$72,SMALL(IF(Clasament!AW$3:AW$72=\"+\",ROW(Clasament!$B$3:$B$74)-ROW(Clasament!$B$3)+1),ROWS(Clasament!$B$3:'Clasament'!$B59))),\"\")","v":""},{"$f":"IFERROR(INDEX(Clasament!$BH$3:$BH$72,SMALL(IF(Clasament!AX$3:AX$72=\"+\",ROW(Clasament!$B$3:$B$74)-ROW(Clasament!$B$3)+1),ROWS(Clasament!$B$3:'Clasament'!$B59))),\"\")","v":""},{"$f":"IFERROR(INDEX(Clasament!$BH$3:$BH$72,SMALL(IF(Clasament!AY$3:AY$72=\"+\",ROW(Clasament!$B$3:$B$74)-ROW(Clasament!$B$3)+1),ROWS(Clasament!$B$3:'Clasament'!$B59))),\"\")","v":""},{"$f":"IFERROR(INDEX(Clasament!$BH$3:$BH$72,SMALL(IF(Clasament!AZ$3:AZ$72=\"+\",ROW(Clasament!$B$3:$B$74)-ROW(Clasament!$B$3)+1),ROWS(Clasament!$B$3:'Clasament'!$B59))),\"\")","v":""},{"$f":"IFERROR(INDEX(Clasament!$BH$3:$BH$72,SMALL(IF(Clasament!BA$3:BA$72=\"+\",ROW(Clasament!$B$3:$B$74)-ROW(Clasament!$B$3)+1),ROWS(Clasament!$B$3:'Clasament'!$B59))),\"\")","v":""},{"$f":"IFERROR(INDEX(Clasament!$BH$3:$BH$72,SMALL(IF(Clasament!BB$3:BB$72=\"+\",ROW(Clasament!$B$3:$B$74)-ROW(Clasament!$B$3)+1),ROWS(Clasament!$B$3:'Clasament'!$B59))),\"\")","v":""},{"$f":"IFERROR(INDEX(Clasament!$BH$3:$BH$72,SMALL(IF(Clasament!BC$3:BC$72=\"+\",ROW(Clasament!$B$3:$B$74)-ROW(Clasament!$B$3)+1),ROWS(Clasament!$B$3:'Clasament'!$B59))),\"\")","v":""},{"$f":"IFERROR(INDEX(Clasament!$BH$3:$BH$72,SMALL(IF(Clasament!BD$3:BD$72=\"+\",ROW(Clasament!$B$3:$B$74)-ROW(Clasament!$B$3)+1),ROWS(Clasament!$B$3:'Clasament'!$B59))),\"\")","v":""}]
[null,{"$f":"IFERROR(INDEX(Clasament!$BH$3:$BH$72,SMALL(IF(Clasament!C$3:C$72=\"+\",ROW(Clasament!$B$3:$B$74)-ROW(Clasament!$B$3)+1),ROWS(Clasament!$B$3:'Clasament'!$B60))),\"\")","v":""},{"$f":"IFERROR(INDEX(Clasament!$BH$3:$BH$72,SMALL(IF(Clasament!D$3:D$72=\"+\",ROW(Clasament!$B$3:$B$74)-ROW(Clasament!$B$3)+1),ROWS(Clasament!$B$3:'Clasament'!$B60))),\"\")","v":""},{"$f":"IFERROR(INDEX(Clasament!$BH$3:$BH$72,SMALL(IF(Clasament!E$3:E$72=\"+\",ROW(Clasament!$B$3:$B$74)-ROW(Clasament!$B$3)+1),ROWS(Clasament!$B$3:'Clasament'!$B60))),\"\")","v":""},{"$f":"IFERROR(INDEX(Clasament!$BH$3:$BH$72,SMALL(IF(Clasament!F$3:F$72=\"+\",ROW(Clasament!$B$3:$B$74)-ROW(Clasament!$B$3)+1),ROWS(Clasament!$B$3:'Clasament'!$B60))),\"\")","v":""},{"$f":"IFERROR(INDEX(Clasament!$BH$3:$BH$72,SMALL(IF(Clasament!G$3:G$72=\"+\",ROW(Clasament!$B$3:$B$74)-ROW(Clasament!$B$3)+1),ROWS(Clasament!$B$3:'Clasament'!$B60))),\"\")","v":""},{"$f":"IFERROR(INDEX(Clasament!$BH$3:$BH$72,SMALL(IF(Clasament!H$3:H$72=\"+\",ROW(Clasament!$B$3:$B$74)-ROW(Clasament!$B$3)+1),ROWS(Clasament!$B$3:'Clasament'!$B60))),\"\")","v":""},{"$f":"IFERROR(INDEX(Clasament!$BH$3:$BH$72,SMALL(IF(Clasament!I$3:I$72=\"+\",ROW(Clasament!$B$3:$B$74)-ROW(Clasament!$B$3)+1),ROWS(Clasament!$B$3:'Clasament'!$B60))),\"\")","v":""},{"$f":"IFERROR(INDEX(Clasament!$BH$3:$BH$72,SMALL(IF(Clasament!J$3:J$72=\"+\",ROW(Clasament!$B$3:$B$74)-ROW(Clasament!$B$3)+1),ROWS(Clasament!$B$3:'Clasament'!$B60))),\"\")","v":""},{"$f":"IFERROR(INDEX(Clasament!$BH$3:$BH$72,SMALL(IF(Clasament!K$3:K$72=\"+\",ROW(Clasament!$B$3:$B$74)-ROW(Clasament!$B$3)+1),ROWS(Clasament!$B$3:'Clasament'!$B60))),\"\")","v":""},{"$f":"IFERROR(INDEX(Clasament!$BH$3:$BH$72,SMALL(IF(Clasament!L$3:L$72=\"+\",ROW(Clasament!$B$3:$B$74)-ROW(Clasament!$B$3)+1),ROWS(Clasament!$B$3:'Clasament'!$B60))),\"\")","v":""},{"$f":"IFERROR(INDEX(Clasament!$BH$3:$BH$72,SMALL(IF(Clasament!N$3:N$72=\"+\",ROW(Clasament!$B$3:$B$74)-ROW(Clasament!$B$3)+1),ROWS(Clasament!$B$3:'Clasament'!$B60))),\"\")","v":""},{"$f":"IFERROR(INDEX(Clasament!$BH$3:$BH$72,SMALL(IF(Clasament!O$3:O$72=\"+\",ROW(Clasament!$B$3:$B$74)-ROW(Clasament!$B$3)+1),ROWS(Clasament!$B$3:'Clasament'!$B60))),\"\")","v":""},{"$f":"IFERROR(INDEX(Clasament!$BH$3:$BH$72,SMALL(IF(Clasament!P$3:P$72=\"+\",ROW(Clasament!$B$3:$B$74)-ROW(Clasament!$B$3)+1),ROWS(Clasament!$B$3:'Clasament'!$B60))),\"\")","v":""},{"$f":"IFERROR(INDEX(Clasament!$BH$3:$BH$72,SMALL(IF(Clasament!Q$3:Q$72=\"+\",ROW(Clasament!$B$3:$B$74)-ROW(Clasament!$B$3)+1),ROWS(Clasament!$B$3:'Clasament'!$B60))),\"\")","v":""},{"$f":"IFERROR(INDEX(Clasament!$BH$3:$BH$72,SMALL(IF(Clasament!R$3:R$72=\"+\",ROW(Clasament!$B$3:$B$74)-ROW(Clasament!$B$3)+1),ROWS(Clasament!$B$3:'Clasament'!$B60))),\"\")","v":""},{"$f":"IFERROR(INDEX(Clasament!$BH$3:$BH$72,SMALL(IF(Clasament!S$3:S$72=\"+\",ROW(Clasament!$B$3:$B$74)-ROW(Clasament!$B$3)+1),ROWS(Clasament!$B$3:'Clasament'!$B60))),\"\")","v":""},{"$f":"IFERROR(INDEX(Clasament!$BH$3:$BH$72,SMALL(IF(Clasament!T$3:T$72=\"+\",ROW(Clasament!$B$3:$B$74)-ROW(Clasament!$B$3)+1),ROWS(Clasament!$B$3:'Clasament'!$B60))),\"\")","v":""},{"$f":"IFERROR(INDEX(Clasament!$BH$3:$BH$72,SMALL(IF(Clasament!U$3:U$72=\"+\",ROW(Clasament!$B$3:$B$74)-ROW(Clasament!$B$3)+1),ROWS(Clasament!$B$3:'Clasament'!$B60))),\"\")","v":""},{"$f":"IFERROR(INDEX(Clasament!$BH$3:$BH$72,SMALL(IF(Clasament!V$3:V$72=\"+\",ROW(Clasament!$B$3:$B$74)-ROW(Clasament!$B$3)+1),ROWS(Clasament!$B$3:'Clasament'!$B60))),\"\")","v":""},{"$f":"IFERROR(INDEX(Clasament!$BH$3:$BH$72,SMALL(IF(Clasament!W$3:W$72=\"+\",ROW(Clasament!$B$3:$B$74)-ROW(Clasament!$B$3)+1),ROWS(Clasament!$B$3:'Clasament'!$B60))),\"\")","v":""},{"$f":"IFERROR(INDEX(Clasament!$BH$3:$BH$72,SMALL(IF(Clasament!Y$3:Y$72=\"+\",ROW(Clasament!$B$3:$B$74)-ROW(Clasament!$B$3)+1),ROWS(Clasament!$B$3:'Clasament'!$B60))),\"\")","v":""},{"$f":"IFERROR(INDEX(Clasament!$BH$3:$BH$72,SMALL(IF(Clasament!Z$3:Z$72=\"+\",ROW(Clasament!$B$3:$B$74)-ROW(Clasament!$B$3)+1),ROWS(Clasament!$B$3:'Clasament'!$B60))),\"\")","v":""},{"$f":"IFERROR(INDEX(Clasament!$BH$3:$BH$72,SMALL(IF(Clasament!AA$3:AA$72=\"+\",ROW(Clasament!$B$3:$B$74)-ROW(Clasament!$B$3)+1),ROWS(Clasament!$B$3:'Clasament'!$B60))),\"\")","v":""},{"$f":"IFERROR(INDEX(Clasament!$BH$3:$BH$72,SMALL(IF(Clasament!AB$3:AB$72=\"+\",ROW(Clasament!$B$3:$B$74)-ROW(Clasament!$B$3)+1),ROWS(Clasament!$B$3:'Clasament'!$B60))),\"\")","v":""},{"$f":"IFERROR(INDEX(Clasament!$BH$3:$BH$72,SMALL(IF(Clasament!AC$3:AC$72=\"+\",ROW(Clasament!$B$3:$B$74)-ROW(Clasament!$B$3)+1),ROWS(Clasament!$B$3:'Clasament'!$B60))),\"\")","v":""},{"$f":"IFERROR(INDEX(Clasament!$BH$3:$BH$72,SMALL(IF(Clasament!AD$3:AD$72=\"+\",ROW(Clasament!$B$3:$B$74)-ROW(Clasament!$B$3)+1),ROWS(Clasament!$B$3:'Clasament'!$B60))),\"\")","v":""},{"$f":"IFERROR(INDEX(Clasament!$BH$3:$BH$72,SMALL(IF(Clasament!AE$3:AE$72=\"+\",ROW(Clasament!$B$3:$B$74)-ROW(Clasament!$B$3)+1),ROWS(Clasament!$B$3:'Clasament'!$B60))),\"\")","v":""},{"$f":"IFERROR(INDEX(Clasament!$BH$3:$BH$72,SMALL(IF(Clasament!AF$3:AF$72=\"+\",ROW(Clasament!$B$3:$B$74)-ROW(Clasament!$B$3)+1),ROWS(Clasament!$B$3:'Clasament'!$B60))),\"\")","v":""},{"$f":"IFERROR(INDEX(Clasament!$BH$3:$BH$72,SMALL(IF(Clasament!AG$3:AG$72=\"+\",ROW(Clasament!$B$3:$B$74)-ROW(Clasament!$B$3)+1),ROWS(Clasament!$B$3:'Clasament'!$B60))),\"\")","v":""},{"$f":"IFERROR(INDEX(Clasament!$BH$3:$BH$72,SMALL(IF(Clasament!AH$3:AH$72=\"+\",ROW(Clasament!$B$3:$B$74)-ROW(Clasament!$B$3)+1),ROWS(Clasament!$B$3:'Clasament'!$B60))),\"\")","v":""},{"$f":"IFERROR(INDEX(Clasament!$BH$3:$BH$72,SMALL(IF(Clasament!AJ$3:AJ$72=\"+\",ROW(Clasament!$B$3:$B$74)-ROW(Clasament!$B$3)+1),ROWS(Clasament!$B$3:'Clasament'!$B60))),\"\")","v":""},{"$f":"IFERROR(INDEX(Clasament!$BH$3:$BH$72,SMALL(IF(Clasament!AK$3:AK$72=\"+\",ROW(Clasament!$B$3:$B$74)-ROW(Clasament!$B$3)+1),ROWS(Clasament!$B$3:'Clasament'!$B60))),\"\")","v":""},{"$f":"IFERROR(INDEX(Clasament!$BH$3:$BH$72,SMALL(IF(Clasament!AL$3:AL$72=\"+\",ROW(Clasament!$B$3:$B$74)-ROW(Clasament!$B$3)+1),ROWS(Clasament!$B$3:'Clasament'!$B60))),\"\")","v":""},{"$f":"IFERROR(INDEX(Clasament!$BH$3:$BH$72,SMALL(IF(Clasament!AM$3:AM$72=\"+\",ROW(Clasament!$B$3:$B$74)-ROW(Clasament!$B$3)+1),ROWS(Clasament!$B$3:'Clasament'!$B60))),\"\")","v":""},{"$f":"IFERROR(INDEX(Clasament!$BH$3:$BH$72,SMALL(IF(Clasament!AN$3:AN$72=\"+\",ROW(Clasament!$B$3:$B$74)-ROW(Clasament!$B$3)+1),ROWS(Clasament!$B$3:'Clasament'!$B60))),\"\")","v":""},{"$f":"IFERROR(INDEX(Clasament!$BH$3:$BH$72,SMALL(IF(Clasament!AO$3:AO$72=\"+\",ROW(Clasament!$B$3:$B$74)-ROW(Clasament!$B$3)+1),ROWS(Clasament!$B$3:'Clasament'!$B60))),\"\")","v":""},{"$f":"IFERROR(INDEX(Clasament!$BH$3:$BH$72,SMALL(IF(Clasament!AP$3:AP$72=\"+\",ROW(Clasament!$B$3:$B$74)-ROW(Clasament!$B$3)+1),ROWS(Clasament!$B$3:'Clasament'!$B60))),\"\")","v":""},{"$f":"IFERROR(INDEX(Clasament!$BH$3:$BH$72,SMALL(IF(Clasament!AQ$3:AQ$72=\"+\",ROW(Clasament!$B$3:$B$74)-ROW(Clasament!$B$3)+1),ROWS(Clasament!$B$3:'Clasament'!$B60))),\"\")","v":""},{"$f":"IFERROR(INDEX(Clasament!$BH$3:$BH$72,SMALL(IF(Clasament!AR$3:AR$72=\"+\",ROW(Clasament!$B$3:$B$74)-ROW(Clasament!$B$3)+1),ROWS(Clasament!$B$3:'Clasament'!$B60))),\"\")","v":""},{"$f":"IFERROR(INDEX(Clasament!$BH$3:$BH$72,SMALL(IF(Clasament!AS$3:AS$72=\"+\",ROW(Clasament!$B$3:$B$74)-ROW(Clasament!$B$3)+1),ROWS(Clasament!$B$3:'Clasament'!$B60))),\"\")","v":""},{"$f":"IFERROR(INDEX(Clasament!$BH$3:$BH$72,SMALL(IF(Clasament!AU$3:AU$72=\"+\",ROW(Clasament!$B$3:$B$74)-ROW(Clasament!$B$3)+1),ROWS(Clasament!$B$3:'Clasament'!$B60))),\"\")","v":""},{"$f":"IFERROR(INDEX(Clasament!$BH$3:$BH$72,SMALL(IF(Clasament!AV$3:AV$72=\"+\",ROW(Clasament!$B$3:$B$74)-ROW(Clasament!$B$3)+1),ROWS(Clasament!$B$3:'Clasament'!$B60))),\"\")","v":""},{"$f":"IFERROR(INDEX(Clasament!$BH$3:$BH$72,SMALL(IF(Clasament!AW$3:AW$72=\"+\",ROW(Clasament!$B$3:$B$74)-ROW(Clasament!$B$3)+1),ROWS(Clasament!$B$3:'Clasament'!$B60))),\"\")","v":""},{"$f":"IFERROR(INDEX(Clasament!$BH$3:$BH$72,SMALL(IF(Clasament!AX$3:AX$72=\"+\",ROW(Clasament!$B$3:$B$74)-ROW(Clasament!$B$3)+1),ROWS(Clasament!$B$3:'Clasament'!$B60))),\"\")","v":""},{"$f":"IFERROR(INDEX(Clasament!$BH$3:$BH$72,SMALL(IF(Clasament!AY$3:AY$72=\"+\",ROW(Clasament!$B$3:$B$74)-ROW(Clasament!$B$3)+1),ROWS(Clasament!$B$3:'Clasament'!$B60))),\"\")","v":""},{"$f":"IFERROR(INDEX(Clasament!$BH$3:$BH$72,SMALL(IF(Clasament!AZ$3:AZ$72=\"+\",ROW(Clasament!$B$3:$B$74)-ROW(Clasament!$B$3)+1),ROWS(Clasament!$B$3:'Clasament'!$B60))),\"\")","v":""},{"$f":"IFERROR(INDEX(Clasament!$BH$3:$BH$72,SMALL(IF(Clasament!BA$3:BA$72=\"+\",ROW(Clasament!$B$3:$B$74)-ROW(Clasament!$B$3)+1),ROWS(Clasament!$B$3:'Clasament'!$B60))),\"\")","v":""},{"$f":"IFERROR(INDEX(Clasament!$BH$3:$BH$72,SMALL(IF(Clasament!BB$3:BB$72=\"+\",ROW(Clasament!$B$3:$B$74)-ROW(Clasament!$B$3)+1),ROWS(Clasament!$B$3:'Clasament'!$B60))),\"\")","v":""},{"$f":"IFERROR(INDEX(Clasament!$BH$3:$BH$72,SMALL(IF(Clasament!BC$3:BC$72=\"+\",ROW(Clasament!$B$3:$B$74)-ROW(Clasament!$B$3)+1),ROWS(Clasament!$B$3:'Clasament'!$B60))),\"\")","v":""},{"$f":"IFERROR(INDEX(Clasament!$BH$3:$BH$72,SMALL(IF(Clasament!BD$3:BD$72=\"+\",ROW(Clasament!$B$3:$B$74)-ROW(Clasament!$B$3)+1),ROWS(Clasament!$B$3:'Clasament'!$B60))),\"\")","v":""}]
[null,{"$f":"IFERROR(INDEX(Clasament!$BH$3:$BH$72,SMALL(IF(Clasament!C$3:C$72=\"+\",ROW(Clasament!$B$3:$B$74)-ROW(Clasament!$B$3)+1),ROWS(Clasament!$B$3:'Clasament'!$B61))),\"\")","v":""},{"$f":"IFERROR(INDEX(Clasament!$BH$3:$BH$72,SMALL(IF(Clasament!D$3:D$72=\"+\",ROW(Clasament!$B$3:$B$74)-ROW(Clasament!$B$3)+1),ROWS(Clasament!$B$3:'Clasament'!$B61))),\"\")","v":""},{"$f":"IFERROR(INDEX(Clasament!$BH$3:$BH$72,SMALL(IF(Clasament!E$3:E$72=\"+\",ROW(Clasament!$B$3:$B$74)-ROW(Clasament!$B$3)+1),ROWS(Clasament!$B$3:'Clasament'!$B61))),\"\")","v":""},{"$f":"IFERROR(INDEX(Clasament!$BH$3:$BH$72,SMALL(IF(Clasament!F$3:F$72=\"+\",ROW(Clasament!$B$3:$B$74)-ROW(Clasament!$B$3)+1),ROWS(Clasament!$B$3:'Clasament'!$B61))),\"\")","v":""},{"$f":"IFERROR(INDEX(Clasament!$BH$3:$BH$72,SMALL(IF(Clasament!G$3:G$72=\"+\",ROW(Clasament!$B$3:$B$74)-ROW(Clasament!$B$3)+1),ROWS(Clasament!$B$3:'Clasament'!$B61))),\"\")","v":""},{"$f":"IFERROR(INDEX(Clasament!$BH$3:$BH$72,SMALL(IF(Clasament!H$3:H$72=\"+\",ROW(Clasament!$B$3:$B$74)-ROW(Clasament!$B$3)+1),ROWS(Clasament!$B$3:'Clasament'!$B61))),\"\")","v":""},{"$f":"IFERROR(INDEX(Clasament!$BH$3:$BH$72,SMALL(IF(Clasament!I$3:I$72=\"+\",ROW(Clasament!$B$3:$B$74)-ROW(Clasament!$B$3)+1),ROWS(Clasament!$B$3:'Clasament'!$B61))),\"\")","v":""},{"$f":"IFERROR(INDEX(Clasament!$BH$3:$BH$72,SMALL(IF(Clasament!J$3:J$72=\"+\",ROW(Clasament!$B$3:$B$74)-ROW(Clasament!$B$3)+1),ROWS(Clasament!$B$3:'Clasament'!$B61))),\"\")","v":""},{"$f":"IFERROR(INDEX(Clasament!$BH$3:$BH$72,SMALL(IF(Clasament!K$3:K$72=\"+\",ROW(Clasament!$B$3:$B$74)-ROW(Clasament!$B$3)+1),ROWS(Clasament!$B$3:'Clasament'!$B61))),\"\")","v":""},{"$f":"IFERROR(INDEX(Clasament!$BH$3:$BH$72,SMALL(IF(Clasament!L$3:L$72=\"+\",ROW(Clasament!$B$3:$B$74)-ROW(Clasament!$B$3)+1),ROWS(Clasament!$B$3:'Clasament'!$B61))),\"\")","v":""},{"$f":"IFERROR(INDEX(Clasament!$BH$3:$BH$72,SMALL(IF(Clasament!N$3:N$72=\"+\",ROW(Clasament!$B$3:$B$74)-ROW(Clasament!$B$3)+1),ROWS(Clasament!$B$3:'Clasament'!$B61))),\"\")","v":""},{"$f":"IFERROR(INDEX(Clasament!$BH$3:$BH$72,SMALL(IF(Clasament!O$3:O$72=\"+\",ROW(Clasament!$B$3:$B$74)-ROW(Clasament!$B$3)+1),ROWS(Clasament!$B$3:'Clasament'!$B61))),\"\")","v":""},{"$f":"IFERROR(INDEX(Clasament!$BH$3:$BH$72,SMALL(IF(Clasament!P$3:P$72=\"+\",ROW(Clasament!$B$3:$B$74)-ROW(Clasament!$B$3)+1),ROWS(Clasament!$B$3:'Clasament'!$B61))),\"\")","v":""},{"$f":"IFERROR(INDEX(Clasament!$BH$3:$BH$72,SMALL(IF(Clasament!Q$3:Q$72=\"+\",ROW(Clasament!$B$3:$B$74)-ROW(Clasament!$B$3)+1),ROWS(Clasament!$B$3:'Clasament'!$B61))),\"\")","v":""},{"$f":"IFERROR(INDEX(Clasament!$BH$3:$BH$72,SMALL(IF(Clasament!R$3:R$72=\"+\",ROW(Clasament!$B$3:$B$74)-ROW(Clasament!$B$3)+1),ROWS(Clasament!$B$3:'Clasament'!$B61))),\"\")","v":""},{"$f":"IFERROR(INDEX(Clasament!$BH$3:$BH$72,SMALL(IF(Clasament!S$3:S$72=\"+\",ROW(Clasament!$B$3:$B$74)-ROW(Clasament!$B$3)+1),ROWS(Clasament!$B$3:'Clasament'!$B61))),\"\")","v":""},{"$f":"IFERROR(INDEX(Clasament!$BH$3:$BH$72,SMALL(IF(Clasament!T$3:T$72=\"+\",ROW(Clasament!$B$3:$B$74)-ROW(Clasament!$B$3)+1),ROWS(Clasament!$B$3:'Clasament'!$B61))),\"\")","v":""},{"$f":"IFERROR(INDEX(Clasament!$BH$3:$BH$72,SMALL(IF(Clasament!U$3:U$72=\"+\",ROW(Clasament!$B$3:$B$74)-ROW(Clasament!$B$3)+1),ROWS(Clasament!$B$3:'Clasament'!$B61))),\"\")","v":""},{"$f":"IFERROR(INDEX(Clasament!$BH$3:$BH$72,SMALL(IF(Clasament!V$3:V$72=\"+\",ROW(Clasament!$B$3:$B$74)-ROW(Clasament!$B$3)+1),ROWS(Clasament!$B$3:'Clasament'!$B61))),\"\")","v":""},{"$f":"IFERROR(INDEX(Clasament!$BH$3:$BH$72,SMALL(IF(Clasament!W$3:W$72=\"+\",ROW(Clasament!$B$3:$B$74)-ROW(Clasament!$B$3)+1),ROWS(Clasament!$B$3:'Clasament'!$B61))),\"\")","v":""},{"$f":"IFERROR(INDEX(Clasament!$BH$3:$BH$72,SMALL(IF(Clasament!Y$3:Y$72=\"+\",ROW(Clasament!$B$3:$B$74)-ROW(Clasament!$B$3)+1),ROWS(Clasament!$B$3:'Clasament'!$B61))),\"\")","v":""},{"$f":"IFERROR(INDEX(Clasament!$BH$3:$BH$72,SMALL(IF(Clasament!Z$3:Z$72=\"+\",ROW(Clasament!$B$3:$B$74)-ROW(Clasament!$B$3)+1),ROWS(Clasament!$B$3:'Clasament'!$B61))),\"\")","v":""},{"$f":"IFERROR(INDEX(Clasament!$BH$3:$BH$72,SMALL(IF(Clasament!AA$3:AA$72=\"+\",ROW(Clasament!$B$3:$B$74)-ROW(Clasament!$B$3)+1),ROWS(Clasament!$B$3:'Clasament'!$B61))),\"\")","v":""},{"$f":"IFERROR(INDEX(Clasament!$BH$3:$BH$72,SMALL(IF(Clasament!AB$3:AB$72=\"+\",ROW(Clasament!$B$3:$B$74)-ROW(Clasament!$B$3)+1),ROWS(Clasament!$B$3:'Clasament'!$B61))),\"\")","v":""},{"$f":"IFERROR(INDEX(Clasament!$BH$3:$BH$72,SMALL(IF(Clasament!AC$3:AC$72=\"+\",ROW(Clasament!$B$3:$B$74)-ROW(Clasament!$B$3)+1),ROWS(Clasament!$B$3:'Clasament'!$B61))),\"\")","v":""},{"$f":"IFERROR(INDEX(Clasament!$BH$3:$BH$72,SMALL(IF(Clasament!AD$3:AD$72=\"+\",ROW(Clasament!$B$3:$B$74)-ROW(Clasament!$B$3)+1),ROWS(Clasament!$B$3:'Clasament'!$B61))),\"\")","v":""},{"$f":"IFERROR(INDEX(Clasament!$BH$3:$BH$72,SMALL(IF(Clasament!AE$3:AE$72=\"+\",ROW(Clasament!$B$3:$B$74)-ROW(Clasament!$B$3)+1),ROWS(Clasament!$B$3:'Clasament'!$B61))),\"\")","v":""},{"$f":"IFERROR(INDEX(Clasament!$BH$3:$BH$72,SMALL(IF(Clasament!AF$3:AF$72=\"+\",ROW(Clasament!$B$3:$B$74)-ROW(Clasament!$B$3)+1),ROWS(Clasament!$B$3:'Clasament'!$B61))),\"\")","v":""},{"$f":"IFERROR(INDEX(Clasament!$BH$3:$BH$72,SMALL(IF(Clasament!AG$3:AG$72=\"+\",ROW(Clasament!$B$3:$B$74)-ROW(Clasament!$B$3)+1),ROWS(Clasament!$B$3:'Clasament'!$B61))),\"\")","v":""},{"$f":"IFERROR(INDEX(Clasament!$BH$3:$BH$72,SMALL(IF(Clasament!AH$3:AH$72=\"+\",ROW(Clasament!$B$3:$B$74)-ROW(Clasament!$B$3)+1),ROWS(Clasament!$B$3:'Clasament'!$B61))),\"\")","v":""},{"$f":"IFERROR(INDEX(Clasament!$BH$3:$BH$72,SMALL(IF(Clasament!AJ$3:AJ$72=\"+\",ROW(Clasament!$B$3:$B$74)-ROW(Clasament!$B$3)+1),ROWS(Clasament!$B$3:'Clasament'!$B61))),\"\")","v":""},{"$f":"IFERROR(INDEX(Clasament!$BH$3:$BH$72,SMALL(IF(Clasament!AK$3:AK$72=\"+\",ROW(Clasament!$B$3:$B$74)-ROW(Clasament!$B$3)+1),ROWS(Clasament!$B$3:'Clasament'!$B61))),\"\")","v":""},{"$f":"IFERROR(INDEX(Clasament!$BH$3:$BH$72,SMALL(IF(Clasament!AL$3:AL$72=\"+\",ROW(Clasament!$B$3:$B$74)-ROW(Clasament!$B$3)+1),ROWS(Clasament!$B$3:'Clasament'!$B61))),\"\")","v":""},{"$f":"IFERROR(INDEX(Clasament!$BH$3:$BH$72,SMALL(IF(Clasament!AM$3:AM$72=\"+\",ROW(Clasament!$B$3:$B$74)-ROW(Clasament!$B$3)+1),ROWS(Clasament!$B$3:'Clasament'!$B61))),\"\")","v":""},{"$f":"IFERROR(INDEX(Clasament!$BH$3:$BH$72,SMALL(IF(Clasament!AN$3:AN$72=\"+\",ROW(Clasament!$B$3:$B$74)-ROW(Clasament!$B$3)+1),ROWS(Clasament!$B$3:'Clasament'!$B61))),\"\")","v":""},{"$f":"IFERROR(INDEX(Clasament!$BH$3:$BH$72,SMALL(IF(Clasament!AO$3:AO$72=\"+\",ROW(Clasament!$B$3:$B$74)-ROW(Clasament!$B$3)+1),ROWS(Clasament!$B$3:'Clasament'!$B61))),\"\")","v":""},{"$f":"IFERROR(INDEX(Clasament!$BH$3:$BH$72,SMALL(IF(Clasament!AP$3:AP$72=\"+\",ROW(Clasament!$B$3:$B$74)-ROW(Clasament!$B$3)+1),ROWS(Clasament!$B$3:'Clasament'!$B61))),\"\")","v":""},{"$f":"IFERROR(INDEX(Clasament!$BH$3:$BH$72,SMALL(IF(Clasament!AQ$3:AQ$72=\"+\",ROW(Clasament!$B$3:$B$74)-ROW(Clasament!$B$3)+1),ROWS(Clasament!$B$3:'Clasament'!$B61))),\"\")","v":""},{"$f":"IFERROR(INDEX(Clasament!$BH$3:$BH$72,SMALL(IF(Clasament!AR$3:AR$72=\"+\",ROW(Clasament!$B$3:$B$74)-ROW(Clasament!$B$3)+1),ROWS(Clasament!$B$3:'Clasament'!$B61))),\"\")","v":""},{"$f":"IFERROR(INDEX(Clasament!$BH$3:$BH$72,SMALL(IF(Clasament!AS$3:AS$72=\"+\",ROW(Clasament!$B$3:$B$74)-ROW(Clasament!$B$3)+1),ROWS(Clasament!$B$3:'Clasament'!$B61))),\"\")","v":""},{"$f":"IFERROR(INDEX(Clasament!$BH$3:$BH$72,SMALL(IF(Clasament!AU$3:AU$72=\"+\",ROW(Clasament!$B$3:$B$74)-ROW(Clasament!$B$3)+1),ROWS(Clasament!$B$3:'Clasament'!$B61))),\"\")","v":""},{"$f":"IFERROR(INDEX(Clasament!$BH$3:$BH$72,SMALL(IF(Clasament!AV$3:AV$72=\"+\",ROW(Clasament!$B$3:$B$74)-ROW(Clasament!$B$3)+1),ROWS(Clasament!$B$3:'Clasament'!$B61))),\"\")","v":""},{"$f":"IFERROR(INDEX(Clasament!$BH$3:$BH$72,SMALL(IF(Clasament!AW$3:AW$72=\"+\",ROW(Clasament!$B$3:$B$74)-ROW(Clasament!$B$3)+1),ROWS(Clasament!$B$3:'Clasament'!$B61))),\"\")","v":""},{"$f":"IFERROR(INDEX(Clasament!$BH$3:$BH$72,SMALL(IF(Clasament!AX$3:AX$72=\"+\",ROW(Clasament!$B$3:$B$74)-ROW(Clasament!$B$3)+1),ROWS(Clasament!$B$3:'Clasament'!$B61))),\"\")","v":""},{"$f":"IFERROR(INDEX(Clasament!$BH$3:$BH$72,SMALL(IF(Clasament!AY$3:AY$72=\"+\",ROW(Clasament!$B$3:$B$74)-ROW(Clasament!$B$3)+1),ROWS(Clasament!$B$3:'Clasament'!$B61))),\"\")","v":""},{"$f":"IFERROR(INDEX(Clasament!$BH$3:$BH$72,SMALL(IF(Clasament!AZ$3:AZ$72=\"+\",ROW(Clasament!$B$3:$B$74)-ROW(Clasament!$B$3)+1),ROWS(Clasament!$B$3:'Clasament'!$B61))),\"\")","v":""},{"$f":"IFERROR(INDEX(Clasament!$BH$3:$BH$72,SMALL(IF(Clasament!BA$3:BA$72=\"+\",ROW(Clasament!$B$3:$B$74)-ROW(Clasament!$B$3)+1),ROWS(Clasament!$B$3:'Clasament'!$B61))),\"\")","v":""},{"$f":"IFERROR(INDEX(Clasament!$BH$3:$BH$72,SMALL(IF(Clasament!BB$3:BB$72=\"+\",ROW(Clasament!$B$3:$B$74)-ROW(Clasament!$B$3)+1),ROWS(Clasament!$B$3:'Clasament'!$B61))),\"\")","v":""},{"$f":"IFERROR(INDEX(Clasament!$BH$3:$BH$72,SMALL(IF(Clasament!BC$3:BC$72=\"+\",ROW(Clasament!$B$3:$B$74)-ROW(Clasament!$B$3)+1),ROWS(Clasament!$B$3:'Clasament'!$B61))),\"\")","v":""},{"$f":"IFERROR(INDEX(Clasament!$BH$3:$BH$72,SMALL(IF(Clasament!BD$3:BD$72=\"+\",ROW(Clasament!$B$3:$B$74)-ROW(Clasament!$B$3)+1),ROWS(Clasament!$B$3:'Clasament'!$B61))),\"\")","v":""}]
[null,{"$f":"IFERROR(INDEX(Clasament!$BH$3:$BH$72,SMALL(IF(Clasament!C$3:C$72=\"+\",ROW(Clasament!$B$3:$B$74)-ROW(Clasament!$B$3)+1),ROWS(Clasament!$B$3:'Clasament'!$B62))),\"\")","v":""},{"$f":"IFERROR(INDEX(Clasament!$BH$3:$BH$72,SMALL(IF(Clasament!D$3:D$72=\"+\",ROW(Clasament!$B$3:$B$74)-ROW(Clasament!$B$3)+1),ROWS(Clasament!$B$3:'Clasament'!$B62))),\"\")","v":""},{"$f":"IFERROR(INDEX(Clasament!$BH$3:$BH$72,SMALL(IF(Clasament!E$3:E$72=\"+\",ROW(Clasament!$B$3:$B$74)-ROW(Clasament!$B$3)+1),ROWS(Clasament!$B$3:'Clasament'!$B62))),\"\")","v":""},{"$f":"IFERROR(INDEX(Clasament!$BH$3:$BH$72,SMALL(IF(Clasament!F$3:F$72=\"+\",ROW(Clasament!$B$3:$B$74)-ROW(Clasament!$B$3)+1),ROWS(Clasament!$B$3:'Clasament'!$B62))),\"\")","v":""},{"$f":"IFERROR(INDEX(Clasament!$BH$3:$BH$72,SMALL(IF(Clasament!G$3:G$72=\"+\",ROW(Clasament!$B$3:$B$74)-ROW(Clasament!$B$3)+1),ROWS(Clasament!$B$3:'Clasament'!$B62))),\"\")","v":""},{"$f":"IFERROR(INDEX(Clasament!$BH$3:$BH$72,SMALL(IF(Clasament!H$3:H$72=\"+\",ROW(Clasament!$B$3:$B$74)-ROW(Clasament!$B$3)+1),ROWS(Clasament!$B$3:'Clasament'!$B62))),\"\")","v":""},{"$f":"IFERROR(INDEX(Clasament!$BH$3:$BH$72,SMALL(IF(Clasament!I$3:I$72=\"+\",ROW(Clasament!$B$3:$B$74)-ROW(Clasament!$B$3)+1),ROWS(Clasament!$B$3:'Clasament'!$B62))),\"\")","v":""},{"$f":"IFERROR(INDEX(Clasament!$BH$3:$BH$72,SMALL(IF(Clasament!J$3:J$72=\"+\",ROW(Clasament!$B$3:$B$74)-ROW(Clasament!$B$3)+1),ROWS(Clasament!$B$3:'Clasament'!$B62))),\"\")","v":""},{"$f":"IFERROR(INDEX(Clasament!$BH$3:$BH$72,SMALL(IF(Clasament!K$3:K$72=\"+\",ROW(Clasament!$B$3:$B$74)-ROW(Clasament!$B$3)+1),ROWS(Clasament!$B$3:'Clasament'!$B62))),\"\")","v":""},{"$f":"IFERROR(INDEX(Clasament!$BH$3:$BH$72,SMALL(IF(Clasament!L$3:L$72=\"+\",ROW(Clasament!$B$3:$B$74)-ROW(Clasament!$B$3)+1),ROWS(Clasament!$B$3:'Clasament'!$B62))),\"\")","v":""},{"$f":"IFERROR(INDEX(Clasament!$BH$3:$BH$72,SMALL(IF(Clasament!N$3:N$72=\"+\",ROW(Clasament!$B$3:$B$74)-ROW(Clasament!$B$3)+1),ROWS(Clasament!$B$3:'Clasament'!$B62))),\"\")","v":""},{"$f":"IFERROR(INDEX(Clasament!$BH$3:$BH$72,SMALL(IF(Clasament!O$3:O$72=\"+\",ROW(Clasament!$B$3:$B$74)-ROW(Clasament!$B$3)+1),ROWS(Clasament!$B$3:'Clasament'!$B62))),\"\")","v":""},{"$f":"IFERROR(INDEX(Clasament!$BH$3:$BH$72,SMALL(IF(Clasament!P$3:P$72=\"+\",ROW(Clasament!$B$3:$B$74)-ROW(Clasament!$B$3)+1),ROWS(Clasament!$B$3:'Clasament'!$B62))),\"\")","v":""},{"$f":"IFERROR(INDEX(Clasament!$BH$3:$BH$72,SMALL(IF(Clasament!Q$3:Q$72=\"+\",ROW(Clasament!$B$3:$B$74)-ROW(Clasament!$B$3)+1),ROWS(Clasament!$B$3:'Clasament'!$B62))),\"\")","v":""},{"$f":"IFERROR(INDEX(Clasament!$BH$3:$BH$72,SMALL(IF(Clasament!R$3:R$72=\"+\",ROW(Clasament!$B$3:$B$74)-ROW(Clasament!$B$3)+1),ROWS(Clasament!$B$3:'Clasament'!$B62))),\"\")","v":""},{"$f":"IFERROR(INDEX(Clasament!$BH$3:$BH$72,SMALL(IF(Clasament!S$3:S$72=\"+\",ROW(Clasament!$B$3:$B$74)-ROW(Clasament!$B$3)+1),ROWS(Clasament!$B$3:'Clasament'!$B62))),\"\")","v":""},{"$f":"IFERROR(INDEX(Clasament!$BH$3:$BH$72,SMALL(IF(Clasament!T$3:T$72=\"+\",ROW(Clasament!$B$3:$B$74)-ROW(Clasament!$B$3)+1),ROWS(Clasament!$B$3:'Clasament'!$B62))),\"\")","v":""},{"$f":"IFERROR(INDEX(Clasament!$BH$3:$BH$72,SMALL(IF(Clasament!U$3:U$72=\"+\",ROW(Clasament!$B$3:$B$74)-ROW(Clasament!$B$3)+1),ROWS(Clasament!$B$3:'Clasament'!$B62))),\"\")","v":""},{"$f":"IFERROR(INDEX(Clasament!$BH$3:$BH$72,SMALL(IF(Clasament!V$3:V$72=\"+\",ROW(Clasament!$B$3:$B$74)-ROW(Clasament!$B$3)+1),ROWS(Clasament!$B$3:'Clasament'!$B62))),\"\")","v":""},{"$f":"IFERROR(INDEX(Clasament!$BH$3:$BH$72,SMALL(IF(Clasament!W$3:W$72=\"+\",ROW(Clasament!$B$3:$B$74)-ROW(Clasament!$B$3)+1),ROWS(Clasament!$B$3:'Clasament'!$B62))),\"\")","v":""},{"$f":"IFERROR(INDEX(Clasament!$BH$3:$BH$72,SMALL(IF(Clasament!Y$3:Y$72=\"+\",ROW(Clasament!$B$3:$B$74)-ROW(Clasament!$B$3)+1),ROWS(Clasament!$B$3:'Clasament'!$B62))),\"\")","v":""},{"$f":"IFERROR(INDEX(Clasament!$BH$3:$BH$72,SMALL(IF(Clasament!Z$3:Z$72=\"+\",ROW(Clasament!$B$3:$B$74)-ROW(Clasament!$B$3)+1),ROWS(Clasament!$B$3:'Clasament'!$B62))),\"\")","v":""},{"$f":"IFERROR(INDEX(Clasament!$BH$3:$BH$72,SMALL(IF(Clasament!AA$3:AA$72=\"+\",ROW(Clasament!$B$3:$B$74)-ROW(Clasament!$B$3)+1),ROWS(Clasament!$B$3:'Clasament'!$B62))),\"\")","v":""},{"$f":"IFERROR(INDEX(Clasament!$BH$3:$BH$72,SMALL(IF(Clasament!AB$3:AB$72=\"+\",ROW(Clasament!$B$3:$B$74)-ROW(Clasament!$B$3)+1),ROWS(Clasament!$B$3:'Clasament'!$B62))),\"\")","v":""},{"$f":"IFERROR(INDEX(Clasament!$BH$3:$BH$72,SMALL(IF(Clasament!AC$3:AC$72=\"+\",ROW(Clasament!$B$3:$B$74)-ROW(Clasament!$B$3)+1),ROWS(Clasament!$B$3:'Clasament'!$B62))),\"\")","v":""},{"$f":"IFERROR(INDEX(Clasament!$BH$3:$BH$72,SMALL(IF(Clasament!AD$3:AD$72=\"+\",ROW(Clasament!$B$3:$B$74)-ROW(Clasament!$B$3)+1),ROWS(Clasament!$B$3:'Clasament'!$B62))),\"\")","v":""},{"$f":"IFERROR(INDEX(Clasament!$BH$3:$BH$72,SMALL(IF(Clasament!AE$3:AE$72=\"+\",ROW(Clasament!$B$3:$B$74)-ROW(Clasament!$B$3)+1),ROWS(Clasament!$B$3:'Clasament'!$B62))),\"\")","v":""},{"$f":"IFERROR(INDEX(Clasament!$BH$3:$BH$72,SMALL(IF(Clasament!AF$3:AF$72=\"+\",ROW(Clasament!$B$3:$B$74)-ROW(Clasament!$B$3)+1),ROWS(Clasament!$B$3:'Clasament'!$B62))),\"\")","v":""},{"$f":"IFERROR(INDEX(Clasament!$BH$3:$BH$72,SMALL(IF(Clasament!AG$3:AG$72=\"+\",ROW(Clasament!$B$3:$B$74)-ROW(Clasament!$B$3)+1),ROWS(Clasament!$B$3:'Clasament'!$B62))),\"\")","v":""},{"$f":"IFERROR(INDEX(Clasament!$BH$3:$BH$72,SMALL(IF(Clasament!AH$3:AH$72=\"+\",ROW(Clasament!$B$3:$B$74)-ROW(Clasament!$B$3)+1),ROWS(Clasament!$B$3:'Clasament'!$B62))),\"\")","v":""},{"$f":"IFERROR(INDEX(Clasament!$BH$3:$BH$72,SMALL(IF(Clasament!AJ$3:AJ$72=\"+\",ROW(Clasament!$B$3:$B$74)-ROW(Clasament!$B$3)+1),ROWS(Clasament!$B$3:'Clasament'!$B62))),\"\")","v":""},{"$f":"IFERROR(INDEX(Clasament!$BH$3:$BH$72,SMALL(IF(Clasament!AK$3:AK$72=\"+\",ROW(Clasament!$B$3:$B$74)-ROW(Clasament!$B$3)+1),ROWS(Clasament!$B$3:'Clasament'!$B62))),\"\")","v":""},{"$f":"IFERROR(INDEX(Clasament!$BH$3:$BH$72,SMALL(IF(Clasament!AL$3:AL$72=\"+\",ROW(Clasament!$B$3:$B$74)-ROW(Clasament!$B$3)+1),ROWS(Clasament!$B$3:'Clasament'!$B62))),\"\")","v":""},{"$f":"IFERROR(INDEX(Clasament!$BH$3:$BH$72,SMALL(IF(Clasament!AM$3:AM$72=\"+\",ROW(Clasament!$B$3:$B$74)-ROW(Clasament!$B$3)+1),ROWS(Clasament!$B$3:'Clasament'!$B62))),\"\")","v":""},{"$f":"IFERROR(INDEX(Clasament!$BH$3:$BH$72,SMALL(IF(Clasament!AN$3:AN$72=\"+\",ROW(Clasament!$B$3:$B$74)-ROW(Clasament!$B$3)+1),ROWS(Clasament!$B$3:'Clasament'!$B62))),\"\")","v":""},{"$f":"IFERROR(INDEX(Clasament!$BH$3:$BH$72,SMALL(IF(Clasament!AO$3:AO$72=\"+\",ROW(Clasament!$B$3:$B$74)-ROW(Clasament!$B$3)+1),ROWS(Clasament!$B$3:'Clasament'!$B62))),\"\")","v":""},{"$f":"IFERROR(INDEX(Clasament!$BH$3:$BH$72,SMALL(IF(Clasament!AP$3:AP$72=\"+\",ROW(Clasament!$B$3:$B$74)-ROW(Clasament!$B$3)+1),ROWS(Clasament!$B$3:'Clasament'!$B62))),\"\")","v":""},{"$f":"IFERROR(INDEX(Clasament!$BH$3:$BH$72,SMALL(IF(Clasament!AQ$3:AQ$72=\"+\",ROW(Clasament!$B$3:$B$74)-ROW(Clasament!$B$3)+1),ROWS(Clasament!$B$3:'Clasament'!$B62))),\"\")","v":""},{"$f":"IFERROR(INDEX(Clasament!$BH$3:$BH$72,SMALL(IF(Clasament!AR$3:AR$72=\"+\",ROW(Clasament!$B$3:$B$74)-ROW(Clasament!$B$3)+1),ROWS(Clasament!$B$3:'Clasament'!$B62))),\"\")","v":""},{"$f":"IFERROR(INDEX(Clasament!$BH$3:$BH$72,SMALL(IF(Clasament!AS$3:AS$72=\"+\",ROW(Clasament!$B$3:$B$74)-ROW(Clasament!$B$3)+1),ROWS(Clasament!$B$3:'Clasament'!$B62))),\"\")","v":""},{"$f":"IFERROR(INDEX(Clasament!$BH$3:$BH$72,SMALL(IF(Clasament!AU$3:AU$72=\"+\",ROW(Clasament!$B$3:$B$74)-ROW(Clasament!$B$3)+1),ROWS(Clasament!$B$3:'Clasament'!$B62))),\"\")","v":""},{"$f":"IFERROR(INDEX(Clasament!$BH$3:$BH$72,SMALL(IF(Clasament!AV$3:AV$72=\"+\",ROW(Clasament!$B$3:$B$74)-ROW(Clasament!$B$3)+1),ROWS(Clasament!$B$3:'Clasament'!$B62))),\"\")","v":""},{"$f":"IFERROR(INDEX(Clasament!$BH$3:$BH$72,SMALL(IF(Clasament!AW$3:AW$72=\"+\",ROW(Clasament!$B$3:$B$74)-ROW(Clasament!$B$3)+1),ROWS(Clasament!$B$3:'Clasament'!$B62))),\"\")","v":""},{"$f":"IFERROR(INDEX(Clasament!$BH$3:$BH$72,SMALL(IF(Clasament!AX$3:AX$72=\"+\",ROW(Clasament!$B$3:$B$74)-ROW(Clasament!$B$3)+1),ROWS(Clasament!$B$3:'Clasament'!$B62))),\"\")","v":""},{"$f":"IFERROR(INDEX(Clasament!$BH$3:$BH$72,SMALL(IF(Clasament!AY$3:AY$72=\"+\",ROW(Clasament!$B$3:$B$74)-ROW(Clasament!$B$3)+1),ROWS(Clasament!$B$3:'Clasament'!$B62))),\"\")","v":""},{"$f":"IFERROR(INDEX(Clasament!$BH$3:$BH$72,SMALL(IF(Clasament!AZ$3:AZ$72=\"+\",ROW(Clasament!$B$3:$B$74)-ROW(Clasament!$B$3)+1),ROWS(Clasament!$B$3:'Clasament'!$B62))),\"\")","v":""},{"$f":"IFERROR(INDEX(Clasament!$BH$3:$BH$72,SMALL(IF(Clasament!BA$3:BA$72=\"+\",ROW(Clasament!$B$3:$B$74)-ROW(Clasament!$B$3)+1),ROWS(Clasament!$B$3:'Clasament'!$B62))),\"\")","v":""},{"$f":"IFERROR(INDEX(Clasament!$BH$3:$BH$72,SMALL(IF(Clasament!BB$3:BB$72=\"+\",ROW(Clasament!$B$3:$B$74)-ROW(Clasament!$B$3)+1),ROWS(Clasament!$B$3:'Clasament'!$B62))),\"\")","v":""},{"$f":"IFERROR(INDEX(Clasament!$BH$3:$BH$72,SMALL(IF(Clasament!BC$3:BC$72=\"+\",ROW(Clasament!$B$3:$B$74)-ROW(Clasament!$B$3)+1),ROWS(Clasament!$B$3:'Clasament'!$B62))),\"\")","v":""},{"$f":"IFERROR(INDEX(Clasament!$BH$3:$BH$72,SMALL(IF(Clasament!BD$3:BD$72=\"+\",ROW(Clasament!$B$3:$B$74)-ROW(Clasament!$B$3)+1),ROWS(Clasament!$B$3:'Clasament'!$B62))),\"\")","v":""}]
[null,{"$f":"IFERROR(INDEX(Clasament!$BH$3:$BH$72,SMALL(IF(Clasament!C$3:C$72=\"+\",ROW(Clasament!$B$3:$B$74)-ROW(Clasament!$B$3)+1),ROWS(Clasament!$B$3:'Clasament'!$B63))),\"\")","v":""},{"$f":"IFERROR(INDEX(Clasament!$BH$3:$BH$72,SMALL(IF(Clasament!D$3:D$72=\"+\",ROW(Clasament!$B$3:$B$74)-ROW(Clasament!$B$3)+1),ROWS(Clasament!$B$3:'Clasament'!$B63))),\"\")","v":""},{"$f":"IFERROR(INDEX(Clasament!$BH$3:$BH$72,SMALL(IF(Clasament!E$3:E$72=\"+\",ROW(Clasament!$B$3:$B$74)-ROW(Clasament!$B$3)+1),ROWS(Clasament!$B$3:'Clasament'!$B63))),\"\")","v":""},{"$f":"IFERROR(INDEX(Clasament!$BH$3:$BH$72,SMALL(IF(Clasament!F$3:F$72=\"+\",ROW(Clasament!$B$3:$B$74)-ROW(Clasament!$B$3)+1),ROWS(Clasament!$B$3:'Clasament'!$B63))),\"\")","v":""},{"$f":"IFERROR(INDEX(Clasament!$BH$3:$BH$72,SMALL(IF(Clasament!G$3:G$72=\"+\",ROW(Clasament!$B$3:$B$74)-ROW(Clasament!$B$3)+1),ROWS(Clasament!$B$3:'Clasament'!$B63))),\"\")","v":""},{"$f":"IFERROR(INDEX(Clasament!$BH$3:$BH$72,SMALL(IF(Clasament!H$3:H$72=\"+\",ROW(Clasament!$B$3:$B$74)-ROW(Clasament!$B$3)+1),ROWS(Clasament!$B$3:'Clasament'!$B63))),\"\")","v":""},{"$f":"IFERROR(INDEX(Clasament!$BH$3:$BH$72,SMALL(IF(Clasament!I$3:I$72=\"+\",ROW(Clasament!$B$3:$B$74)-ROW(Clasament!$B$3)+1),ROWS(Clasament!$B$3:'Clasament'!$B63))),\"\")","v":""},{"$f":"IFERROR(INDEX(Clasament!$BH$3:$BH$72,SMALL(IF(Clasament!J$3:J$72=\"+\",ROW(Clasament!$B$3:$B$74)-ROW(Clasament!$B$3)+1),ROWS(Clasament!$B$3:'Clasament'!$B63))),\"\")","v":""},{"$f":"IFERROR(INDEX(Clasament!$BH$3:$BH$72,SMALL(IF(Clasament!K$3:K$72=\"+\",ROW(Clasament!$B$3:$B$74)-ROW(Clasament!$B$3)+1),ROWS(Clasament!$B$3:'Clasament'!$B63))),\"\")","v":""},{"$f":"IFERROR(INDEX(Clasament!$BH$3:$BH$72,SMALL(IF(Clasament!L$3:L$72=\"+\",ROW(Clasament!$B$3:$B$74)-ROW(Clasament!$B$3)+1),ROWS(Clasament!$B$3:'Clasament'!$B63))),\"\")","v":""},{"$f":"IFERROR(INDEX(Clasament!$BH$3:$BH$72,SMALL(IF(Clasament!N$3:N$72=\"+\",ROW(Clasament!$B$3:$B$74)-ROW(Clasament!$B$3)+1),ROWS(Clasament!$B$3:'Clasament'!$B63))),\"\")","v":""},{"$f":"IFERROR(INDEX(Clasament!$BH$3:$BH$72,SMALL(IF(Clasament!O$3:O$72=\"+\",ROW(Clasament!$B$3:$B$74)-ROW(Clasament!$B$3)+1),ROWS(Clasament!$B$3:'Clasament'!$B63))),\"\")","v":""},{"$f":"IFERROR(INDEX(Clasament!$BH$3:$BH$72,SMALL(IF(Clasament!P$3:P$72=\"+\",ROW(Clasament!$B$3:$B$74)-ROW(Clasament!$B$3)+1),ROWS(Clasament!$B$3:'Clasament'!$B63))),\"\")","v":""},{"$f":"IFERROR(INDEX(Clasament!$BH$3:$BH$72,SMALL(IF(Clasament!Q$3:Q$72=\"+\",ROW(Clasament!$B$3:$B$74)-ROW(Clasament!$B$3)+1),ROWS(Clasament!$B$3:'Clasament'!$B63))),\"\")","v":""},{"$f":"IFERROR(INDEX(Clasament!$BH$3:$BH$72,SMALL(IF(Clasament!R$3:R$72=\"+\",ROW(Clasament!$B$3:$B$74)-ROW(Clasament!$B$3)+1),ROWS(Clasament!$B$3:'Clasament'!$B63))),\"\")","v":""},{"$f":"IFERROR(INDEX(Clasament!$BH$3:$BH$72,SMALL(IF(Clasament!S$3:S$72=\"+\",ROW(Clasament!$B$3:$B$74)-ROW(Clasament!$B$3)+1),ROWS(Clasament!$B$3:'Clasament'!$B63))),\"\")","v":""},{"$f":"IFERROR(INDEX(Clasament!$BH$3:$BH$72,SMALL(IF(Clasament!T$3:T$72=\"+\",ROW(Clasament!$B$3:$B$74)-ROW(Clasament!$B$3)+1),ROWS(Clasament!$B$3:'Clasament'!$B63))),\"\")","v":""},{"$f":"IFERROR(INDEX(Clasament!$BH$3:$BH$72,SMALL(IF(Clasament!U$3:U$72=\"+\",ROW(Clasament!$B$3:$B$74)-ROW(Clasament!$B$3)+1),ROWS(Clasament!$B$3:'Clasament'!$B63))),\"\")","v":""},{"$f":"IFERROR(INDEX(Clasament!$BH$3:$BH$72,SMALL(IF(Clasament!V$3:V$72=\"+\",ROW(Clasament!$B$3:$B$74)-ROW(Clasament!$B$3)+1),ROWS(Clasament!$B$3:'Clasament'!$B63))),\"\")","v":""},{"$f":"IFERROR(INDEX(Clasament!$BH$3:$BH$72,SMALL(IF(Clasament!W$3:W$72=\"+\",ROW(Clasament!$B$3:$B$74)-ROW(Clasament!$B$3)+1),ROWS(Clasament!$B$3:'Clasament'!$B63))),\"\")","v":""},{"$f":"IFERROR(INDEX(Clasament!$BH$3:$BH$72,SMALL(IF(Clasament!Y$3:Y$72=\"+\",ROW(Clasament!$B$3:$B$74)-ROW(Clasament!$B$3)+1),ROWS(Clasament!$B$3:'Clasament'!$B63))),\"\")","v":""},{"$f":"IFERROR(INDEX(Clasament!$BH$3:$BH$72,SMALL(IF(Clasament!Z$3:Z$72=\"+\",ROW(Clasament!$B$3:$B$74)-ROW(Clasament!$B$3)+1),ROWS(Clasament!$B$3:'Clasament'!$B63))),\"\")","v":""},{"$f":"IFERROR(INDEX(Clasament!$BH$3:$BH$72,SMALL(IF(Clasament!AA$3:AA$72=\"+\",ROW(Clasament!$B$3:$B$74)-ROW(Clasament!$B$3)+1),ROWS(Clasament!$B$3:'Clasament'!$B63))),\"\")","v":""},{"$f":"IFERROR(INDEX(Clasament!$BH$3:$BH$72,SMALL(IF(Clasament!AB$3:AB$72=\"+\",ROW(Clasament!$B$3:$B$74)-ROW(Clasament!$B$3)+1),ROWS(Clasament!$B$3:'Clasament'!$B63))),\"\")","v":""},{"$f":"IFERROR(INDEX(Clasament!$BH$3:$BH$72,SMALL(IF(Clasament!AC$3:AC$72=\"+\",ROW(Clasament!$B$3:$B$74)-ROW(Clasament!$B$3)+1),ROWS(Clasament!$B$3:'Clasament'!$B63))),\"\")","v":""},{"$f":"IFERROR(INDEX(Clasament!$BH$3:$BH$72,SMALL(IF(Clasament!AD$3:AD$72=\"+\",ROW(Clasament!$B$3:$B$74)-ROW(Clasament!$B$3)+1),ROWS(Clasament!$B$3:'Clasament'!$B63))),\"\")","v":""},{"$f":"IFERROR(INDEX(Clasament!$BH$3:$BH$72,SMALL(IF(Clasament!AE$3:AE$72=\"+\",ROW(Clasament!$B$3:$B$74)-ROW(Clasament!$B$3)+1),ROWS(Clasament!$B$3:'Clasament'!$B63))),\"\")","v":""},{"$f":"IFERROR(INDEX(Clasament!$BH$3:$BH$72,SMALL(IF(Clasament!AF$3:AF$72=\"+\",ROW(Clasament!$B$3:$B$74)-ROW(Clasament!$B$3)+1),ROWS(Clasament!$B$3:'Clasament'!$B63))),\"\")","v":""},{"$f":"IFERROR(INDEX(Clasament!$BH$3:$BH$72,SMALL(IF(Clasament!AG$3:AG$72=\"+\",ROW(Clasament!$B$3:$B$74)-ROW(Clasament!$B$3)+1),ROWS(Clasament!$B$3:'Clasament'!$B63))),\"\")","v":""},{"$f":"IFERROR(INDEX(Clasament!$BH$3:$BH$72,SMALL(IF(Clasament!AH$3:AH$72=\"+\",ROW(Clasament!$B$3:$B$74)-ROW(Clasament!$B$3)+1),ROWS(Clasament!$B$3:'Clasament'!$B63))),\"\")","v":""},{"$f":"IFERROR(INDEX(Clasament!$BH$3:$BH$72,SMALL(IF(Clasament!AJ$3:AJ$72=\"+\",ROW(Clasament!$B$3:$B$74)-ROW(Clasament!$B$3)+1),ROWS(Clasament!$B$3:'Clasament'!$B63))),\"\")","v":""},{"$f":"IFERROR(INDEX(Clasament!$BH$3:$BH$72,SMALL(IF(Clasament!AK$3:AK$72=\"+\",ROW(Clasament!$B$3:$B$74)-ROW(Clasament!$B$3)+1),ROWS(Clasament!$B$3:'Clasament'!$B63))),\"\")","v":""},{"$f":"IFERROR(INDEX(Clasament!$BH$3:$BH$72,SMALL(IF(Clasament!AL$3:AL$72=\"+\",ROW(Clasament!$B$3:$B$74)-ROW(Clasament!$B$3)+1),ROWS(Clasament!$B$3:'Clasament'!$B63))),\"\")","v":""},{"$f":"IFERROR(INDEX(Clasament!$BH$3:$BH$72,SMALL(IF(Clasament!AM$3:AM$72=\"+\",ROW(Clasament!$B$3:$B$74)-ROW(Clasament!$B$3)+1),ROWS(Clasament!$B$3:'Clasament'!$B63))),\"\")","v":""},{"$f":"IFERROR(INDEX(Clasament!$BH$3:$BH$72,SMALL(IF(Clasament!AN$3:AN$72=\"+\",ROW(Clasament!$B$3:$B$74)-ROW(Clasament!$B$3)+1),ROWS(Clasament!$B$3:'Clasament'!$B63))),\"\")","v":""},{"$f":"IFERROR(INDEX(Clasament!$BH$3:$BH$72,SMALL(IF(Clasament!AO$3:AO$72=\"+\",ROW(Clasament!$B$3:$B$74)-ROW(Clasament!$B$3)+1),ROWS(Clasament!$B$3:'Clasament'!$B63))),\"\")","v":""},{"$f":"IFERROR(INDEX(Clasament!$BH$3:$BH$72,SMALL(IF(Clasament!AP$3:AP$72=\"+\",ROW(Clasament!$B$3:$B$74)-ROW(Clasament!$B$3)+1),ROWS(Clasament!$B$3:'Clasament'!$B63))),\"\")","v":""},{"$f":"IFERROR(INDEX(Clasament!$BH$3:$BH$72,SMALL(IF(Clasament!AQ$3:AQ$72=\"+\",ROW(Clasament!$B$3:$B$74)-ROW(Clasament!$B$3)+1),ROWS(Clasament!$B$3:'Clasament'!$B63))),\"\")","v":""},{"$f":"IFERROR(INDEX(Clasament!$BH$3:$BH$72,SMALL(IF(Clasament!AR$3:AR$72=\"+\",ROW(Clasament!$B$3:$B$74)-ROW(Clasament!$B$3)+1),ROWS(Clasament!$B$3:'Clasament'!$B63))),\"\")","v":""},{"$f":"IFERROR(INDEX(Clasament!$BH$3:$BH$72,SMALL(IF(Clasament!AS$3:AS$72=\"+\",ROW(Clasament!$B$3:$B$74)-ROW(Clasament!$B$3)+1),ROWS(Clasament!$B$3:'Clasament'!$B63))),\"\")","v":""},{"$f":"IFERROR(INDEX(Clasament!$BH$3:$BH$72,SMALL(IF(Clasament!AU$3:AU$72=\"+\",ROW(Clasament!$B$3:$B$74)-ROW(Clasament!$B$3)+1),ROWS(Clasament!$B$3:'Clasament'!$B63))),\"\")","v":""},{"$f":"IFERROR(INDEX(Clasament!$BH$3:$BH$72,SMALL(IF(Clasament!AV$3:AV$72=\"+\",ROW(Clasament!$B$3:$B$74)-ROW(Clasament!$B$3)+1),ROWS(Clasament!$B$3:'Clasament'!$B63))),\"\")","v":""},{"$f":"IFERROR(INDEX(Clasament!$BH$3:$BH$72,SMALL(IF(Clasament!AW$3:AW$72=\"+\",ROW(Clasament!$B$3:$B$74)-ROW(Clasament!$B$3)+1),ROWS(Clasament!$B$3:'Clasament'!$B63))),\"\")","v":""},{"$f":"IFERROR(INDEX(Clasament!$BH$3:$BH$72,SMALL(IF(Clasament!AX$3:AX$72=\"+\",ROW(Clasament!$B$3:$B$74)-ROW(Clasament!$B$3)+1),ROWS(Clasament!$B$3:'Clasament'!$B63))),\"\")","v":""},{"$f":"IFERROR(INDEX(Clasament!$BH$3:$BH$72,SMALL(IF(Clasament!AY$3:AY$72=\"+\",ROW(Clasament!$B$3:$B$74)-ROW(Clasament!$B$3)+1),ROWS(Clasament!$B$3:'Clasament'!$B63))),\"\")","v":""},{"$f":"IFERROR(INDEX(Clasament!$BH$3:$BH$72,SMALL(IF(Clasament!AZ$3:AZ$72=\"+\",ROW(Clasament!$B$3:$B$74)-ROW(Clasament!$B$3)+1),ROWS(Clasament!$B$3:'Clasament'!$B63))),\"\")","v":""},{"$f":"IFERROR(INDEX(Clasament!$BH$3:$BH$72,SMALL(IF(Clasament!BA$3:BA$72=\"+\",ROW(Clasament!$B$3:$B$74)-ROW(Clasament!$B$3)+1),ROWS(Clasament!$B$3:'Clasament'!$B63))),\"\")","v":""},{"$f":"IFERROR(INDEX(Clasament!$BH$3:$BH$72,SMALL(IF(Clasament!BB$3:BB$72=\"+\",ROW(Clasament!$B$3:$B$74)-ROW(Clasament!$B$3)+1),ROWS(Clasament!$B$3:'Clasament'!$B63))),\"\")","v":""},{"$f":"IFERROR(INDEX(Clasament!$BH$3:$BH$72,SMALL(IF(Clasament!BC$3:BC$72=\"+\",ROW(Clasament!$B$3:$B$74)-ROW(Clasament!$B$3)+1),ROWS(Clasament!$B$3:'Clasament'!$B63))),\"\")","v":""},{"$f":"IFERROR(INDEX(Clasament!$BH$3:$BH$72,SMALL(IF(Clasament!BD$3:BD$72=\"+\",ROW(Clasament!$B$3:$B$74)-ROW(Clasament!$B$3)+1),ROWS(Clasament!$B$3:'Clasament'!$B63))),\"\")","v":""}]
[null,{"$f":"IFERROR(INDEX(Clasament!$BH$3:$BH$72,SMALL(IF(Clasament!C$3:C$72=\"+\",ROW(Clasament!$B$3:$B$74)-ROW(Clasament!$B$3)+1),ROWS(Clasament!$B$3:'Clasament'!$B64))),\"\")","v":""},{"$f":"IFERROR(INDEX(Clasament!$BH$3:$BH$72,SMALL(IF(Clasament!D$3:D$72=\"+\",ROW(Clasament!$B$3:$B$74)-ROW(Clasament!$B$3)+1),ROWS(Clasament!$B$3:'Clasament'!$B64))),\"\")","v":""},{"$f":"IFERROR(INDEX(Clasament!$BH$3:$BH$72,SMALL(IF(Clasament!E$3:E$72=\"+\",ROW(Clasament!$B$3:$B$74)-ROW(Clasament!$B$3)+1),ROWS(Clasament!$B$3:'Clasament'!$B64))),\"\")","v":""},{"$f":"IFERROR(INDEX(Clasament!$BH$3:$BH$72,SMALL(IF(Clasament!F$3:F$72=\"+\",ROW(Clasament!$B$3:$B$74)-ROW(Clasament!$B$3)+1),ROWS(Clasament!$B$3:'Clasament'!$B64))),\"\")","v":""},{"$f":"IFERROR(INDEX(Clasament!$BH$3:$BH$72,SMALL(IF(Clasament!G$3:G$72=\"+\",ROW(Clasament!$B$3:$B$74)-ROW(Clasament!$B$3)+1),ROWS(Clasament!$B$3:'Clasament'!$B64))),\"\")","v":""},{"$f":"IFERROR(INDEX(Clasament!$BH$3:$BH$72,SMALL(IF(Clasament!H$3:H$72=\"+\",ROW(Clasament!$B$3:$B$74)-ROW(Clasament!$B$3)+1),ROWS(Clasament!$B$3:'Clasament'!$B64))),\"\")","v":""},{"$f":"IFERROR(INDEX(Clasament!$BH$3:$BH$72,SMALL(IF(Clasament!I$3:I$72=\"+\",ROW(Clasament!$B$3:$B$74)-ROW(Clasament!$B$3)+1),ROWS(Clasament!$B$3:'Clasament'!$B64))),\"\")","v":""},{"$f":"IFERROR(INDEX(Clasament!$BH$3:$BH$72,SMALL(IF(Clasament!J$3:J$72=\"+\",ROW(Clasament!$B$3:$B$74)-ROW(Clasament!$B$3)+1),ROWS(Clasament!$B$3:'Clasament'!$B64))),\"\")","v":""},{"$f":"IFERROR(INDEX(Clasament!$BH$3:$BH$72,SMALL(IF(Clasament!K$3:K$72=\"+\",ROW(Clasament!$B$3:$B$74)-ROW(Clasament!$B$3)+1),ROWS(Clasament!$B$3:'Clasament'!$B64))),\"\")","v":""},{"$f":"IFERROR(INDEX(Clasament!$BH$3:$BH$72,SMALL(IF(Clasament!L$3:L$72=\"+\",ROW(Clasament!$B$3:$B$74)-ROW(Clasament!$B$3)+1),ROWS(Clasament!$B$3:'Clasament'!$B64))),\"\")","v":""},{"$f":"IFERROR(INDEX(Clasament!$BH$3:$BH$72,SMALL(IF(Clasament!N$3:N$72=\"+\",ROW(Clasament!$B$3:$B$74)-ROW(Clasament!$B$3)+1),ROWS(Clasament!$B$3:'Clasament'!$B64))),\"\")","v":""},{"$f":"IFERROR(INDEX(Clasament!$BH$3:$BH$72,SMALL(IF(Clasament!O$3:O$72=\"+\",ROW(Clasament!$B$3:$B$74)-ROW(Clasament!$B$3)+1),ROWS(Clasament!$B$3:'Clasament'!$B64))),\"\")","v":""},{"$f":"IFERROR(INDEX(Clasament!$BH$3:$BH$72,SMALL(IF(Clasament!P$3:P$72=\"+\",ROW(Clasament!$B$3:$B$74)-ROW(Clasament!$B$3)+1),ROWS(Clasament!$B$3:'Clasament'!$B64))),\"\")","v":""},{"$f":"IFERROR(INDEX(Clasament!$BH$3:$BH$72,SMALL(IF(Clasament!Q$3:Q$72=\"+\",ROW(Clasament!$B$3:$B$74)-ROW(Clasament!$B$3)+1),ROWS(Clasament!$B$3:'Clasament'!$B64))),\"\")","v":""},{"$f":"IFERROR(INDEX(Clasament!$BH$3:$BH$72,SMALL(IF(Clasament!R$3:R$72=\"+\",ROW(Clasament!$B$3:$B$74)-ROW(Clasament!$B$3)+1),ROWS(Clasament!$B$3:'Clasament'!$B64))),\"\")","v":""},{"$f":"IFERROR(INDEX(Clasament!$BH$3:$BH$72,SMALL(IF(Clasament!S$3:S$72=\"+\",ROW(Clasament!$B$3:$B$74)-ROW(Clasament!$B$3)+1),ROWS(Clasament!$B$3:'Clasament'!$B64))),\"\")","v":""},{"$f":"IFERROR(INDEX(Clasament!$BH$3:$BH$72,SMALL(IF(Clasament!T$3:T$72=\"+\",ROW(Clasament!$B$3:$B$74)-ROW(Clasament!$B$3)+1),ROWS(Clasament!$B$3:'Clasament'!$B64))),\"\")","v":""},{"$f":"IFERROR(INDEX(Clasament!$BH$3:$BH$72,SMALL(IF(Clasament!U$3:U$72=\"+\",ROW(Clasament!$B$3:$B$74)-ROW(Clasament!$B$3)+1),ROWS(Clasament!$B$3:'Clasament'!$B64))),\"\")","v":""},{"$f":"IFERROR(INDEX(Clasament!$BH$3:$BH$72,SMALL(IF(Clasament!V$3:V$72=\"+\",ROW(Clasament!$B$3:$B$74)-ROW(Clasament!$B$3)+1),ROWS(Clasament!$B$3:'Clasament'!$B64))),\"\")","v":""},{"$f":"IFERROR(INDEX(Clasament!$BH$3:$BH$72,SMALL(IF(Clasament!W$3:W$72=\"+\",ROW(Clasament!$B$3:$B$74)-ROW(Clasament!$B$3)+1),ROWS(Clasament!$B$3:'Clasament'!$B64))),\"\")","v":""},{"$f":"IFERROR(INDEX(Clasament!$BH$3:$BH$72,SMALL(IF(Clasament!Y$3:Y$72=\"+\",ROW(Clasament!$B$3:$B$74)-ROW(Clasament!$B$3)+1),ROWS(Clasament!$B$3:'Clasament'!$B64))),\"\")","v":""},{"$f":"IFERROR(INDEX(Clasament!$BH$3:$BH$72,SMALL(IF(Clasament!Z$3:Z$72=\"+\",ROW(Clasament!$B$3:$B$74)-ROW(Clasament!$B$3)+1),ROWS(Clasament!$B$3:'Clasament'!$B64))),\"\")","v":""},{"$f":"IFERROR(INDEX(Clasament!$BH$3:$BH$72,SMALL(IF(Clasament!AA$3:AA$72=\"+\",ROW(Clasament!$B$3:$B$74)-ROW(Clasament!$B$3)+1),ROWS(Clasament!$B$3:'Clasament'!$B64))),\"\")","v":""},{"$f":"IFERROR(INDEX(Clasament!$BH$3:$BH$72,SMALL(IF(Clasament!AB$3:AB$72=\"+\",ROW(Clasament!$B$3:$B$74)-ROW(Clasament!$B$3)+1),ROWS(Clasament!$B$3:'Clasament'!$B64))),\"\")","v":""},{"$f":"IFERROR(INDEX(Clasament!$BH$3:$BH$72,SMALL(IF(Clasament!AC$3:AC$72=\"+\",ROW(Clasament!$B$3:$B$74)-ROW(Clasament!$B$3)+1),ROWS(Clasament!$B$3:'Clasament'!$B64))),\"\")","v":""},{"$f":"IFERROR(INDEX(Clasament!$BH$3:$BH$72,SMALL(IF(Clasament!AD$3:AD$72=\"+\",ROW(Clasament!$B$3:$B$74)-ROW(Clasament!$B$3)+1),ROWS(Clasament!$B$3:'Clasament'!$B64))),\"\")","v":""},{"$f":"IFERROR(INDEX(Clasament!$BH$3:$BH$72,SMALL(IF(Clasament!AE$3:AE$72=\"+\",ROW(Clasament!$B$3:$B$74)-ROW(Clasament!$B$3)+1),ROWS(Clasament!$B$3:'Clasament'!$B64))),\"\")","v":""},{"$f":"IFERROR(INDEX(Clasament!$BH$3:$BH$72,SMALL(IF(Clasament!AF$3:AF$72=\"+\",ROW(Clasament!$B$3:$B$74)-ROW(Clasament!$B$3)+1),ROWS(Clasament!$B$3:'Clasament'!$B64))),\"\")","v":""},{"$f":"IFERROR(INDEX(Clasament!$BH$3:$BH$72,SMALL(IF(Clasament!AG$3:AG$72=\"+\",ROW(Clasament!$B$3:$B$74)-ROW(Clasament!$B$3)+1),ROWS(Clasament!$B$3:'Clasament'!$B64))),\"\")","v":""},{"$f":"IFERROR(INDEX(Clasament!$BH$3:$BH$72,SMALL(IF(Clasament!AH$3:AH$72=\"+\",ROW(Clasament!$B$3:$B$74)-ROW(Clasament!$B$3)+1),ROWS(Clasament!$B$3:'Clasament'!$B64))),\"\")","v":""},{"$f":"IFERROR(INDEX(Clasament!$BH$3:$BH$72,SMALL(IF(Clasament!AJ$3:AJ$72=\"+\",ROW(Clasament!$B$3:$B$74)-ROW(Clasament!$B$3)+1),ROWS(Clasament!$B$3:'Clasament'!$B64))),\"\")","v":""},{"$f":"IFERROR(INDEX(Clasament!$BH$3:$BH$72,SMALL(IF(Clasament!AK$3:AK$72=\"+\",ROW(Clasament!$B$3:$B$74)-ROW(Clasament!$B$3)+1),ROWS(Clasament!$B$3:'Clasament'!$B64))),\"\")","v":""},{"$f":"IFERROR(INDEX(Clasament!$BH$3:$BH$72,SMALL(IF(Clasament!AL$3:AL$72=\"+\",ROW(Clasament!$B$3:$B$74)-ROW(Clasament!$B$3)+1),ROWS(Clasament!$B$3:'Clasament'!$B64))),\"\")","v":""},{"$f":"IFERROR(INDEX(Clasament!$BH$3:$BH$72,SMALL(IF(Clasament!AM$3:AM$72=\"+\",ROW(Clasament!$B$3:$B$74)-ROW(Clasament!$B$3)+1),ROWS(Clasament!$B$3:'Clasament'!$B64))),\"\")","v":""},{"$f":"IFERROR(INDEX(Clasament!$BH$3:$BH$72,SMALL(IF(Clasament!AN$3:AN$72=\"+\",ROW(Clasament!$B$3:$B$74)-ROW(Clasament!$B$3)+1),ROWS(Clasament!$B$3:'Clasament'!$B64))),\"\")","v":""},{"$f":"IFERROR(INDEX(Clasament!$BH$3:$BH$72,SMALL(IF(Clasament!AO$3:AO$72=\"+\",ROW(Clasament!$B$3:$B$74)-ROW(Clasament!$B$3)+1),ROWS(Clasament!$B$3:'Clasament'!$B64))),\"\")","v":""},{"$f":"IFERROR(INDEX(Clasament!$BH$3:$BH$72,SMALL(IF(Clasament!AP$3:AP$72=\"+\",ROW(Clasament!$B$3:$B$74)-ROW(Clasament!$B$3)+1),ROWS(Clasament!$B$3:'Clasament'!$B64))),\"\")","v":""},{"$f":"IFERROR(INDEX(Clasament!$BH$3:$BH$72,SMALL(IF(Clasament!AQ$3:AQ$72=\"+\",ROW(Clasament!$B$3:$B$74)-ROW(Clasament!$B$3)+1),ROWS(Clasament!$B$3:'Clasament'!$B64))),\"\")","v":""},{"$f":"IFERROR(INDEX(Clasament!$BH$3:$BH$72,SMALL(IF(Clasament!AR$3:AR$72=\"+\",ROW(Clasament!$B$3:$B$74)-ROW(Clasament!$B$3)+1),ROWS(Clasament!$B$3:'Clasament'!$B64))),\"\")","v":""},{"$f":"IFERROR(INDEX(Clasament!$BH$3:$BH$72,SMALL(IF(Clasament!AS$3:AS$72=\"+\",ROW(Clasament!$B$3:$B$74)-ROW(Clasament!$B$3)+1),ROWS(Clasament!$B$3:'Clasament'!$B64))),\"\")","v":""},{"$f":"IFERROR(INDEX(Clasament!$BH$3:$BH$72,SMALL(IF(Clasament!AU$3:AU$72=\"+\",ROW(Clasament!$B$3:$B$74)-ROW(Clasament!$B$3)+1),ROWS(Clasament!$B$3:'Clasament'!$B64))),\"\")","v":""},{"$f":"IFERROR(INDEX(Clasament!$BH$3:$BH$72,SMALL(IF(Clasament!AV$3:AV$72=\"+\",ROW(Clasament!$B$3:$B$74)-ROW(Clasament!$B$3)+1),ROWS(Clasament!$B$3:'Clasament'!$B64))),\"\")","v":""},{"$f":"IFERROR(INDEX(Clasament!$BH$3:$BH$72,SMALL(IF(Clasament!AW$3:AW$72=\"+\",ROW(Clasament!$B$3:$B$74)-ROW(Clasament!$B$3)+1),ROWS(Clasament!$B$3:'Clasament'!$B64))),\"\")","v":""},{"$f":"IFERROR(INDEX(Clasament!$BH$3:$BH$72,SMALL(IF(Clasament!AX$3:AX$72=\"+\",ROW(Clasament!$B$3:$B$74)-ROW(Clasament!$B$3)+1),ROWS(Clasament!$B$3:'Clasament'!$B64))),\"\")","v":""},{"$f":"IFERROR(INDEX(Clasament!$BH$3:$BH$72,SMALL(IF(Clasament!AY$3:AY$72=\"+\",ROW(Clasament!$B$3:$B$74)-ROW(Clasament!$B$3)+1),ROWS(Clasament!$B$3:'Clasament'!$B64))),\"\")","v":""},{"$f":"IFERROR(INDEX(Clasament!$BH$3:$BH$72,SMALL(IF(Clasament!AZ$3:AZ$72=\"+\",ROW(Clasament!$B$3:$B$74)-ROW(Clasament!$B$3)+1),ROWS(Clasament!$B$3:'Clasament'!$B64))),\"\")","v":""},{"$f":"IFERROR(INDEX(Clasament!$BH$3:$BH$72,SMALL(IF(Clasament!BA$3:BA$72=\"+\",ROW(Clasament!$B$3:$B$74)-ROW(Clasament!$B$3)+1),ROWS(Clasament!$B$3:'Clasament'!$B64))),\"\")","v":""},{"$f":"IFERROR(INDEX(Clasament!$BH$3:$BH$72,SMALL(IF(Clasament!BB$3:BB$72=\"+\",ROW(Clasament!$B$3:$B$74)-ROW(Clasament!$B$3)+1),ROWS(Clasament!$B$3:'Clasament'!$B64))),\"\")","v":""},{"$f":"IFERROR(INDEX(Clasament!$BH$3:$BH$72,SMALL(IF(Clasament!BC$3:BC$72=\"+\",ROW(Clasament!$B$3:$B$74)-ROW(Clasament!$B$3)+1),ROWS(Clasament!$B$3:'Clasament'!$B64))),\"\")","v":""},{"$f":"IFERROR(INDEX(Clasament!$BH$3:$BH$72,SMALL(IF(Clasament!BD$3:BD$72=\"+\",ROW(Clasament!$B$3:$B$74)-ROW(Clasament!$B$3)+1),ROWS(Clasament!$B$3:'Clasament'!$B64))),\"\")","v":""}]
[null,{"$f":"IFERROR(INDEX(Clasament!$BH$3:$BH$72,SMALL(IF(Clasament!C$3:C$72=\"+\",ROW(Clasament!$B$3:$B$74)-ROW(Clasament!$B$3)+1),ROWS(Clasament!$B$3:'Clasament'!$B65))),\"\")","v":""},{"$f":"IFERROR(INDEX(Clasament!$BH$3:$BH$72,SMALL(IF(Clasament!D$3:D$72=\"+\",ROW(Clasament!$B$3:$B$74)-ROW(Clasament!$B$3)+1),ROWS(Clasament!$B$3:'Clasament'!$B65))),\"\")","v":""},{"$f":"IFERROR(INDEX(Clasament!$BH$3:$BH$72,SMALL(IF(Clasament!E$3:E$72=\"+\",ROW(Clasament!$B$3:$B$74)-ROW(Clasament!$B$3)+1),ROWS(Clasament!$B$3:'Clasament'!$B65))),\"\")","v":""},{"$f":"IFERROR(INDEX(Clasament!$BH$3:$BH$72,SMALL(IF(Clasament!F$3:F$72=\"+\",ROW(Clasament!$B$3:$B$74)-ROW(Clasament!$B$3)+1),ROWS(Clasament!$B$3:'Clasament'!$B65))),\"\")","v":""},{"$f":"IFERROR(INDEX(Clasament!$BH$3:$BH$72,SMALL(IF(Clasament!G$3:G$72=\"+\",ROW(Clasament!$B$3:$B$74)-ROW(Clasament!$B$3)+1),ROWS(Clasament!$B$3:'Clasament'!$B65))),\"\")","v":""},{"$f":"IFERROR(INDEX(Clasament!$BH$3:$BH$72,SMALL(IF(Clasament!H$3:H$72=\"+\",ROW(Clasament!$B$3:$B$74)-ROW(Clasament!$B$3)+1),ROWS(Clasament!$B$3:'Clasament'!$B65))),\"\")","v":""},{"$f":"IFERROR(INDEX(Clasament!$BH$3:$BH$72,SMALL(IF(Clasament!I$3:I$72=\"+\",ROW(Clasament!$B$3:$B$74)-ROW(Clasament!$B$3)+1),ROWS(Clasament!$B$3:'Clasament'!$B65))),\"\")","v":""},{"$f":"IFERROR(INDEX(Clasament!$BH$3:$BH$72,SMALL(IF(Clasament!J$3:J$72=\"+\",ROW(Clasament!$B$3:$B$74)-ROW(Clasament!$B$3)+1),ROWS(Clasament!$B$3:'Clasament'!$B65))),\"\")","v":""},{"$f":"IFERROR(INDEX(Clasament!$BH$3:$BH$72,SMALL(IF(Clasament!K$3:K$72=\"+\",ROW(Clasament!$B$3:$B$74)-ROW(Clasament!$B$3)+1),ROWS(Clasament!$B$3:'Clasament'!$B65))),\"\")","v":""},{"$f":"IFERROR(INDEX(Clasament!$BH$3:$BH$72,SMALL(IF(Clasament!L$3:L$72=\"+\",ROW(Clasament!$B$3:$B$74)-ROW(Clasament!$B$3)+1),ROWS(Clasament!$B$3:'Clasament'!$B65))),\"\")","v":""},{"$f":"IFERROR(INDEX(Clasament!$BH$3:$BH$72,SMALL(IF(Clasament!N$3:N$72=\"+\",ROW(Clasament!$B$3:$B$74)-ROW(Clasament!$B$3)+1),ROWS(Clasament!$B$3:'Clasament'!$B65))),\"\")","v":""},{"$f":"IFERROR(INDEX(Clasament!$BH$3:$BH$72,SMALL(IF(Clasament!O$3:O$72=\"+\",ROW(Clasament!$B$3:$B$74)-ROW(Clasament!$B$3)+1),ROWS(Clasament!$B$3:'Clasament'!$B65))),\"\")","v":""},{"$f":"IFERROR(INDEX(Clasament!$BH$3:$BH$72,SMALL(IF(Clasament!P$3:P$72=\"+\",ROW(Clasament!$B$3:$B$74)-ROW(Clasament!$B$3)+1),ROWS(Clasament!$B$3:'Clasament'!$B65))),\"\")","v":""},{"$f":"IFERROR(INDEX(Clasament!$BH$3:$BH$72,SMALL(IF(Clasament!Q$3:Q$72=\"+\",ROW(Clasament!$B$3:$B$74)-ROW(Clasament!$B$3)+1),ROWS(Clasament!$B$3:'Clasament'!$B65))),\"\")","v":""},{"$f":"IFERROR(INDEX(Clasament!$BH$3:$BH$72,SMALL(IF(Clasament!R$3:R$72=\"+\",ROW(Clasament!$B$3:$B$74)-ROW(Clasament!$B$3)+1),ROWS(Clasament!$B$3:'Clasament'!$B65))),\"\")","v":""},{"$f":"IFERROR(INDEX(Clasament!$BH$3:$BH$72,SMALL(IF(Clasament!S$3:S$72=\"+\",ROW(Clasament!$B$3:$B$74)-ROW(Clasament!$B$3)+1),ROWS(Clasament!$B$3:'Clasament'!$B65))),\"\")","v":""},{"$f":"IFERROR(INDEX(Clasament!$BH$3:$BH$72,SMALL(IF(Clasament!T$3:T$72=\"+\",ROW(Clasament!$B$3:$B$74)-ROW(Clasament!$B$3)+1),ROWS(Clasament!$B$3:'Clasament'!$B65))),\"\")","v":""},{"$f":"IFERROR(INDEX(Clasament!$BH$3:$BH$72,SMALL(IF(Clasament!U$3:U$72=\"+\",ROW(Clasament!$B$3:$B$74)-ROW(Clasament!$B$3)+1),ROWS(Clasament!$B$3:'Clasament'!$B65))),\"\")","v":""},{"$f":"IFERROR(INDEX(Clasament!$BH$3:$BH$72,SMALL(IF(Clasament!V$3:V$72=\"+\",ROW(Clasament!$B$3:$B$74)-ROW(Clasament!$B$3)+1),ROWS(Clasament!$B$3:'Clasament'!$B65))),\"\")","v":""},{"$f":"IFERROR(INDEX(Clasament!$BH$3:$BH$72,SMALL(IF(Clasament!W$3:W$72=\"+\",ROW(Clasament!$B$3:$B$74)-ROW(Clasament!$B$3)+1),ROWS(Clasament!$B$3:'Clasament'!$B65))),\"\")","v":""},{"$f":"IFERROR(INDEX(Clasament!$BH$3:$BH$72,SMALL(IF(Clasament!Y$3:Y$72=\"+\",ROW(Clasament!$B$3:$B$74)-ROW(Clasament!$B$3)+1),ROWS(Clasament!$B$3:'Clasament'!$B65))),\"\")","v":""},{"$f":"IFERROR(INDEX(Clasament!$BH$3:$BH$72,SMALL(IF(Clasament!Z$3:Z$72=\"+\",ROW(Clasament!$B$3:$B$74)-ROW(Clasament!$B$3)+1),ROWS(Clasament!$B$3:'Clasament'!$B65))),\"\")","v":""},{"$f":"IFERROR(INDEX(Clasament!$BH$3:$BH$72,SMALL(IF(Clasament!AA$3:AA$72=\"+\",ROW(Clasament!$B$3:$B$74)-ROW(Clasament!$B$3)+1),ROWS(Clasament!$B$3:'Clasament'!$B65))),\"\")","v":""},{"$f":"IFERROR(INDEX(Clasament!$BH$3:$BH$72,SMALL(IF(Clasament!AB$3:AB$72=\"+\",ROW(Clasament!$B$3:$B$74)-ROW(Clasament!$B$3)+1),ROWS(Clasament!$B$3:'Clasament'!$B65))),\"\")","v":""},{"$f":"IFERROR(INDEX(Clasament!$BH$3:$BH$72,SMALL(IF(Clasament!AC$3:AC$72=\"+\",ROW(Clasament!$B$3:$B$74)-ROW(Clasament!$B$3)+1),ROWS(Clasament!$B$3:'Clasament'!$B65))),\"\")","v":""},{"$f":"IFERROR(INDEX(Clasament!$BH$3:$BH$72,SMALL(IF(Clasament!AD$3:AD$72=\"+\",ROW(Clasament!$B$3:$B$74)-ROW(Clasament!$B$3)+1),ROWS(Clasament!$B$3:'Clasament'!$B65))),\"\")","v":""},{"$f":"IFERROR(INDEX(Clasament!$BH$3:$BH$72,SMALL(IF(Clasament!AE$3:AE$72=\"+\",ROW(Clasament!$B$3:$B$74)-ROW(Clasament!$B$3)+1),ROWS(Clasament!$B$3:'Clasament'!$B65))),\"\")","v":""},{"$f":"IFERROR(INDEX(Clasament!$BH$3:$BH$72,SMALL(IF(Clasament!AF$3:AF$72=\"+\",ROW(Clasament!$B$3:$B$74)-ROW(Clasament!$B$3)+1),ROWS(Clasament!$B$3:'Clasament'!$B65))),\"\")","v":""},{"$f":"IFERROR(INDEX(Clasament!$BH$3:$BH$72,SMALL(IF(Clasament!AG$3:AG$72=\"+\",ROW(Clasament!$B$3:$B$74)-ROW(Clasament!$B$3)+1),ROWS(Clasament!$B$3:'Clasament'!$B65))),\"\")","v":""},{"$f":"IFERROR(INDEX(Clasament!$BH$3:$BH$72,SMALL(IF(Clasament!AH$3:AH$72=\"+\",ROW(Clasament!$B$3:$B$74)-ROW(Clasament!$B$3)+1),ROWS(Clasament!$B$3:'Clasament'!$B65))),\"\")","v":""},{"$f":"IFERROR(INDEX(Clasament!$BH$3:$BH$72,SMALL(IF(Clasament!AJ$3:AJ$72=\"+\",ROW(Clasament!$B$3:$B$74)-ROW(Clasament!$B$3)+1),ROWS(Clasament!$B$3:'Clasament'!$B65))),\"\")","v":""},{"$f":"IFERROR(INDEX(Clasament!$BH$3:$BH$72,SMALL(IF(Clasament!AK$3:AK$72=\"+\",ROW(Clasament!$B$3:$B$74)-ROW(Clasament!$B$3)+1),ROWS(Clasament!$B$3:'Clasament'!$B65))),\"\")","v":""},{"$f":"IFERROR(INDEX(Clasament!$BH$3:$BH$72,SMALL(IF(Clasament!AL$3:AL$72=\"+\",ROW(Clasament!$B$3:$B$74)-ROW(Clasament!$B$3)+1),ROWS(Clasament!$B$3:'Clasament'!$B65))),\"\")","v":""},{"$f":"IFERROR(INDEX(Clasament!$BH$3:$BH$72,SMALL(IF(Clasament!AM$3:AM$72=\"+\",ROW(Clasament!$B$3:$B$74)-ROW(Clasament!$B$3)+1),ROWS(Clasament!$B$3:'Clasament'!$B65))),\"\")","v":""},{"$f":"IFERROR(INDEX(Clasament!$BH$3:$BH$72,SMALL(IF(Clasament!AN$3:AN$72=\"+\",ROW(Clasament!$B$3:$B$74)-ROW(Clasament!$B$3)+1),ROWS(Clasament!$B$3:'Clasament'!$B65))),\"\")","v":""},{"$f":"IFERROR(INDEX(Clasament!$BH$3:$BH$72,SMALL(IF(Clasament!AO$3:AO$72=\"+\",ROW(Clasament!$B$3:$B$74)-ROW(Clasament!$B$3)+1),ROWS(Clasament!$B$3:'Clasament'!$B65))),\"\")","v":""},{"$f":"IFERROR(INDEX(Clasament!$BH$3:$BH$72,SMALL(IF(Clasament!AP$3:AP$72=\"+\",ROW(Clasament!$B$3:$B$74)-ROW(Clasament!$B$3)+1),ROWS(Clasament!$B$3:'Clasament'!$B65))),\"\")","v":""},{"$f":"IFERROR(INDEX(Clasament!$BH$3:$BH$72,SMALL(IF(Clasament!AQ$3:AQ$72=\"+\",ROW(Clasament!$B$3:$B$74)-ROW(Clasament!$B$3)+1),ROWS(Clasament!$B$3:'Clasament'!$B65))),\"\")","v":""},{"$f":"IFERROR(INDEX(Clasament!$BH$3:$BH$72,SMALL(IF(Clasament!AR$3:AR$72=\"+\",ROW(Clasament!$B$3:$B$74)-ROW(Clasament!$B$3)+1),ROWS(Clasament!$B$3:'Clasament'!$B65))),\"\")","v":""},{"$f":"IFERROR(INDEX(Clasament!$BH$3:$BH$72,SMALL(IF(Clasament!AS$3:AS$72=\"+\",ROW(Clasament!$B$3:$B$74)-ROW(Clasament!$B$3)+1),ROWS(Clasament!$B$3:'Clasament'!$B65))),\"\")","v":""},{"$f":"IFERROR(INDEX(Clasament!$BH$3:$BH$72,SMALL(IF(Clasament!AU$3:AU$72=\"+\",ROW(Clasament!$B$3:$B$74)-ROW(Clasament!$B$3)+1),ROWS(Clasament!$B$3:'Clasament'!$B65))),\"\")","v":""},{"$f":"IFERROR(INDEX(Clasament!$BH$3:$BH$72,SMALL(IF(Clasament!AV$3:AV$72=\"+\",ROW(Clasament!$B$3:$B$74)-ROW(Clasament!$B$3)+1),ROWS(Clasament!$B$3:'Clasament'!$B65))),\"\")","v":""},{"$f":"IFERROR(INDEX(Clasament!$BH$3:$BH$72,SMALL(IF(Clasament!AW$3:AW$72=\"+\",ROW(Clasament!$B$3:$B$74)-ROW(Clasament!$B$3)+1),ROWS(Clasament!$B$3:'Clasament'!$B65))),\"\")","v":""},{"$f":"IFERROR(INDEX(Clasament!$BH$3:$BH$72,SMALL(IF(Clasament!AX$3:AX$72=\"+\",ROW(Clasament!$B$3:$B$74)-ROW(Clasament!$B$3)+1),ROWS(Clasament!$B$3:'Clasament'!$B65))),\"\")","v":""},{"$f":"IFERROR(INDEX(Clasament!$BH$3:$BH$72,SMALL(IF(Clasament!AY$3:AY$72=\"+\",ROW(Clasament!$B$3:$B$74)-ROW(Clasament!$B$3)+1),ROWS(Clasament!$B$3:'Clasament'!$B65))),\"\")","v":""},{"$f":"IFERROR(INDEX(Clasament!$BH$3:$BH$72,SMALL(IF(Clasament!AZ$3:AZ$72=\"+\",ROW(Clasament!$B$3:$B$74)-ROW(Clasament!$B$3)+1),ROWS(Clasament!$B$3:'Clasament'!$B65))),\"\")","v":""},{"$f":"IFERROR(INDEX(Clasament!$BH$3:$BH$72,SMALL(IF(Clasament!BA$3:BA$72=\"+\",ROW(Clasament!$B$3:$B$74)-ROW(Clasament!$B$3)+1),ROWS(Clasament!$B$3:'Clasament'!$B65))),\"\")","v":""},{"$f":"IFERROR(INDEX(Clasament!$BH$3:$BH$72,SMALL(IF(Clasament!BB$3:BB$72=\"+\",ROW(Clasament!$B$3:$B$74)-ROW(Clasament!$B$3)+1),ROWS(Clasament!$B$3:'Clasament'!$B65))),\"\")","v":""},{"$f":"IFERROR(INDEX(Clasament!$BH$3:$BH$72,SMALL(IF(Clasament!BC$3:BC$72=\"+\",ROW(Clasament!$B$3:$B$74)-ROW(Clasament!$B$3)+1),ROWS(Clasament!$B$3:'Clasament'!$B65))),\"\")","v":""},{"$f":"IFERROR(INDEX(Clasament!$BH$3:$BH$72,SMALL(IF(Clasament!BD$3:BD$72=\"+\",ROW(Clasament!$B$3:$B$74)-ROW(Clasament!$B$3)+1),ROWS(Clasament!$B$3:'Clasament'!$B65))),\"\")","v":""}]
[null,{"$f":"IFERROR(INDEX(Clasament!$BH$3:$BH$72,SMALL(IF(Clasament!C$3:C$72=\"+\",ROW(Clasament!$B$3:$B$74)-ROW(Clasament!$B$3)+1),ROWS(Clasament!$B$3:'Clasament'!$B66))),\"\")","v":""},{"$f":"IFERROR(INDEX(Clasament!$BH$3:$BH$72,SMALL(IF(Clasament!D$3:D$72=\"+\",ROW(Clasament!$B$3:$B$74)-ROW(Clasament!$B$3)+1),ROWS(Clasament!$B$3:'Clasament'!$B66))),\"\")","v":""},{"$f":"IFERROR(INDEX(Clasament!$BH$3:$BH$72,SMALL(IF(Clasament!E$3:E$72=\"+\",ROW(Clasament!$B$3:$B$74)-ROW(Clasament!$B$3)+1),ROWS(Clasament!$B$3:'Clasament'!$B66))),\"\")","v":""},{"$f":"IFERROR(INDEX(Clasament!$BH$3:$BH$72,SMALL(IF(Clasament!F$3:F$72=\"+\",ROW(Clasament!$B$3:$B$74)-ROW(Clasament!$B$3)+1),ROWS(Clasament!$B$3:'Clasament'!$B66))),\"\")","v":""},{"$f":"IFERROR(INDEX(Clasament!$BH$3:$BH$72,SMALL(IF(Clasament!G$3:G$72=\"+\",ROW(Clasament!$B$3:$B$74)-ROW(Clasament!$B$3)+1),ROWS(Clasament!$B$3:'Clasament'!$B66))),\"\")","v":""},{"$f":"IFERROR(INDEX(Clasament!$BH$3:$BH$72,SMALL(IF(Clasament!H$3:H$72=\"+\",ROW(Clasament!$B$3:$B$74)-ROW(Clasament!$B$3)+1),ROWS(Clasament!$B$3:'Clasament'!$B66))),\"\")","v":""},{"$f":"IFERROR(INDEX(Clasament!$BH$3:$BH$72,SMALL(IF(Clasament!I$3:I$72=\"+\",ROW(Clasament!$B$3:$B$74)-ROW(Clasament!$B$3)+1),ROWS(Clasament!$B$3:'Clasament'!$B66))),\"\")","v":""},{"$f":"IFERROR(INDEX(Clasament!$BH$3:$BH$72,SMALL(IF(Clasament!J$3:J$72=\"+\",ROW(Clasament!$B$3:$B$74)-ROW(Clasament!$B$3)+1),ROWS(Clasament!$B$3:'Clasament'!$B66))),\"\")","v":""},{"$f":"IFERROR(INDEX(Clasament!$BH$3:$BH$72,SMALL(IF(Clasament!K$3:K$72=\"+\",ROW(Clasament!$B$3:$B$74)-ROW(Clasament!$B$3)+1),ROWS(Clasament!$B$3:'Clasament'!$B66))),\"\")","v":""},{"$f":"IFERROR(INDEX(Clasament!$BH$3:$BH$72,SMALL(IF(Clasament!L$3:L$72=\"+\",ROW(Clasament!$B$3:$B$74)-ROW(Clasament!$B$3)+1),ROWS(Clasament!$B$3:'Clasament'!$B66))),\"\")","v":""},{"$f":"IFERROR(INDEX(Clasament!$BH$3:$BH$72,SMALL(IF(Clasament!N$3:N$72=\"+\",ROW(Clasament!$B$3:$B$74)-ROW(Clasament!$B$3)+1),ROWS(Clasament!$B$3:'Clasament'!$B66))),\"\")","v":""},{"$f":"IFERROR(INDEX(Clasament!$BH$3:$BH$72,SMALL(IF(Clasament!O$3:O$72=\"+\",ROW(Clasament!$B$3:$B$74)-ROW(Clasament!$B$3)+1),ROWS(Clasament!$B$3:'Clasament'!$B66))),\"\")","v":""},{"$f":"IFERROR(INDEX(Clasament!$BH$3:$BH$72,SMALL(IF(Clasament!P$3:P$72=\"+\",ROW(Clasament!$B$3:$B$74)-ROW(Clasament!$B$3)+1),ROWS(Clasament!$B$3:'Clasament'!$B66))),\"\")","v":""},{"$f":"IFERROR(INDEX(Clasament!$BH$3:$BH$72,SMALL(IF(Clasament!Q$3:Q$72=\"+\",ROW(Clasament!$B$3:$B$74)-ROW(Clasament!$B$3)+1),ROWS(Clasament!$B$3:'Clasament'!$B66))),\"\")","v":""},{"$f":"IFERROR(INDEX(Clasament!$BH$3:$BH$72,SMALL(IF(Clasament!R$3:R$72=\"+\",ROW(Clasament!$B$3:$B$74)-ROW(Clasament!$B$3)+1),ROWS(Clasament!$B$3:'Clasament'!$B66))),\"\")","v":""},{"$f":"IFERROR(INDEX(Clasament!$BH$3:$BH$72,SMALL(IF(Clasament!S$3:S$72=\"+\",ROW(Clasament!$B$3:$B$74)-ROW(Clasament!$B$3)+1),ROWS(Clasament!$B$3:'Clasament'!$B66))),\"\")","v":""},{"$f":"IFERROR(INDEX(Clasament!$BH$3:$BH$72,SMALL(IF(Clasament!T$3:T$72=\"+\",ROW(Clasament!$B$3:$B$74)-ROW(Clasament!$B$3)+1),ROWS(Clasament!$B$3:'Clasament'!$B66))),\"\")","v":""},{"$f":"IFERROR(INDEX(Clasament!$BH$3:$BH$72,SMALL(IF(Clasament!U$3:U$72=\"+\",ROW(Clasament!$B$3:$B$74)-ROW(Clasament!$B$3)+1),ROWS(Clasament!$B$3:'Clasament'!$B66))),\"\")","v":""},{"$f":"IFERROR(INDEX(Clasament!$BH$3:$BH$72,SMALL(IF(Clasament!V$3:V$72=\"+\",ROW(Clasament!$B$3:$B$74)-ROW(Clasament!$B$3)+1),ROWS(Clasament!$B$3:'Clasament'!$B66))),\"\")","v":""},{"$f":"IFERROR(INDEX(Clasament!$BH$3:$BH$72,SMALL(IF(Clasament!W$3:W$72=\"+\",ROW(Clasament!$B$3:$B$74)-ROW(Clasament!$B$3)+1),ROWS(Clasament!$B$3:'Clasament'!$B66))),\"\")","v":""},{"$f":"IFERROR(INDEX(Clasament!$BH$3:$BH$72,SMALL(IF(Clasament!Y$3:Y$72=\"+\",ROW(Clasament!$B$3:$B$74)-ROW(Clasament!$B$3)+1),ROWS(Clasament!$B$3:'Clasament'!$B66))),\"\")","v":""},{"$f":"IFERROR(INDEX(Clasament!$BH$3:$BH$72,SMALL(IF(Clasament!Z$3:Z$72=\"+\",ROW(Clasament!$B$3:$B$74)-ROW(Clasament!$B$3)+1),ROWS(Clasament!$B$3:'Clasament'!$B66))),\"\")","v":""},{"$f":"IFERROR(INDEX(Clasament!$BH$3:$BH$72,SMALL(IF(Clasament!AA$3:AA$72=\"+\",ROW(Clasament!$B$3:$B$74)-ROW(Clasament!$B$3)+1),ROWS(Clasament!$B$3:'Clasament'!$B66))),\"\")","v":""},{"$f":"IFERROR(INDEX(Clasament!$BH$3:$BH$72,SMALL(IF(Clasament!AB$3:AB$72=\"+\",ROW(Clasament!$B$3:$B$74)-ROW(Clasament!$B$3)+1),ROWS(Clasament!$B$3:'Clasament'!$B66))),\"\")","v":""},{"$f":"IFERROR(INDEX(Clasament!$BH$3:$BH$72,SMALL(IF(Clasament!AC$3:AC$72=\"+\",ROW(Clasament!$B$3:$B$74)-ROW(Clasament!$B$3)+1),ROWS(Clasament!$B$3:'Clasament'!$B66))),\"\")","v":""},{"$f":"IFERROR(INDEX(Clasament!$BH$3:$BH$72,SMALL(IF(Clasament!AD$3:AD$72=\"+\",ROW(Clasament!$B$3:$B$74)-ROW(Clasament!$B$3)+1),ROWS(Clasament!$B$3:'Clasament'!$B66))),\"\")","v":""},{"$f":"IFERROR(INDEX(Clasament!$BH$3:$BH$72,SMALL(IF(Clasament!AE$3:AE$72=\"+\",ROW(Clasament!$B$3:$B$74)-ROW(Clasament!$B$3)+1),ROWS(Clasament!$B$3:'Clasament'!$B66))),\"\")","v":""},{"$f":"IFERROR(INDEX(Clasament!$BH$3:$BH$72,SMALL(IF(Clasament!AF$3:AF$72=\"+\",ROW(Clasament!$B$3:$B$74)-ROW(Clasament!$B$3)+1),ROWS(Clasament!$B$3:'Clasament'!$B66))),\"\")","v":""},{"$f":"IFERROR(INDEX(Clasament!$BH$3:$BH$72,SMALL(IF(Clasament!AG$3:AG$72=\"+\",ROW(Clasament!$B$3:$B$74)-ROW(Clasament!$B$3)+1),ROWS(Clasament!$B$3:'Clasament'!$B66))),\"\")","v":""},{"$f":"IFERROR(INDEX(Clasament!$BH$3:$BH$72,SMALL(IF(Clasament!AH$3:AH$72=\"+\",ROW(Clasament!$B$3:$B$74)-ROW(Clasament!$B$3)+1),ROWS(Clasament!$B$3:'Clasament'!$B66))),\"\")","v":""},{"$f":"IFERROR(INDEX(Clasament!$BH$3:$BH$72,SMALL(IF(Clasament!AJ$3:AJ$72=\"+\",ROW(Clasament!$B$3:$B$74)-ROW(Clasament!$B$3)+1),ROWS(Clasament!$B$3:'Clasament'!$B66))),\"\")","v":""},{"$f":"IFERROR(INDEX(Clasament!$BH$3:$BH$72,SMALL(IF(Clasament!AK$3:AK$72=\"+\",ROW(Clasament!$B$3:$B$74)-ROW(Clasament!$B$3)+1),ROWS(Clasament!$B$3:'Clasament'!$B66))),\"\")","v":""},{"$f":"IFERROR(INDEX(Clasament!$BH$3:$BH$72,SMALL(IF(Clasament!AL$3:AL$72=\"+\",ROW(Clasament!$B$3:$B$74)-ROW(Clasament!$B$3)+1),ROWS(Clasament!$B$3:'Clasament'!$B66))),\"\")","v":""},{"$f":"IFERROR(INDEX(Clasament!$BH$3:$BH$72,SMALL(IF(Clasament!AM$3:AM$72=\"+\",ROW(Clasament!$B$3:$B$74)-ROW(Clasament!$B$3)+1),ROWS(Clasament!$B$3:'Clasament'!$B66))),\"\")","v":""},{"$f":"IFERROR(INDEX(Clasament!$BH$3:$BH$72,SMALL(IF(Clasament!AN$3:AN$72=\"+\",ROW(Clasament!$B$3:$B$74)-ROW(Clasament!$B$3)+1),ROWS(Clasament!$B$3:'Clasament'!$B66))),\"\")","v":""},{"$f":"IFERROR(INDEX(Clasament!$BH$3:$BH$72,SMALL(IF(Clasament!AO$3:AO$72=\"+\",ROW(Clasament!$B$3:$B$74)-ROW(Clasament!$B$3)+1),ROWS(Clasament!$B$3:'Clasament'!$B66))),\"\")","v":""},{"$f":"IFERROR(INDEX(Clasament!$BH$3:$BH$72,SMALL(IF(Clasament!AP$3:AP$72=\"+\",ROW(Clasament!$B$3:$B$74)-ROW(Clasament!$B$3)+1),ROWS(Clasament!$B$3:'Clasament'!$B66))),\"\")","v":""},{"$f":"IFERROR(INDEX(Clasament!$BH$3:$BH$72,SMALL(IF(Clasament!AQ$3:AQ$72=\"+\",ROW(Clasament!$B$3:$B$74)-ROW(Clasament!$B$3)+1),ROWS(Clasament!$B$3:'Clasament'!$B66))),\"\")","v":""},{"$f":"IFERROR(INDEX(Clasament!$BH$3:$BH$72,SMALL(IF(Clasament!AR$3:AR$72=\"+\",ROW(Clasament!$B$3:$B$74)-ROW(Clasament!$B$3)+1),ROWS(Clasament!$B$3:'Clasament'!$B66))),\"\")","v":""},{"$f":"IFERROR(INDEX(Clasament!$BH$3:$BH$72,SMALL(IF(Clasament!AS$3:AS$72=\"+\",ROW(Clasament!$B$3:$B$74)-ROW(Clasament!$B$3)+1),ROWS(Clasament!$B$3:'Clasament'!$B66))),\"\")","v":""},{"$f":"IFERROR(INDEX(Clasament!$BH$3:$BH$72,SMALL(IF(Clasament!AU$3:AU$72=\"+\",ROW(Clasament!$B$3:$B$74)-ROW(Clasament!$B$3)+1),ROWS(Clasament!$B$3:'Clasament'!$B66))),\"\")","v":""},{"$f":"IFERROR(INDEX(Clasament!$BH$3:$BH$72,SMALL(IF(Clasament!AV$3:AV$72=\"+\",ROW(Clasament!$B$3:$B$74)-ROW(Clasament!$B$3)+1),ROWS(Clasament!$B$3:'Clasament'!$B66))),\"\")","v":""},{"$f":"IFERROR(INDEX(Clasament!$BH$3:$BH$72,SMALL(IF(Clasament!AW$3:AW$72=\"+\",ROW(Clasament!$B$3:$B$74)-ROW(Clasament!$B$3)+1),ROWS(Clasament!$B$3:'Clasament'!$B66))),\"\")","v":""},{"$f":"IFERROR(INDEX(Clasament!$BH$3:$BH$72,SMALL(IF(Clasament!AX$3:AX$72=\"+\",ROW(Clasament!$B$3:$B$74)-ROW(Clasament!$B$3)+1),ROWS(Clasament!$B$3:'Clasament'!$B66))),\"\")","v":""},{"$f":"IFERROR(INDEX(Clasament!$BH$3:$BH$72,SMALL(IF(Clasament!AY$3:AY$72=\"+\",ROW(Clasament!$B$3:$B$74)-ROW(Clasament!$B$3)+1),ROWS(Clasament!$B$3:'Clasament'!$B66))),\"\")","v":""},{"$f":"IFERROR(INDEX(Clasament!$BH$3:$BH$72,SMALL(IF(Clasament!AZ$3:AZ$72=\"+\",ROW(Clasament!$B$3:$B$74)-ROW(Clasament!$B$3)+1),ROWS(Clasament!$B$3:'Clasament'!$B66))),\"\")","v":""}]
[null,{"$f":"IFERROR(INDEX(Clasament!$BH$3:$BH$72,SMALL(IF(Clasament!C$3:C$72=\"+\",ROW(Clasament!$B$3:$B$74)-ROW(Clasament!$B$3)+1),ROWS(Clasament!$B$3:'Clasament'!$B67))),\"\")","v":""},{"$f":"IFERROR(INDEX(Clasament!$BH$3:$BH$72,SMALL(IF(Clasament!D$3:D$72=\"+\",ROW(Clasament!$B$3:$B$74)-ROW(Clasament!$B$3)+1),ROWS(Clasament!$B$3:'Clasament'!$B67))),\"\")","v":""},{"$f":"IFERROR(INDEX(Clasament!$BH$3:$BH$72,SMALL(IF(Clasament!E$3:E$72=\"+\",ROW(Clasament!$B$3:$B$74)-ROW(Clasament!$B$3)+1),ROWS(Clasament!$B$3:'Clasament'!$B67))),\"\")","v":""},{"$f":"IFERROR(INDEX(Clasament!$BH$3:$BH$72,SMALL(IF(Clasament!F$3:F$72=\"+\",ROW(Clasament!$B$3:$B$74)-ROW(Clasament!$B$3)+1),ROWS(Clasament!$B$3:'Clasament'!$B67))),\"\")","v":""},{"$f":"IFERROR(INDEX(Clasament!$BH$3:$BH$72,SMALL(IF(Clasament!G$3:G$72=\"+\",ROW(Clasament!$B$3:$B$74)-ROW(Clasament!$B$3)+1),ROWS(Clasament!$B$3:'Clasament'!$B67))),\"\")","v":""},{"$f":"IFERROR(INDEX(Clasament!$BH$3:$BH$72,SMALL(IF(Clasament!H$3:H$72=\"+\",ROW(Clasament!$B$3:$B$74)-ROW(Clasament!$B$3)+1),ROWS(Clasament!$B$3:'Clasament'!$B67))),\"\")","v":""},{"$f":"IFERROR(INDEX(Clasament!$BH$3:$BH$72,SMALL(IF(Clasament!I$3:I$72=\"+\",ROW(Clasament!$B$3:$B$74)-ROW(Clasament!$B$3)+1),ROWS(Clasament!$B$3:'Clasament'!$B67))),\"\")","v":""},{"$f":"IFERROR(INDEX(Clasament!$BH$3:$BH$72,SMALL(IF(Clasament!J$3:J$72=\"+\",ROW(Clasament!$B$3:$B$74)-ROW(Clasament!$B$3)+1),ROWS(Clasament!$B$3:'Clasament'!$B67))),\"\")","v":""},{"$f":"IFERROR(INDEX(Clasament!$BH$3:$BH$72,SMALL(IF(Clasament!K$3:K$72=\"+\",ROW(Clasament!$B$3:$B$74)-ROW(Clasament!$B$3)+1),ROWS(Clasament!$B$3:'Clasament'!$B67))),\"\")","v":""},{"$f":"IFERROR(INDEX(Clasament!$BH$3:$BH$72,SMALL(IF(Clasament!L$3:L$72=\"+\",ROW(Clasament!$B$3:$B$74)-ROW(Clasament!$B$3)+1),ROWS(Clasament!$B$3:'Clasament'!$B67))),\"\")","v":""},{"$f":"IFERROR(INDEX(Clasament!$BH$3:$BH$72,SMALL(IF(Clasament!N$3:N$72=\"+\",ROW(Clasament!$B$3:$B$74)-ROW(Clasament!$B$3)+1),ROWS(Clasament!$B$3:'Clasament'!$B67))),\"\")","v":""},{"$f":"IFERROR(INDEX(Clasament!$BH$3:$BH$72,SMALL(IF(Clasament!O$3:O$72=\"+\",ROW(Clasament!$B$3:$B$74)-ROW(Clasament!$B$3)+1),ROWS(Clasament!$B$3:'Clasament'!$B67))),\"\")","v":""},{"$f":"IFERROR(INDEX(Clasament!$BH$3:$BH$72,SMALL(IF(Clasament!P$3:P$72=\"+\",ROW(Clasament!$B$3:$B$74)-ROW(Clasament!$B$3)+1),ROWS(Clasament!$B$3:'Clasament'!$B67))),\"\")","v":""},{"$f":"IFERROR(INDEX(Clasament!$BH$3:$BH$72,SMALL(IF(Clasament!Q$3:Q$72=\"+\",ROW(Clasament!$B$3:$B$74)-ROW(Clasament!$B$3)+1),ROWS(Clasament!$B$3:'Clasament'!$B67))),\"\")","v":""},{"$f":"IFERROR(INDEX(Clasament!$BH$3:$BH$72,SMALL(IF(Clasament!R$3:R$72=\"+\",ROW(Clasament!$B$3:$B$74)-ROW(Clasament!$B$3)+1),ROWS(Clasament!$B$3:'Clasament'!$B67))),\"\")","v":""},{"$f":"IFERROR(INDEX(Clasament!$BH$3:$BH$72,SMALL(IF(Clasament!S$3:S$72=\"+\",ROW(Clasament!$B$3:$B$74)-ROW(Clasament!$B$3)+1),ROWS(Clasament!$B$3:'Clasament'!$B67))),\"\")","v":""},{"$f":"IFERROR(INDEX(Clasament!$BH$3:$BH$72,SMALL(IF(Clasament!T$3:T$72=\"+\",ROW(Clasament!$B$3:$B$74)-ROW(Clasament!$B$3)+1),ROWS(Clasament!$B$3:'Clasament'!$B67))),\"\")","v":""},{"$f":"IFERROR(INDEX(Clasament!$BH$3:$BH$72,SMALL(IF(Clasament!U$3:U$72=\"+\",ROW(Clasament!$B$3:$B$74)-ROW(Clasament!$B$3)+1),ROWS(Clasament!$B$3:'Clasament'!$B67))),\"\")","v":""},{"$f":"IFERROR(INDEX(Clasament!$BH$3:$BH$72,SMALL(IF(Clasament!V$3:V$72=\"+\",ROW(Clasament!$B$3:$B$74)-ROW(Clasament!$B$3)+1),ROWS(Clasament!$B$3:'Clasament'!$B67))),\"\")","v":""},{"$f":"IFERROR(INDEX(Clasament!$BH$3:$BH$72,SMALL(IF(Clasament!W$3:W$72=\"+\",ROW(Clasament!$B$3:$B$74)-ROW(Clasament!$B$3)+1),ROWS(Clasament!$B$3:'Clasament'!$B67))),\"\")","v":""},{"$f":"IFERROR(INDEX(Clasament!$BH$3:$BH$72,SMALL(IF(Clasament!Y$3:Y$72=\"+\",ROW(Clasament!$B$3:$B$74)-ROW(Clasament!$B$3)+1),ROWS(Clasament!$B$3:'Clasament'!$B67))),\"\")","v":""},{"$f":"IFERROR(INDEX(Clasament!$BH$3:$BH$72,SMALL(IF(Clasament!Z$3:Z$72=\"+\",ROW(Clasament!$B$3:$B$74)-ROW(Clasament!$B$3)+1),ROWS(Clasament!$B$3:'Clasament'!$B67))),\"\")","v":""},{"$f":"IFERROR(INDEX(Clasament!$BH$3:$BH$72,SMALL(IF(Clasament!AA$3:AA$72=\"+\",ROW(Clasament!$B$3:$B$74)-ROW(Clasament!$B$3)+1),ROWS(Clasament!$B$3:'Clasament'!$B67))),\"\")","v":""},{"$f":"IFERROR(INDEX(Clasament!$BH$3:$BH$72,SMALL(IF(Clasament!AB$3:AB$72=\"+\",ROW(Clasament!$B$3:$B$74)-ROW(Clasament!$B$3)+1),ROWS(Clasament!$B$3:'Clasament'!$B67))),\"\")","v":""},{"$f":"IFERROR(INDEX(Clasament!$BH$3:$BH$72,SMALL(IF(Clasament!AC$3:AC$72=\"+\",ROW(Clasament!$B$3:$B$74)-ROW(Clasament!$B$3)+1),ROWS(Clasament!$B$3:'Clasament'!$B67))),\"\")","v":""},{"$f":"IFERROR(INDEX(Clasament!$BH$3:$BH$72,SMALL(IF(Clasament!AD$3:AD$72=\"+\",ROW(Clasament!$B$3:$B$74)-ROW(Clasament!$B$3)+1),ROWS(Clasament!$B$3:'Clasament'!$B67))),\"\")","v":""},{"$f":"IFERROR(INDEX(Clasament!$BH$3:$BH$72,SMALL(IF(Clasament!AE$3:AE$72=\"+\",ROW(Clasament!$B$3:$B$74)-ROW(Clasament!$B$3)+1),ROWS(Clasament!$B$3:'Clasament'!$B67))),\"\")","v":""},{"$f":"IFERROR(INDEX(Clasament!$BH$3:$BH$72,SMALL(IF(Clasament!AF$3:AF$72=\"+\",ROW(Clasament!$B$3:$B$74)-ROW(Clasament!$B$3)+1),ROWS(Clasament!$B$3:'Clasament'!$B67))),\"\")","v":""},{"$f":"IFERROR(INDEX(Clasament!$BH$3:$BH$72,SMALL(IF(Clasament!AG$3:AG$72=\"+\",ROW(Clasament!$B$3:$B$74)-ROW(Clasament!$B$3)+1),ROWS(Clasament!$B$3:'Clasament'!$B67))),\"\")","v":""},{"$f":"IFERROR(INDEX(Clasament!$BH$3:$BH$72,SMALL(IF(Clasament!AH$3:AH$72=\"+\",ROW(Clasament!$B$3:$B$74)-ROW(Clasament!$B$3)+1),ROWS(Clasament!$B$3:'Clasament'!$B67))),\"\")","v":""},{"$f":"IFERROR(INDEX(Clasament!$BH$3:$BH$72,SMALL(IF(Clasament!AJ$3:AJ$72=\"+\",ROW(Clasament!$B$3:$B$74)-ROW(Clasament!$B$3)+1),ROWS(Clasament!$B$3:'Clasament'!$B67))),\"\")","v":""},{"$f":"IFERROR(INDEX(Clasament!$BH$3:$BH$72,SMALL(IF(Clasament!AK$3:AK$72=\"+\",ROW(Clasament!$B$3:$B$74)-ROW(Clasament!$B$3)+1),ROWS(Clasament!$B$3:'Clasament'!$B67))),\"\")","v":""},{"$f":"IFERROR(INDEX(Clasament!$BH$3:$BH$72,SMALL(IF(Clasament!AL$3:AL$72=\"+\",ROW(Clasament!$B$3:$B$74)-ROW(Clasament!$B$3)+1),ROWS(Clasament!$B$3:'Clasament'!$B67))),\"\")","v":""},{"$f":"IFERROR(INDEX(Clasament!$BH$3:$BH$72,SMALL(IF(Clasament!AM$3:AM$72=\"+\",ROW(Clasament!$B$3:$B$74)-ROW(Clasament!$B$3)+1),ROWS(Clasament!$B$3:'Clasament'!$B67))),\"\")","v":""},{"$f":"IFERROR(INDEX(Clasament!$BH$3:$BH$72,SMALL(IF(Clasament!AN$3:AN$72=\"+\",ROW(Clasament!$B$3:$B$74)-ROW(Clasament!$B$3)+1),ROWS(Clasament!$B$3:'Clasament'!$B67))),\"\")","v":""},{"$f":"IFERROR(INDEX(Clasament!$BH$3:$BH$72,SMALL(IF(Clasament!AO$3:AO$72=\"+\",ROW(Clasament!$B$3:$B$74)-ROW(Clasament!$B$3)+1),ROWS(Clasament!$B$3:'Clasament'!$B67))),\"\")","v":""},{"$f":"IFERROR(INDEX(Clasament!$BH$3:$BH$72,SMALL(IF(Clasament!AP$3:AP$72=\"+\",ROW(Clasament!$B$3:$B$74)-ROW(Clasament!$B$3)+1),ROWS(Clasament!$B$3:'Clasament'!$B67))),\"\")","v":""},{"$f":"IFERROR(INDEX(Clasament!$BH$3:$BH$72,SMALL(IF(Clasament!AQ$3:AQ$72=\"+\",ROW(Clasament!$B$3:$B$74)-ROW(Clasament!$B$3)+1),ROWS(Clasament!$B$3:'Clasament'!$B67))),\"\")","v":""},{"$f":"IFERROR(INDEX(Clasament!$BH$3:$BH$72,SMALL(IF(Clasament!AR$3:AR$72=\"+\",ROW(Clasament!$B$3:$B$74)-ROW(Clasament!$B$3)+1),ROWS(Clasament!$B$3:'Clasament'!$B67))),\"\")","v":""},{"$f":"IFERROR(INDEX(Clasament!$BH$3:$BH$72,SMALL(IF(Clasament!AS$3:AS$72=\"+\",ROW(Clasament!$B$3:$B$74)-ROW(Clasament!$B$3)+1),ROWS(Clasament!$B$3:'Clasament'!$B67))),\"\")","v":""},{"$f":"IFERROR(INDEX(Clasament!$BH$3:$BH$72,SMALL(IF(Clasament!AU$3:AU$72=\"+\",ROW(Clasament!$B$3:$B$74)-ROW(Clasament!$B$3)+1),ROWS(Clasament!$B$3:'Clasament'!$B67))),\"\")","v":""},{"$f":"IFERROR(INDEX(Clasament!$BH$3:$BH$72,SMALL(IF(Clasament!AV$3:AV$72=\"+\",ROW(Clasament!$B$3:$B$74)-ROW(Clasament!$B$3)+1),ROWS(Clasament!$B$3:'Clasament'!$B67))),\"\")","v":""},{"$f":"IFERROR(INDEX(Clasament!$BH$3:$BH$72,SMALL(IF(Clasament!AW$3:AW$72=\"+\",ROW(Clasament!$B$3:$B$74)-ROW(Clasament!$B$3)+1),ROWS(Clasament!$B$3:'Clasament'!$B67))),\"\")","v":""},{"$f":"IFERROR(INDEX(Clasament!$BH$3:$BH$72,SMALL(IF(Clasament!AX$3:AX$72=\"+\",ROW(Clasament!$B$3:$B$74)-ROW(Clasament!$B$3)+1),ROWS(Clasament!$B$3:'Clasament'!$B67))),\"\")","v":""},{"$f":"IFERROR(INDEX(Clasament!$BH$3:$BH$72,SMALL(IF(Clasament!AY$3:AY$72=\"+\",ROW(Clasament!$B$3:$B$74)-ROW(Clasament!$B$3)+1),ROWS(Clasament!$B$3:'Clasament'!$B67))),\"\")","v":""},{"$f":"IFERROR(INDEX(Clasament!$BH$3:$BH$72,SMALL(IF(Clasament!AZ$3:AZ$72=\"+\",ROW(Clasament!$B$3:$B$74)-ROW(Clasament!$B$3)+1),ROWS(Clasament!$B$3:'Clasament'!$B67))),\"\")","v":""}]
[null,{"$f":"IFERROR(INDEX(Clasament!$BH$3:$BH$72,SMALL(IF(Clasament!C$3:C$72=\"+\",ROW(Clasament!$B$3:$B$74)-ROW(Clasament!$B$3)+1),ROWS(Clasament!$B$3:'Clasament'!$B68))),\"\")","v":""},{"$f":"IFERROR(INDEX(Clasament!$BH$3:$BH$72,SMALL(IF(Clasament!D$3:D$72=\"+\",ROW(Clasament!$B$3:$B$74)-ROW(Clasament!$B$3)+1),ROWS(Clasament!$B$3:'Clasament'!$B68))),\"\")","v":""},{"$f":"IFERROR(INDEX(Clasament!$BH$3:$BH$72,SMALL(IF(Clasament!E$3:E$72=\"+\",ROW(Clasament!$B$3:$B$74)-ROW(Clasament!$B$3)+1),ROWS(Clasament!$B$3:'Clasament'!$B68))),\"\")","v":""},{"$f":"IFERROR(INDEX(Clasament!$BH$3:$BH$72,SMALL(IF(Clasament!F$3:F$72=\"+\",ROW(Clasament!$B$3:$B$74)-ROW(Clasament!$B$3)+1),ROWS(Clasament!$B$3:'Clasament'!$B68))),\"\")","v":""},{"$f":"IFERROR(INDEX(Clasament!$BH$3:$BH$72,SMALL(IF(Clasament!G$3:G$72=\"+\",ROW(Clasament!$B$3:$B$74)-ROW(Clasament!$B$3)+1),ROWS(Clasament!$B$3:'Clasament'!$B68))),\"\")","v":""},{"$f":"IFERROR(INDEX(Clasament!$BH$3:$BH$72,SMALL(IF(Clasament!H$3:H$72=\"+\",ROW(Clasament!$B$3:$B$74)-ROW(Clasament!$B$3)+1),ROWS(Clasament!$B$3:'Clasament'!$B68))),\"\")","v":""},{"$f":"IFERROR(INDEX(Clasament!$BH$3:$BH$72,SMALL(IF(Clasament!I$3:I$72=\"+\",ROW(Clasament!$B$3:$B$74)-ROW(Clasament!$B$3)+1),ROWS(Clasament!$B$3:'Clasament'!$B68))),\"\")","v":""},{"$f":"IFERROR(INDEX(Clasament!$BH$3:$BH$72,SMALL(IF(Clasament!J$3:J$72=\"+\",ROW(Clasament!$B$3:$B$74)-ROW(Clasament!$B$3)+1),ROWS(Clasament!$B$3:'Clasament'!$B68))),\"\")","v":""},{"$f":"IFERROR(INDEX(Clasament!$BH$3:$BH$72,SMALL(IF(Clasament!K$3:K$72=\"+\",ROW(Clasament!$B$3:$B$74)-ROW(Clasament!$B$3)+1),ROWS(Clasament!$B$3:'Clasament'!$B68))),\"\")","v":""},{"$f":"IFERROR(INDEX(Clasament!$BH$3:$BH$72,SMALL(IF(Clasament!L$3:L$72=\"+\",ROW(Clasament!$B$3:$B$74)-ROW(Clasament!$B$3)+1),ROWS(Clasament!$B$3:'Clasament'!$B68))),\"\")","v":""},{"$f":"IFERROR(INDEX(Clasament!$BH$3:$BH$72,SMALL(IF(Clasament!N$3:N$72=\"+\",ROW(Clasament!$B$3:$B$74)-ROW(Clasament!$B$3)+1),ROWS(Clasament!$B$3:'Clasament'!$B68))),\"\")","v":""},{"$f":"IFERROR(INDEX(Clasament!$BH$3:$BH$72,SMALL(IF(Clasament!O$3:O$72=\"+\",ROW(Clasament!$B$3:$B$74)-ROW(Clasament!$B$3)+1),ROWS(Clasament!$B$3:'Clasament'!$B68))),\"\")","v":""},{"$f":"IFERROR(INDEX(Clasament!$BH$3:$BH$72,SMALL(IF(Clasament!P$3:P$72=\"+\",ROW(Clasament!$B$3:$B$74)-ROW(Clasament!$B$3)+1),ROWS(Clasament!$B$3:'Clasament'!$B68))),\"\")","v":""},{"$f":"IFERROR(INDEX(Clasament!$BH$3:$BH$72,SMALL(IF(Clasament!Q$3:Q$72=\"+\",ROW(Clasament!$B$3:$B$74)-ROW(Clasament!$B$3)+1),ROWS(Clasament!$B$3:'Clasament'!$B68))),\"\")","v":""},{"$f":"IFERROR(INDEX(Clasament!$BH$3:$BH$72,SMALL(IF(Clasament!R$3:R$72=\"+\",ROW(Clasament!$B$3:$B$74)-ROW(Clasament!$B$3)+1),ROWS(Clasament!$B$3:'Clasament'!$B68))),\"\")","v":""},{"$f":"IFERROR(INDEX(Clasament!$BH$3:$BH$72,SMALL(IF(Clasament!S$3:S$72=\"+\",ROW(Clasament!$B$3:$B$74)-ROW(Clasament!$B$3)+1),ROWS(Clasament!$B$3:'Clasament'!$B68))),\"\")","v":""},{"$f":"IFERROR(INDEX(Clasament!$BH$3:$BH$72,SMALL(IF(Clasament!T$3:T$72=\"+\",ROW(Clasament!$B$3:$B$74)-ROW(Clasament!$B$3)+1),ROWS(Clasament!$B$3:'Clasament'!$B68))),\"\")","v":""},{"$f":"IFERROR(INDEX(Clasament!$BH$3:$BH$72,SMALL(IF(Clasament!U$3:U$72=\"+\",ROW(Clasament!$B$3:$B$74)-ROW(Clasament!$B$3)+1),ROWS(Clasament!$B$3:'Clasament'!$B68))),\"\")","v":""},{"$f":"IFERROR(INDEX(Clasament!$BH$3:$BH$72,SMALL(IF(Clasament!V$3:V$72=\"+\",ROW(Clasament!$B$3:$B$74)-ROW(Clasament!$B$3)+1),ROWS(Clasament!$B$3:'Clasament'!$B68))),\"\")","v":""},{"$f":"IFERROR(INDEX(Clasament!$BH$3:$BH$72,SMALL(IF(Clasament!W$3:W$72=\"+\",ROW(Clasament!$B$3:$B$74)-ROW(Clasament!$B$3)+1),ROWS(Clasament!$B$3:'Clasament'!$B68))),\"\")","v":""},{"$f":"IFERROR(INDEX(Clasament!$BH$3:$BH$72,SMALL(IF(Clasament!Y$3:Y$72=\"+\",ROW(Clasament!$B$3:$B$74)-ROW(Clasament!$B$3)+1),ROWS(Clasament!$B$3:'Clasament'!$B68))),\"\")","v":""},{"$f":"IFERROR(INDEX(Clasament!$BH$3:$BH$72,SMALL(IF(Clasament!Z$3:Z$72=\"+\",ROW(Clasament!$B$3:$B$74)-ROW(Clasament!$B$3)+1),ROWS(Clasament!$B$3:'Clasament'!$B68))),\"\")","v":""},{"$f":"IFERROR(INDEX(Clasament!$BH$3:$BH$72,SMALL(IF(Clasament!AA$3:AA$72=\"+\",ROW(Clasament!$B$3:$B$74)-ROW(Clasament!$B$3)+1),ROWS(Clasament!$B$3:'Clasament'!$B68))),\"\")","v":""},{"$f":"IFERROR(INDEX(Clasament!$BH$3:$BH$72,SMALL(IF(Clasament!AB$3:AB$72=\"+\",ROW(Clasament!$B$3:$B$74)-ROW(Clasament!$B$3)+1),ROWS(Clasament!$B$3:'Clasament'!$B68))),\"\")","v":""},{"$f":"IFERROR(INDEX(Clasament!$BH$3:$BH$72,SMALL(IF(Clasament!AC$3:AC$72=\"+\",ROW(Clasament!$B$3:$B$74)-ROW(Clasament!$B$3)+1),ROWS(Clasament!$B$3:'Clasament'!$B68))),\"\")","v":""},{"$f":"IFERROR(INDEX(Clasament!$BH$3:$BH$72,SMALL(IF(Clasament!AD$3:AD$72=\"+\",ROW(Clasament!$B$3:$B$74)-ROW(Clasament!$B$3)+1),ROWS(Clasament!$B$3:'Clasament'!$B68))),\"\")","v":""},{"$f":"IFERROR(INDEX(Clasament!$BH$3:$BH$72,SMALL(IF(Clasament!AE$3:AE$72=\"+\",ROW(Clasament!$B$3:$B$74)-ROW(Clasament!$B$3)+1),ROWS(Clasament!$B$3:'Clasament'!$B68))),\"\")","v":""},{"$f":"IFERROR(INDEX(Clasament!$BH$3:$BH$72,SMALL(IF(Clasament!AF$3:AF$72=\"+\",ROW(Clasament!$B$3:$B$74)-ROW(Clasament!$B$3)+1),ROWS(Clasament!$B$3:'Clasament'!$B68))),\"\")","v":""},{"$f":"IFERROR(INDEX(Clasament!$BH$3:$BH$72,SMALL(IF(Clasament!AG$3:AG$72=\"+\",ROW(Clasament!$B$3:$B$74)-ROW(Clasament!$B$3)+1),ROWS(Clasament!$B$3:'Clasament'!$B68))),\"\")","v":""},{"$f":"IFERROR(INDEX(Clasament!$BH$3:$BH$72,SMALL(IF(Clasament!AH$3:AH$72=\"+\",ROW(Clasament!$B$3:$B$74)-ROW(Clasament!$B$3)+1),ROWS(Clasament!$B$3:'Clasament'!$B68))),\"\")","v":""},{"$f":"IFERROR(INDEX(Clasament!$BH$3:$BH$72,SMALL(IF(Clasament!AJ$3:AJ$72=\"+\",ROW(Clasament!$B$3:$B$74)-ROW(Clasament!$B$3)+1),ROWS(Clasament!$B$3:'Clasament'!$B68))),\"\")","v":""},{"$f":"IFERROR(INDEX(Clasament!$BH$3:$BH$72,SMALL(IF(Clasament!AK$3:AK$72=\"+\",ROW(Clasament!$B$3:$B$74)-ROW(Clasament!$B$3)+1),ROWS(Clasament!$B$3:'Clasament'!$B68))),\"\")","v":""},{"$f":"IFERROR(INDEX(Clasament!$BH$3:$BH$72,SMALL(IF(Clasament!AL$3:AL$72=\"+\",ROW(Clasament!$B$3:$B$74)-ROW(Clasament!$B$3)+1),ROWS(Clasament!$B$3:'Clasament'!$B68))),\"\")","v":""},{"$f":"IFERROR(INDEX(Clasament!$BH$3:$BH$72,SMALL(IF(Clasament!AM$3:AM$72=\"+\",ROW(Clasament!$B$3:$B$74)-ROW(Clasament!$B$3)+1),ROWS(Clasament!$B$3:'Clasament'!$B68))),\"\")","v":""},{"$f":"IFERROR(INDEX(Clasament!$BH$3:$BH$72,SMALL(IF(Clasament!AN$3:AN$72=\"+\",ROW(Clasament!$B$3:$B$74)-ROW(Clasament!$B$3)+1),ROWS(Clasament!$B$3:'Clasament'!$B68))),\"\")","v":""},{"$f":"IFERROR(INDEX(Clasament!$BH$3:$BH$72,SMALL(IF(Clasament!AO$3:AO$72=\"+\",ROW(Clasament!$B$3:$B$74)-ROW(Clasament!$B$3)+1),ROWS(Clasament!$B$3:'Clasament'!$B68))),\"\")","v":""},{"$f":"IFERROR(INDEX(Clasament!$BH$3:$BH$72,SMALL(IF(Clasament!AP$3:AP$72=\"+\",ROW(Clasament!$B$3:$B$74)-ROW(Clasament!$B$3)+1),ROWS(Clasament!$B$3:'Clasament'!$B68))),\"\")","v":""},{"$f":"IFERROR(INDEX(Clasament!$BH$3:$BH$72,SMALL(IF(Clasament!AQ$3:AQ$72=\"+\",ROW(Clasament!$B$3:$B$74)-ROW(Clasament!$B$3)+1),ROWS(Clasament!$B$3:'Clasament'!$B68))),\"\")","v":""},{"$f":"IFERROR(INDEX(Clasament!$BH$3:$BH$72,SMALL(IF(Clasament!AR$3:AR$72=\"+\",ROW(Clasament!$B$3:$B$74)-ROW(Clasament!$B$3)+1),ROWS(Clasament!$B$3:'Clasament'!$B68))),\"\")","v":""},{"$f":"IFERROR(INDEX(Clasament!$BH$3:$BH$72,SMALL(IF(Clasament!AS$3:AS$72=\"+\",ROW(Clasament!$B$3:$B$74)-ROW(Clasament!$B$3)+1),ROWS(Clasament!$B$3:'Clasament'!$B68))),\"\")","v":""},{"$f":"IFERROR(INDEX(Clasament!$BH$3:$BH$72,SMALL(IF(Clasament!AU$3:AU$72=\"+\",ROW(Clasament!$B$3:$B$74)-ROW(Clasament!$B$3)+1),ROWS(Clasament!$B$3:'Clasament'!$B68))),\"\")","v":""},{"$f":"IFERROR(INDEX(Clasament!$BH$3:$BH$72,SMALL(IF(Clasament!AV$3:AV$72=\"+\",ROW(Clasament!$B$3:$B$74)-ROW(Clasament!$B$3)+1),ROWS(Clasament!$B$3:'Clasament'!$B68))),\"\")","v":""},{"$f":"IFERROR(INDEX(Clasament!$BH$3:$BH$72,SMALL(IF(Clasament!AW$3:AW$72=\"+\",ROW(Clasament!$B$3:$B$74)-ROW(Clasament!$B$3)+1),ROWS(Clasament!$B$3:'Clasament'!$B68))),\"\")","v":""},{"$f":"IFERROR(INDEX(Clasament!$BH$3:$BH$72,SMALL(IF(Clasament!AX$3:AX$72=\"+\",ROW(Clasament!$B$3:$B$74)-ROW(Clasament!$B$3)+1),ROWS(Clasament!$B$3:'Clasament'!$B68))),\"\")","v":""},{"$f":"IFERROR(INDEX(Clasament!$BH$3:$BH$72,SMALL(IF(Clasament!AY$3:AY$72=\"+\",ROW(Clasament!$B$3:$B$74)-ROW(Clasament!$B$3)+1),ROWS(Clasament!$B$3:'Clasament'!$B68))),\"\")","v":""},{"$f":"IFERROR(INDEX(Clasament!$BH$3:$BH$72,SMALL(IF(Clasament!AZ$3:AZ$72=\"+\",ROW(Clasament!$B$3:$B$74)-ROW(Clasament!$B$3)+1),ROWS(Clasament!$B$3:'Clasament'!$B68))),\"\")","v":""}]
[null,{"$f":"IFERROR(INDEX(Clasament!$BH$3:$BH$72,SMALL(IF(Clasament!C$3:C$72=\"+\",ROW(Clasament!$B$3:$B$74)-ROW(Clasament!$B$3)+1),ROWS(Clasament!$B$3:'Clasament'!$B69))),\"\")","v":""},{"$f":"IFERROR(INDEX(Clasament!$BH$3:$BH$72,SMALL(IF(Clasament!D$3:D$72=\"+\",ROW(Clasament!$B$3:$B$74)-ROW(Clasament!$B$3)+1),ROWS(Clasament!$B$3:'Clasament'!$B69))),\"\")","v":""},{"$f":"IFERROR(INDEX(Clasament!$BH$3:$BH$72,SMALL(IF(Clasament!E$3:E$72=\"+\",ROW(Clasament!$B$3:$B$74)-ROW(Clasament!$B$3)+1),ROWS(Clasament!$B$3:'Clasament'!$B69))),\"\")","v":""},{"$f":"IFERROR(INDEX(Clasament!$BH$3:$BH$72,SMALL(IF(Clasament!F$3:F$72=\"+\",ROW(Clasament!$B$3:$B$74)-ROW(Clasament!$B$3)+1),ROWS(Clasament!$B$3:'Clasament'!$B69))),\"\")","v":""},{"$f":"IFERROR(INDEX(Clasament!$BH$3:$BH$72,SMALL(IF(Clasament!G$3:G$72=\"+\",ROW(Clasament!$B$3:$B$74)-ROW(Clasament!$B$3)+1),ROWS(Clasament!$B$3:'Clasament'!$B69))),\"\")","v":""},{"$f":"IFERROR(INDEX(Clasament!$BH$3:$BH$72,SMALL(IF(Clasament!H$3:H$72=\"+\",ROW(Clasament!$B$3:$B$74)-ROW(Clasament!$B$3)+1),ROWS(Clasament!$B$3:'Clasament'!$B69))),\"\")","v":""},{"$f":"IFERROR(INDEX(Clasament!$BH$3:$BH$72,SMALL(IF(Clasament!I$3:I$72=\"+\",ROW(Clasament!$B$3:$B$74)-ROW(Clasament!$B$3)+1),ROWS(Clasament!$B$3:'Clasament'!$B69))),\"\")","v":""},{"$f":"IFERROR(INDEX(Clasament!$BH$3:$BH$72,SMALL(IF(Clasament!J$3:J$72=\"+\",ROW(Clasament!$B$3:$B$74)-ROW(Clasament!$B$3)+1),ROWS(Clasament!$B$3:'Clasament'!$B69))),\"\")","v":""},{"$f":"IFERROR(INDEX(Clasament!$BH$3:$BH$72,SMALL(IF(Clasament!K$3:K$72=\"+\",ROW(Clasament!$B$3:$B$74)-ROW(Clasament!$B$3)+1),ROWS(Clasament!$B$3:'Clasament'!$B69))),\"\")","v":""},{"$f":"IFERROR(INDEX(Clasament!$BH$3:$BH$72,SMALL(IF(Clasament!L$3:L$72=\"+\",ROW(Clasament!$B$3:$B$74)-ROW(Clasament!$B$3)+1),ROWS(Clasament!$B$3:'Clasament'!$B69))),\"\")","v":""},{"$f":"IFERROR(INDEX(Clasament!$BH$3:$BH$72,SMALL(IF(Clasament!N$3:N$72=\"+\",ROW(Clasament!$B$3:$B$74)-ROW(Clasament!$B$3)+1),ROWS(Clasament!$B$3:'Clasament'!$B69))),\"\")","v":""},{"$f":"IFERROR(INDEX(Clasament!$BH$3:$BH$72,SMALL(IF(Clasament!O$3:O$72=\"+\",ROW(Clasament!$B$3:$B$74)-ROW(Clasament!$B$3)+1),ROWS(Clasament!$B$3:'Clasament'!$B69))),\"\")","v":""},{"$f":"IFERROR(INDEX(Clasament!$BH$3:$BH$72,SMALL(IF(Clasament!P$3:P$72=\"+\",ROW(Clasament!$B$3:$B$74)-ROW(Clasament!$B$3)+1),ROWS(Clasament!$B$3:'Clasament'!$B69))),\"\")","v":""},{"$f":"IFERROR(INDEX(Clasament!$BH$3:$BH$72,SMALL(IF(Clasament!Q$3:Q$72=\"+\",ROW(Clasament!$B$3:$B$74)-ROW(Clasament!$B$3)+1),ROWS(Clasament!$B$3:'Clasament'!$B69))),\"\")","v":""},{"$f":"IFERROR(INDEX(Clasament!$BH$3:$BH$72,SMALL(IF(Clasament!R$3:R$72=\"+\",ROW(Clasament!$B$3:$B$74)-ROW(Clasament!$B$3)+1),ROWS(Clasament!$B$3:'Clasament'!$B69))),\"\")","v":""},{"$f":"IFERROR(INDEX(Clasament!$BH$3:$BH$72,SMALL(IF(Clasament!S$3:S$72=\"+\",ROW(Clasament!$B$3:$B$74)-ROW(Clasament!$B$3)+1),ROWS(Clasament!$B$3:'Clasament'!$B69))),\"\")","v":""},{"$f":"IFERROR(INDEX(Clasament!$BH$3:$BH$72,SMALL(IF(Clasament!T$3:T$72=\"+\",ROW(Clasament!$B$3:$B$74)-ROW(Clasament!$B$3)+1),ROWS(Clasament!$B$3:'Clasament'!$B69))),\"\")","v":""},{"$f":"IFERROR(INDEX(Clasament!$BH$3:$BH$72,SMALL(IF(Clasament!U$3:U$72=\"+\",ROW(Clasament!$B$3:$B$74)-ROW(Clasament!$B$3)+1),ROWS(Clasament!$B$3:'Clasament'!$B69))),\"\")","v":""},{"$f":"IFERROR(INDEX(Clasament!$BH$3:$BH$72,SMALL(IF(Clasament!V$3:V$72=\"+\",ROW(Clasament!$B$3:$B$74)-ROW(Clasament!$B$3)+1),ROWS(Clasament!$B$3:'Clasament'!$B69))),\"\")","v":""},{"$f":"IFERROR(INDEX(Clasament!$BH$3:$BH$72,SMALL(IF(Clasament!W$3:W$72=\"+\",ROW(Clasament!$B$3:$B$74)-ROW(Clasament!$B$3)+1),ROWS(Clasament!$B$3:'Clasament'!$B69))),\"\")","v":""},{"$f":"IFERROR(INDEX(Clasament!$BH$3:$BH$72,SMALL(IF(Clasament!Y$3:Y$72=\"+\",ROW(Clasament!$B$3:$B$74)-ROW(Clasament!$B$3)+1),ROWS(Clasament!$B$3:'Clasament'!$B69))),\"\")","v":""},{"$f":"IFERROR(INDEX(Clasament!$BH$3:$BH$72,SMALL(IF(Clasament!Z$3:Z$72=\"+\",ROW(Clasament!$B$3:$B$74)-ROW(Clasament!$B$3)+1),ROWS(Clasament!$B$3:'Clasament'!$B69))),\"\")","v":""},{"$f":"IFERROR(INDEX(Clasament!$BH$3:$BH$72,SMALL(IF(Clasament!AA$3:AA$72=\"+\",ROW(Clasament!$B$3:$B$74)-ROW(Clasament!$B$3)+1),ROWS(Clasament!$B$3:'Clasament'!$B69))),\"\")","v":""},{"$f":"IFERROR(INDEX(Clasament!$BH$3:$BH$72,SMALL(IF(Clasament!AB$3:AB$72=\"+\",ROW(Clasament!$B$3:$B$74)-ROW(Clasament!$B$3)+1),ROWS(Clasament!$B$3:'Clasament'!$B69))),\"\")","v":""},{"$f":"IFERROR(INDEX(Clasament!$BH$3:$BH$72,SMALL(IF(Clasament!AC$3:AC$72=\"+\",ROW(Clasament!$B$3:$B$74)-ROW(Clasament!$B$3)+1),ROWS(Clasament!$B$3:'Clasament'!$B69))),\"\")","v":""},{"$f":"IFERROR(INDEX(Clasament!$BH$3:$BH$72,SMALL(IF(Clasament!AD$3:AD$72=\"+\",ROW(Clasament!$B$3:$B$74)-ROW(Clasament!$B$3)+1),ROWS(Clasament!$B$3:'Clasament'!$B69))),\"\")","v":""},{"$f":"IFERROR(INDEX(Clasament!$BH$3:$BH$72,SMALL(IF(Clasament!AE$3:AE$72=\"+\",ROW(Clasament!$B$3:$B$74)-ROW(Clasament!$B$3)+1),ROWS(Clasament!$B$3:'Clasament'!$B69))),\"\")","v":""},{"$f":"IFERROR(INDEX(Clasament!$BH$3:$BH$72,SMALL(IF(Clasament!AF$3:AF$72=\"+\",ROW(Clasament!$B$3:$B$74)-ROW(Clasament!$B$3)+1),ROWS(Clasament!$B$3:'Clasament'!$B69))),\"\")","v":""},{"$f":"IFERROR(INDEX(Clasament!$BH$3:$BH$72,SMALL(IF(Clasament!AG$3:AG$72=\"+\",ROW(Clasament!$B$3:$B$74)-ROW(Clasament!$B$3)+1),ROWS(Clasament!$B$3:'Clasament'!$B69))),\"\")","v":""},{"$f":"IFERROR(INDEX(Clasament!$BH$3:$BH$72,SMALL(IF(Clasament!AH$3:AH$72=\"+\",ROW(Clasament!$B$3:$B$74)-ROW(Clasament!$B$3)+1),ROWS(Clasament!$B$3:'Clasament'!$B69))),\"\")","v":""},{"$f":"IFERROR(INDEX(Clasament!$BH$3:$BH$72,SMALL(IF(Clasament!AJ$3:AJ$72=\"+\",ROW(Clasament!$B$3:$B$74)-ROW(Clasament!$B$3)+1),ROWS(Clasament!$B$3:'Clasament'!$B69))),\"\")","v":""},{"$f":"IFERROR(INDEX(Clasament!$BH$3:$BH$72,SMALL(IF(Clasament!AK$3:AK$72=\"+\",ROW(Clasament!$B$3:$B$74)-ROW(Clasament!$B$3)+1),ROWS(Clasament!$B$3:'Clasament'!$B69))),\"\")","v":""},{"$f":"IFERROR(INDEX(Clasament!$BH$3:$BH$72,SMALL(IF(Clasament!AL$3:AL$72=\"+\",ROW(Clasament!$B$3:$B$74)-ROW(Clasament!$B$3)+1),ROWS(Clasament!$B$3:'Clasament'!$B69))),\"\")","v":""},{"$f":"IFERROR(INDEX(Clasament!$BH$3:$BH$72,SMALL(IF(Clasament!AM$3:AM$72=\"+\",ROW(Clasament!$B$3:$B$74)-ROW(Clasament!$B$3)+1),ROWS(Clasament!$B$3:'Clasament'!$B69))),\"\")","v":""},{"$f":"IFERROR(INDEX(Clasament!$BH$3:$BH$72,SMALL(IF(Clasament!AN$3:AN$72=\"+\",ROW(Clasament!$B$3:$B$74)-ROW(Clasament!$B$3)+1),ROWS(Clasament!$B$3:'Clasament'!$B69))),\"\")","v":""},{"$f":"IFERROR(INDEX(Clasament!$BH$3:$BH$72,SMALL(IF(Clasament!AO$3:AO$72=\"+\",ROW(Clasament!$B$3:$B$74)-ROW(Clasament!$B$3)+1),ROWS(Clasament!$B$3:'Clasament'!$B69))),\"\")","v":""},{"$f":"IFERROR(INDEX(Clasament!$BH$3:$BH$72,SMALL(IF(Clasament!AP$3:AP$72=\"+\",ROW(Clasament!$B$3:$B$74)-ROW(Clasament!$B$3)+1),ROWS(Clasament!$B$3:'Clasament'!$B69))),\"\")","v":""},{"$f":"IFERROR(INDEX(Clasament!$BH$3:$BH$72,SMALL(IF(Clasament!AQ$3:AQ$72=\"+\",ROW(Clasament!$B$3:$B$74)-ROW(Clasament!$B$3)+1),ROWS(Clasament!$B$3:'Clasament'!$B69))),\"\")","v":""},{"$f":"IFERROR(INDEX(Clasament!$BH$3:$BH$72,SMALL(IF(Clasament!AR$3:AR$72=\"+\",ROW(Clasament!$B$3:$B$74)-ROW(Clasament!$B$3)+1),ROWS(Clasament!$B$3:'Clasament'!$B69))),\"\")","v":""},{"$f":"IFERROR(INDEX(Clasament!$BH$3:$BH$72,SMALL(IF(Clasament!AS$3:AS$72=\"+\",ROW(Clasament!$B$3:$B$74)-ROW(Clasament!$B$3)+1),ROWS(Clasament!$B$3:'Clasament'!$B69))),\"\")","v":""},{"$f":"IFERROR(INDEX(Clasament!$BH$3:$BH$72,SMALL(IF(Clasament!AU$3:AU$72=\"+\",ROW(Clasament!$B$3:$B$74)-ROW(Clasament!$B$3)+1),ROWS(Clasament!$B$3:'Clasament'!$B69))),\"\")","v":""},{"$f":"IFERROR(INDEX(Clasament!$BH$3:$BH$72,SMALL(IF(Clasament!AV$3:AV$72=\"+\",ROW(Clasament!$B$3:$B$74)-ROW(Clasament!$B$3)+1),ROWS(Clasament!$B$3:'Clasament'!$B69))),\"\")","v":""},{"$f":"IFERROR(INDEX(Clasament!$BH$3:$BH$72,SMALL(IF(Clasament!AW$3:AW$72=\"+\",ROW(Clasament!$B$3:$B$74)-ROW(Clasament!$B$3)+1),ROWS(Clasament!$B$3:'Clasament'!$B69))),\"\")","v":""},{"$f":"IFERROR(INDEX(Clasament!$BH$3:$BH$72,SMALL(IF(Clasament!AX$3:AX$72=\"+\",ROW(Clasament!$B$3:$B$74)-ROW(Clasament!$B$3)+1),ROWS(Clasament!$B$3:'Clasament'!$B69))),\"\")","v":""},{"$f":"IFERROR(INDEX(Clasament!$BH$3:$BH$72,SMALL(IF(Clasament!AY$3:AY$72=\"+\",ROW(Clasament!$B$3:$B$74)-ROW(Clasament!$B$3)+1),ROWS(Clasament!$B$3:'Clasament'!$B69))),\"\")","v":""},{"$f":"IFERROR(INDEX(Clasament!$BH$3:$BH$72,SMALL(IF(Clasament!AZ$3:AZ$72=\"+\",ROW(Clasament!$B$3:$B$74)-ROW(Clasament!$B$3)+1),ROWS(Clasament!$B$3:'Clasament'!$B69))),\"\")","v":""}]
[null,{"$f":"IFERROR(INDEX(Clasament!$BH$3:$BH$72,SMALL(IF(Clasament!C$3:C$72=\"+\",ROW(Clasament!$B$3:$B$74)-ROW(Clasament!$B$3)+1),ROWS(Clasament!$B$3:'Clasament'!$B70))),\"\")","v":""},{"$f":"IFERROR(INDEX(Clasament!$BH$3:$BH$72,SMALL(IF(Clasament!D$3:D$72=\"+\",ROW(Clasament!$B$3:$B$74)-ROW(Clasament!$B$3)+1),ROWS(Clasament!$B$3:'Clasament'!$B70))),\"\")","v":""},{"$f":"IFERROR(INDEX(Clasament!$BH$3:$BH$72,SMALL(IF(Clasament!E$3:E$72=\"+\",ROW(Clasament!$B$3:$B$74)-ROW(Clasament!$B$3)+1),ROWS(Clasament!$B$3:'Clasament'!$B70))),\"\")","v":""},{"$f":"IFERROR(INDEX(Clasament!$BH$3:$BH$72,SMALL(IF(Clasament!F$3:F$72=\"+\",ROW(Clasament!$B$3:$B$74)-ROW(Clasament!$B$3)+1),ROWS(Clasament!$B$3:'Clasament'!$B70))),\"\")","v":""},{"$f":"IFERROR(INDEX(Clasament!$BH$3:$BH$72,SMALL(IF(Clasament!G$3:G$72=\"+\",ROW(Clasament!$B$3:$B$74)-ROW(Clasament!$B$3)+1),ROWS(Clasament!$B$3:'Clasament'!$B70))),\"\")","v":""},{"$f":"IFERROR(INDEX(Clasament!$BH$3:$BH$72,SMALL(IF(Clasament!H$3:H$72=\"+\",ROW(Clasament!$B$3:$B$74)-ROW(Clasament!$B$3)+1),ROWS(Clasament!$B$3:'Clasament'!$B70))),\"\")","v":""},{"$f":"IFERROR(INDEX(Clasament!$BH$3:$BH$72,SMALL(IF(Clasament!I$3:I$72=\"+\",ROW(Clasament!$B$3:$B$74)-ROW(Clasament!$B$3)+1),ROWS(Clasament!$B$3:'Clasament'!$B70))),\"\")","v":""},{"$f":"IFERROR(INDEX(Clasament!$BH$3:$BH$72,SMALL(IF(Clasament!J$3:J$72=\"+\",ROW(Clasament!$B$3:$B$74)-ROW(Clasament!$B$3)+1),ROWS(Clasament!$B$3:'Clasament'!$B70))),\"\")","v":""},{"$f":"IFERROR(INDEX(Clasament!$BH$3:$BH$72,SMALL(IF(Clasament!K$3:K$72=\"+\",ROW(Clasament!$B$3:$B$74)-ROW(Clasament!$B$3)+1),ROWS(Clasament!$B$3:'Clasament'!$B70))),\"\")","v":""},{"$f":"IFERROR(INDEX(Clasament!$BH$3:$BH$72,SMALL(IF(Clasament!L$3:L$72=\"+\",ROW(Clasament!$B$3:$B$74)-ROW(Clasament!$B$3)+1),ROWS(Clasament!$B$3:'Clasament'!$B70))),\"\")","v":""},{"$f":"IFERROR(INDEX(Clasament!$BH$3:$BH$72,SMALL(IF(Clasament!N$3:N$72=\"+\",ROW(Clasament!$B$3:$B$74)-ROW(Clasament!$B$3)+1),ROWS(Clasament!$B$3:'Clasament'!$B70))),\"\")","v":""},{"$f":"IFERROR(INDEX(Clasament!$BH$3:$BH$72,SMALL(IF(Clasament!O$3:O$72=\"+\",ROW(Clasament!$B$3:$B$74)-ROW(Clasament!$B$3)+1),ROWS(Clasament!$B$3:'Clasament'!$B70))),\"\")","v":""},{"$f":"IFERROR(INDEX(Clasament!$BH$3:$BH$72,SMALL(IF(Clasament!P$3:P$72=\"+\",ROW(Clasament!$B$3:$B$74)-ROW(Clasament!$B$3)+1),ROWS(Clasament!$B$3:'Clasament'!$B70))),\"\")","v":""},{"$f":"IFERROR(INDEX(Clasament!$BH$3:$BH$72,SMALL(IF(Clasament!Q$3:Q$72=\"+\",ROW(Clasament!$B$3:$B$74)-ROW(Clasament!$B$3)+1),ROWS(Clasament!$B$3:'Clasament'!$B70))),\"\")","v":""},{"$f":"IFERROR(INDEX(Clasament!$BH$3:$BH$72,SMALL(IF(Clasament!R$3:R$72=\"+\",ROW(Clasament!$B$3:$B$74)-ROW(Clasament!$B$3)+1),ROWS(Clasament!$B$3:'Clasament'!$B70))),\"\")","v":""},{"$f":"IFERROR(INDEX(Clasament!$BH$3:$BH$72,SMALL(IF(Clasament!S$3:S$72=\"+\",ROW(Clasament!$B$3:$B$74)-ROW(Clasament!$B$3)+1),ROWS(Clasament!$B$3:'Clasament'!$B70))),\"\")","v":""},{"$f":"IFERROR(INDEX(Clasament!$BH$3:$BH$72,SMALL(IF(Clasament!T$3:T$72=\"+\",ROW(Clasament!$B$3:$B$74)-ROW(Clasament!$B$3)+1),ROWS(Clasament!$B$3:'Clasament'!$B70))),\"\")","v":""},{"$f":"IFERROR(INDEX(Clasament!$BH$3:$BH$72,SMALL(IF(Clasament!U$3:U$72=\"+\",ROW(Clasament!$B$3:$B$74)-ROW(Clasament!$B$3)+1),ROWS(Clasament!$B$3:'Clasament'!$B70))),\"\")","v":""},{"$f":"IFERROR(INDEX(Clasament!$BH$3:$BH$72,SMALL(IF(Clasament!V$3:V$72=\"+\",ROW(Clasament!$B$3:$B$74)-ROW(Clasament!$B$3)+1),ROWS(Clasament!$B$3:'Clasament'!$B70))),\"\")","v":""},{"$f":"IFERROR(INDEX(Clasament!$BH$3:$BH$72,SMALL(IF(Clasament!W$3:W$72=\"+\",ROW(Clasament!$B$3:$B$74)-ROW(Clasament!$B$3)+1),ROWS(Clasament!$B$3:'Clasament'!$B70))),\"\")","v":""},{"$f":"IFERROR(INDEX(Clasament!$BH$3:$BH$72,SMALL(IF(Clasament!Y$3:Y$72=\"+\",ROW(Clasament!$B$3:$B$74)-ROW(Clasament!$B$3)+1),ROWS(Clasament!$B$3:'Clasament'!$B70))),\"\")","v":""},{"$f":"IFERROR(INDEX(Clasament!$BH$3:$BH$72,SMALL(IF(Clasament!Z$3:Z$72=\"+\",ROW(Clasament!$B$3:$B$74)-ROW(Clasament!$B$3)+1),ROWS(Clasament!$B$3:'Clasament'!$B70))),\"\")","v":""},{"$f":"IFERROR(INDEX(Clasament!$BH$3:$BH$72,SMALL(IF(Clasament!AA$3:AA$72=\"+\",ROW(Clasament!$B$3:$B$74)-ROW(Clasament!$B$3)+1),ROWS(Clasament!$B$3:'Clasament'!$B70))),\"\")","v":""},{"$f":"IFERROR(INDEX(Clasament!$BH$3:$BH$72,SMALL(IF(Clasament!AB$3:AB$72=\"+\",ROW(Clasament!$B$3:$B$74)-ROW(Clasament!$B$3)+1),ROWS(Clasament!$B$3:'Clasament'!$B70))),\"\")","v":""},{"$f":"IFERROR(INDEX(Clasament!$BH$3:$BH$72,SMALL(IF(Clasament!AC$3:AC$72=\"+\",ROW(Clasament!$B$3:$B$74)-ROW(Clasament!$B$3)+1),ROWS(Clasament!$B$3:'Clasament'!$B70))),\"\")","v":""},{"$f":"IFERROR(INDEX(Clasament!$BH$3:$BH$72,SMALL(IF(Clasament!AD$3:AD$72=\"+\",ROW(Clasament!$B$3:$B$74)-ROW(Clasament!$B$3)+1),ROWS(Clasament!$B$3:'Clasament'!$B70))),\"\")","v":""},{"$f":"IFERROR(INDEX(Clasament!$BH$3:$BH$72,SMALL(IF(Clasament!AE$3:AE$72=\"+\",ROW(Clasament!$B$3:$B$74)-ROW(Clasament!$B$3)+1),ROWS(Clasament!$B$3:'Clasament'!$B70))),\"\")","v":""},{"$f":"IFERROR(INDEX(Clasament!$BH$3:$BH$72,SMALL(IF(Clasament!AF$3:AF$72=\"+\",ROW(Clasament!$B$3:$B$74)-ROW(Clasament!$B$3)+1),ROWS(Clasament!$B$3:'Clasament'!$B70))),\"\")","v":""},{"$f":"IFERROR(INDEX(Clasament!$BH$3:$BH$72,SMALL(IF(Clasament!AG$3:AG$72=\"+\",ROW(Clasament!$B$3:$B$74)-ROW(Clasament!$B$3)+1),ROWS(Clasament!$B$3:'Clasament'!$B70))),\"\")","v":""},{"$f":"IFERROR(INDEX(Clasament!$BH$3:$BH$72,SMALL(IF(Clasament!AH$3:AH$72=\"+\",ROW(Clasament!$B$3:$B$74)-ROW(Clasament!$B$3)+1),ROWS(Clasament!$B$3:'Clasament'!$B70))),\"\")","v":""},{"$f":"IFERROR(INDEX(Clasament!$BH$3:$BH$72,SMALL(IF(Clasament!AJ$3:AJ$72=\"+\",ROW(Clasament!$B$3:$B$74)-ROW(Clasament!$B$3)+1),ROWS(Clasament!$B$3:'Clasament'!$B70))),\"\")","v":""},{"$f":"IFERROR(INDEX(Clasament!$BH$3:$BH$72,SMALL(IF(Clasament!AK$3:AK$72=\"+\",ROW(Clasament!$B$3:$B$74)-ROW(Clasament!$B$3)+1),ROWS(Clasament!$B$3:'Clasament'!$B70))),\"\")","v":""},{"$f":"IFERROR(INDEX(Clasament!$BH$3:$BH$72,SMALL(IF(Clasament!AL$3:AL$72=\"+\",ROW(Clasament!$B$3:$B$74)-ROW(Clasament!$B$3)+1),ROWS(Clasament!$B$3:'Clasament'!$B70))),\"\")","v":""},{"$f":"IFERROR(INDEX(Clasament!$BH$3:$BH$72,SMALL(IF(Clasament!AM$3:AM$72=\"+\",ROW(Clasament!$B$3:$B$74)-ROW(Clasament!$B$3)+1),ROWS(Clasament!$B$3:'Clasament'!$B70))),\"\")","v":""},{"$f":"IFERROR(INDEX(Clasament!$BH$3:$BH$72,SMALL(IF(Clasament!AN$3:AN$72=\"+\",ROW(Clasament!$B$3:$B$74)-ROW(Clasament!$B$3)+1),ROWS(Clasament!$B$3:'Clasament'!$B70))),\"\")","v":""},{"$f":"IFERROR(INDEX(Clasament!$BH$3:$BH$72,SMALL(IF(Clasament!AO$3:AO$72=\"+\",ROW(Clasament!$B$3:$B$74)-ROW(Clasament!$B$3)+1),ROWS(Clasament!$B$3:'Clasament'!$B70))),\"\")","v":""},{"$f":"IFERROR(INDEX(Clasament!$BH$3:$BH$72,SMALL(IF(Clasament!AP$3:AP$72=\"+\",ROW(Clasament!$B$3:$B$74)-ROW(Clasament!$B$3)+1),ROWS(Clasament!$B$3:'Clasament'!$B70))),\"\")","v":""},{"$f":"IFERROR(INDEX(Clasament!$BH$3:$BH$72,SMALL(IF(Clasament!AQ$3:AQ$72=\"+\",ROW(Clasament!$B$3:$B$74)-ROW(Clasament!$B$3)+1),ROWS(Clasament!$B$3:'Clasament'!$B70))),\"\")","v":""},{"$f":"IFERROR(INDEX(Clasament!$BH$3:$BH$72,SMALL(IF(Clasament!AR$3:AR$72=\"+\",ROW(Clasament!$B$3:$B$74)-ROW(Clasament!$B$3)+1),ROWS(Clasament!$B$3:'Clasament'!$B70))),\"\")","v":""},{"$f":"IFERROR(INDEX(Clasament!$BH$3:$BH$72,SMALL(IF(Clasament!AS$3:AS$72=\"+\",ROW(Clasament!$B$3:$B$74)-ROW(Clasament!$B$3)+1),ROWS(Clasament!$B$3:'Clasament'!$B70))),\"\")","v":""},{"$f":"IFERROR(INDEX(Clasament!$BH$3:$BH$72,SMALL(IF(Clasament!AU$3:AU$72=\"+\",ROW(Clasament!$B$3:$B$74)-ROW(Clasament!$B$3)+1),ROWS(Clasament!$B$3:'Clasament'!$B70))),\"\")","v":""},{"$f":"IFERROR(INDEX(Clasament!$BH$3:$BH$72,SMALL(IF(Clasament!AV$3:AV$72=\"+\",ROW(Clasament!$B$3:$B$74)-ROW(Clasament!$B$3)+1),ROWS(Clasament!$B$3:'Clasament'!$B70))),\"\")","v":""},{"$f":"IFERROR(INDEX(Clasament!$BH$3:$BH$72,SMALL(IF(Clasament!AW$3:AW$72=\"+\",ROW(Clasament!$B$3:$B$74)-ROW(Clasament!$B$3)+1),ROWS(Clasament!$B$3:'Clasament'!$B70))),\"\")","v":""},{"$f":"IFERROR(INDEX(Clasament!$BH$3:$BH$72,SMALL(IF(Clasament!AX$3:AX$72=\"+\",ROW(Clasament!$B$3:$B$74)-ROW(Clasament!$B$3)+1),ROWS(Clasament!$B$3:'Clasament'!$B70))),\"\")","v":""},{"$f":"IFERROR(INDEX(Clasament!$BH$3:$BH$72,SMALL(IF(Clasament!AY$3:AY$72=\"+\",ROW(Clasament!$B$3:$B$74)-ROW(Clasament!$B$3)+1),ROWS(Clasament!$B$3:'Clasament'!$B70))),\"\")","v":""},{"$f":"IFERROR(INDEX(Clasament!$BH$3:$BH$72,SMALL(IF(Clasament!AZ$3:AZ$72=\"+\",ROW(Clasament!$B$3:$B$74)-ROW(Clasament!$B$3)+1),ROWS(Clasament!$B$3:'Clasament'!$B70))),\"\")","v":""}]
[null,{"$f":"IFERROR(INDEX(Clasament!$BH$3:$BH$72,SMALL(IF(Clasament!C$3:C$72=\"+\",ROW(Clasament!$B$3:$B$74)-ROW(Clasament!$B$3)+1),ROWS(Clasament!$B$3:'Clasament'!$B71))),\"\")","v":""},{"$f":"IFERROR(INDEX(Clasament!$BH$3:$BH$72,SMALL(IF(Clasament!D$3:D$72=\"+\",ROW(Clasament!$B$3:$B$74)-ROW(Clasament!$B$3)+1),ROWS(Clasament!$B$3:'Clasament'!$B71))),\"\")","v":""},{"$f":"IFERROR(INDEX(Clasament!$BH$3:$BH$72,SMALL(IF(Clasament!E$3:E$72=\"+\",ROW(Clasament!$B$3:$B$74)-ROW(Clasament!$B$3)+1),ROWS(Clasament!$B$3:'Clasament'!$B71))),\"\")","v":""},{"$f":"IFERROR(INDEX(Clasament!$BH$3:$BH$72,SMALL(IF(Clasament!F$3:F$72=\"+\",ROW(Clasament!$B$3:$B$74)-ROW(Clasament!$B$3)+1),ROWS(Clasament!$B$3:'Clasament'!$B71))),\"\")","v":""},{"$f":"IFERROR(INDEX(Clasament!$BH$3:$BH$72,SMALL(IF(Clasament!G$3:G$72=\"+\",ROW(Clasament!$B$3:$B$74)-ROW(Clasament!$B$3)+1),ROWS(Clasament!$B$3:'Clasament'!$B71))),\"\")","v":""},{"$f":"IFERROR(INDEX(Clasament!$BH$3:$BH$72,SMALL(IF(Clasament!H$3:H$72=\"+\",ROW(Clasament!$B$3:$B$74)-ROW(Clasament!$B$3)+1),ROWS(Clasament!$B$3:'Clasament'!$B71))),\"\")","v":""},{"$f":"IFERROR(INDEX(Clasament!$BH$3:$BH$72,SMALL(IF(Clasament!I$3:I$72=\"+\",ROW(Clasament!$B$3:$B$74)-ROW(Clasament!$B$3)+1),ROWS(Clasament!$B$3:'Clasament'!$B71))),\"\")","v":""},{"$f":"IFERROR(INDEX(Clasament!$BH$3:$BH$72,SMALL(IF(Clasament!J$3:J$72=\"+\",ROW(Clasament!$B$3:$B$74)-ROW(Clasament!$B$3)+1),ROWS(Clasament!$B$3:'Clasament'!$B71))),\"\")","v":""},{"$f":"IFERROR(INDEX(Clasament!$BH$3:$BH$72,SMALL(IF(Clasament!K$3:K$72=\"+\",ROW(Clasament!$B$3:$B$74)-ROW(Clasament!$B$3)+1),ROWS(Clasament!$B$3:'Clasament'!$B71))),\"\")","v":""},{"$f":"IFERROR(INDEX(Clasament!$BH$3:$BH$72,SMALL(IF(Clasament!L$3:L$72=\"+\",ROW(Clasament!$B$3:$B$74)-ROW(Clasament!$B$3)+1),ROWS(Clasament!$B$3:'Clasament'!$B71))),\"\")","v":""},{"$f":"IFERROR(INDEX(Clasament!$BH$3:$BH$72,SMALL(IF(Clasament!N$3:N$72=\"+\",ROW(Clasament!$B$3:$B$74)-ROW(Clasament!$B$3)+1),ROWS(Clasament!$B$3:'Clasament'!$B71))),\"\")","v":""},{"$f":"IFERROR(INDEX(Clasament!$BH$3:$BH$72,SMALL(IF(Clasament!O$3:O$72=\"+\",ROW(Clasament!$B$3:$B$74)-ROW(Clasament!$B$3)+1),ROWS(Clasament!$B$3:'Clasament'!$B71))),\"\")","v":""},{"$f":"IFERROR(INDEX(Clasament!$BH$3:$BH$72,SMALL(IF(Clasament!P$3:P$72=\"+\",ROW(Clasament!$B$3:$B$74)-ROW(Clasament!$B$3)+1),ROWS(Clasament!$B$3:'Clasament'!$B71))),\"\")","v":""},{"$f":"IFERROR(INDEX(Clasament!$BH$3:$BH$72,SMALL(IF(Clasament!Q$3:Q$72=\"+\",ROW(Clasament!$B$3:$B$74)-ROW(Clasament!$B$3)+1),ROWS(Clasament!$B$3:'Clasament'!$B71))),\"\")","v":""},{"$f":"IFERROR(INDEX(Clasament!$BH$3:$BH$72,SMALL(IF(Clasament!R$3:R$72=\"+\",ROW(Clasament!$B$3:$B$74)-ROW(Clasament!$B$3)+1),ROWS(Clasament!$B$3:'Clasament'!$B71))),\"\")","v":""},{"$f":"IFERROR(INDEX(Clasament!$BH$3:$BH$72,SMALL(IF(Clasament!S$3:S$72=\"+\",ROW(Clasament!$B$3:$B$74)-ROW(Clasament!$B$3)+1),ROWS(Clasament!$B$3:'Clasament'!$B71))),\"\")","v":""},{"$f":"IFERROR(INDEX(Clasament!$BH$3:$BH$72,SMALL(IF(Clasament!T$3:T$72=\"+\",ROW(Clasament!$B$3:$B$74)-ROW(Clasament!$B$3)+1),ROWS(Clasament!$B$3:'Clasament'!$B71))),\"\")","v":""},{"$f":"IFERROR(INDEX(Clasament!$BH$3:$BH$72,SMALL(IF(Clasament!U$3:U$72=\"+\",ROW(Clasament!$B$3:$B$74)-ROW(Clasament!$B$3)+1),ROWS(Clasament!$B$3:'Clasament'!$B71))),\"\")","v":""},{"$f":"IFERROR(INDEX(Clasament!$BH$3:$BH$72,SMALL(IF(Clasament!V$3:V$72=\"+\",ROW(Clasament!$B$3:$B$74)-ROW(Clasament!$B$3)+1),ROWS(Clasament!$B$3:'Clasament'!$B71))),\"\")","v":""},{"$f":"IFERROR(INDEX(Clasament!$BH$3:$BH$72,SMALL(IF(Clasament!W$3:W$72=\"+\",ROW(Clasament!$B$3:$B$74)-ROW(Clasament!$B$3)+1),ROWS(Clasament!$B$3:'Clasament'!$B71))),\"\")","v":""},{"$f":"IFERROR(INDEX(Clasament!$BH$3:$BH$72,SMALL(IF(Clasament!Y$3:Y$72=\"+\",ROW(Clasament!$B$3:$B$74)-ROW(Clasament!$B$3)+1),ROWS(Clasament!$B$3:'Clasament'!$B71))),\"\")","v":""},{"$f":"IFERROR(INDEX(Clasament!$BH$3:$BH$72,SMALL(IF(Clasament!Z$3:Z$72=\"+\",ROW(Clasament!$B$3:$B$74)-ROW(Clasament!$B$3)+1),ROWS(Clasament!$B$3:'Clasament'!$B71))),\"\")","v":""},{"$f":"IFERROR(INDEX(Clasament!$BH$3:$BH$72,SMALL(IF(Clasament!AA$3:AA$72=\"+\",ROW(Clasament!$B$3:$B$74)-ROW(Clasament!$B$3)+1),ROWS(Clasament!$B$3:'Clasament'!$B71))),\"\")","v":""},{"$f":"IFERROR(INDEX(Clasament!$BH$3:$BH$72,SMALL(IF(Clasament!AB$3:AB$72=\"+\",ROW(Clasament!$B$3:$B$74)-ROW(Clasament!$B$3)+1),ROWS(Clasament!$B$3:'Clasament'!$B71))),\"\")","v":""},{"$f":"IFERROR(INDEX(Clasament!$BH$3:$BH$72,SMALL(IF(Clasament!AC$3:AC$72=\"+\",ROW(Clasament!$B$3:$B$74)-ROW(Clasament!$B$3)+1),ROWS(Clasament!$B$3:'Clasament'!$B71))),\"\")","v":""},{"$f":"IFERROR(INDEX(Clasament!$BH$3:$BH$72,SMALL(IF(Clasament!AD$3:AD$72=\"+\",ROW(Clasament!$B$3:$B$74)-ROW(Clasament!$B$3)+1),ROWS(Clasament!$B$3:'Clasament'!$B71))),\"\")","v":""},{"$f":"IFERROR(INDEX(Clasament!$BH$3:$BH$72,SMALL(IF(Clasament!AE$3:AE$72=\"+\",ROW(Clasament!$B$3:$B$74)-ROW(Clasament!$B$3)+1),ROWS(Clasament!$B$3:'Clasament'!$B71))),\"\")","v":""},{"$f":"IFERROR(INDEX(Clasament!$BH$3:$BH$72,SMALL(IF(Clasament!AF$3:AF$72=\"+\",ROW(Clasament!$B$3:$B$74)-ROW(Clasament!$B$3)+1),ROWS(Clasament!$B$3:'Clasament'!$B71))),\"\")","v":""},{"$f":"IFERROR(INDEX(Clasament!$BH$3:$BH$72,SMALL(IF(Clasament!AG$3:AG$72=\"+\",ROW(Clasament!$B$3:$B$74)-ROW(Clasament!$B$3)+1),ROWS(Clasament!$B$3:'Clasament'!$B71))),\"\")","v":""},{"$f":"IFERROR(INDEX(Clasament!$BH$3:$BH$72,SMALL(IF(Clasament!AH$3:AH$72=\"+\",ROW(Clasament!$B$3:$B$74)-ROW(Clasament!$B$3)+1),ROWS(Clasament!$B$3:'Clasament'!$B71))),\"\")","v":""},{"$f":"IFERROR(INDEX(Clasament!$BH$3:$BH$72,SMALL(IF(Clasament!AJ$3:AJ$72=\"+\",ROW(Clasament!$B$3:$B$74)-ROW(Clasament!$B$3)+1),ROWS(Clasament!$B$3:'Clasament'!$B71))),\"\")","v":""},{"$f":"IFERROR(INDEX(Clasament!$BH$3:$BH$72,SMALL(IF(Clasament!AK$3:AK$72=\"+\",ROW(Clasament!$B$3:$B$74)-ROW(Clasament!$B$3)+1),ROWS(Clasament!$B$3:'Clasament'!$B71))),\"\")","v":""},{"$f":"IFERROR(INDEX(Clasament!$BH$3:$BH$72,SMALL(IF(Clasament!AL$3:AL$72=\"+\",ROW(Clasament!$B$3:$B$74)-ROW(Clasament!$B$3)+1),ROWS(Clasament!$B$3:'Clasament'!$B71))),\"\")","v":""},{"$f":"IFERROR(INDEX(Clasament!$BH$3:$BH$72,SMALL(IF(Clasament!AM$3:AM$72=\"+\",ROW(Clasament!$B$3:$B$74)-ROW(Clasament!$B$3)+1),ROWS(Clasament!$B$3:'Clasament'!$B71))),\"\")","v":""},{"$f":"IFERROR(INDEX(Clasament!$BH$3:$BH$72,SMALL(IF(Clasament!AN$3:AN$72=\"+\",ROW(Clasament!$B$3:$B$74)-ROW(Clasament!$B$3)+1),ROWS(Clasament!$B$3:'Clasament'!$B71))),\"\")","v":""},{"$f":"IFERROR(INDEX(Clasament!$BH$3:$BH$72,SMALL(IF(Clasament!AO$3:AO$72=\"+\",ROW(Clasament!$B$3:$B$74)-ROW(Clasament!$B$3)+1),ROWS(Clasament!$B$3:'Clasament'!$B71))),\"\")","v":""},{"$f":"IFERROR(INDEX(Clasament!$BH$3:$BH$72,SMALL(IF(Clasament!AP$3:AP$72=\"+\",ROW(Clasament!$B$3:$B$74)-ROW(Clasament!$B$3)+1),ROWS(Clasament!$B$3:'Clasament'!$B71))),\"\")","v":""},{"$f":"IFERROR(INDEX(Clasament!$BH$3:$BH$72,SMALL(IF(Clasament!AQ$3:AQ$72=\"+\",ROW(Clasament!$B$3:$B$74)-ROW(Clasament!$B$3)+1),ROWS(Clasament!$B$3:'Clasament'!$B71))),\"\")","v":""},{"$f":"IFERROR(INDEX(Clasament!$BH$3:$BH$72,SMALL(IF(Clasament!AR$3:AR$72=\"+\",ROW(Clasament!$B$3:$B$74)-ROW(Clasament!$B$3)+1),ROWS(Clasament!$B$3:'Clasament'!$B71))),\"\")","v":""},{"$f":"IFERROR(INDEX(Clasament!$BH$3:$BH$72,SMALL(IF(Clasament!AS$3:AS$72=\"+\",ROW(Clasament!$B$3:$B$74)-ROW(Clasament!$B$3)+1),ROWS(Clasament!$B$3:'Clasament'!$B71))),\"\")","v":""},{"$f":"IFERROR(INDEX(Clasament!$BH$3:$BH$72,SMALL(IF(Clasament!AU$3:AU$72=\"+\",ROW(Clasament!$B$3:$B$74)-ROW(Clasament!$B$3)+1),ROWS(Clasament!$B$3:'Clasament'!$B71))),\"\")","v":""},{"$f":"IFERROR(INDEX(Clasament!$BH$3:$BH$72,SMALL(IF(Clasament!AV$3:AV$72=\"+\",ROW(Clasament!$B$3:$B$74)-ROW(Clasament!$B$3)+1),ROWS(Clasament!$B$3:'Clasament'!$B71))),\"\")","v":""},{"$f":"IFERROR(INDEX(Clasament!$BH$3:$BH$72,SMALL(IF(Clasament!AW$3:AW$72=\"+\",ROW(Clasament!$B$3:$B$74)-ROW(Clasament!$B$3)+1),ROWS(Clasament!$B$3:'Clasament'!$B71))),\"\")","v":""},{"$f":"IFERROR(INDEX(Clasament!$BH$3:$BH$72,SMALL(IF(Clasament!AX$3:AX$72=\"+\",ROW(Clasament!$B$3:$B$74)-ROW(Clasament!$B$3)+1),ROWS(Clasament!$B$3:'Clasament'!$B71))),\"\")","v":""},{"$f":"IFERROR(INDEX(Clasament!$BH$3:$BH$72,SMALL(IF(Clasament!AY$3:AY$72=\"+\",ROW(Clasament!$B$3:$B$74)-ROW(Clasament!$B$3)+1),ROWS(Clasament!$B$3:'Clasament'!$B71))),\"\")","v":""},{"$f":"IFERROR(INDEX(Clasament!$BH$3:$BH$72,SMALL(IF(Clasament!AZ$3:AZ$72=\"+\",ROW(Clasament!$B$3:$B$74)-ROW(Clasament!$B$3)+1),ROWS(Clasament!$B$3:'Clasament'!$B71))),\"\")","v":""}]
[null,{"$f":"IFERROR(INDEX(Clasament!$BH$3:$BH$72,SMALL(IF(Clasament!C$3:C$72=\"+\",ROW(Clasament!$B$3:$B$74)-ROW(Clasament!$B$3)+1),ROWS(Clasament!$B$3:'Clasament'!$B72))),\"\")","v":""},{"$f":"IFERROR(INDEX(Clasament!$BH$3:$BH$72,SMALL(IF(Clasament!D$3:D$72=\"+\",ROW(Clasament!$B$3:$B$74)-ROW(Clasament!$B$3)+1),ROWS(Clasament!$B$3:'Clasament'!$B72))),\"\")","v":""},{"$f":"IFERROR(INDEX(Clasament!$BH$3:$BH$72,SMALL(IF(Clasament!E$3:E$72=\"+\",ROW(Clasament!$B$3:$B$74)-ROW(Clasament!$B$3)+1),ROWS(Clasament!$B$3:'Clasament'!$B72))),\"\")","v":""},{"$f":"IFERROR(INDEX(Clasament!$BH$3:$BH$72,SMALL(IF(Clasament!F$3:F$72=\"+\",ROW(Clasament!$B$3:$B$74)-ROW(Clasament!$B$3)+1),ROWS(Clasament!$B$3:'Clasament'!$B72))),\"\")","v":""},{"$f":"IFERROR(INDEX(Clasament!$BH$3:$BH$72,SMALL(IF(Clasament!G$3:G$72=\"+\",ROW(Clasament!$B$3:$B$74)-ROW(Clasament!$B$3)+1),ROWS(Clasament!$B$3:'Clasament'!$B72))),\"\")","v":""},{"$f":"IFERROR(INDEX(Clasament!$BH$3:$BH$72,SMALL(IF(Clasament!H$3:H$72=\"+\",ROW(Clasament!$B$3:$B$74)-ROW(Clasament!$B$3)+1),ROWS(Clasament!$B$3:'Clasament'!$B72))),\"\")","v":""},{"$f":"IFERROR(INDEX(Clasament!$BH$3:$BH$72,SMALL(IF(Clasament!I$3:I$72=\"+\",ROW(Clasament!$B$3:$B$74)-ROW(Clasament!$B$3)+1),ROWS(Clasament!$B$3:'Clasament'!$B72))),\"\")","v":""},{"$f":"IFERROR(INDEX(Clasament!$BH$3:$BH$72,SMALL(IF(Clasament!J$3:J$72=\"+\",ROW(Clasament!$B$3:$B$74)-ROW(Clasament!$B$3)+1),ROWS(Clasament!$B$3:'Clasament'!$B72))),\"\")","v":""},{"$f":"IFERROR(INDEX(Clasament!$BH$3:$BH$72,SMALL(IF(Clasament!K$3:K$72=\"+\",ROW(Clasament!$B$3:$B$74)-ROW(Clasament!$B$3)+1),ROWS(Clasament!$B$3:'Clasament'!$B72))),\"\")","v":""},{"$f":"IFERROR(INDEX(Clasament!$BH$3:$BH$72,SMALL(IF(Clasament!L$3:L$72=\"+\",ROW(Clasament!$B$3:$B$74)-ROW(Clasament!$B$3)+1),ROWS(Clasament!$B$3:'Clasament'!$B72))),\"\")","v":""},{"$f":"IFERROR(INDEX(Clasament!$BH$3:$BH$72,SMALL(IF(Clasament!N$3:N$72=\"+\",ROW(Clasament!$B$3:$B$74)-ROW(Clasament!$B$3)+1),ROWS(Clasament!$B$3:'Clasament'!$B72))),\"\")","v":""},{"$f":"IFERROR(INDEX(Clasament!$BH$3:$BH$72,SMALL(IF(Clasament!O$3:O$72=\"+\",ROW(Clasament!$B$3:$B$74)-ROW(Clasament!$B$3)+1),ROWS(Clasament!$B$3:'Clasament'!$B72))),\"\")","v":""},{"$f":"IFERROR(INDEX(Clasament!$BH$3:$BH$72,SMALL(IF(Clasament!P$3:P$72=\"+\",ROW(Clasament!$B$3:$B$74)-ROW(Clasament!$B$3)+1),ROWS(Clasament!$B$3:'Clasament'!$B72))),\"\")","v":""},{"$f":"IFERROR(INDEX(Clasament!$BH$3:$BH$72,SMALL(IF(Clasament!Q$3:Q$72=\"+\",ROW(Clasament!$B$3:$B$74)-ROW(Clasament!$B$3)+1),ROWS(Clasament!$B$3:'Clasament'!$B72))),\"\")","v":""},{"$f":"IFERROR(INDEX(Clasament!$BH$3:$BH$72,SMALL(IF(Clasament!R$3:R$72=\"+\",ROW(Clasament!$B$3:$B$74)-ROW(Clasament!$B$3)+1),ROWS(Clasament!$B$3:'Clasament'!$B72))),\"\")","v":""},{"$f":"IFERROR(INDEX(Clasament!$BH$3:$BH$72,SMALL(IF(Clasament!S$3:S$72=\"+\",ROW(Clasament!$B$3:$B$74)-ROW(Clasament!$B$3)+1),ROWS(Clasament!$B$3:'Clasament'!$B72))),\"\")","v":""},{"$f":"IFERROR(INDEX(Clasament!$BH$3:$BH$72,SMALL(IF(Clasament!T$3:T$72=\"+\",ROW(Clasament!$B$3:$B$74)-ROW(Clasament!$B$3)+1),ROWS(Clasament!$B$3:'Clasament'!$B72))),\"\")","v":""},{"$f":"IFERROR(INDEX(Clasament!$BH$3:$BH$72,SMALL(IF(Clasament!U$3:U$72=\"+\",ROW(Clasament!$B$3:$B$74)-ROW(Clasament!$B$3)+1),ROWS(Clasament!$B$3:'Clasament'!$B72))),\"\")","v":""},{"$f":"IFERROR(INDEX(Clasament!$BH$3:$BH$72,SMALL(IF(Clasament!V$3:V$72=\"+\",ROW(Clasament!$B$3:$B$74)-ROW(Clasament!$B$3)+1),ROWS(Clasament!$B$3:'Clasament'!$B72))),\"\")","v":""},{"$f":"IFERROR(INDEX(Clasament!$BH$3:$BH$72,SMALL(IF(Clasament!W$3:W$72=\"+\",ROW(Clasament!$B$3:$B$74)-ROW(Clasament!$B$3)+1),ROWS(Clasament!$B$3:'Clasament'!$B72))),\"\")","v":""},{"$f":"IFERROR(INDEX(Clasament!$BH$3:$BH$72,SMALL(IF(Clasament!Y$3:Y$72=\"+\",ROW(Clasament!$B$3:$B$74)-ROW(Clasament!$B$3)+1),ROWS(Clasament!$B$3:'Clasament'!$B72))),\"\")","v":""},{"$f":"IFERROR(INDEX(Clasament!$BH$3:$BH$72,SMALL(IF(Clasament!Z$3:Z$72=\"+\",ROW(Clasament!$B$3:$B$74)-ROW(Clasament!$B$3)+1),ROWS(Clasament!$B$3:'Clasament'!$B72))),\"\")","v":""},{"$f":"IFERROR(INDEX(Clasament!$BH$3:$BH$72,SMALL(IF(Clasament!AA$3:AA$72=\"+\",ROW(Clasament!$B$3:$B$74)-ROW(Clasament!$B$3)+1),ROWS(Clasament!$B$3:'Clasament'!$B72))),\"\")","v":""},{"$f":"IFERROR(INDEX(Clasament!$BH$3:$BH$72,SMALL(IF(Clasament!AB$3:AB$72=\"+\",ROW(Clasament!$B$3:$B$74)-ROW(Clasament!$B$3)+1),ROWS(Clasament!$B$3:'Clasament'!$B72))),\"\")","v":""},{"$f":"IFERROR(INDEX(Clasament!$BH$3:$BH$72,SMALL(IF(Clasament!AC$3:AC$72=\"+\",ROW(Clasament!$B$3:$B$74)-ROW(Clasament!$B$3)+1),ROWS(Clasament!$B$3:'Clasament'!$B72))),\"\")","v":""},{"$f":"IFERROR(INDEX(Clasament!$BH$3:$BH$72,SMALL(IF(Clasament!AD$3:AD$72=\"+\",ROW(Clasament!$B$3:$B$74)-ROW(Clasament!$B$3)+1),ROWS(Clasament!$B$3:'Clasament'!$B72))),\"\")","v":""},{"$f":"IFERROR(INDEX(Clasament!$BH$3:$BH$72,SMALL(IF(Clasament!AE$3:AE$72=\"+\",ROW(Clasament!$B$3:$B$74)-ROW(Clasament!$B$3)+1),ROWS(Clasament!$B$3:'Clasament'!$B72))),\"\")","v":""},{"$f":"IFERROR(INDEX(Clasament!$BH$3:$BH$72,SMALL(IF(Clasament!AF$3:AF$72=\"+\",ROW(Clasament!$B$3:$B$74)-ROW(Clasament!$B$3)+1),ROWS(Clasament!$B$3:'Clasament'!$B72))),\"\")","v":""},{"$f":"IFERROR(INDEX(Clasament!$BH$3:$BH$72,SMALL(IF(Clasament!AG$3:AG$72=\"+\",ROW(Clasament!$B$3:$B$74)-ROW(Clasament!$B$3)+1),ROWS(Clasament!$B$3:'Clasament'!$B72))),\"\")","v":""},{"$f":"IFERROR(INDEX(Clasament!$BH$3:$BH$72,SMALL(IF(Clasament!AH$3:AH$72=\"+\",ROW(Clasament!$B$3:$B$74)-ROW(Clasament!$B$3)+1),ROWS(Clasament!$B$3:'Clasament'!$B72))),\"\")","v":""},{"$f":"IFERROR(INDEX(Clasament!$BH$3:$BH$72,SMALL(IF(Clasament!AJ$3:AJ$72=\"+\",ROW(Clasament!$B$3:$B$74)-ROW(Clasament!$B$3)+1),ROWS(Clasament!$B$3:'Clasament'!$B72))),\"\")","v":""},{"$f":"IFERROR(INDEX(Clasament!$BH$3:$BH$72,SMALL(IF(Clasament!AK$3:AK$72=\"+\",ROW(Clasament!$B$3:$B$74)-ROW(Clasament!$B$3)+1),ROWS(Clasament!$B$3:'Clasament'!$B72))),\"\")","v":""},{"$f":"IFERROR(INDEX(Clasament!$BH$3:$BH$72,SMALL(IF(Clasament!AL$3:AL$72=\"+\",ROW(Clasament!$B$3:$B$74)-ROW(Clasament!$B$3)+1),ROWS(Clasament!$B$3:'Clasament'!$B72))),\"\")","v":""},{"$f":"IFERROR(INDEX(Clasament!$BH$3:$BH$72,SMALL(IF(Clasament!AM$3:AM$72=\"+\",ROW(Clasament!$B$3:$B$74)-ROW(Clasament!$B$3)+1),ROWS(Clasament!$B$3:'Clasament'!$B72))),\"\")","v":""},{"$f":"IFERROR(INDEX(Clasament!$BH$3:$BH$72,SMALL(IF(Clasament!AN$3:AN$72=\"+\",ROW(Clasament!$B$3:$B$74)-ROW(Clasament!$B$3)+1),ROWS(Clasament!$B$3:'Clasament'!$B72))),\"\")","v":""},{"$f":"IFERROR(INDEX(Clasament!$BH$3:$BH$72,SMALL(IF(Clasament!AO$3:AO$72=\"+\",ROW(Clasament!$B$3:$B$74)-ROW(Clasament!$B$3)+1),ROWS(Clasament!$B$3:'Clasament'!$B72))),\"\")","v":""},{"$f":"IFERROR(INDEX(Clasament!$BH$3:$BH$72,SMALL(IF(Clasament!AP$3:AP$72=\"+\",ROW(Clasament!$B$3:$B$74)-ROW(Clasament!$B$3)+1),ROWS(Clasament!$B$3:'Clasament'!$B72))),\"\")","v":""},{"$f":"IFERROR(INDEX(Clasament!$BH$3:$BH$72,SMALL(IF(Clasament!AQ$3:AQ$72=\"+\",ROW(Clasament!$B$3:$B$74)-ROW(Clasament!$B$3)+1),ROWS(Clasament!$B$3:'Clasament'!$B72))),\"\")","v":""},{"$f":"IFERROR(INDEX(Clasament!$BH$3:$BH$72,SMALL(IF(Clasament!AR$3:AR$72=\"+\",ROW(Clasament!$B$3:$B$74)-ROW(Clasament!$B$3)+1),ROWS(Clasament!$B$3:'Clasament'!$B72))),\"\")","v":""},{"$f":"IFERROR(INDEX(Clasament!$BH$3:$BH$72,SMALL(IF(Clasament!AS$3:AS$72=\"+\",ROW(Clasament!$B$3:$B$74)-ROW(Clasament!$B$3)+1),ROWS(Clasament!$B$3:'Clasament'!$B72))),\"\")","v":""},{"$f":"IFERROR(INDEX(Clasament!$BH$3:$BH$72,SMALL(IF(Clasament!AU$3:AU$72=\"+\",ROW(Clasament!$B$3:$B$74)-ROW(Clasament!$B$3)+1),ROWS(Clasament!$B$3:'Clasament'!$B72))),\"\")","v":""},{"$f":"IFERROR(INDEX(Clasament!$BH$3:$BH$72,SMALL(IF(Clasament!AV$3:AV$72=\"+\",ROW(Clasament!$B$3:$B$74)-ROW(Clasament!$B$3)+1),ROWS(Clasament!$B$3:'Clasament'!$B72))),\"\")","v":""},{"$f":"IFERROR(INDEX(Clasament!$BH$3:$BH$72,SMALL(IF(Clasament!AW$3:AW$72=\"+\",ROW(Clasament!$B$3:$B$74)-ROW(Clasament!$B$3)+1),ROWS(Clasament!$B$3:'Clasament'!$B72))),\"\")","v":""},{"$f":"IFERROR(INDEX(Clasament!$BH$3:$BH$72,SMALL(IF(Clasament!AX$3:AX$72=\"+\",ROW(Clasament!$B$3:$B$74)-ROW(Clasament!$B$3)+1),ROWS(Clasament!$B$3:'Clasament'!$B72))),\"\")","v":""},{"$f":"IFERROR(INDEX(Clasament!$BH$3:$BH$72,SMALL(IF(Clasament!AY$3:AY$72=\"+\",ROW(Clasament!$B$3:$B$74)-ROW(Clasament!$B$3)+1),ROWS(Clasament!$B$3:'Clasament'!$B72))),\"\")","v":""},{"$f":"IFERROR(INDEX(Clasament!$BH$3:$BH$72,SMALL(IF(Clasament!AZ$3:AZ$72=\"+\",ROW(Clasament!$B$3:$B$74)-ROW(Clasament!$B$3)+1),ROWS(Clasament!$B$3:'Clasament'!$B72))),\"\")","v":""}]
[null,{"$f":"IFERROR(INDEX(Clasament!$BH$3:$BH$72,SMALL(IF(Clasament!C$3:C$72=\"+\",ROW(Clasament!$B$3:$B$74)-ROW(Clasament!$B$3)+1),ROWS(Clasament!$B$3:'Clasament'!$B73))),\"\")","v":""},{"$f":"IFERROR(INDEX(Clasament!$BH$3:$BH$72,SMALL(IF(Clasament!D$3:D$72=\"+\",ROW(Clasament!$B$3:$B$74)-ROW(Clasament!$B$3)+1),ROWS(Clasament!$B$3:'Clasament'!$B73))),\"\")","v":""},{"$f":"IFERROR(INDEX(Clasament!$BH$3:$BH$72,SMALL(IF(Clasament!E$3:E$72=\"+\",ROW(Clasament!$B$3:$B$74)-ROW(Clasament!$B$3)+1),ROWS(Clasament!$B$3:'Clasament'!$B73))),\"\")","v":""},{"$f":"IFERROR(INDEX(Clasament!$BH$3:$BH$72,SMALL(IF(Clasament!F$3:F$72=\"+\",ROW(Clasament!$B$3:$B$74)-ROW(Clasament!$B$3)+1),ROWS(Clasament!$B$3:'Clasament'!$B73))),\"\")","v":""},{"$f":"IFERROR(INDEX(Clasament!$BH$3:$BH$72,SMALL(IF(Clasament!G$3:G$72=\"+\",ROW(Clasament!$B$3:$B$74)-ROW(Clasament!$B$3)+1),ROWS(Clasament!$B$3:'Clasament'!$B73))),\"\")","v":""},{"$f":"IFERROR(INDEX(Clasament!$BH$3:$BH$72,SMALL(IF(Clasament!H$3:H$72=\"+\",ROW(Clasament!$B$3:$B$74)-ROW(Clasament!$B$3)+1),ROWS(Clasament!$B$3:'Clasament'!$B73))),\"\")","v":""},{"$f":"IFERROR(INDEX(Clasament!$BH$3:$BH$72,SMALL(IF(Clasament!I$3:I$72=\"+\",ROW(Clasament!$B$3:$B$74)-ROW(Clasament!$B$3)+1),ROWS(Clasament!$B$3:'Clasament'!$B73))),\"\")","v":""},{"$f":"IFERROR(INDEX(Clasament!$BH$3:$BH$72,SMALL(IF(Clasament!J$3:J$72=\"+\",ROW(Clasament!$B$3:$B$74)-ROW(Clasament!$B$3)+1),ROWS(Clasament!$B$3:'Clasament'!$B73))),\"\")","v":""},{"$f":"IFERROR(INDEX(Clasament!$BH$3:$BH$72,SMALL(IF(Clasament!K$3:K$72=\"+\",ROW(Clasament!$B$3:$B$74)-ROW(Clasament!$B$3)+1),ROWS(Clasament!$B$3:'Clasament'!$B73))),\"\")","v":""},{"$f":"IFERROR(INDEX(Clasament!$BH$3:$BH$72,SMALL(IF(Clasament!L$3:L$72=\"+\",ROW(Clasament!$B$3:$B$74)-ROW(Clasament!$B$3)+1),ROWS(Clasament!$B$3:'Clasament'!$B73))),\"\")","v":""},{"$f":"IFERROR(INDEX(Clasament!$BH$3:$BH$72,SMALL(IF(Clasament!N$3:N$72=\"+\",ROW(Clasament!$B$3:$B$74)-ROW(Clasament!$B$3)+1),ROWS(Clasament!$B$3:'Clasament'!$B73))),\"\")","v":""},{"$f":"IFERROR(INDEX(Clasament!$BH$3:$BH$72,SMALL(IF(Clasament!O$3:O$72=\"+\",ROW(Clasament!$B$3:$B$74)-ROW(Clasament!$B$3)+1),ROWS(Clasament!$B$3:'Clasament'!$B73))),\"\")","v":""},{"$f":"IFERROR(INDEX(Clasament!$BH$3:$BH$72,SMALL(IF(Clasament!P$3:P$72=\"+\",ROW(Clasament!$B$3:$B$74)-ROW(Clasament!$B$3)+1),ROWS(Clasament!$B$3:'Clasament'!$B73))),\"\")","v":""},{"$f":"IFERROR(INDEX(Clasament!$BH$3:$BH$72,SMALL(IF(Clasament!Q$3:Q$72=\"+\",ROW(Clasament!$B$3:$B$74)-ROW(Clasament!$B$3)+1),ROWS(Clasament!$B$3:'Clasament'!$B73))),\"\")","v":""},{"$f":"IFERROR(INDEX(Clasament!$BH$3:$BH$72,SMALL(IF(Clasament!R$3:R$72=\"+\",ROW(Clasament!$B$3:$B$74)-ROW(Clasament!$B$3)+1),ROWS(Clasament!$B$3:'Clasament'!$B73))),\"\")","v":""},{"$f":"IFERROR(INDEX(Clasament!$BH$3:$BH$72,SMALL(IF(Clasament!S$3:S$72=\"+\",ROW(Clasament!$B$3:$B$74)-ROW(Clasament!$B$3)+1),ROWS(Clasament!$B$3:'Clasament'!$B73))),\"\")","v":""},{"$f":"IFERROR(INDEX(Clasament!$BH$3:$BH$72,SMALL(IF(Clasament!T$3:T$72=\"+\",ROW(Clasament!$B$3:$B$74)-ROW(Clasament!$B$3)+1),ROWS(Clasament!$B$3:'Clasament'!$B73))),\"\")","v":""},{"$f":"IFERROR(INDEX(Clasament!$BH$3:$BH$72,SMALL(IF(Clasament!U$3:U$72=\"+\",ROW(Clasament!$B$3:$B$74)-ROW(Clasament!$B$3)+1),ROWS(Clasament!$B$3:'Clasament'!$B73))),\"\")","v":""},{"$f":"IFERROR(INDEX(Clasament!$BH$3:$BH$72,SMALL(IF(Clasament!V$3:V$72=\"+\",ROW(Clasament!$B$3:$B$74)-ROW(Clasament!$B$3)+1),ROWS(Clasament!$B$3:'Clasament'!$B73))),\"\")","v":""},{"$f":"IFERROR(INDEX(Clasament!$BH$3:$BH$72,SMALL(IF(Clasament!W$3:W$72=\"+\",ROW(Clasament!$B$3:$B$74)-ROW(Clasament!$B$3)+1),ROWS(Clasament!$B$3:'Clasament'!$B73))),\"\")","v":""},{"$f":"IFERROR(INDEX(Clasament!$BH$3:$BH$72,SMALL(IF(Clasament!Y$3:Y$72=\"+\",ROW(Clasament!$B$3:$B$74)-ROW(Clasament!$B$3)+1),ROWS(Clasament!$B$3:'Clasament'!$B73))),\"\")","v":""},{"$f":"IFERROR(INDEX(Clasament!$BH$3:$BH$72,SMALL(IF(Clasament!Z$3:Z$72=\"+\",ROW(Clasament!$B$3:$B$74)-ROW(Clasament!$B$3)+1),ROWS(Clasament!$B$3:'Clasament'!$B73))),\"\")","v":""},{"$f":"IFERROR(INDEX(Clasament!$BH$3:$BH$72,SMALL(IF(Clasament!AA$3:AA$72=\"+\",ROW(Clasament!$B$3:$B$74)-ROW(Clasament!$B$3)+1),ROWS(Clasament!$B$3:'Clasament'!$B73))),\"\")","v":""},{"$f":"IFERROR(INDEX(Clasament!$BH$3:$BH$72,SMALL(IF(Clasament!AB$3:AB$72=\"+\",ROW(Clasament!$B$3:$B$74)-ROW(Clasament!$B$3)+1),ROWS(Clasament!$B$3:'Clasament'!$B73))),\"\")","v":""},{"$f":"IFERROR(INDEX(Clasament!$BH$3:$BH$72,SMALL(IF(Clasament!AC$3:AC$72=\"+\",ROW(Clasament!$B$3:$B$74)-ROW(Clasament!$B$3)+1),ROWS(Clasament!$B$3:'Clasament'!$B73))),\"\")","v":""},{"$f":"IFERROR(INDEX(Clasament!$BH$3:$BH$72,SMALL(IF(Clasament!AD$3:AD$72=\"+\",ROW(Clasament!$B$3:$B$74)-ROW(Clasament!$B$3)+1),ROWS(Clasament!$B$3:'Clasament'!$B73))),\"\")","v":""},{"$f":"IFERROR(INDEX(Clasament!$BH$3:$BH$72,SMALL(IF(Clasament!AE$3:AE$72=\"+\",ROW(Clasament!$B$3:$B$74)-ROW(Clasament!$B$3)+1),ROWS(Clasament!$B$3:'Clasament'!$B73))),\"\")","v":""},{"$f":"IFERROR(INDEX(Clasament!$BH$3:$BH$72,SMALL(IF(Clasament!AF$3:AF$72=\"+\",ROW(Clasament!$B$3:$B$74)-ROW(Clasament!$B$3)+1),ROWS(Clasament!$B$3:'Clasament'!$B73))),\"\")","v":""},{"$f":"IFERROR(INDEX(Clasament!$BH$3:$BH$72,SMALL(IF(Clasament!AG$3:AG$72=\"+\",ROW(Clasament!$B$3:$B$74)-ROW(Clasament!$B$3)+1),ROWS(Clasament!$B$3:'Clasament'!$B73))),\"\")","v":""},{"$f":"IFERROR(INDEX(Clasament!$BH$3:$BH$72,SMALL(IF(Clasament!AH$3:AH$72=\"+\",ROW(Clasament!$B$3:$B$74)-ROW(Clasament!$B$3)+1),ROWS(Clasament!$B$3:'Clasament'!$B73))),\"\")","v":""},{"$f":"IFERROR(INDEX(Clasament!$BH$3:$BH$72,SMALL(IF(Clasament!AJ$3:AJ$72=\"+\",ROW(Clasament!$B$3:$B$74)-ROW(Clasament!$B$3)+1),ROWS(Clasament!$B$3:'Clasament'!$B73))),\"\")","v":""},{"$f":"IFERROR(INDEX(Clasament!$BH$3:$BH$72,SMALL(IF(Clasament!AK$3:AK$72=\"+\",ROW(Clasament!$B$3:$B$74)-ROW(Clasament!$B$3)+1),ROWS(Clasament!$B$3:'Clasament'!$B73))),\"\")","v":""},{"$f":"IFERROR(INDEX(Clasament!$BH$3:$BH$72,SMALL(IF(Clasament!AL$3:AL$72=\"+\",ROW(Clasament!$B$3:$B$74)-ROW(Clasament!$B$3)+1),ROWS(Clasament!$B$3:'Clasament'!$B73))),\"\")","v":""},{"$f":"IFERROR(INDEX(Clasament!$BH$3:$BH$72,SMALL(IF(Clasament!AM$3:AM$72=\"+\",ROW(Clasament!$B$3:$B$74)-ROW(Clasament!$B$3)+1),ROWS(Clasament!$B$3:'Clasament'!$B73))),\"\")","v":""},{"$f":"IFERROR(INDEX(Clasament!$BH$3:$BH$72,SMALL(IF(Clasament!AN$3:AN$72=\"+\",ROW(Clasament!$B$3:$B$74)-ROW(Clasament!$B$3)+1),ROWS(Clasament!$B$3:'Clasament'!$B73))),\"\")","v":""},{"$f":"IFERROR(INDEX(Clasament!$BH$3:$BH$72,SMALL(IF(Clasament!AO$3:AO$72=\"+\",ROW(Clasament!$B$3:$B$74)-ROW(Clasament!$B$3)+1),ROWS(Clasament!$B$3:'Clasament'!$B73))),\"\")","v":""},{"$f":"IFERROR(INDEX(Clasament!$BH$3:$BH$72,SMALL(IF(Clasament!AP$3:AP$72=\"+\",ROW(Clasament!$B$3:$B$74)-ROW(Clasament!$B$3)+1),ROWS(Clasament!$B$3:'Clasament'!$B73))),\"\")","v":""},{"$f":"IFERROR(INDEX(Clasament!$BH$3:$BH$72,SMALL(IF(Clasament!AQ$3:AQ$72=\"+\",ROW(Clasament!$B$3:$B$74)-ROW(Clasament!$B$3)+1),ROWS(Clasament!$B$3:'Clasament'!$B73))),\"\")","v":""},{"$f":"IFERROR(INDEX(Clasament!$BH$3:$BH$72,SMALL(IF(Clasament!AR$3:AR$72=\"+\",ROW(Clasament!$B$3:$B$74)-ROW(Clasament!$B$3)+1),ROWS(Clasament!$B$3:'Clasament'!$B73))),\"\")","v":""},{"$f":"IFERROR(INDEX(Clasament!$BH$3:$BH$72,SMALL(IF(Clasament!AS$3:AS$72=\"+\",ROW(Clasament!$B$3:$B$74)-ROW(Clasament!$B$3)+1),ROWS(Clasament!$B$3:'Clasament'!$B73))),\"\")","v":""},{"$f":"IFERROR(INDEX(Clasament!$BH$3:$BH$72,SMALL(IF(Clasament!AU$3:AU$72=\"+\",ROW(Clasament!$B$3:$B$74)-ROW(Clasament!$B$3)+1),ROWS(Clasament!$B$3:'Clasament'!$B73))),\"\")","v":""},{"$f":"IFERROR(INDEX(Clasament!$BH$3:$BH$72,SMALL(IF(Clasament!AV$3:AV$72=\"+\",ROW(Clasament!$B$3:$B$74)-ROW(Clasament!$B$3)+1),ROWS(Clasament!$B$3:'Clasament'!$B73))),\"\")","v":""},{"$f":"IFERROR(INDEX(Clasament!$BH$3:$BH$72,SMALL(IF(Clasament!AW$3:AW$72=\"+\",ROW(Clasament!$B$3:$B$74)-ROW(Clasament!$B$3)+1),ROWS(Clasament!$B$3:'Clasament'!$B73))),\"\")","v":""},{"$f":"IFERROR(INDEX(Clasament!$BH$3:$BH$72,SMALL(IF(Clasament!AX$3:AX$72=\"+\",ROW(Clasament!$B$3:$B$74)-ROW(Clasament!$B$3)+1),ROWS(Clasament!$B$3:'Clasament'!$B73))),\"\")","v":""},{"$f":"IFERROR(INDEX(Clasament!$BH$3:$BH$72,SMALL(IF(Clasament!AY$3:AY$72=\"+\",ROW(Clasament!$B$3:$B$74)-ROW(Clasament!$B$3)+1),ROWS(Clasament!$B$3:'Clasament'!$B73))),\"\")","v":""},{"$f":"IFERROR(INDEX(Clasament!$BH$3:$BH$72,SMALL(IF(Clasament!AZ$3:AZ$72=\"+\",ROW(Clasament!$B$3:$B$74)-ROW(Clasament!$B$3)+1),ROWS(Clasament!$B$3:'Clasament'!$B73))),\"\")","v":""}]
[null,{"$f":"IFERROR(INDEX(Clasament!$BH$3:$BH$72,SMALL(IF(Clasament!C$3:C$72=\"+\",ROW(Clasament!$B$3:$B$74)-ROW(Clasament!$B$3)+1),ROWS(Clasament!$B$3:'Clasament'!$B74))),\"\")","v":""},{"$f":"IFERROR(INDEX(Clasament!$BH$3:$BH$72,SMALL(IF(Clasament!D$3:D$72=\"+\",ROW(Clasament!$B$3:$B$74)-ROW(Clasament!$B$3)+1),ROWS(Clasament!$B$3:'Clasament'!$B74))),\"\")","v":""},{"$f":"IFERROR(INDEX(Clasament!$BH$3:$BH$72,SMALL(IF(Clasament!E$3:E$72=\"+\",ROW(Clasament!$B$3:$B$74)-ROW(Clasament!$B$3)+1),ROWS(Clasament!$B$3:'Clasament'!$B74))),\"\")","v":""},{"$f":"IFERROR(INDEX(Clasament!$BH$3:$BH$72,SMALL(IF(Clasament!F$3:F$72=\"+\",ROW(Clasament!$B$3:$B$74)-ROW(Clasament!$B$3)+1),ROWS(Clasament!$B$3:'Clasament'!$B74))),\"\")","v":""},{"$f":"IFERROR(INDEX(Clasament!$BH$3:$BH$72,SMALL(IF(Clasament!G$3:G$72=\"+\",ROW(Clasament!$B$3:$B$74)-ROW(Clasament!$B$3)+1),ROWS(Clasament!$B$3:'Clasament'!$B74))),\"\")","v":""},{"$f":"IFERROR(INDEX(Clasament!$BH$3:$BH$72,SMALL(IF(Clasament!H$3:H$72=\"+\",ROW(Clasament!$B$3:$B$74)-ROW(Clasament!$B$3)+1),ROWS(Clasament!$B$3:'Clasament'!$B74))),\"\")","v":""},{"$f":"IFERROR(INDEX(Clasament!$BH$3:$BH$72,SMALL(IF(Clasament!I$3:I$72=\"+\",ROW(Clasament!$B$3:$B$74)-ROW(Clasament!$B$3)+1),ROWS(Clasament!$B$3:'Clasament'!$B74))),\"\")","v":""},{"$f":"IFERROR(INDEX(Clasament!$BH$3:$BH$72,SMALL(IF(Clasament!J$3:J$72=\"+\",ROW(Clasament!$B$3:$B$74)-ROW(Clasament!$B$3)+1),ROWS(Clasament!$B$3:'Clasament'!$B74))),\"\")","v":""},{"$f":"IFERROR(INDEX(Clasament!$BH$3:$BH$72,SMALL(IF(Clasament!K$3:K$72=\"+\",ROW(Clasament!$B$3:$B$74)-ROW(Clasament!$B$3)+1),ROWS(Clasament!$B$3:'Clasament'!$B74))),\"\")","v":""},{"$f":"IFERROR(INDEX(Clasament!$BH$3:$BH$72,SMALL(IF(Clasament!L$3:L$72=\"+\",ROW(Clasament!$B$3:$B$74)-ROW(Clasament!$B$3)+1),ROWS(Clasament!$B$3:'Clasament'!$B74))),\"\")","v":""},{"$f":"IFERROR(INDEX(Clasament!$BH$3:$BH$72,SMALL(IF(Clasament!N$3:N$72=\"+\",ROW(Clasament!$B$3:$B$74)-ROW(Clasament!$B$3)+1),ROWS(Clasament!$B$3:'Clasament'!$B74))),\"\")","v":""},{"$f":"IFERROR(INDEX(Clasament!$BH$3:$BH$72,SMALL(IF(Clasament!O$3:O$72=\"+\",ROW(Clasament!$B$3:$B$74)-ROW(Clasament!$B$3)+1),ROWS(Clasament!$B$3:'Clasament'!$B74))),\"\")","v":""},{"$f":"IFERROR(INDEX(Clasament!$BH$3:$BH$72,SMALL(IF(Clasament!P$3:P$72=\"+\",ROW(Clasament!$B$3:$B$74)-ROW(Clasament!$B$3)+1),ROWS(Clasament!$B$3:'Clasament'!$B74))),\"\")","v":""},{"$f":"IFERROR(INDEX(Clasament!$BH$3:$BH$72,SMALL(IF(Clasament!Q$3:Q$72=\"+\",ROW(Clasament!$B$3:$B$74)-ROW(Clasament!$B$3)+1),ROWS(Clasament!$B$3:'Clasament'!$B74))),\"\")","v":""},{"$f":"IFERROR(INDEX(Clasament!$BH$3:$BH$72,SMALL(IF(Clasament!R$3:R$72=\"+\",ROW(Clasament!$B$3:$B$74)-ROW(Clasament!$B$3)+1),ROWS(Clasament!$B$3:'Clasament'!$B74))),\"\")","v":""},{"$f":"IFERROR(INDEX(Clasament!$BH$3:$BH$72,SMALL(IF(Clasament!S$3:S$72=\"+\",ROW(Clasament!$B$3:$B$74)-ROW(Clasament!$B$3)+1),ROWS(Clasament!$B$3:'Clasament'!$B74))),\"\")","v":""},{"$f":"IFERROR(INDEX(Clasament!$BH$3:$BH$72,SMALL(IF(Clasament!T$3:T$72=\"+\",ROW(Clasament!$B$3:$B$74)-ROW(Clasament!$B$3)+1),ROWS(Clasament!$B$3:'Clasament'!$B74))),\"\")","v":""},{"$f":"IFERROR(INDEX(Clasament!$BH$3:$BH$72,SMALL(IF(Clasament!U$3:U$72=\"+\",ROW(Clasament!$B$3:$B$74)-ROW(Clasament!$B$3)+1),ROWS(Clasament!$B$3:'Clasament'!$B74))),\"\")","v":""},{"$f":"IFERROR(INDEX(Clasament!$BH$3:$BH$72,SMALL(IF(Clasament!V$3:V$72=\"+\",ROW(Clasament!$B$3:$B$74)-ROW(Clasament!$B$3)+1),ROWS(Clasament!$B$3:'Clasament'!$B74))),\"\")","v":""},{"$f":"IFERROR(INDEX(Clasament!$BH$3:$BH$72,SMALL(IF(Clasament!W$3:W$72=\"+\",ROW(Clasament!$B$3:$B$74)-ROW(Clasament!$B$3)+1),ROWS(Clasament!$B$3:'Clasament'!$B74))),\"\")","v":""},{"$f":"IFERROR(INDEX(Clasament!$BH$3:$BH$72,SMALL(IF(Clasament!Y$3:Y$72=\"+\",ROW(Clasament!$B$3:$B$74)-ROW(Clasament!$B$3)+1),ROWS(Clasament!$B$3:'Clasament'!$B74))),\"\")","v":""},{"$f":"IFERROR(INDEX(Clasament!$BH$3:$BH$72,SMALL(IF(Clasament!Z$3:Z$72=\"+\",ROW(Clasament!$B$3:$B$74)-ROW(Clasament!$B$3)+1),ROWS(Clasament!$B$3:'Clasament'!$B74))),\"\")","v":""},{"$f":"IFERROR(INDEX(Clasament!$BH$3:$BH$72,SMALL(IF(Clasament!AA$3:AA$72=\"+\",ROW(Clasament!$B$3:$B$74)-ROW(Clasament!$B$3)+1),ROWS(Clasament!$B$3:'Clasament'!$B74))),\"\")","v":""},{"$f":"IFERROR(INDEX(Clasament!$BH$3:$BH$72,SMALL(IF(Clasament!AB$3:AB$72=\"+\",ROW(Clasament!$B$3:$B$74)-ROW(Clasament!$B$3)+1),ROWS(Clasament!$B$3:'Clasament'!$B74))),\"\")","v":""},{"$f":"IFERROR(INDEX(Clasament!$BH$3:$BH$72,SMALL(IF(Clasament!AC$3:AC$72=\"+\",ROW(Clasament!$B$3:$B$74)-ROW(Clasament!$B$3)+1),ROWS(Clasament!$B$3:'Clasament'!$B74))),\"\")","v":""},{"$f":"IFERROR(INDEX(Clasament!$BH$3:$BH$72,SMALL(IF(Clasament!AD$3:AD$72=\"+\",ROW(Clasament!$B$3:$B$74)-ROW(Clasament!$B$3)+1),ROWS(Clasament!$B$3:'Clasament'!$B74))),\"\")","v":""},{"$f":"IFERROR(INDEX(Clasament!$BH$3:$BH$72,SMALL(IF(Clasament!AE$3:AE$72=\"+\",ROW(Clasament!$B$3:$B$74)-ROW(Clasament!$B$3)+1),ROWS(Clasament!$B$3:'Clasament'!$B74))),\"\")","v":""},{"$f":"IFERROR(INDEX(Clasament!$BH$3:$BH$72,SMALL(IF(Clasament!AF$3:AF$72=\"+\",ROW(Clasament!$B$3:$B$74)-ROW(Clasament!$B$3)+1),ROWS(Clasament!$B$3:'Clasament'!$B74))),\"\")","v":""},{"$f":"IFERROR(INDEX(Clasament!$BH$3:$BH$72,SMALL(IF(Clasament!AG$3:AG$72=\"+\",ROW(Clasament!$B$3:$B$74)-ROW(Clasament!$B$3)+1),ROWS(Clasament!$B$3:'Clasament'!$B74))),\"\")","v":""},{"$f":"IFERROR(INDEX(Clasament!$BH$3:$BH$72,SMALL(IF(Clasament!AH$3:AH$72=\"+\",ROW(Clasament!$B$3:$B$74)-ROW(Clasament!$B$3)+1),ROWS(Clasament!$B$3:'Clasament'!$B74))),\"\")","v":""},{"$f":"IFERROR(INDEX(Clasament!$BH$3:$BH$72,SMALL(IF(Clasament!AJ$3:AJ$72=\"+\",ROW(Clasament!$B$3:$B$74)-ROW(Clasament!$B$3)+1),ROWS(Clasament!$B$3:'Clasament'!$B74))),\"\")","v":""},{"$f":"IFERROR(INDEX(Clasament!$BH$3:$BH$72,SMALL(IF(Clasament!AK$3:AK$72=\"+\",ROW(Clasament!$B$3:$B$74)-ROW(Clasament!$B$3)+1),ROWS(Clasament!$B$3:'Clasament'!$B74))),\"\")","v":""},{"$f":"IFERROR(INDEX(Clasament!$BH$3:$BH$72,SMALL(IF(Clasament!AL$3:AL$72=\"+\",ROW(Clasament!$B$3:$B$74)-ROW(Clasament!$B$3)+1),ROWS(Clasament!$B$3:'Clasament'!$B74))),\"\")","v":""},{"$f":"IFERROR(INDEX(Clasament!$BH$3:$BH$72,SMALL(IF(Clasament!AM$3:AM$72=\"+\",ROW(Clasament!$B$3:$B$74)-ROW(Clasament!$B$3)+1),ROWS(Clasament!$B$3:'Clasament'!$B74))),\"\")","v":""},{"$f":"IFERROR(INDEX(Clasament!$BH$3:$BH$72,SMALL(IF(Clasament!AN$3:AN$72=\"+\",ROW(Clasament!$B$3:$B$74)-ROW(Clasament!$B$3)+1),ROWS(Clasament!$B$3:'Clasament'!$B74))),\"\")","v":""},{"$f":"IFERROR(INDEX(Clasament!$BH$3:$BH$72,SMALL(IF(Clasament!AO$3:AO$72=\"+\",ROW(Clasament!$B$3:$B$74)-ROW(Clasament!$B$3)+1),ROWS(Clasament!$B$3:'Clasament'!$B74))),\"\")","v":""},{"$f":"IFERROR(INDEX(Clasament!$BH$3:$BH$72,SMALL(IF(Clasament!AP$3:AP$72=\"+\",ROW(Clasament!$B$3:$B$74)-ROW(Clasament!$B$3)+1),ROWS(Clasament!$B$3:'Clasament'!$B74))),\"\")","v":""},{"$f":"IFERROR(INDEX(Clasament!$BH$3:$BH$72,SMALL(IF(Clasament!AQ$3:AQ$72=\"+\",ROW(Clasament!$B$3:$B$74)-ROW(Clasament!$B$3)+1),ROWS(Clasament!$B$3:'Clasament'!$B74))),\"\")","v":""},{"$f":"IFERROR(INDEX(Clasament!$BH$3:$BH$72,SMALL(IF(Clasament!AR$3:AR$72=\"+\",ROW(Clasament!$B$3:$B$74)-ROW(Clasament!$B$3)+1),ROWS(Clasament!$B$3:'Clasament'!$B74))),\"\")","v":""},{"$f":"IFERROR(INDEX(Clasament!$BH$3:$BH$72,SMALL(IF(Clasament!AS$3:AS$72=\"+\",ROW(Clasament!$B$3:$B$74)-ROW(Clasament!$B$3)+1),ROWS(Clasament!$B$3:'Clasament'!$B74))),\"\")","v":""},{"$f":"IFERROR(INDEX(Clasament!$BH$3:$BH$72,SMALL(IF(Clasament!AU$3:AU$72=\"+\",ROW(Clasament!$B$3:$B$74)-ROW(Clasament!$B$3)+1),ROWS(Clasament!$B$3:'Clasament'!$B74))),\"\")","v":""},{"$f":"IFERROR(INDEX(Clasament!$BH$3:$BH$72,SMALL(IF(Clasament!AV$3:AV$72=\"+\",ROW(Clasament!$B$3:$B$74)-ROW(Clasament!$B$3)+1),ROWS(Clasament!$B$3:'Clasament'!$B74))),\"\")","v":""},{"$f":"IFERROR(INDEX(Clasament!$BH$3:$BH$72,SMALL(IF(Clasament!AW$3:AW$72=\"+\",ROW(Clasament!$B$3:$B$74)-ROW(Clasament!$B$3)+1),ROWS(Clasament!$B$3:'Clasament'!$B74))),\"\")","v":""},{"$f":"IFERROR(INDEX(Clasament!$BH$3:$BH$72,SMALL(IF(Clasament!AX$3:AX$72=\"+\",ROW(Clasament!$B$3:$B$74)-ROW(Clasament!$B$3)+1),ROWS(Clasament!$B$3:'Clasament'!$B74))),\"\")","v":""},{"$f":"IFERROR(INDEX(Clasament!$BH$3:$BH$72,SMALL(IF(Clasament!AY$3:AY$72=\"+\",ROW(Clasament!$B$3:$B$74)-ROW(Clasament!$B$3)+1),ROWS(Clasament!$B$3:'Clasament'!$B74))),\"\")","v":""},{"$f":"IFERROR(INDEX(Clasament!$BH$3:$BH$72,SMALL(IF(Clasament!AZ$3:AZ$72=\"+\",ROW(Clasament!$B$3:$B$74)-ROW(Clasament!$B$3)+1),ROWS(Clasament!$B$3:'Clasament'!$B74))),\"\")","v":""}]
[null,{"$f":"IFERROR(INDEX(Clasament!$BH$3:$BH$72,SMALL(IF(Clasament!C$3:C$72=\"+\",ROW(Clasament!$B$3:$B$74)-ROW(Clasament!$B$3)+1),ROWS(Clasament!$B$3:'Clasament'!$B75))),\"\")","v":""},{"$f":"IFERROR(INDEX(Clasament!$BH$3:$BH$72,SMALL(IF(Clasament!D$3:D$72=\"+\",ROW(Clasament!$B$3:$B$74)-ROW(Clasament!$B$3)+1),ROWS(Clasament!$B$3:'Clasament'!$B75))),\"\")","v":""},{"$f":"IFERROR(INDEX(Clasament!$BH$3:$BH$72,SMALL(IF(Clasament!E$3:E$72=\"+\",ROW(Clasament!$B$3:$B$74)-ROW(Clasament!$B$3)+1),ROWS(Clasament!$B$3:'Clasament'!$B75))),\"\")","v":""},{"$f":"IFERROR(INDEX(Clasament!$BH$3:$BH$72,SMALL(IF(Clasament!F$3:F$72=\"+\",ROW(Clasament!$B$3:$B$74)-ROW(Clasament!$B$3)+1),ROWS(Clasament!$B$3:'Clasament'!$B75))),\"\")","v":""},{"$f":"IFERROR(INDEX(Clasament!$BH$3:$BH$72,SMALL(IF(Clasament!G$3:G$72=\"+\",ROW(Clasament!$B$3:$B$74)-ROW(Clasament!$B$3)+1),ROWS(Clasament!$B$3:'Clasament'!$B75))),\"\")","v":""},{"$f":"IFERROR(INDEX(Clasament!$BH$3:$BH$72,SMALL(IF(Clasament!H$3:H$72=\"+\",ROW(Clasament!$B$3:$B$74)-ROW(Clasament!$B$3)+1),ROWS(Clasament!$B$3:'Clasament'!$B75))),\"\")","v":""},{"$f":"IFERROR(INDEX(Clasament!$BH$3:$BH$72,SMALL(IF(Clasament!I$3:I$72=\"+\",ROW(Clasament!$B$3:$B$74)-ROW(Clasament!$B$3)+1),ROWS(Clasament!$B$3:'Clasament'!$B75))),\"\")","v":""},{"$f":"IFERROR(INDEX(Clasament!$BH$3:$BH$72,SMALL(IF(Clasament!J$3:J$72=\"+\",ROW(Clasament!$B$3:$B$74)-ROW(Clasament!$B$3)+1),ROWS(Clasament!$B$3:'Clasament'!$B75))),\"\")","v":""},{"$f":"IFERROR(INDEX(Clasament!$BH$3:$BH$72,SMALL(IF(Clasament!K$3:K$72=\"+\",ROW(Clasament!$B$3:$B$74)-ROW(Clasament!$B$3)+1),ROWS(Clasament!$B$3:'Clasament'!$B75))),\"\")","v":""},{"$f":"IFERROR(INDEX(Clasament!$BH$3:$BH$72,SMALL(IF(Clasament!L$3:L$72=\"+\",ROW(Clasament!$B$3:$B$74)-ROW(Clasament!$B$3)+1),ROWS(Clasament!$B$3:'Clasament'!$B75))),\"\")","v":""},{"$f":"IFERROR(INDEX(Clasament!$BH$3:$BH$72,SMALL(IF(Clasament!N$3:N$72=\"+\",ROW(Clasament!$B$3:$B$74)-ROW(Clasament!$B$3)+1),ROWS(Clasament!$B$3:'Clasament'!$B75))),\"\")","v":""},{"$f":"IFERROR(INDEX(Clasament!$BH$3:$BH$72,SMALL(IF(Clasament!O$3:O$72=\"+\",ROW(Clasament!$B$3:$B$74)-ROW(Clasament!$B$3)+1),ROWS(Clasament!$B$3:'Clasament'!$B75))),\"\")","v":""},{"$f":"IFERROR(INDEX(Clasament!$BH$3:$BH$72,SMALL(IF(Clasament!P$3:P$72=\"+\",ROW(Clasament!$B$3:$B$74)-ROW(Clasament!$B$3)+1),ROWS(Clasament!$B$3:'Clasament'!$B75))),\"\")","v":""},{"$f":"IFERROR(INDEX(Clasament!$BH$3:$BH$72,SMALL(IF(Clasament!Q$3:Q$72=\"+\",ROW(Clasament!$B$3:$B$74)-ROW(Clasament!$B$3)+1),ROWS(Clasament!$B$3:'Clasament'!$B75))),\"\")","v":""},{"$f":"IFERROR(INDEX(Clasament!$BH$3:$BH$72,SMALL(IF(Clasament!R$3:R$72=\"+\",ROW(Clasament!$B$3:$B$74)-ROW(Clasament!$B$3)+1),ROWS(Clasament!$B$3:'Clasament'!$B75))),\"\")","v":""},{"$f":"IFERROR(INDEX(Clasament!$BH$3:$BH$72,SMALL(IF(Clasament!S$3:S$72=\"+\",ROW(Clasament!$B$3:$B$74)-ROW(Clasament!$B$3)+1),ROWS(Clasament!$B$3:'Clasament'!$B75))),\"\")","v":""},{"$f":"IFERROR(INDEX(Clasament!$BH$3:$BH$72,SMALL(IF(Clasament!T$3:T$72=\"+\",ROW(Clasament!$B$3:$B$74)-ROW(Clasament!$B$3)+1),ROWS(Clasament!$B$3:'Clasament'!$B75))),\"\")","v":""},{"$f":"IFERROR(INDEX(Clasament!$BH$3:$BH$72,SMALL(IF(Clasament!U$3:U$72=\"+\",ROW(Clasament!$B$3:$B$74)-ROW(Clasament!$B$3)+1),ROWS(Clasament!$B$3:'Clasament'!$B75))),\"\")","v":""},{"$f":"IFERROR(INDEX(Clasament!$BH$3:$BH$72,SMALL(IF(Clasament!V$3:V$72=\"+\",ROW(Clasament!$B$3:$B$74)-ROW(Clasament!$B$3)+1),ROWS(Clasament!$B$3:'Clasament'!$B75))),\"\")","v":""},{"$f":"IFERROR(INDEX(Clasament!$BH$3:$BH$72,SMALL(IF(Clasament!W$3:W$72=\"+\",ROW(Clasament!$B$3:$B$74)-ROW(Clasament!$B$3)+1),ROWS(Clasament!$B$3:'Clasament'!$B75))),\"\")","v":""},{"$f":"IFERROR(INDEX(Clasament!$BH$3:$BH$72,SMALL(IF(Clasament!Y$3:Y$72=\"+\",ROW(Clasament!$B$3:$B$74)-ROW(Clasament!$B$3)+1),ROWS(Clasament!$B$3:'Clasament'!$B75))),\"\")","v":""},{"$f":"IFERROR(INDEX(Clasament!$BH$3:$BH$72,SMALL(IF(Clasament!Z$3:Z$72=\"+\",ROW(Clasament!$B$3:$B$74)-ROW(Clasament!$B$3)+1),ROWS(Clasament!$B$3:'Clasament'!$B75))),\"\")","v":""},{"$f":"IFERROR(INDEX(Clasament!$BH$3:$BH$72,SMALL(IF(Clasament!AA$3:AA$72=\"+\",ROW(Clasament!$B$3:$B$74)-ROW(Clasament!$B$3)+1),ROWS(Clasament!$B$3:'Clasament'!$B75))),\"\")","v":""},{"$f":"IFERROR(INDEX(Clasament!$BH$3:$BH$72,SMALL(IF(Clasament!AB$3:AB$72=\"+\",ROW(Clasament!$B$3:$B$74)-ROW(Clasament!$B$3)+1),ROWS(Clasament!$B$3:'Clasament'!$B75))),\"\")","v":""},{"$f":"IFERROR(INDEX(Clasament!$BH$3:$BH$72,SMALL(IF(Clasament!AC$3:AC$72=\"+\",ROW(Clasament!$B$3:$B$74)-ROW(Clasament!$B$3)+1),ROWS(Clasament!$B$3:'Clasament'!$B75))),\"\")","v":""},{"$f":"IFERROR(INDEX(Clasament!$BH$3:$BH$72,SMALL(IF(Clasament!AD$3:AD$72=\"+\",ROW(Clasament!$B$3:$B$74)-ROW(Clasament!$B$3)+1),ROWS(Clasament!$B$3:'Clasament'!$B75))),\"\")","v":""},{"$f":"IFERROR(INDEX(Clasament!$BH$3:$BH$72,SMALL(IF(Clasament!AE$3:AE$72=\"+\",ROW(Clasament!$B$3:$B$74)-ROW(Clasament!$B$3)+1),ROWS(Clasament!$B$3:'Clasament'!$B75))),\"\")","v":""},{"$f":"IFERROR(INDEX(Clasament!$BH$3:$BH$72,SMALL(IF(Clasament!AF$3:AF$72=\"+\",ROW(Clasament!$B$3:$B$74)-ROW(Clasament!$B$3)+1),ROWS(Clasament!$B$3:'Clasament'!$B75))),\"\")","v":""},{"$f":"IFERROR(INDEX(Clasament!$BH$3:$BH$72,SMALL(IF(Clasament!AG$3:AG$72=\"+\",ROW(Clasament!$B$3:$B$74)-ROW(Clasament!$B$3)+1),ROWS(Clasament!$B$3:'Clasament'!$B75))),\"\")","v":""},{"$f":"IFERROR(INDEX(Clasament!$BH$3:$BH$72,SMALL(IF(Clasament!AH$3:AH$72=\"+\",ROW(Clasament!$B$3:$B$74)-ROW(Clasament!$B$3)+1),ROWS(Clasament!$B$3:'Clasament'!$B75))),\"\")","v":""},{"$f":"IFERROR(INDEX(Clasament!$BH$3:$BH$72,SMALL(IF(Clasament!AJ$3:AJ$72=\"+\",ROW(Clasament!$B$3:$B$74)-ROW(Clasament!$B$3)+1),ROWS(Clasament!$B$3:'Clasament'!$B75))),\"\")","v":""},{"$f":"IFERROR(INDEX(Clasament!$BH$3:$BH$72,SMALL(IF(Clasament!AK$3:AK$72=\"+\",ROW(Clasament!$B$3:$B$74)-ROW(Clasament!$B$3)+1),ROWS(Clasament!$B$3:'Clasament'!$B75))),\"\")","v":""},{"$f":"IFERROR(INDEX(Clasament!$BH$3:$BH$72,SMALL(IF(Clasament!AL$3:AL$72=\"+\",ROW(Clasament!$B$3:$B$74)-ROW(Clasament!$B$3)+1),ROWS(Clasament!$B$3:'Clasament'!$B75))),\"\")","v":""},{"$f":"IFERROR(INDEX(Clasament!$BH$3:$BH$72,SMALL(IF(Clasament!AM$3:AM$72=\"+\",ROW(Clasament!$B$3:$B$74)-ROW(Clasament!$B$3)+1),ROWS(Clasament!$B$3:'Clasament'!$B75))),\"\")","v":""},{"$f":"IFERROR(INDEX(Clasament!$BH$3:$BH$72,SMALL(IF(Clasament!AN$3:AN$72=\"+\",ROW(Clasament!$B$3:$B$74)-ROW(Clasament!$B$3)+1),ROWS(Clasament!$B$3:'Clasament'!$B75))),\"\")","v":""},{"$f":"IFERROR(INDEX(Clasament!$BH$3:$BH$72,SMALL(IF(Clasament!AO$3:AO$72=\"+\",ROW(Clasament!$B$3:$B$74)-ROW(Clasament!$B$3)+1),ROWS(Clasament!$B$3:'Clasament'!$B75))),\"\")","v":""},{"$f":"IFERROR(INDEX(Clasament!$BH$3:$BH$72,SMALL(IF(Clasament!AP$3:AP$72=\"+\",ROW(Clasament!$B$3:$B$74)-ROW(Clasament!$B$3)+1),ROWS(Clasament!$B$3:'Clasament'!$B75))),\"\")","v":""},{"$f":"IFERROR(INDEX(Clasament!$BH$3:$BH$72,SMALL(IF(Clasament!AQ$3:AQ$72=\"+\",ROW(Clasament!$B$3:$B$74)-ROW(Clasament!$B$3)+1),ROWS(Clasament!$B$3:'Clasament'!$B75))),\"\")","v":""},{"$f":"IFERROR(INDEX(Clasament!$BH$3:$BH$72,SMALL(IF(Clasament!AR$3:AR$72=\"+\",ROW(Clasament!$B$3:$B$74)-ROW(Clasament!$B$3)+1),ROWS(Clasament!$B$3:'Clasament'!$B75))),\"\")","v":""},{"$f":"IFERROR(INDEX(Clasament!$BH$3:$BH$72,SMALL(IF(Clasament!AS$3:AS$72=\"+\",ROW(Clasament!$B$3:$B$74)-ROW(Clasament!$B$3)+1),ROWS(Clasament!$B$3:'Clasament'!$B75))),\"\")","v":""},{"$f":"IFERROR(INDEX(Clasament!$BH$3:$BH$72,SMALL(IF(Clasament!AU$3:AU$72=\"+\",ROW(Clasament!$B$3:$B$74)-ROW(Clasament!$B$3)+1),ROWS(Clasament!$B$3:'Clasament'!$B75))),\"\")","v":""},{"$f":"IFERROR(INDEX(Clasament!$BH$3:$BH$72,SMALL(IF(Clasament!AV$3:AV$72=\"+\",ROW(Clasament!$B$3:$B$74)-ROW(Clasament!$B$3)+1),ROWS(Clasament!$B$3:'Clasament'!$B75))),\"\")","v":""},{"$f":"IFERROR(INDEX(Clasament!$BH$3:$BH$72,SMALL(IF(Clasament!AW$3:AW$72=\"+\",ROW(Clasament!$B$3:$B$74)-ROW(Clasament!$B$3)+1),ROWS(Clasament!$B$3:'Clasament'!$B75))),\"\")","v":""},{"$f":"IFERROR(INDEX(Clasament!$BH$3:$BH$72,SMALL(IF(Clasament!AX$3:AX$72=\"+\",ROW(Clasament!$B$3:$B$74)-ROW(Clasament!$B$3)+1),ROWS(Clasament!$B$3:'Clasament'!$B75))),\"\")","v":""},{"$f":"IFERROR(INDEX(Clasament!$BH$3:$BH$72,SMALL(IF(Clasament!AY$3:AY$72=\"+\",ROW(Clasament!$B$3:$B$74)-ROW(Clasament!$B$3)+1),ROWS(Clasament!$B$3:'Clasament'!$B75))),\"\")","v":""},{"$f":"IFERROR(INDEX(Clasament!$BH$3:$BH$72,SMALL(IF(Clasament!AZ$3:AZ$72=\"+\",ROW(Clasament!$B$3:$B$74)-ROW(Clasament!$B$3)+1),ROWS(Clasament!$B$3:'Clasament'!$B75))),\"\")","v":""}]